{"text_format":"1","workbook":"xlsx","n_sheets":5,"sheets":["Inputs","Volume Import","Calculations","Weekly Chart","Lists"],"not_rendered":{"charts":0,"images":9,"macros":1,"external_links":0,"defined_names":2,"comments":0,"pivot_tables":0},"unopened":[],"bounds":{"document_bytes":16777216,"sheet_cells":100000,"rows_first":2000,"rows_last":500,"rows_between":2000,"halvings":0,"cell_chars":16384,"cell_head_chars":4096},"cells_cut":0,"cells_raw":0,"read":"whole","date_system":"1900"}

{"sheet":"Inputs","index":0,"n_rows":253,"n_cols":18,"rows_kept":253,"cut":false,"hidden":false,"merged":[[5,4,10,8],[12,4,13,8],[0,4,0,6]]}
[null,"WisDOT Work Zone Delay",null,null,"Weekly Tool"]
[null,"Beta Version 4.2                             User:",null,null,null,null,null,null,null,null,null,null,null,null,null,null,"Beta Version 4.2"]
[null,"Released: 05-05-2020                   Date:",null,null,null,null,null,null,null,null,null,null,null,null,null,null,"Last Updated","Change Log"]
[null,null,null,null,null,null,null,null,null,null,null,null,null,null,null,null,"2019-12-13","First iteration of beta tool"]
[null,"Project Inputs",null,null,"Notes:",null,null,null,null,null,null,null,null,null,null,null,"2020-01-09","Updated released date"]
[null,"Region","Southeast",null,null,null,null,null,null,null,null,null,null,null,null,null,"2020-01-13","Updated volume import of SQL output to reference Sheets(1) on SQL output sheet rather than referencing sheet name, which will change"]
[null,"County","Milwaukee",null,null,null,null,null,null,null,null,null,null,null,null,null,"2020-03-19","Added \"Adjusted Volumes\" table to \"Weekly Charts Tab\""]
[null,"Construction ID","0000-00-00",null,null,null,null,null,null,null,null,null,null,null,null,null,null,"Updated \"Growth Factor\" to be a positive percentage added to raw volumes"]
[null,"Highway","I-894",null,null,null,null,null,null,null,null,null,null,null,null,null,null,"Updated \"Diversion Factor\" to be a negative percentage subtracted from raw volumes"]
[null,"Direction","NB/SB",null,null,null,null,null,null,null,null,null,null,null,null,null,null,"Updated \"Volume Import\" tab where if user cancels file selection dialog box, volumes will revert to previous state before clicking import button"]
[null,"Area Type","Urban",null,null,null,null,null,null,null,null,null,null,null,null,null,null,"Removed error notification if user types in highway not in list. Useful if user wants to type in combined highway (e.g. I-43/894)"]
[null,"Normal Posted Speed Limit (mph)",70,null,null,null,null,null,null,null,null,null,null,null,null,null,null,"Added cost calculation for diverted traffic; changed \"Queue Costs\" chart to \"Total Costs\""]
[null,"Auto Cost/Hour of Delay",21.57,null,"WisDOT Work Zone Capacity Equation",null,null,null,null,null,null,null,null,null,null,null,null,"Fixed issue where overnight Saturday closure wasn't showing up as closed in Sunday morning hours."]
[null,"HV Cost/Hour of Delay",35.950000000000003,null,null,null,null,null,null,null,null,null,null,null,null,null,"2020-03-23","Updated highways list for each county"]
[null,"Capacity During Non-Work Hours (pce/hr/ln)",{"$f":"IF(OR(C12=70,C12=65),2400,IF(C12=60,2350,IF(C12=55,2300,2250)))","v":2400},null,null,null,null,null,null,null,null,null,null,null,null,null,"2020-05-05","Fixed bug in free flow capacity/WZ QDR equations on calcs tab (columns P/AF)"]
[null,null,null,null,null,null,null,null,null,null,null,null,null,null,null,null,"2021-04-15","Updated RUC Dollar Values"]
[null,"Closure Inputs","Closure #1","Closure #2","Closure #3","Closure #4",null,null,null,null,null,null,null,{"$f":"LEFT($C$10,2)","v":"NB"},{"$f":"RIGHT($C$10,2)","v":"SB"},null,"2022-02-01","Updated RUC Values and updated macros to work with SQL. "]
[null,"Lane Closure Type","4 to 3",null,null,null,null,null,null,null,null,null,"Loc. Adj. Factor",{"$f":"'Volume Import'!$H$14","v":1},{"$f":"'Volume Import'!$I$14","v":1}]
[null,"Barrier Type","Soft",null,null,null,null,null,null,null,null,null,"Growth Adj. Factor",{"$f":"'Volume Import'!$H$15","v":0},{"$f":"'Volume Import'!$I$15","v":0}]
[null,"Construction Intensity","Low",null,null,null,null,null,null,null,null,null,"Diversion %",{"$f":"'Volume Import'!$H$16","v":0},{"$f":"'Volume Import'!$I$16","v":0}]
[]
[null,"Results","Closure #1","Closure #2","Closure #3","Closure #4",null,"Lane Closure Type   (fLCSI)",null,null,"Vehicles/PCE Conversion Tool*"]
[null,"Base Value (1,866 default)",1866,{"$f":"IF(D18=\"\",\"\",$C$23)","v":""},{"$f":"IF(E18=\"\",\"\",$C$23)","v":""},{"$f":"IF(F18=\"\",\"\",$C$23)","v":""},null,"4 to 1",4,null,"Vehicles",1500]
[null,"Lane Closure Type (fLCSI)",{"$f":"IF(C18=\"\",\"\",-40*INDEX(Lists!$J$3:$J$10,MATCH(Inputs!C18,Lists!$I$3:$I$10,0)))","v":-17.600000000000001},{"$f":"IF(D18=\"\",\"\",-40*INDEX(Lists!$J$3:$J$10,MATCH(Inputs!D18,Lists!$I$3:$I$10,0)))","v":""},{"$f":"IF(E18=\"\",\"\",-40*INDEX(Lists!$J$3:$J$10,MATCH(Inputs!E18,Lists!$I$3:$I$10,0)))","v":""},{"$f":"IF(F18=\"\",\"\",-40*INDEX(Lists!$J$3:$J$10,MATCH(Inputs!F18,Lists!$I$3:$I$10,0)))","v":""},null,"3 to 1",3,null,"HV %",0.05]
[null,"Barrier Type (fbarrier)",{"$f":"IF(C19=\"\",\"\",IF(C19=\"Soft\",-132,0))","v":-132},{"$f":"IF(D19=\"\",\"\",IF(D19=\"Soft\",-132,0))","v":""},{"$f":"IF(E19=\"\",\"\",IF(E19=\"Soft\",-132,0))","v":""},{"$f":"IF(F19=\"\",\"\",IF(F19=\"Soft\",-132,0))","v":""},null,"2 to 1",2,null,{"$f":"IF(K23=\"Vehicles\",\"PCEs\",IF(K23=\"PCEs\",\"Vehicles\",\"\"))","v":"PCEs"},{"$f":"IF(K25=\"PCEs\",MROUND(L23/(1/(1+L24*(2-1))),1),IF(K25=\"Vehicles\",MROUND(L23*(1/(1+L24*(2-1))),1),\"\"))","v":1575}]
[null,"Area Type (farea)",{"$f":"IF(C18=\"\",\"\",IF($C$11=\"Rural\",-205,0))","v":0},{"$f":"IF(D18=\"\",\"\",IF($C$11=\"Rural\",-205,0))","v":""},{"$f":"IF(E18=\"\",\"\",IF($C$11=\"Rural\",-205,0))","v":""},{"$f":"IF(F18=\"\",\"\",IF($C$11=\"Rural\",-205,0))","v":""},null,"4 to 2",1,null,"* for reference only"]
[null,"Construction Intensity (fCI)",{"$f":"IF(C20=\"\",\"\",IF(C20=\"High\",-207,0))","v":0},{"$f":"IF(D20=\"\",\"\",IF(D20=\"High\",-207,0))","v":""},{"$f":"IF(E20=\"\",\"\",IF(E20=\"High\",-207,0))","v":""},{"$f":"IF(F20=\"\",\"\",IF(F20=\"High\",-207,0))","v":""},null,"3 to 2",0.75]
[null,"Regional (fregional)",{"$f":"IF(C18=\"\",\"\",IF(OR($C$6=\"North Central\",$C$6=\"Northeast\",$C$6=\"Northwest\"),-47,0))","v":0},{"$f":"IF(D18=\"\",\"\",IF(OR($C$6=\"North Central\",$C$6=\"Northeast\",$C$6=\"Northwest\"),-47,0))","v":""},{"$f":"IF(E18=\"\",\"\",IF(OR($C$6=\"North Central\",$C$6=\"Northeast\",$C$6=\"Northwest\"),-47,0))","v":""},{"$f":"IF(F18=\"\",\"\",IF(OR($C$6=\"North Central\",$C$6=\"Northeast\",$C$6=\"Northwest\"),-47,0))","v":""},null,"2 to 2",0.5]
[null,"Manual Adjustment",0,null,null,null,null,"4 to 3",0.44]
[null,"Estimated QDR Daytime\n(pce/hr/ln)",{"$f":"IF(SUM(C23:C29)=0,\"\",SUM(C23:C29))","v":1716.4},{"$f":"IF(SUM(D23:D29)=0,\"\",SUM(D23:D29))","v":""},"","",null,"3 to 3",0.33]
[null,"Estimated Pre-Breakdown Capacity Daytime (pce/hr/ln)",{"$f":"IF(C30=\"\",\"\",MROUND(C30/(1-0.134),1))","v":1982},{"$f":"IF(D30=\"\",\"\",MROUND(D30/(1-0.134),1))","v":""},"",""]
[null,"Estimated QDR Nighttime* (pce/hr/ln)",{"$f":"IF(C30=\"\",\"\",C30-101)","v":1615.4},{"$f":"IF(D30=\"\",\"\",D30-101)","v":""},"",""]
[null,"Estimated Pre-Breakdown Capacity Nighttime (pce/hr/ln)",{"$f":"IF(C30=\"\",\"\",MROUND(C32/(1-0.134),1))","v":1865},{"$f":"IF(D30=\"\",\"\",MROUND(D32/(1-0.134),1))","v":""},"",""]
[null,"Estimated Daytime PCE Headway (ft/pce)",{"$f":"IF(C30=\"\",\"\",(3.1495)*(($C$12+5)/2)*(1-SQRT(1-((C30*RIGHT(C18,1))/($C$15*LEFT(C18,1)))))+27.789)","v":65.476687896673383},{"$f":"IF(D30=\"\",\"\",(3.1495)*(($C$12+5)/2)*(1-SQRT(1-((D30*RIGHT(D18,1))/($C$15*LEFT(D18,1)))))+27.789)","v":""},"",""]
[null,"Estimated Nighttime PCE Headway (ft/pce)",{"$f":"IF(C32=\"\",\"\",(3.1495)*(($C$12+5)/2)*(1-SQRT(1-((C32*RIGHT(C18,1))/($C$15*LEFT(C18,1)))))+27.789)","v":62.784401329293146},{"$f":"IF(D32=\"\",\"\",(3.1495)*(($C$12+5)/2)*(1-SQRT(1-((D32*RIGHT(D18,1))/($C$15*LEFT(D18,1)))))+27.789)","v":""},"",""]
[null,"*6pm to 6am considered nighttime in calculations"]
[null,"Duration Inputs","OVERLAP DETECTED! PLEASE REVIEW CLOSURE TIMES!"]
[null,"Closure #1","Monday","Tuesday","Wednesday","Thursday","Friday","Saturday","Sunday"]
[null,"All Day?"]
[null,"Start of Closure","09:00:00","09:00:00","09:00:00","09:00:00","09:00:00"]
[null,"End of Closure","14:00:00","14:00:00","14:00:00","14:00:00","14:00:00"]
[null,"Overlap?",{"$f":"IF(AND(AND(C40=\"\",C41=\"\"),AND(C50=\"\",C51=\"\"),AND(C60=\"\",C61=\"\"),AND(C70=\"\",C71=\"\"),NOT(C47)),\"\",\nIF(AND(OR(AND(C45>=I45,C45<=I46),AND(C46>=D45,C46<=D46)),AND(C45<>\"\",C46<>\"\")),\"OVERLAP!\",\nIF(AND(OR(AND(C55>=I55,C55<=I56),AND(C56>=D55,C56<=D56)),AND(C55<>\"\",C56<>\"\")),\"OVERLAP!\",\nIF(AND(OR(AND(C65>=I65,C65<=I66),AND(C66>=D65,C66<=D66)),AND(C65<>\"\",C66<>\"\")),\"OVERLAP!\",\nIF(AND(OR(AND(C75>=I75,C75<=I76),AND(C76>=D75,C76<=D76)),AND(C75<>\"\",C76<>\"\")),\"OVERLAP!\",\nIF(COUNTIFS($B$86:$B$253,C38,$I$86:$I$253,\">1\")>0,\"OVERLAP!\",\nIF(AND(IF(COUNTIFS($B$86:$B$253,C38,$I$86:$I$253,\">1\")>0,\"OVERLAP!\",\"OK!\")=\"OVERLAP!\",C47),\"OK!\",IF(COUNTIFS($B$86:$B$253,C38,$I$86:$I$253,\">1\")>0,\"OVERLAP!\",\"OK!\"))))))))","v":"OK!"},{"$f":"IF(AND(AND(D40=\"\",D41=\"\"),AND(D50=\"\",D51=\"\"),AND(D60=\"\",D61=\"\"),AND(D70=\"\",D71=\"\"),NOT(D47)),\"\",\nIF(AND(OR(AND(D45>=C45,D45<=C46),AND(D46>=E45,D46<=E46)),AND(D45<>\"\",D46<>\"\")),\"OVERLAP!\",\nIF(AND(OR(AND(D55>=C55,D55<=C56),AND(D56>=E55,D56<=E56)),AND(D55<>\"\",D56<>\"\")),\"OVERLAP!\",\nIF(AND(OR(AND(D65>=C65,D65<=C66),AND(D66>=E65,D66<=E66)),AND(D65<>\"\",D66<>\"\")),\"OVERLAP!\",\nIF(AND(OR(AND(D75>=C75,D75<=C76),AND(D76>=E75,D76<=E76)),AND(D75<>\"\",D76<>\"\")),\"OVERLAP!\",\nIF(COUNTIFS($B$86:$B$253,D38,$I$86:$I$253,\">1\")>0,\"OVERLAP!\",\nIF(AND(IF(COUNTIFS($B$86:$B$253,D38,$I$86:$I$253,\">1\")>0,\"OVERLAP!\",\"OK!\")=\"OVERLAP!\",D47),\"OK!\",IF(COUNTIFS($B$86:$B$253,D38,$I$86:$I$253,\">1\")>0,\"OVERLAP!\",\"OK!\"))))))))","v":"OK!"},{"$f":"IF(AND(AND(E40=\"\",E41=\"\"),AND(E50=\"\",E51=\"\"),AND(E60=\"\",E61=\"\"),AND(E70=\"\",E71=\"\"),NOT(E47)),\"\",\nIF(AND(OR(AND(E45>=D45,E45<=D46),AND(E46>=F45,E46<=F46)),AND(E45<>\"\",E46<>\"\")),\"OVERLAP!\",\nIF(AND(OR(AND(E55>=D55,E55<=D56),AND(E56>=F55,E56<=F56)),AND(E55<>\"\",E56<>\"\")),\"OVERLAP!\",\nIF(AND(OR(AND(E65>=D65,E65<=D66),AND(E66>=F65,E66<=F66)),AND(E65<>\"\",E66<>\"\")),\"OVERLAP!\",\nIF(AND(OR(AND(E75>=D75,E75<=D76),AND(E76>=F75,E76<=F76)),AND(E75<>\"\",E76<>\"\")),\"OVERLAP!\",\nIF(COUNTIFS($B$86:$B$253,E38,$I$86:$I$253,\">1\")>0,\"OVERLAP!\",\nIF(AND(IF(COUNTIFS($B$86:$B$253,E38,$I$86:$I$253,\">1\")>0,\"OVERLAP!\",\"OK!\")=\"OVERLAP!\",E47),\"OK!\",IF(COUNTIFS($B$86:$B$253,E38,$I$86:$I$253,\">1\")>0,\"OVERLAP!\",\"OK!\"))))))))","v":"OK!"},{"$f":"IF(AND(AND(F40=\"\",F41=\"\"),AND(F50=\"\",F51=\"\"),AND(F60=\"\",F61=\"\"),AND(F70=\"\",F71=\"\"),NOT(F47)),\"\",\nIF(AND(OR(AND(F45>=E45,F45<=E46),AND(F46>=G45,F46<=G46)),AND(F45<>\"\",F46<>\"\")),\"OVERLAP!\",\nIF(AND(OR(AND(F55>=E55,F55<=E56),AND(F56>=G55,F56<=G56)),AND(F55<>\"\",F56<>\"\")),\"OVERLAP!\",\nIF(AND(OR(AND(F65>=E65,F65<=E66),AND(F66>=G65,F66<=G66)),AND(F65<>\"\",F66<>\"\")),\"OVERLAP!\",\nIF(AND(OR(AND(F75>=E75,F75<=E76),AND(F76>=G75,F76<=G76)),AND(F75<>\"\",F76<>\"\")),\"OVERLAP!\",\nIF(COUNTIFS($B$86:$B$253,F38,$I$86:$I$253,\">1\")>0,\"OVERLAP!\",\nIF(AND(IF(COUNTIFS($B$86:$B$253,F38,$I$86:$I$253,\">1\")>0,\"OVERLAP!\",\"OK!\")=\"OVERLAP!\",F47),\"OK!\",IF(COUNTIFS($B$86:$B$253,F38,$I$86:$I$253,\">1\")>0,\"OVERLAP!\",\"OK!\"))))))))","v":"OK!"},{"$f":"IF(AND(AND(G40=\"\",G41=\"\"),AND(G50=\"\",G51=\"\"),AND(G60=\"\",G61=\"\"),AND(G70=\"\",G71=\"\"),NOT(G47)),\"\",\nIF(AND(OR(AND(G45>=F45,G45<=F46),AND(G46>=H45,G46<=H46)),AND(G45<>\"\",G46<>\"\")),\"OVERLAP!\",\nIF(AND(OR(AND(G55>=F55,G55<=F56),AND(G56>=H55,G56<=H56)),AND(G55<>\"\",G56<>\"\")),\"OVERLAP!\",\nIF(AND(OR(AND(G65>=F65,G65<=F66),AND(G66>=H65,G66<=H66)),AND(G65<>\"\",G66<>\"\")),\"OVERLAP!\",\nIF(AND(OR(AND(G75>=F75,G75<=F76),AND(G76>=H75,G76<=H76)),AND(G75<>\"\",G76<>\"\")),\"OVERLAP!\",\nIF(COUNTIFS($B$86:$B$253,G38,$I$86:$I$253,\">1\")>0,\"OVERLAP!\",\nIF(AND(IF(COUNTIFS($B$86:$B$253,G38,$I$86:$I$253,\">1\")>0,\"OVERLAP!\",\"OK!\")=\"OVERLAP!\",G47),\"OK!\",IF(COUNTIFS($B$86:$B$253,G38,$I$86:$I$253,\">1\")>0,\"OVERLAP!\",\"OK!\"))))))))","v":"OK!"},{"$f":"IF(AND(AND(H40=\"\",H41=\"\"),AND(H50=\"\",H51=\"\"),AND(H60=\"\",H61=\"\"),AND(H70=\"\",H71=\"\"),NOT(H47)),\"\",\nIF(AND(OR(AND(H45>=G45,H45<=G46),IFERROR(AND(H46>=I45+168,H46<=I46+168),FALSE)),AND(H45<>\"\",H46<>\"\")),\"OVERLAP!\",\nIF(AND(OR(AND(H55>=G55,H55<=G56),IFERROR(AND(H56>=I55+168,H56<=I56+168),FALSE)),AND(H55<>\"\",H56<>\"\")),\"OVERLAP!\",\nIF(AND(OR(AND(H65>=G65,H65<=G66),IFERROR(AND(H66>=I65+168,H66<=I66+168),FALSE)),AND(H65<>\"\",H66<>\"\")),\"OVERLAP!\",\nIF(AND(OR(AND(H75>=G75,H75<=G76),IFERROR(AND(H76>=I75+168,H76<=I76+168),FALSE)),AND(H75<>\"\",H76<>\"\")),\"OVERLAP!\",\nIF(COUNTIFS($B$86:$B$253,H38,$I$86:$I$253,\">1\")>0,\"OVERLAP!\",\nIF(AND(IF(COUNTIFS($B$86:$B$253,H38,$I$86:$I$253,\">1\")>0,\"OVERLAP!\",\"OK!\")=\"OVERLAP!\",H47),\"OK!\",IF(COUNTIFS($B$86:$B$253,H38,$I$86:$I$253,\">1\")>0,\"OVERLAP!\",\"OK!\"))))))))","v":""},{"$f":"IF(AND(AND(I40=\"\",I41=\"\"),AND(I50=\"\",I51=\"\"),AND(I60=\"\",I61=\"\"),AND(I70=\"\",I71=\"\"),NOT(I47)),\"\",\nIF(AND(OR(IFERROR(AND(I45+168>=H45,I45+168<=H46),FALSE),AND(I46>=C45,I46<=C46)),AND(I45<>\"\",I46<>\"\")),\"OVERLAP!\",\nIF(AND(OR(IFERROR(AND(I55+168>=H55,I55+168<=H56),FALSE),AND(I56>=C55,I56<=C56)),AND(I55<>\"\",I56<>\"\")),\"OVERLAP!\",\nIF(AND(OR(IFERROR(AND(I65+168>=H65,I65+168<=H66),FALSE),AND(I66>=C65,I66<=C66)),AND(I65<>\"\",I66<>\"\")),\"OVERLAP!\",\nIF(AND(OR(IFERROR(AND(I75+168>=H75,I75+168<=H76),FALSE),AND(I76>=C75,I76<=C76)),AND(I75<>\"\",I76<>\"\")),\"OVERLAP!\",\nIF(COUNTIFS($B$86:$B$253,I38,$I$86:$I$253,\">1\")>0,\"OVERLAP!\",\nIF(AND(IF(COUNTIFS($B$86:$B$253,I38,$I$86:$I$253,\">1\")>0,\"OVERLAP!\",\"OK!\")=\"OVERLAP!\",I47),\"OK!\",IF(COUNTIFS($B$86:$B$253,I38,$I$86:$I$253,\">1\")>0,\"OVERLAP!\",\"OK!\"))))))))","v":""}]
[]
[null,null,2,3,4,5,6,7,1]
[null,"Start of Closure",{"$f":"IF(C47,(C44*24-24),IF(OR(C40=\"\",C41=\"\"),\"\",HOUR(C40)+(C44*24-24)))","v":33},{"$f":"IF(D47,(D44*24-24),IF(OR(D40=\"\",D41=\"\"),\"\",HOUR(D40)+(D44*24-24)))","v":57},{"$f":"IF(E47,(E44*24-24),IF(OR(E40=\"\",E41=\"\"),\"\",HOUR(E40)+(E44*24-24)))","v":81},105,129,"",""]
[null,"End of Closure",{"$f":"IF(C47,(C44*24-1),IF(OR(C40=\"\",C41=\"\"),\"\",IF(C41>C40,HOUR(C41)+(C44*24-24)-1,HOUR(C41)+((C44+1)*24-24)-1)))","v":37},{"$f":"IF(D47,(D44*24-1),IF(ISBLANK(D41),\"\",IF(D41>D40,HOUR(D41)+(D44*24-24)-1,HOUR(D41)+((D44+1)*24-24)-1)))","v":61},{"$f":"IF(E47,(E44*24-1),IF(ISBLANK(E41),\"\",IF(E41>E40,HOUR(E41)+(E44*24-24)-1,HOUR(E41)+((E44+1)*24-24)-1)))","v":85},109,133,"",{"$f":"IF(I47,(I44*24-1),IF(ISBLANK(I41),\"\",IF(I41>I40,HOUR(I41)+(I44*24-24)-1,HOUR(I41)+((I44+1)*24-24)-1)))","v":""}]
[null,null,false,false,false,false,false,false,false]
[]
[null,"Closure #2 ","Monday","Tuesday","Wednesday","Thursday","Friday","Saturday","Sunday"]
[null,"Start of Closure"]
[null,"End of Closure"]
[]
[]
[null,null,2,3,4,5,6,7,1]
[null,"Start of Closure",{"$f":"IF(OR(C50=\"\",C51=\"\"),\"\",HOUR(C50)+(C54*24-24))","v":""},{"$f":"IF(OR(D50=\"\",D51=\"\"),\"\",HOUR(D50)+(D54*24-24))","v":""},"","","","",""]
[null,"End of Closure",{"$f":"IF(OR(C50=\"\",C51=\"\"),\"\",IF(C51>C50,HOUR(C51)+(C54*24-24)-1,HOUR(C51)+((C54+1)*24-24)-1))","v":""},{"$f":"IF(OR(D50=\"\",D51=\"\"),\"\",IF(D51>D50,HOUR(D51)+(D54*24-24)-1,HOUR(D51)+((D54+1)*24-24)-1))","v":""},"","","","",""]
[]
[]
[null,"Closure #3","Monday","Tuesday","Wednesday","Thursday","Friday","Saturday","Sunday"]
[null,"Start of Closure"]
[null,"End of Closure"]
[]
[]
[null,null,2,3,4,5,6,7,1]
[null,"Start of Closure",{"$f":"IF(OR(C60=\"\",C61=\"\"),\"\",HOUR(C60)+(C64*24-24))","v":""},{"$f":"IF(OR(D60=\"\",D61=\"\"),\"\",HOUR(D60)+(D64*24-24))","v":""},"","","","",""]
[null,"End of Closure",{"$f":"IF(OR(C60=\"\",C61=\"\"),\"\",IF(C61>C60,HOUR(C61)+(C64*24-24)-1,HOUR(C61)+((C64+1)*24-24)-1))","v":""},{"$f":"IF(OR(D60=\"\",D61=\"\"),\"\",IF(D61>D60,HOUR(D61)+(D64*24-24)-1,HOUR(D61)+((D64+1)*24-24)-1))","v":""},"","","","",""]
[]
[]
[null,"Closure #4","Monday","Tuesday","Wednesday","Thursday","Friday","Saturday","Sunday"]
[null,"Start of Closure"]
[null,"End of Closure"]
[]
[]
[null,null,2,3,4,5,6,7,1]
[null,"Start of Closure",{"$f":"IF(OR(C70=\"\",C71=\"\"),\"\",HOUR(C70)+(C74*24-24))","v":""},{"$f":"IF(OR(D70=\"\",D71=\"\"),\"\",HOUR(D70)+(D74*24-24))","v":""},"","","","",""]
[null,"End of Closure",{"$f":"IF(OR(C70=\"\",C71=\"\"),\"\",IF(C71>C70,HOUR(C71)+(C74*24-24)-1,HOUR(C71)+((C74+1)*24-24)-1))","v":""},{"$f":"IF(OR(D70=\"\",D71=\"\"),\"\",IF(D71>D70,HOUR(D71)+(D74*24-24)-1,HOUR(D71)+((D74+1)*24-24)-1))","v":""},"","","",{"$f":"IF(OR(H70=\"\",H71=\"\"),\"\",IF(H71>H70,HOUR(H71)+(H74*24-24)-1,HOUR(H71)+((H74+1)*24-24)-1))","v":""},""]
[]
[]
[null,"Heavy Vehicle Percentages - Daily Average"]
[null,null,"Monday","Tuesday","Wednesday","Thursday","Friday","Saturday","Sunday"]
[null,{"$f":"IF(SUM('Volume Import'!$D$2:$D$169)=0,\"HV% From Manual Table\", \"HV% From Jackalope SQL Import\")","v":"HV% From Manual Table"},{"$f":"IFERROR((SUMPRODUCT(--(Calculations!$C$11:$C$178=Inputs!C$80),Calculations!$I$11:$I$178,Calculations!$J$11:$J$178)+SUMPRODUCT(--(Calculations!$C$11:$C$178=Inputs!C$80),Calculations!$L$11:$L$178,Calculations!$M$11:$M$178))/(SUMIF(Calculations!$C$11:$C$178,Inputs!C$80,Calculations!$I$11:$I$178)+SUMIF(Calculations!$C$11:$C$178,Inputs!C$80,Calculations!$L$11:$L$178)),\"No Volume Data\")","v":0.1},{"$f":"IFERROR((SUMPRODUCT(--(Calculations!$C$11:$C$178=Inputs!D$80),Calculations!$I$11:$I$178,Calculations!$J$11:$J$178)+SUMPRODUCT(--(Calculations!$C$11:$C$178=Inputs!D$80),Calculations!$L$11:$L$178,Calculations!$M$11:$M$178))/(SUMIF(Calculations!$C$11:$C$178,Inputs!D$80,Calculations!$I$11:$I$178)+SUMIF(Calculations!$C$11:$C$178,Inputs!D$80,Calculations!$L$11:$L$178)),\"No Volume Data\")","v":0.1},{"$f":"IFERROR((SUMPRODUCT(--(Calculations!$C$11:$C$178=Inputs!E$80),Calculations!$I$11:$I$178,Calculations!$J$11:$J$178)+SUMPRODUCT(--(Calculations!$C$11:$C$178=Inputs!E$80),Calculations!$L$11:$L$178,Calculations!$M$11:$M$178))/(SUMIF(Calculations!$C$11:$C$178,Inputs!E$80,Calculations!$I$11:$I$178)+SUMIF(Calculations!$C$11:$C$178,Inputs!E$80,Calculations!$L$11:$L$178)),\"No Volume Data\")","v":0.10000000000000002},{"$f":"IFERROR((SUMPRODUCT(--(Calculations!$C$11:$C$178=Inputs!F$80),Calculations!$I$11:$I$178,Calculations!$J$11:$J$178)+SUMPRODUCT(--(Calculations!$C$11:$C$178=Inputs!F$80),Calculations!$L$11:$L$178,Calculations!$M$11:$M$178))/(SUMIF(Calculations!$C$11:$C$178,Inputs!F$80,Calculations!$I$11:$I$178)+SUMIF(Calculations!$C$11:$C$178,Inputs!F$80,Calculations!$L$11:$L$178)),\"No Volume Data\")","v":0.10000000000000002},{"$f":"IFERROR((SUMPRODUCT(--(Calculations!$C$11:$C$178=Inputs!G$80),Calculations!$I$11:$I$178,Calculations!$J$11:$J$178)+SUMPRODUCT(--(Calculations!$C$11:$C$178=Inputs!G$80),Calculations!$L$11:$L$178,Calculations!$M$11:$M$178))/(SUMIF(Calculations!$C$11:$C$178,Inputs!G$80,Calculations!$I$11:$I$178)+SUMIF(Calculations!$C$11:$C$178,Inputs!G$80,Calculations!$L$11:$L$178)),\"No Volume Data\")","v":9.9999999999999992E-2},{"$f":"IFERROR((SUMPRODUCT(--(Calculations!$C$11:$C$178=Inputs!H$80),Calculations!$I$11:$I$178,Calculations!$J$11:$J$178)+SUMPRODUCT(--(Calculations!$C$11:$C$178=Inputs!H$80),Calculations!$L$11:$L$178,Calculations!$M$11:$M$178))/(SUMIF(Calculations!$C$11:$C$178,Inputs!H$80,Calculations!$I$11:$I$178)+SUMIF(Calculations!$C$11:$C$178,Inputs!H$80,Calculations!$L$11:$L$178)),\"No Volume Data\")","v":0.10000000000000002},{"$f":"IFERROR((SUMPRODUCT(--(Calculations!$C$11:$C$178=Inputs!I$80),Calculations!$I$11:$I$178,Calculations!$J$11:$J$178)+SUMPRODUCT(--(Calculations!$C$11:$C$178=Inputs!I$80),Calculations!$L$11:$L$178,Calculations!$M$11:$M$178))/(SUMIF(Calculations!$C$11:$C$178,Inputs!I$80,Calculations!$I$11:$I$178)+SUMIF(Calculations!$C$11:$C$178,Inputs!I$80,Calculations!$L$11:$L$178)),\"No Volume Data\")","v":0.1}]
[]
[]
[null,"Table for Overlap Notification"]
[null,null,null,"Week Hour","Closure 1","Closure 2","Closure 3","Closure 4","True Count\n1,2,3,4","True Count\n2,3,4"]
[null,"Sunday","00:00:00",0,{"$f":"OR(AND(D86>=Inputs!$I$45,D86<=Inputs!$I$46),AND(D86>=Inputs!$C$45,D86<=Inputs!$C$46),AND(D86>=Inputs!$D$45,D86<=Inputs!$D$46),AND(D86>=Inputs!$E$45,D86<=Inputs!$E$46),AND(D86>=Inputs!$F$45,D86<=Inputs!$F$46),AND(D86>=Inputs!$G$45,D86<=Inputs!$G$46),AND(D86>=Inputs!$H$45,D86<=Inputs!$H$46),IFERROR(AND(D86>=0,D86<=Inputs!$H$46-168),FALSE))","v":false},{"$f":"OR(AND(D86>=Inputs!$I$55,D86<=Inputs!$I$56),AND(D86>=Inputs!$C$55,D86<=Inputs!$C$56),AND(D86>=Inputs!$D$55,D86<=Inputs!$D$56),AND(D86>=Inputs!$E$55,D86<=Inputs!$E$56),AND(D86>=Inputs!$F$55,D86<=Inputs!$F$56),AND(D86>=Inputs!$G$55,D86<=Inputs!$G$56),AND(D86>=Inputs!$H$55,D86<=Inputs!$H$56),IFERROR(AND(D86>=0,D86<=Inputs!$H$56-168),FALSE))","v":false},{"$f":"OR(AND(D86>=Inputs!$I$65,D86<=Inputs!$I$66),AND(D86>=Inputs!$C$65,D86<=Inputs!$C$66),AND(D86>=Inputs!$D$65,D86<=Inputs!$D$66),AND(D86>=Inputs!$E$65,D86<=Inputs!$E$66),AND(D86>=Inputs!$F$65,D86<=Inputs!$F$66),AND(D86>=Inputs!$G$65,D86<=Inputs!$G$66),AND(D86>=Inputs!$H$65,D86<=Inputs!$H$66),IFERROR(AND(D86>=0,D86<=Inputs!$H$66-168),FALSE))","v":false},{"$f":"OR(AND(D86>=Inputs!$I$75,D86<=Inputs!$I$76),AND(D86>=Inputs!$C$75,D86<=Inputs!$C$76),AND(D86>=Inputs!$D$75,D86<=Inputs!$D$76),AND(D86>=Inputs!$E$75,D86<=Inputs!$E$76),AND(D86>=Inputs!$F$75,D86<=Inputs!$F$76),AND(D86>=Inputs!$G$75,D86<=Inputs!$G$76),AND(D86>=Inputs!$H$75,D86<=Inputs!$H$76),IFERROR(AND(D86>=0,D86<=Inputs!$H$76-168),FALSE))","v":false},{"$f":"COUNTIF(E86:H86,\"TRUE\")","v":0},{"$f":"COUNTIF(F86:H86,\"TRUE\")","v":0}]
[null,"Sunday","01:00:00",1,{"$f":"OR(AND(D87>=Inputs!$I$45,D87<=Inputs!$I$46),AND(D87>=Inputs!$C$45,D87<=Inputs!$C$46),AND(D87>=Inputs!$D$45,D87<=Inputs!$D$46),AND(D87>=Inputs!$E$45,D87<=Inputs!$E$46),AND(D87>=Inputs!$F$45,D87<=Inputs!$F$46),AND(D87>=Inputs!$G$45,D87<=Inputs!$G$46),AND(D87>=Inputs!$H$45,D87<=Inputs!$H$46),IFERROR(AND(D87>=0,D87<=Inputs!$H$46-168),FALSE))","v":false},{"$f":"OR(AND(D87>=Inputs!$I$55,D87<=Inputs!$I$56),AND(D87>=Inputs!$C$55,D87<=Inputs!$C$56),AND(D87>=Inputs!$D$55,D87<=Inputs!$D$56),AND(D87>=Inputs!$E$55,D87<=Inputs!$E$56),AND(D87>=Inputs!$F$55,D87<=Inputs!$F$56),AND(D87>=Inputs!$G$55,D87<=Inputs!$G$56),AND(D87>=Inputs!$H$55,D87<=Inputs!$H$56),IFERROR(AND(D87>=0,D87<=Inputs!$H$56-168),FALSE))","v":false},{"$f":"OR(AND(D87>=Inputs!$I$65,D87<=Inputs!$I$66),AND(D87>=Inputs!$C$65,D87<=Inputs!$C$66),AND(D87>=Inputs!$D$65,D87<=Inputs!$D$66),AND(D87>=Inputs!$E$65,D87<=Inputs!$E$66),AND(D87>=Inputs!$F$65,D87<=Inputs!$F$66),AND(D87>=Inputs!$G$65,D87<=Inputs!$G$66),AND(D87>=Inputs!$H$65,D87<=Inputs!$H$66),IFERROR(AND(D87>=0,D87<=Inputs!$H$66-168),FALSE))","v":false},{"$f":"OR(AND(D87>=Inputs!$I$75,D87<=Inputs!$I$76),AND(D87>=Inputs!$C$75,D87<=Inputs!$C$76),AND(D87>=Inputs!$D$75,D87<=Inputs!$D$76),AND(D87>=Inputs!$E$75,D87<=Inputs!$E$76),AND(D87>=Inputs!$F$75,D87<=Inputs!$F$76),AND(D87>=Inputs!$G$75,D87<=Inputs!$G$76),AND(D87>=Inputs!$H$75,D87<=Inputs!$H$76),IFERROR(AND(D87>=0,D87<=Inputs!$H$76-168),FALSE))","v":false},{"$f":"COUNTIF(E87:H87,\"TRUE\")","v":0},{"$f":"COUNTIF(F87:H87,\"TRUE\")","v":0}]
[null,"Sunday","02:00:00",2,{"$f":"OR(AND(D88>=Inputs!$I$45,D88<=Inputs!$I$46),AND(D88>=Inputs!$C$45,D88<=Inputs!$C$46),AND(D88>=Inputs!$D$45,D88<=Inputs!$D$46),AND(D88>=Inputs!$E$45,D88<=Inputs!$E$46),AND(D88>=Inputs!$F$45,D88<=Inputs!$F$46),AND(D88>=Inputs!$G$45,D88<=Inputs!$G$46),AND(D88>=Inputs!$H$45,D88<=Inputs!$H$46),IFERROR(AND(D88>=0,D88<=Inputs!$H$46-168),FALSE))","v":false},{"$f":"OR(AND(D88>=Inputs!$I$55,D88<=Inputs!$I$56),AND(D88>=Inputs!$C$55,D88<=Inputs!$C$56),AND(D88>=Inputs!$D$55,D88<=Inputs!$D$56),AND(D88>=Inputs!$E$55,D88<=Inputs!$E$56),AND(D88>=Inputs!$F$55,D88<=Inputs!$F$56),AND(D88>=Inputs!$G$55,D88<=Inputs!$G$56),AND(D88>=Inputs!$H$55,D88<=Inputs!$H$56),IFERROR(AND(D88>=0,D88<=Inputs!$H$56-168),FALSE))","v":false},{"$f":"OR(AND(D88>=Inputs!$I$65,D88<=Inputs!$I$66),AND(D88>=Inputs!$C$65,D88<=Inputs!$C$66),AND(D88>=Inputs!$D$65,D88<=Inputs!$D$66),AND(D88>=Inputs!$E$65,D88<=Inputs!$E$66),AND(D88>=Inputs!$F$65,D88<=Inputs!$F$66),AND(D88>=Inputs!$G$65,D88<=Inputs!$G$66),AND(D88>=Inputs!$H$65,D88<=Inputs!$H$66),IFERROR(AND(D88>=0,D88<=Inputs!$H$66-168),FALSE))","v":false},{"$f":"OR(AND(D88>=Inputs!$I$75,D88<=Inputs!$I$76),AND(D88>=Inputs!$C$75,D88<=Inputs!$C$76),AND(D88>=Inputs!$D$75,D88<=Inputs!$D$76),AND(D88>=Inputs!$E$75,D88<=Inputs!$E$76),AND(D88>=Inputs!$F$75,D88<=Inputs!$F$76),AND(D88>=Inputs!$G$75,D88<=Inputs!$G$76),AND(D88>=Inputs!$H$75,D88<=Inputs!$H$76),IFERROR(AND(D88>=0,D88<=Inputs!$H$76-168),FALSE))","v":false},0,0]
[null,"Sunday","03:00:00",3,{"$f":"OR(AND(D89>=Inputs!$I$45,D89<=Inputs!$I$46),AND(D89>=Inputs!$C$45,D89<=Inputs!$C$46),AND(D89>=Inputs!$D$45,D89<=Inputs!$D$46),AND(D89>=Inputs!$E$45,D89<=Inputs!$E$46),AND(D89>=Inputs!$F$45,D89<=Inputs!$F$46),AND(D89>=Inputs!$G$45,D89<=Inputs!$G$46),AND(D89>=Inputs!$H$45,D89<=Inputs!$H$46),IFERROR(AND(D89>=0,D89<=Inputs!$H$46-168),FALSE))","v":false},{"$f":"OR(AND(D89>=Inputs!$I$55,D89<=Inputs!$I$56),AND(D89>=Inputs!$C$55,D89<=Inputs!$C$56),AND(D89>=Inputs!$D$55,D89<=Inputs!$D$56),AND(D89>=Inputs!$E$55,D89<=Inputs!$E$56),AND(D89>=Inputs!$F$55,D89<=Inputs!$F$56),AND(D89>=Inputs!$G$55,D89<=Inputs!$G$56),AND(D89>=Inputs!$H$55,D89<=Inputs!$H$56),IFERROR(AND(D89>=0,D89<=Inputs!$H$56-168),FALSE))","v":false},{"$f":"OR(AND(D89>=Inputs!$I$65,D89<=Inputs!$I$66),AND(D89>=Inputs!$C$65,D89<=Inputs!$C$66),AND(D89>=Inputs!$D$65,D89<=Inputs!$D$66),AND(D89>=Inputs!$E$65,D89<=Inputs!$E$66),AND(D89>=Inputs!$F$65,D89<=Inputs!$F$66),AND(D89>=Inputs!$G$65,D89<=Inputs!$G$66),AND(D89>=Inputs!$H$65,D89<=Inputs!$H$66),IFERROR(AND(D89>=0,D89<=Inputs!$H$66-168),FALSE))","v":false},{"$f":"OR(AND(D89>=Inputs!$I$75,D89<=Inputs!$I$76),AND(D89>=Inputs!$C$75,D89<=Inputs!$C$76),AND(D89>=Inputs!$D$75,D89<=Inputs!$D$76),AND(D89>=Inputs!$E$75,D89<=Inputs!$E$76),AND(D89>=Inputs!$F$75,D89<=Inputs!$F$76),AND(D89>=Inputs!$G$75,D89<=Inputs!$G$76),AND(D89>=Inputs!$H$75,D89<=Inputs!$H$76),IFERROR(AND(D89>=0,D89<=Inputs!$H$76-168),FALSE))","v":false},0,0]
[null,"Sunday","04:00:00",4,{"$f":"OR(AND(D90>=Inputs!$I$45,D90<=Inputs!$I$46),AND(D90>=Inputs!$C$45,D90<=Inputs!$C$46),AND(D90>=Inputs!$D$45,D90<=Inputs!$D$46),AND(D90>=Inputs!$E$45,D90<=Inputs!$E$46),AND(D90>=Inputs!$F$45,D90<=Inputs!$F$46),AND(D90>=Inputs!$G$45,D90<=Inputs!$G$46),AND(D90>=Inputs!$H$45,D90<=Inputs!$H$46),IFERROR(AND(D90>=0,D90<=Inputs!$H$46-168),FALSE))","v":false},{"$f":"OR(AND(D90>=Inputs!$I$55,D90<=Inputs!$I$56),AND(D90>=Inputs!$C$55,D90<=Inputs!$C$56),AND(D90>=Inputs!$D$55,D90<=Inputs!$D$56),AND(D90>=Inputs!$E$55,D90<=Inputs!$E$56),AND(D90>=Inputs!$F$55,D90<=Inputs!$F$56),AND(D90>=Inputs!$G$55,D90<=Inputs!$G$56),AND(D90>=Inputs!$H$55,D90<=Inputs!$H$56),IFERROR(AND(D90>=0,D90<=Inputs!$H$56-168),FALSE))","v":false},{"$f":"OR(AND(D90>=Inputs!$I$65,D90<=Inputs!$I$66),AND(D90>=Inputs!$C$65,D90<=Inputs!$C$66),AND(D90>=Inputs!$D$65,D90<=Inputs!$D$66),AND(D90>=Inputs!$E$65,D90<=Inputs!$E$66),AND(D90>=Inputs!$F$65,D90<=Inputs!$F$66),AND(D90>=Inputs!$G$65,D90<=Inputs!$G$66),AND(D90>=Inputs!$H$65,D90<=Inputs!$H$66),IFERROR(AND(D90>=0,D90<=Inputs!$H$66-168),FALSE))","v":false},{"$f":"OR(AND(D90>=Inputs!$I$75,D90<=Inputs!$I$76),AND(D90>=Inputs!$C$75,D90<=Inputs!$C$76),AND(D90>=Inputs!$D$75,D90<=Inputs!$D$76),AND(D90>=Inputs!$E$75,D90<=Inputs!$E$76),AND(D90>=Inputs!$F$75,D90<=Inputs!$F$76),AND(D90>=Inputs!$G$75,D90<=Inputs!$G$76),AND(D90>=Inputs!$H$75,D90<=Inputs!$H$76),IFERROR(AND(D90>=0,D90<=Inputs!$H$76-168),FALSE))","v":false},0,0]
[null,"Sunday","05:00:00",5,{"$f":"OR(AND(D91>=Inputs!$I$45,D91<=Inputs!$I$46),AND(D91>=Inputs!$C$45,D91<=Inputs!$C$46),AND(D91>=Inputs!$D$45,D91<=Inputs!$D$46),AND(D91>=Inputs!$E$45,D91<=Inputs!$E$46),AND(D91>=Inputs!$F$45,D91<=Inputs!$F$46),AND(D91>=Inputs!$G$45,D91<=Inputs!$G$46),AND(D91>=Inputs!$H$45,D91<=Inputs!$H$46),IFERROR(AND(D91>=0,D91<=Inputs!$H$46-168),FALSE))","v":false},{"$f":"OR(AND(D91>=Inputs!$I$55,D91<=Inputs!$I$56),AND(D91>=Inputs!$C$55,D91<=Inputs!$C$56),AND(D91>=Inputs!$D$55,D91<=Inputs!$D$56),AND(D91>=Inputs!$E$55,D91<=Inputs!$E$56),AND(D91>=Inputs!$F$55,D91<=Inputs!$F$56),AND(D91>=Inputs!$G$55,D91<=Inputs!$G$56),AND(D91>=Inputs!$H$55,D91<=Inputs!$H$56),IFERROR(AND(D91>=0,D91<=Inputs!$H$56-168),FALSE))","v":false},{"$f":"OR(AND(D91>=Inputs!$I$65,D91<=Inputs!$I$66),AND(D91>=Inputs!$C$65,D91<=Inputs!$C$66),AND(D91>=Inputs!$D$65,D91<=Inputs!$D$66),AND(D91>=Inputs!$E$65,D91<=Inputs!$E$66),AND(D91>=Inputs!$F$65,D91<=Inputs!$F$66),AND(D91>=Inputs!$G$65,D91<=Inputs!$G$66),AND(D91>=Inputs!$H$65,D91<=Inputs!$H$66),IFERROR(AND(D91>=0,D91<=Inputs!$H$66-168),FALSE))","v":false},{"$f":"OR(AND(D91>=Inputs!$I$75,D91<=Inputs!$I$76),AND(D91>=Inputs!$C$75,D91<=Inputs!$C$76),AND(D91>=Inputs!$D$75,D91<=Inputs!$D$76),AND(D91>=Inputs!$E$75,D91<=Inputs!$E$76),AND(D91>=Inputs!$F$75,D91<=Inputs!$F$76),AND(D91>=Inputs!$G$75,D91<=Inputs!$G$76),AND(D91>=Inputs!$H$75,D91<=Inputs!$H$76),IFERROR(AND(D91>=0,D91<=Inputs!$H$76-168),FALSE))","v":false},0,0]
[null,"Sunday","06:00:00",6,{"$f":"OR(AND(D92>=Inputs!$I$45,D92<=Inputs!$I$46),AND(D92>=Inputs!$C$45,D92<=Inputs!$C$46),AND(D92>=Inputs!$D$45,D92<=Inputs!$D$46),AND(D92>=Inputs!$E$45,D92<=Inputs!$E$46),AND(D92>=Inputs!$F$45,D92<=Inputs!$F$46),AND(D92>=Inputs!$G$45,D92<=Inputs!$G$46),AND(D92>=Inputs!$H$45,D92<=Inputs!$H$46),IFERROR(AND(D92>=0,D92<=Inputs!$H$46-168),FALSE))","v":false},{"$f":"OR(AND(D92>=Inputs!$I$55,D92<=Inputs!$I$56),AND(D92>=Inputs!$C$55,D92<=Inputs!$C$56),AND(D92>=Inputs!$D$55,D92<=Inputs!$D$56),AND(D92>=Inputs!$E$55,D92<=Inputs!$E$56),AND(D92>=Inputs!$F$55,D92<=Inputs!$F$56),AND(D92>=Inputs!$G$55,D92<=Inputs!$G$56),AND(D92>=Inputs!$H$55,D92<=Inputs!$H$56),IFERROR(AND(D92>=0,D92<=Inputs!$H$56-168),FALSE))","v":false},{"$f":"OR(AND(D92>=Inputs!$I$65,D92<=Inputs!$I$66),AND(D92>=Inputs!$C$65,D92<=Inputs!$C$66),AND(D92>=Inputs!$D$65,D92<=Inputs!$D$66),AND(D92>=Inputs!$E$65,D92<=Inputs!$E$66),AND(D92>=Inputs!$F$65,D92<=Inputs!$F$66),AND(D92>=Inputs!$G$65,D92<=Inputs!$G$66),AND(D92>=Inputs!$H$65,D92<=Inputs!$H$66),IFERROR(AND(D92>=0,D92<=Inputs!$H$66-168),FALSE))","v":false},{"$f":"OR(AND(D92>=Inputs!$I$75,D92<=Inputs!$I$76),AND(D92>=Inputs!$C$75,D92<=Inputs!$C$76),AND(D92>=Inputs!$D$75,D92<=Inputs!$D$76),AND(D92>=Inputs!$E$75,D92<=Inputs!$E$76),AND(D92>=Inputs!$F$75,D92<=Inputs!$F$76),AND(D92>=Inputs!$G$75,D92<=Inputs!$G$76),AND(D92>=Inputs!$H$75,D92<=Inputs!$H$76),IFERROR(AND(D92>=0,D92<=Inputs!$H$76-168),FALSE))","v":false},0,0]
[null,"Sunday","07:00:00",7,{"$f":"OR(AND(D93>=Inputs!$I$45,D93<=Inputs!$I$46),AND(D93>=Inputs!$C$45,D93<=Inputs!$C$46),AND(D93>=Inputs!$D$45,D93<=Inputs!$D$46),AND(D93>=Inputs!$E$45,D93<=Inputs!$E$46),AND(D93>=Inputs!$F$45,D93<=Inputs!$F$46),AND(D93>=Inputs!$G$45,D93<=Inputs!$G$46),AND(D93>=Inputs!$H$45,D93<=Inputs!$H$46),IFERROR(AND(D93>=0,D93<=Inputs!$H$46-168),FALSE))","v":false},{"$f":"OR(AND(D93>=Inputs!$I$55,D93<=Inputs!$I$56),AND(D93>=Inputs!$C$55,D93<=Inputs!$C$56),AND(D93>=Inputs!$D$55,D93<=Inputs!$D$56),AND(D93>=Inputs!$E$55,D93<=Inputs!$E$56),AND(D93>=Inputs!$F$55,D93<=Inputs!$F$56),AND(D93>=Inputs!$G$55,D93<=Inputs!$G$56),AND(D93>=Inputs!$H$55,D93<=Inputs!$H$56),IFERROR(AND(D93>=0,D93<=Inputs!$H$56-168),FALSE))","v":false},{"$f":"OR(AND(D93>=Inputs!$I$65,D93<=Inputs!$I$66),AND(D93>=Inputs!$C$65,D93<=Inputs!$C$66),AND(D93>=Inputs!$D$65,D93<=Inputs!$D$66),AND(D93>=Inputs!$E$65,D93<=Inputs!$E$66),AND(D93>=Inputs!$F$65,D93<=Inputs!$F$66),AND(D93>=Inputs!$G$65,D93<=Inputs!$G$66),AND(D93>=Inputs!$H$65,D93<=Inputs!$H$66),IFERROR(AND(D93>=0,D93<=Inputs!$H$66-168),FALSE))","v":false},{"$f":"OR(AND(D93>=Inputs!$I$75,D93<=Inputs!$I$76),AND(D93>=Inputs!$C$75,D93<=Inputs!$C$76),AND(D93>=Inputs!$D$75,D93<=Inputs!$D$76),AND(D93>=Inputs!$E$75,D93<=Inputs!$E$76),AND(D93>=Inputs!$F$75,D93<=Inputs!$F$76),AND(D93>=Inputs!$G$75,D93<=Inputs!$G$76),AND(D93>=Inputs!$H$75,D93<=Inputs!$H$76),IFERROR(AND(D93>=0,D93<=Inputs!$H$76-168),FALSE))","v":false},0,0]
[null,"Sunday","08:00:00",8,{"$f":"OR(AND(D94>=Inputs!$I$45,D94<=Inputs!$I$46),AND(D94>=Inputs!$C$45,D94<=Inputs!$C$46),AND(D94>=Inputs!$D$45,D94<=Inputs!$D$46),AND(D94>=Inputs!$E$45,D94<=Inputs!$E$46),AND(D94>=Inputs!$F$45,D94<=Inputs!$F$46),AND(D94>=Inputs!$G$45,D94<=Inputs!$G$46),AND(D94>=Inputs!$H$45,D94<=Inputs!$H$46),IFERROR(AND(D94>=0,D94<=Inputs!$H$46-168),FALSE))","v":false},{"$f":"OR(AND(D94>=Inputs!$I$55,D94<=Inputs!$I$56),AND(D94>=Inputs!$C$55,D94<=Inputs!$C$56),AND(D94>=Inputs!$D$55,D94<=Inputs!$D$56),AND(D94>=Inputs!$E$55,D94<=Inputs!$E$56),AND(D94>=Inputs!$F$55,D94<=Inputs!$F$56),AND(D94>=Inputs!$G$55,D94<=Inputs!$G$56),AND(D94>=Inputs!$H$55,D94<=Inputs!$H$56),IFERROR(AND(D94>=0,D94<=Inputs!$H$56-168),FALSE))","v":false},{"$f":"OR(AND(D94>=Inputs!$I$65,D94<=Inputs!$I$66),AND(D94>=Inputs!$C$65,D94<=Inputs!$C$66),AND(D94>=Inputs!$D$65,D94<=Inputs!$D$66),AND(D94>=Inputs!$E$65,D94<=Inputs!$E$66),AND(D94>=Inputs!$F$65,D94<=Inputs!$F$66),AND(D94>=Inputs!$G$65,D94<=Inputs!$G$66),AND(D94>=Inputs!$H$65,D94<=Inputs!$H$66),IFERROR(AND(D94>=0,D94<=Inputs!$H$66-168),FALSE))","v":false},{"$f":"OR(AND(D94>=Inputs!$I$75,D94<=Inputs!$I$76),AND(D94>=Inputs!$C$75,D94<=Inputs!$C$76),AND(D94>=Inputs!$D$75,D94<=Inputs!$D$76),AND(D94>=Inputs!$E$75,D94<=Inputs!$E$76),AND(D94>=Inputs!$F$75,D94<=Inputs!$F$76),AND(D94>=Inputs!$G$75,D94<=Inputs!$G$76),AND(D94>=Inputs!$H$75,D94<=Inputs!$H$76),IFERROR(AND(D94>=0,D94<=Inputs!$H$76-168),FALSE))","v":false},0,0]
[null,"Sunday","09:00:00",9,{"$f":"OR(AND(D95>=Inputs!$I$45,D95<=Inputs!$I$46),AND(D95>=Inputs!$C$45,D95<=Inputs!$C$46),AND(D95>=Inputs!$D$45,D95<=Inputs!$D$46),AND(D95>=Inputs!$E$45,D95<=Inputs!$E$46),AND(D95>=Inputs!$F$45,D95<=Inputs!$F$46),AND(D95>=Inputs!$G$45,D95<=Inputs!$G$46),AND(D95>=Inputs!$H$45,D95<=Inputs!$H$46),IFERROR(AND(D95>=0,D95<=Inputs!$H$46-168),FALSE))","v":false},{"$f":"OR(AND(D95>=Inputs!$I$55,D95<=Inputs!$I$56),AND(D95>=Inputs!$C$55,D95<=Inputs!$C$56),AND(D95>=Inputs!$D$55,D95<=Inputs!$D$56),AND(D95>=Inputs!$E$55,D95<=Inputs!$E$56),AND(D95>=Inputs!$F$55,D95<=Inputs!$F$56),AND(D95>=Inputs!$G$55,D95<=Inputs!$G$56),AND(D95>=Inputs!$H$55,D95<=Inputs!$H$56),IFERROR(AND(D95>=0,D95<=Inputs!$H$56-168),FALSE))","v":false},{"$f":"OR(AND(D95>=Inputs!$I$65,D95<=Inputs!$I$66),AND(D95>=Inputs!$C$65,D95<=Inputs!$C$66),AND(D95>=Inputs!$D$65,D95<=Inputs!$D$66),AND(D95>=Inputs!$E$65,D95<=Inputs!$E$66),AND(D95>=Inputs!$F$65,D95<=Inputs!$F$66),AND(D95>=Inputs!$G$65,D95<=Inputs!$G$66),AND(D95>=Inputs!$H$65,D95<=Inputs!$H$66),IFERROR(AND(D95>=0,D95<=Inputs!$H$66-168),FALSE))","v":false},{"$f":"OR(AND(D95>=Inputs!$I$75,D95<=Inputs!$I$76),AND(D95>=Inputs!$C$75,D95<=Inputs!$C$76),AND(D95>=Inputs!$D$75,D95<=Inputs!$D$76),AND(D95>=Inputs!$E$75,D95<=Inputs!$E$76),AND(D95>=Inputs!$F$75,D95<=Inputs!$F$76),AND(D95>=Inputs!$G$75,D95<=Inputs!$G$76),AND(D95>=Inputs!$H$75,D95<=Inputs!$H$76),IFERROR(AND(D95>=0,D95<=Inputs!$H$76-168),FALSE))","v":false},0,0]
[null,"Sunday","10:00:00",10,{"$f":"OR(AND(D96>=Inputs!$I$45,D96<=Inputs!$I$46),AND(D96>=Inputs!$C$45,D96<=Inputs!$C$46),AND(D96>=Inputs!$D$45,D96<=Inputs!$D$46),AND(D96>=Inputs!$E$45,D96<=Inputs!$E$46),AND(D96>=Inputs!$F$45,D96<=Inputs!$F$46),AND(D96>=Inputs!$G$45,D96<=Inputs!$G$46),AND(D96>=Inputs!$H$45,D96<=Inputs!$H$46),IFERROR(AND(D96>=0,D96<=Inputs!$H$46-168),FALSE))","v":false},{"$f":"OR(AND(D96>=Inputs!$I$55,D96<=Inputs!$I$56),AND(D96>=Inputs!$C$55,D96<=Inputs!$C$56),AND(D96>=Inputs!$D$55,D96<=Inputs!$D$56),AND(D96>=Inputs!$E$55,D96<=Inputs!$E$56),AND(D96>=Inputs!$F$55,D96<=Inputs!$F$56),AND(D96>=Inputs!$G$55,D96<=Inputs!$G$56),AND(D96>=Inputs!$H$55,D96<=Inputs!$H$56),IFERROR(AND(D96>=0,D96<=Inputs!$H$56-168),FALSE))","v":false},{"$f":"OR(AND(D96>=Inputs!$I$65,D96<=Inputs!$I$66),AND(D96>=Inputs!$C$65,D96<=Inputs!$C$66),AND(D96>=Inputs!$D$65,D96<=Inputs!$D$66),AND(D96>=Inputs!$E$65,D96<=Inputs!$E$66),AND(D96>=Inputs!$F$65,D96<=Inputs!$F$66),AND(D96>=Inputs!$G$65,D96<=Inputs!$G$66),AND(D96>=Inputs!$H$65,D96<=Inputs!$H$66),IFERROR(AND(D96>=0,D96<=Inputs!$H$66-168),FALSE))","v":false},{"$f":"OR(AND(D96>=Inputs!$I$75,D96<=Inputs!$I$76),AND(D96>=Inputs!$C$75,D96<=Inputs!$C$76),AND(D96>=Inputs!$D$75,D96<=Inputs!$D$76),AND(D96>=Inputs!$E$75,D96<=Inputs!$E$76),AND(D96>=Inputs!$F$75,D96<=Inputs!$F$76),AND(D96>=Inputs!$G$75,D96<=Inputs!$G$76),AND(D96>=Inputs!$H$75,D96<=Inputs!$H$76),IFERROR(AND(D96>=0,D96<=Inputs!$H$76-168),FALSE))","v":false},0,0]
[null,"Sunday","11:00:00",11,{"$f":"OR(AND(D97>=Inputs!$I$45,D97<=Inputs!$I$46),AND(D97>=Inputs!$C$45,D97<=Inputs!$C$46),AND(D97>=Inputs!$D$45,D97<=Inputs!$D$46),AND(D97>=Inputs!$E$45,D97<=Inputs!$E$46),AND(D97>=Inputs!$F$45,D97<=Inputs!$F$46),AND(D97>=Inputs!$G$45,D97<=Inputs!$G$46),AND(D97>=Inputs!$H$45,D97<=Inputs!$H$46),IFERROR(AND(D97>=0,D97<=Inputs!$H$46-168),FALSE))","v":false},{"$f":"OR(AND(D97>=Inputs!$I$55,D97<=Inputs!$I$56),AND(D97>=Inputs!$C$55,D97<=Inputs!$C$56),AND(D97>=Inputs!$D$55,D97<=Inputs!$D$56),AND(D97>=Inputs!$E$55,D97<=Inputs!$E$56),AND(D97>=Inputs!$F$55,D97<=Inputs!$F$56),AND(D97>=Inputs!$G$55,D97<=Inputs!$G$56),AND(D97>=Inputs!$H$55,D97<=Inputs!$H$56),IFERROR(AND(D97>=0,D97<=Inputs!$H$56-168),FALSE))","v":false},{"$f":"OR(AND(D97>=Inputs!$I$65,D97<=Inputs!$I$66),AND(D97>=Inputs!$C$65,D97<=Inputs!$C$66),AND(D97>=Inputs!$D$65,D97<=Inputs!$D$66),AND(D97>=Inputs!$E$65,D97<=Inputs!$E$66),AND(D97>=Inputs!$F$65,D97<=Inputs!$F$66),AND(D97>=Inputs!$G$65,D97<=Inputs!$G$66),AND(D97>=Inputs!$H$65,D97<=Inputs!$H$66),IFERROR(AND(D97>=0,D97<=Inputs!$H$66-168),FALSE))","v":false},{"$f":"OR(AND(D97>=Inputs!$I$75,D97<=Inputs!$I$76),AND(D97>=Inputs!$C$75,D97<=Inputs!$C$76),AND(D97>=Inputs!$D$75,D97<=Inputs!$D$76),AND(D97>=Inputs!$E$75,D97<=Inputs!$E$76),AND(D97>=Inputs!$F$75,D97<=Inputs!$F$76),AND(D97>=Inputs!$G$75,D97<=Inputs!$G$76),AND(D97>=Inputs!$H$75,D97<=Inputs!$H$76),IFERROR(AND(D97>=0,D97<=Inputs!$H$76-168),FALSE))","v":false},0,0]
[null,"Sunday","12:00:00",12,{"$f":"OR(AND(D98>=Inputs!$I$45,D98<=Inputs!$I$46),AND(D98>=Inputs!$C$45,D98<=Inputs!$C$46),AND(D98>=Inputs!$D$45,D98<=Inputs!$D$46),AND(D98>=Inputs!$E$45,D98<=Inputs!$E$46),AND(D98>=Inputs!$F$45,D98<=Inputs!$F$46),AND(D98>=Inputs!$G$45,D98<=Inputs!$G$46),AND(D98>=Inputs!$H$45,D98<=Inputs!$H$46),IFERROR(AND(D98>=0,D98<=Inputs!$H$46-168),FALSE))","v":false},{"$f":"OR(AND(D98>=Inputs!$I$55,D98<=Inputs!$I$56),AND(D98>=Inputs!$C$55,D98<=Inputs!$C$56),AND(D98>=Inputs!$D$55,D98<=Inputs!$D$56),AND(D98>=Inputs!$E$55,D98<=Inputs!$E$56),AND(D98>=Inputs!$F$55,D98<=Inputs!$F$56),AND(D98>=Inputs!$G$55,D98<=Inputs!$G$56),AND(D98>=Inputs!$H$55,D98<=Inputs!$H$56),IFERROR(AND(D98>=0,D98<=Inputs!$H$56-168),FALSE))","v":false},{"$f":"OR(AND(D98>=Inputs!$I$65,D98<=Inputs!$I$66),AND(D98>=Inputs!$C$65,D98<=Inputs!$C$66),AND(D98>=Inputs!$D$65,D98<=Inputs!$D$66),AND(D98>=Inputs!$E$65,D98<=Inputs!$E$66),AND(D98>=Inputs!$F$65,D98<=Inputs!$F$66),AND(D98>=Inputs!$G$65,D98<=Inputs!$G$66),AND(D98>=Inputs!$H$65,D98<=Inputs!$H$66),IFERROR(AND(D98>=0,D98<=Inputs!$H$66-168),FALSE))","v":false},{"$f":"OR(AND(D98>=Inputs!$I$75,D98<=Inputs!$I$76),AND(D98>=Inputs!$C$75,D98<=Inputs!$C$76),AND(D98>=Inputs!$D$75,D98<=Inputs!$D$76),AND(D98>=Inputs!$E$75,D98<=Inputs!$E$76),AND(D98>=Inputs!$F$75,D98<=Inputs!$F$76),AND(D98>=Inputs!$G$75,D98<=Inputs!$G$76),AND(D98>=Inputs!$H$75,D98<=Inputs!$H$76),IFERROR(AND(D98>=0,D98<=Inputs!$H$76-168),FALSE))","v":false},0,0]
[null,"Sunday","13:00:00",13,{"$f":"OR(AND(D99>=Inputs!$I$45,D99<=Inputs!$I$46),AND(D99>=Inputs!$C$45,D99<=Inputs!$C$46),AND(D99>=Inputs!$D$45,D99<=Inputs!$D$46),AND(D99>=Inputs!$E$45,D99<=Inputs!$E$46),AND(D99>=Inputs!$F$45,D99<=Inputs!$F$46),AND(D99>=Inputs!$G$45,D99<=Inputs!$G$46),AND(D99>=Inputs!$H$45,D99<=Inputs!$H$46),IFERROR(AND(D99>=0,D99<=Inputs!$H$46-168),FALSE))","v":false},{"$f":"OR(AND(D99>=Inputs!$I$55,D99<=Inputs!$I$56),AND(D99>=Inputs!$C$55,D99<=Inputs!$C$56),AND(D99>=Inputs!$D$55,D99<=Inputs!$D$56),AND(D99>=Inputs!$E$55,D99<=Inputs!$E$56),AND(D99>=Inputs!$F$55,D99<=Inputs!$F$56),AND(D99>=Inputs!$G$55,D99<=Inputs!$G$56),AND(D99>=Inputs!$H$55,D99<=Inputs!$H$56),IFERROR(AND(D99>=0,D99<=Inputs!$H$56-168),FALSE))","v":false},{"$f":"OR(AND(D99>=Inputs!$I$65,D99<=Inputs!$I$66),AND(D99>=Inputs!$C$65,D99<=Inputs!$C$66),AND(D99>=Inputs!$D$65,D99<=Inputs!$D$66),AND(D99>=Inputs!$E$65,D99<=Inputs!$E$66),AND(D99>=Inputs!$F$65,D99<=Inputs!$F$66),AND(D99>=Inputs!$G$65,D99<=Inputs!$G$66),AND(D99>=Inputs!$H$65,D99<=Inputs!$H$66),IFERROR(AND(D99>=0,D99<=Inputs!$H$66-168),FALSE))","v":false},{"$f":"OR(AND(D99>=Inputs!$I$75,D99<=Inputs!$I$76),AND(D99>=Inputs!$C$75,D99<=Inputs!$C$76),AND(D99>=Inputs!$D$75,D99<=Inputs!$D$76),AND(D99>=Inputs!$E$75,D99<=Inputs!$E$76),AND(D99>=Inputs!$F$75,D99<=Inputs!$F$76),AND(D99>=Inputs!$G$75,D99<=Inputs!$G$76),AND(D99>=Inputs!$H$75,D99<=Inputs!$H$76),IFERROR(AND(D99>=0,D99<=Inputs!$H$76-168),FALSE))","v":false},0,0]
[null,"Sunday","14:00:00",14,{"$f":"OR(AND(D100>=Inputs!$I$45,D100<=Inputs!$I$46),AND(D100>=Inputs!$C$45,D100<=Inputs!$C$46),AND(D100>=Inputs!$D$45,D100<=Inputs!$D$46),AND(D100>=Inputs!$E$45,D100<=Inputs!$E$46),AND(D100>=Inputs!$F$45,D100<=Inputs!$F$46),AND(D100>=Inputs!$G$45,D100<=Inputs!$G$46),AND(D100>=Inputs!$H$45,D100<=Inputs!$H$46),IFERROR(AND(D100>=0,D100<=Inputs!$H$46-168),FALSE))","v":false},{"$f":"OR(AND(D100>=Inputs!$I$55,D100<=Inputs!$I$56),AND(D100>=Inputs!$C$55,D100<=Inputs!$C$56),AND(D100>=Inputs!$D$55,D100<=Inputs!$D$56),AND(D100>=Inputs!$E$55,D100<=Inputs!$E$56),AND(D100>=Inputs!$F$55,D100<=Inputs!$F$56),AND(D100>=Inputs!$G$55,D100<=Inputs!$G$56),AND(D100>=Inputs!$H$55,D100<=Inputs!$H$56),IFERROR(AND(D100>=0,D100<=Inputs!$H$56-168),FALSE))","v":false},{"$f":"OR(AND(D100>=Inputs!$I$65,D100<=Inputs!$I$66),AND(D100>=Inputs!$C$65,D100<=Inputs!$C$66),AND(D100>=Inputs!$D$65,D100<=Inputs!$D$66),AND(D100>=Inputs!$E$65,D100<=Inputs!$E$66),AND(D100>=Inputs!$F$65,D100<=Inputs!$F$66),AND(D100>=Inputs!$G$65,D100<=Inputs!$G$66),AND(D100>=Inputs!$H$65,D100<=Inputs!$H$66),IFERROR(AND(D100>=0,D100<=Inputs!$H$66-168),FALSE))","v":false},{"$f":"OR(AND(D100>=Inputs!$I$75,D100<=Inputs!$I$76),AND(D100>=Inputs!$C$75,D100<=Inputs!$C$76),AND(D100>=Inputs!$D$75,D100<=Inputs!$D$76),AND(D100>=Inputs!$E$75,D100<=Inputs!$E$76),AND(D100>=Inputs!$F$75,D100<=Inputs!$F$76),AND(D100>=Inputs!$G$75,D100<=Inputs!$G$76),AND(D100>=Inputs!$H$75,D100<=Inputs!$H$76),IFERROR(AND(D100>=0,D100<=Inputs!$H$76-168),FALSE))","v":false},0,0]
[null,"Sunday","15:00:00",15,{"$f":"OR(AND(D101>=Inputs!$I$45,D101<=Inputs!$I$46),AND(D101>=Inputs!$C$45,D101<=Inputs!$C$46),AND(D101>=Inputs!$D$45,D101<=Inputs!$D$46),AND(D101>=Inputs!$E$45,D101<=Inputs!$E$46),AND(D101>=Inputs!$F$45,D101<=Inputs!$F$46),AND(D101>=Inputs!$G$45,D101<=Inputs!$G$46),AND(D101>=Inputs!$H$45,D101<=Inputs!$H$46),IFERROR(AND(D101>=0,D101<=Inputs!$H$46-168),FALSE))","v":false},{"$f":"OR(AND(D101>=Inputs!$I$55,D101<=Inputs!$I$56),AND(D101>=Inputs!$C$55,D101<=Inputs!$C$56),AND(D101>=Inputs!$D$55,D101<=Inputs!$D$56),AND(D101>=Inputs!$E$55,D101<=Inputs!$E$56),AND(D101>=Inputs!$F$55,D101<=Inputs!$F$56),AND(D101>=Inputs!$G$55,D101<=Inputs!$G$56),AND(D101>=Inputs!$H$55,D101<=Inputs!$H$56),IFERROR(AND(D101>=0,D101<=Inputs!$H$56-168),FALSE))","v":false},{"$f":"OR(AND(D101>=Inputs!$I$65,D101<=Inputs!$I$66),AND(D101>=Inputs!$C$65,D101<=Inputs!$C$66),AND(D101>=Inputs!$D$65,D101<=Inputs!$D$66),AND(D101>=Inputs!$E$65,D101<=Inputs!$E$66),AND(D101>=Inputs!$F$65,D101<=Inputs!$F$66),AND(D101>=Inputs!$G$65,D101<=Inputs!$G$66),AND(D101>=Inputs!$H$65,D101<=Inputs!$H$66),IFERROR(AND(D101>=0,D101<=Inputs!$H$66-168),FALSE))","v":false},{"$f":"OR(AND(D101>=Inputs!$I$75,D101<=Inputs!$I$76),AND(D101>=Inputs!$C$75,D101<=Inputs!$C$76),AND(D101>=Inputs!$D$75,D101<=Inputs!$D$76),AND(D101>=Inputs!$E$75,D101<=Inputs!$E$76),AND(D101>=Inputs!$F$75,D101<=Inputs!$F$76),AND(D101>=Inputs!$G$75,D101<=Inputs!$G$76),AND(D101>=Inputs!$H$75,D101<=Inputs!$H$76),IFERROR(AND(D101>=0,D101<=Inputs!$H$76-168),FALSE))","v":false},0,0]
[null,"Sunday","16:00:00",16,{"$f":"OR(AND(D102>=Inputs!$I$45,D102<=Inputs!$I$46),AND(D102>=Inputs!$C$45,D102<=Inputs!$C$46),AND(D102>=Inputs!$D$45,D102<=Inputs!$D$46),AND(D102>=Inputs!$E$45,D102<=Inputs!$E$46),AND(D102>=Inputs!$F$45,D102<=Inputs!$F$46),AND(D102>=Inputs!$G$45,D102<=Inputs!$G$46),AND(D102>=Inputs!$H$45,D102<=Inputs!$H$46),IFERROR(AND(D102>=0,D102<=Inputs!$H$46-168),FALSE))","v":false},{"$f":"OR(AND(D102>=Inputs!$I$55,D102<=Inputs!$I$56),AND(D102>=Inputs!$C$55,D102<=Inputs!$C$56),AND(D102>=Inputs!$D$55,D102<=Inputs!$D$56),AND(D102>=Inputs!$E$55,D102<=Inputs!$E$56),AND(D102>=Inputs!$F$55,D102<=Inputs!$F$56),AND(D102>=Inputs!$G$55,D102<=Inputs!$G$56),AND(D102>=Inputs!$H$55,D102<=Inputs!$H$56),IFERROR(AND(D102>=0,D102<=Inputs!$H$56-168),FALSE))","v":false},{"$f":"OR(AND(D102>=Inputs!$I$65,D102<=Inputs!$I$66),AND(D102>=Inputs!$C$65,D102<=Inputs!$C$66),AND(D102>=Inputs!$D$65,D102<=Inputs!$D$66),AND(D102>=Inputs!$E$65,D102<=Inputs!$E$66),AND(D102>=Inputs!$F$65,D102<=Inputs!$F$66),AND(D102>=Inputs!$G$65,D102<=Inputs!$G$66),AND(D102>=Inputs!$H$65,D102<=Inputs!$H$66),IFERROR(AND(D102>=0,D102<=Inputs!$H$66-168),FALSE))","v":false},{"$f":"OR(AND(D102>=Inputs!$I$75,D102<=Inputs!$I$76),AND(D102>=Inputs!$C$75,D102<=Inputs!$C$76),AND(D102>=Inputs!$D$75,D102<=Inputs!$D$76),AND(D102>=Inputs!$E$75,D102<=Inputs!$E$76),AND(D102>=Inputs!$F$75,D102<=Inputs!$F$76),AND(D102>=Inputs!$G$75,D102<=Inputs!$G$76),AND(D102>=Inputs!$H$75,D102<=Inputs!$H$76),IFERROR(AND(D102>=0,D102<=Inputs!$H$76-168),FALSE))","v":false},0,0]
[null,"Sunday","17:00:00",17,{"$f":"OR(AND(D103>=Inputs!$I$45,D103<=Inputs!$I$46),AND(D103>=Inputs!$C$45,D103<=Inputs!$C$46),AND(D103>=Inputs!$D$45,D103<=Inputs!$D$46),AND(D103>=Inputs!$E$45,D103<=Inputs!$E$46),AND(D103>=Inputs!$F$45,D103<=Inputs!$F$46),AND(D103>=Inputs!$G$45,D103<=Inputs!$G$46),AND(D103>=Inputs!$H$45,D103<=Inputs!$H$46),IFERROR(AND(D103>=0,D103<=Inputs!$H$46-168),FALSE))","v":false},{"$f":"OR(AND(D103>=Inputs!$I$55,D103<=Inputs!$I$56),AND(D103>=Inputs!$C$55,D103<=Inputs!$C$56),AND(D103>=Inputs!$D$55,D103<=Inputs!$D$56),AND(D103>=Inputs!$E$55,D103<=Inputs!$E$56),AND(D103>=Inputs!$F$55,D103<=Inputs!$F$56),AND(D103>=Inputs!$G$55,D103<=Inputs!$G$56),AND(D103>=Inputs!$H$55,D103<=Inputs!$H$56),IFERROR(AND(D103>=0,D103<=Inputs!$H$56-168),FALSE))","v":false},{"$f":"OR(AND(D103>=Inputs!$I$65,D103<=Inputs!$I$66),AND(D103>=Inputs!$C$65,D103<=Inputs!$C$66),AND(D103>=Inputs!$D$65,D103<=Inputs!$D$66),AND(D103>=Inputs!$E$65,D103<=Inputs!$E$66),AND(D103>=Inputs!$F$65,D103<=Inputs!$F$66),AND(D103>=Inputs!$G$65,D103<=Inputs!$G$66),AND(D103>=Inputs!$H$65,D103<=Inputs!$H$66),IFERROR(AND(D103>=0,D103<=Inputs!$H$66-168),FALSE))","v":false},{"$f":"OR(AND(D103>=Inputs!$I$75,D103<=Inputs!$I$76),AND(D103>=Inputs!$C$75,D103<=Inputs!$C$76),AND(D103>=Inputs!$D$75,D103<=Inputs!$D$76),AND(D103>=Inputs!$E$75,D103<=Inputs!$E$76),AND(D103>=Inputs!$F$75,D103<=Inputs!$F$76),AND(D103>=Inputs!$G$75,D103<=Inputs!$G$76),AND(D103>=Inputs!$H$75,D103<=Inputs!$H$76),IFERROR(AND(D103>=0,D103<=Inputs!$H$76-168),FALSE))","v":false},0,0]
[null,"Sunday","18:00:00",18,{"$f":"OR(AND(D104>=Inputs!$I$45,D104<=Inputs!$I$46),AND(D104>=Inputs!$C$45,D104<=Inputs!$C$46),AND(D104>=Inputs!$D$45,D104<=Inputs!$D$46),AND(D104>=Inputs!$E$45,D104<=Inputs!$E$46),AND(D104>=Inputs!$F$45,D104<=Inputs!$F$46),AND(D104>=Inputs!$G$45,D104<=Inputs!$G$46),AND(D104>=Inputs!$H$45,D104<=Inputs!$H$46),IFERROR(AND(D104>=0,D104<=Inputs!$H$46-168),FALSE))","v":false},{"$f":"OR(AND(D104>=Inputs!$I$55,D104<=Inputs!$I$56),AND(D104>=Inputs!$C$55,D104<=Inputs!$C$56),AND(D104>=Inputs!$D$55,D104<=Inputs!$D$56),AND(D104>=Inputs!$E$55,D104<=Inputs!$E$56),AND(D104>=Inputs!$F$55,D104<=Inputs!$F$56),AND(D104>=Inputs!$G$55,D104<=Inputs!$G$56),AND(D104>=Inputs!$H$55,D104<=Inputs!$H$56),IFERROR(AND(D104>=0,D104<=Inputs!$H$56-168),FALSE))","v":false},{"$f":"OR(AND(D104>=Inputs!$I$65,D104<=Inputs!$I$66),AND(D104>=Inputs!$C$65,D104<=Inputs!$C$66),AND(D104>=Inputs!$D$65,D104<=Inputs!$D$66),AND(D104>=Inputs!$E$65,D104<=Inputs!$E$66),AND(D104>=Inputs!$F$65,D104<=Inputs!$F$66),AND(D104>=Inputs!$G$65,D104<=Inputs!$G$66),AND(D104>=Inputs!$H$65,D104<=Inputs!$H$66),IFERROR(AND(D104>=0,D104<=Inputs!$H$66-168),FALSE))","v":false},{"$f":"OR(AND(D104>=Inputs!$I$75,D104<=Inputs!$I$76),AND(D104>=Inputs!$C$75,D104<=Inputs!$C$76),AND(D104>=Inputs!$D$75,D104<=Inputs!$D$76),AND(D104>=Inputs!$E$75,D104<=Inputs!$E$76),AND(D104>=Inputs!$F$75,D104<=Inputs!$F$76),AND(D104>=Inputs!$G$75,D104<=Inputs!$G$76),AND(D104>=Inputs!$H$75,D104<=Inputs!$H$76),IFERROR(AND(D104>=0,D104<=Inputs!$H$76-168),FALSE))","v":false},0,0]
[null,"Sunday","19:00:00",19,{"$f":"OR(AND(D105>=Inputs!$I$45,D105<=Inputs!$I$46),AND(D105>=Inputs!$C$45,D105<=Inputs!$C$46),AND(D105>=Inputs!$D$45,D105<=Inputs!$D$46),AND(D105>=Inputs!$E$45,D105<=Inputs!$E$46),AND(D105>=Inputs!$F$45,D105<=Inputs!$F$46),AND(D105>=Inputs!$G$45,D105<=Inputs!$G$46),AND(D105>=Inputs!$H$45,D105<=Inputs!$H$46),IFERROR(AND(D105>=0,D105<=Inputs!$H$46-168),FALSE))","v":false},{"$f":"OR(AND(D105>=Inputs!$I$55,D105<=Inputs!$I$56),AND(D105>=Inputs!$C$55,D105<=Inputs!$C$56),AND(D105>=Inputs!$D$55,D105<=Inputs!$D$56),AND(D105>=Inputs!$E$55,D105<=Inputs!$E$56),AND(D105>=Inputs!$F$55,D105<=Inputs!$F$56),AND(D105>=Inputs!$G$55,D105<=Inputs!$G$56),AND(D105>=Inputs!$H$55,D105<=Inputs!$H$56),IFERROR(AND(D105>=0,D105<=Inputs!$H$56-168),FALSE))","v":false},{"$f":"OR(AND(D105>=Inputs!$I$65,D105<=Inputs!$I$66),AND(D105>=Inputs!$C$65,D105<=Inputs!$C$66),AND(D105>=Inputs!$D$65,D105<=Inputs!$D$66),AND(D105>=Inputs!$E$65,D105<=Inputs!$E$66),AND(D105>=Inputs!$F$65,D105<=Inputs!$F$66),AND(D105>=Inputs!$G$65,D105<=Inputs!$G$66),AND(D105>=Inputs!$H$65,D105<=Inputs!$H$66),IFERROR(AND(D105>=0,D105<=Inputs!$H$66-168),FALSE))","v":false},{"$f":"OR(AND(D105>=Inputs!$I$75,D105<=Inputs!$I$76),AND(D105>=Inputs!$C$75,D105<=Inputs!$C$76),AND(D105>=Inputs!$D$75,D105<=Inputs!$D$76),AND(D105>=Inputs!$E$75,D105<=Inputs!$E$76),AND(D105>=Inputs!$F$75,D105<=Inputs!$F$76),AND(D105>=Inputs!$G$75,D105<=Inputs!$G$76),AND(D105>=Inputs!$H$75,D105<=Inputs!$H$76),IFERROR(AND(D105>=0,D105<=Inputs!$H$76-168),FALSE))","v":false},0,0]
[null,"Sunday","20:00:00",20,{"$f":"OR(AND(D106>=Inputs!$I$45,D106<=Inputs!$I$46),AND(D106>=Inputs!$C$45,D106<=Inputs!$C$46),AND(D106>=Inputs!$D$45,D106<=Inputs!$D$46),AND(D106>=Inputs!$E$45,D106<=Inputs!$E$46),AND(D106>=Inputs!$F$45,D106<=Inputs!$F$46),AND(D106>=Inputs!$G$45,D106<=Inputs!$G$46),AND(D106>=Inputs!$H$45,D106<=Inputs!$H$46),IFERROR(AND(D106>=0,D106<=Inputs!$H$46-168),FALSE))","v":false},{"$f":"OR(AND(D106>=Inputs!$I$55,D106<=Inputs!$I$56),AND(D106>=Inputs!$C$55,D106<=Inputs!$C$56),AND(D106>=Inputs!$D$55,D106<=Inputs!$D$56),AND(D106>=Inputs!$E$55,D106<=Inputs!$E$56),AND(D106>=Inputs!$F$55,D106<=Inputs!$F$56),AND(D106>=Inputs!$G$55,D106<=Inputs!$G$56),AND(D106>=Inputs!$H$55,D106<=Inputs!$H$56),IFERROR(AND(D106>=0,D106<=Inputs!$H$56-168),FALSE))","v":false},{"$f":"OR(AND(D106>=Inputs!$I$65,D106<=Inputs!$I$66),AND(D106>=Inputs!$C$65,D106<=Inputs!$C$66),AND(D106>=Inputs!$D$65,D106<=Inputs!$D$66),AND(D106>=Inputs!$E$65,D106<=Inputs!$E$66),AND(D106>=Inputs!$F$65,D106<=Inputs!$F$66),AND(D106>=Inputs!$G$65,D106<=Inputs!$G$66),AND(D106>=Inputs!$H$65,D106<=Inputs!$H$66),IFERROR(AND(D106>=0,D106<=Inputs!$H$66-168),FALSE))","v":false},{"$f":"OR(AND(D106>=Inputs!$I$75,D106<=Inputs!$I$76),AND(D106>=Inputs!$C$75,D106<=Inputs!$C$76),AND(D106>=Inputs!$D$75,D106<=Inputs!$D$76),AND(D106>=Inputs!$E$75,D106<=Inputs!$E$76),AND(D106>=Inputs!$F$75,D106<=Inputs!$F$76),AND(D106>=Inputs!$G$75,D106<=Inputs!$G$76),AND(D106>=Inputs!$H$75,D106<=Inputs!$H$76),IFERROR(AND(D106>=0,D106<=Inputs!$H$76-168),FALSE))","v":false},0,0]
[null,"Sunday","21:00:00",21,{"$f":"OR(AND(D107>=Inputs!$I$45,D107<=Inputs!$I$46),AND(D107>=Inputs!$C$45,D107<=Inputs!$C$46),AND(D107>=Inputs!$D$45,D107<=Inputs!$D$46),AND(D107>=Inputs!$E$45,D107<=Inputs!$E$46),AND(D107>=Inputs!$F$45,D107<=Inputs!$F$46),AND(D107>=Inputs!$G$45,D107<=Inputs!$G$46),AND(D107>=Inputs!$H$45,D107<=Inputs!$H$46),IFERROR(AND(D107>=0,D107<=Inputs!$H$46-168),FALSE))","v":false},{"$f":"OR(AND(D107>=Inputs!$I$55,D107<=Inputs!$I$56),AND(D107>=Inputs!$C$55,D107<=Inputs!$C$56),AND(D107>=Inputs!$D$55,D107<=Inputs!$D$56),AND(D107>=Inputs!$E$55,D107<=Inputs!$E$56),AND(D107>=Inputs!$F$55,D107<=Inputs!$F$56),AND(D107>=Inputs!$G$55,D107<=Inputs!$G$56),AND(D107>=Inputs!$H$55,D107<=Inputs!$H$56),IFERROR(AND(D107>=0,D107<=Inputs!$H$56-168),FALSE))","v":false},{"$f":"OR(AND(D107>=Inputs!$I$65,D107<=Inputs!$I$66),AND(D107>=Inputs!$C$65,D107<=Inputs!$C$66),AND(D107>=Inputs!$D$65,D107<=Inputs!$D$66),AND(D107>=Inputs!$E$65,D107<=Inputs!$E$66),AND(D107>=Inputs!$F$65,D107<=Inputs!$F$66),AND(D107>=Inputs!$G$65,D107<=Inputs!$G$66),AND(D107>=Inputs!$H$65,D107<=Inputs!$H$66),IFERROR(AND(D107>=0,D107<=Inputs!$H$66-168),FALSE))","v":false},{"$f":"OR(AND(D107>=Inputs!$I$75,D107<=Inputs!$I$76),AND(D107>=Inputs!$C$75,D107<=Inputs!$C$76),AND(D107>=Inputs!$D$75,D107<=Inputs!$D$76),AND(D107>=Inputs!$E$75,D107<=Inputs!$E$76),AND(D107>=Inputs!$F$75,D107<=Inputs!$F$76),AND(D107>=Inputs!$G$75,D107<=Inputs!$G$76),AND(D107>=Inputs!$H$75,D107<=Inputs!$H$76),IFERROR(AND(D107>=0,D107<=Inputs!$H$76-168),FALSE))","v":false},0,0]
[null,"Sunday","22:00:00",22,{"$f":"OR(AND(D108>=Inputs!$I$45,D108<=Inputs!$I$46),AND(D108>=Inputs!$C$45,D108<=Inputs!$C$46),AND(D108>=Inputs!$D$45,D108<=Inputs!$D$46),AND(D108>=Inputs!$E$45,D108<=Inputs!$E$46),AND(D108>=Inputs!$F$45,D108<=Inputs!$F$46),AND(D108>=Inputs!$G$45,D108<=Inputs!$G$46),AND(D108>=Inputs!$H$45,D108<=Inputs!$H$46),IFERROR(AND(D108>=0,D108<=Inputs!$H$46-168),FALSE))","v":false},{"$f":"OR(AND(D108>=Inputs!$I$55,D108<=Inputs!$I$56),AND(D108>=Inputs!$C$55,D108<=Inputs!$C$56),AND(D108>=Inputs!$D$55,D108<=Inputs!$D$56),AND(D108>=Inputs!$E$55,D108<=Inputs!$E$56),AND(D108>=Inputs!$F$55,D108<=Inputs!$F$56),AND(D108>=Inputs!$G$55,D108<=Inputs!$G$56),AND(D108>=Inputs!$H$55,D108<=Inputs!$H$56),IFERROR(AND(D108>=0,D108<=Inputs!$H$56-168),FALSE))","v":false},{"$f":"OR(AND(D108>=Inputs!$I$65,D108<=Inputs!$I$66),AND(D108>=Inputs!$C$65,D108<=Inputs!$C$66),AND(D108>=Inputs!$D$65,D108<=Inputs!$D$66),AND(D108>=Inputs!$E$65,D108<=Inputs!$E$66),AND(D108>=Inputs!$F$65,D108<=Inputs!$F$66),AND(D108>=Inputs!$G$65,D108<=Inputs!$G$66),AND(D108>=Inputs!$H$65,D108<=Inputs!$H$66),IFERROR(AND(D108>=0,D108<=Inputs!$H$66-168),FALSE))","v":false},{"$f":"OR(AND(D108>=Inputs!$I$75,D108<=Inputs!$I$76),AND(D108>=Inputs!$C$75,D108<=Inputs!$C$76),AND(D108>=Inputs!$D$75,D108<=Inputs!$D$76),AND(D108>=Inputs!$E$75,D108<=Inputs!$E$76),AND(D108>=Inputs!$F$75,D108<=Inputs!$F$76),AND(D108>=Inputs!$G$75,D108<=Inputs!$G$76),AND(D108>=Inputs!$H$75,D108<=Inputs!$H$76),IFERROR(AND(D108>=0,D108<=Inputs!$H$76-168),FALSE))","v":false},0,0]
[null,"Sunday","23:00:00",23,{"$f":"OR(AND(D109>=Inputs!$I$45,D109<=Inputs!$I$46),AND(D109>=Inputs!$C$45,D109<=Inputs!$C$46),AND(D109>=Inputs!$D$45,D109<=Inputs!$D$46),AND(D109>=Inputs!$E$45,D109<=Inputs!$E$46),AND(D109>=Inputs!$F$45,D109<=Inputs!$F$46),AND(D109>=Inputs!$G$45,D109<=Inputs!$G$46),AND(D109>=Inputs!$H$45,D109<=Inputs!$H$46),IFERROR(AND(D109>=0,D109<=Inputs!$H$46-168),FALSE))","v":false},{"$f":"OR(AND(D109>=Inputs!$I$55,D109<=Inputs!$I$56),AND(D109>=Inputs!$C$55,D109<=Inputs!$C$56),AND(D109>=Inputs!$D$55,D109<=Inputs!$D$56),AND(D109>=Inputs!$E$55,D109<=Inputs!$E$56),AND(D109>=Inputs!$F$55,D109<=Inputs!$F$56),AND(D109>=Inputs!$G$55,D109<=Inputs!$G$56),AND(D109>=Inputs!$H$55,D109<=Inputs!$H$56),IFERROR(AND(D109>=0,D109<=Inputs!$H$56-168),FALSE))","v":false},{"$f":"OR(AND(D109>=Inputs!$I$65,D109<=Inputs!$I$66),AND(D109>=Inputs!$C$65,D109<=Inputs!$C$66),AND(D109>=Inputs!$D$65,D109<=Inputs!$D$66),AND(D109>=Inputs!$E$65,D109<=Inputs!$E$66),AND(D109>=Inputs!$F$65,D109<=Inputs!$F$66),AND(D109>=Inputs!$G$65,D109<=Inputs!$G$66),AND(D109>=Inputs!$H$65,D109<=Inputs!$H$66),IFERROR(AND(D109>=0,D109<=Inputs!$H$66-168),FALSE))","v":false},{"$f":"OR(AND(D109>=Inputs!$I$75,D109<=Inputs!$I$76),AND(D109>=Inputs!$C$75,D109<=Inputs!$C$76),AND(D109>=Inputs!$D$75,D109<=Inputs!$D$76),AND(D109>=Inputs!$E$75,D109<=Inputs!$E$76),AND(D109>=Inputs!$F$75,D109<=Inputs!$F$76),AND(D109>=Inputs!$G$75,D109<=Inputs!$G$76),AND(D109>=Inputs!$H$75,D109<=Inputs!$H$76),IFERROR(AND(D109>=0,D109<=Inputs!$H$76-168),FALSE))","v":false},0,0]
[null,"Monday","00:00:00",24,{"$f":"OR(AND(D110>=Inputs!$I$45,D110<=Inputs!$I$46),AND(D110>=Inputs!$C$45,D110<=Inputs!$C$46),AND(D110>=Inputs!$D$45,D110<=Inputs!$D$46),AND(D110>=Inputs!$E$45,D110<=Inputs!$E$46),AND(D110>=Inputs!$F$45,D110<=Inputs!$F$46),AND(D110>=Inputs!$G$45,D110<=Inputs!$G$46),AND(D110>=Inputs!$H$45,D110<=Inputs!$H$46),IFERROR(AND(D110>=0,D110<=Inputs!$H$46-168),FALSE))","v":false},{"$f":"OR(AND(D110>=Inputs!$I$55,D110<=Inputs!$I$56),AND(D110>=Inputs!$C$55,D110<=Inputs!$C$56),AND(D110>=Inputs!$D$55,D110<=Inputs!$D$56),AND(D110>=Inputs!$E$55,D110<=Inputs!$E$56),AND(D110>=Inputs!$F$55,D110<=Inputs!$F$56),AND(D110>=Inputs!$G$55,D110<=Inputs!$G$56),AND(D110>=Inputs!$H$55,D110<=Inputs!$H$56),IFERROR(AND(D110>=0,D110<=Inputs!$H$56-168),FALSE))","v":false},{"$f":"OR(AND(D110>=Inputs!$I$65,D110<=Inputs!$I$66),AND(D110>=Inputs!$C$65,D110<=Inputs!$C$66),AND(D110>=Inputs!$D$65,D110<=Inputs!$D$66),AND(D110>=Inputs!$E$65,D110<=Inputs!$E$66),AND(D110>=Inputs!$F$65,D110<=Inputs!$F$66),AND(D110>=Inputs!$G$65,D110<=Inputs!$G$66),AND(D110>=Inputs!$H$65,D110<=Inputs!$H$66),IFERROR(AND(D110>=0,D110<=Inputs!$H$66-168),FALSE))","v":false},{"$f":"OR(AND(D110>=Inputs!$I$75,D110<=Inputs!$I$76),AND(D110>=Inputs!$C$75,D110<=Inputs!$C$76),AND(D110>=Inputs!$D$75,D110<=Inputs!$D$76),AND(D110>=Inputs!$E$75,D110<=Inputs!$E$76),AND(D110>=Inputs!$F$75,D110<=Inputs!$F$76),AND(D110>=Inputs!$G$75,D110<=Inputs!$G$76),AND(D110>=Inputs!$H$75,D110<=Inputs!$H$76),IFERROR(AND(D110>=0,D110<=Inputs!$H$76-168),FALSE))","v":false},0,0]
[null,"Monday","01:00:00",25,{"$f":"OR(AND(D111>=Inputs!$I$45,D111<=Inputs!$I$46),AND(D111>=Inputs!$C$45,D111<=Inputs!$C$46),AND(D111>=Inputs!$D$45,D111<=Inputs!$D$46),AND(D111>=Inputs!$E$45,D111<=Inputs!$E$46),AND(D111>=Inputs!$F$45,D111<=Inputs!$F$46),AND(D111>=Inputs!$G$45,D111<=Inputs!$G$46),AND(D111>=Inputs!$H$45,D111<=Inputs!$H$46),IFERROR(AND(D111>=0,D111<=Inputs!$H$46-168),FALSE))","v":false},{"$f":"OR(AND(D111>=Inputs!$I$55,D111<=Inputs!$I$56),AND(D111>=Inputs!$C$55,D111<=Inputs!$C$56),AND(D111>=Inputs!$D$55,D111<=Inputs!$D$56),AND(D111>=Inputs!$E$55,D111<=Inputs!$E$56),AND(D111>=Inputs!$F$55,D111<=Inputs!$F$56),AND(D111>=Inputs!$G$55,D111<=Inputs!$G$56),AND(D111>=Inputs!$H$55,D111<=Inputs!$H$56),IFERROR(AND(D111>=0,D111<=Inputs!$H$56-168),FALSE))","v":false},{"$f":"OR(AND(D111>=Inputs!$I$65,D111<=Inputs!$I$66),AND(D111>=Inputs!$C$65,D111<=Inputs!$C$66),AND(D111>=Inputs!$D$65,D111<=Inputs!$D$66),AND(D111>=Inputs!$E$65,D111<=Inputs!$E$66),AND(D111>=Inputs!$F$65,D111<=Inputs!$F$66),AND(D111>=Inputs!$G$65,D111<=Inputs!$G$66),AND(D111>=Inputs!$H$65,D111<=Inputs!$H$66),IFERROR(AND(D111>=0,D111<=Inputs!$H$66-168),FALSE))","v":false},{"$f":"OR(AND(D111>=Inputs!$I$75,D111<=Inputs!$I$76),AND(D111>=Inputs!$C$75,D111<=Inputs!$C$76),AND(D111>=Inputs!$D$75,D111<=Inputs!$D$76),AND(D111>=Inputs!$E$75,D111<=Inputs!$E$76),AND(D111>=Inputs!$F$75,D111<=Inputs!$F$76),AND(D111>=Inputs!$G$75,D111<=Inputs!$G$76),AND(D111>=Inputs!$H$75,D111<=Inputs!$H$76),IFERROR(AND(D111>=0,D111<=Inputs!$H$76-168),FALSE))","v":false},0,0]
[null,"Monday","02:00:00",26,{"$f":"OR(AND(D112>=Inputs!$I$45,D112<=Inputs!$I$46),AND(D112>=Inputs!$C$45,D112<=Inputs!$C$46),AND(D112>=Inputs!$D$45,D112<=Inputs!$D$46),AND(D112>=Inputs!$E$45,D112<=Inputs!$E$46),AND(D112>=Inputs!$F$45,D112<=Inputs!$F$46),AND(D112>=Inputs!$G$45,D112<=Inputs!$G$46),AND(D112>=Inputs!$H$45,D112<=Inputs!$H$46),IFERROR(AND(D112>=0,D112<=Inputs!$H$46-168),FALSE))","v":false},{"$f":"OR(AND(D112>=Inputs!$I$55,D112<=Inputs!$I$56),AND(D112>=Inputs!$C$55,D112<=Inputs!$C$56),AND(D112>=Inputs!$D$55,D112<=Inputs!$D$56),AND(D112>=Inputs!$E$55,D112<=Inputs!$E$56),AND(D112>=Inputs!$F$55,D112<=Inputs!$F$56),AND(D112>=Inputs!$G$55,D112<=Inputs!$G$56),AND(D112>=Inputs!$H$55,D112<=Inputs!$H$56),IFERROR(AND(D112>=0,D112<=Inputs!$H$56-168),FALSE))","v":false},{"$f":"OR(AND(D112>=Inputs!$I$65,D112<=Inputs!$I$66),AND(D112>=Inputs!$C$65,D112<=Inputs!$C$66),AND(D112>=Inputs!$D$65,D112<=Inputs!$D$66),AND(D112>=Inputs!$E$65,D112<=Inputs!$E$66),AND(D112>=Inputs!$F$65,D112<=Inputs!$F$66),AND(D112>=Inputs!$G$65,D112<=Inputs!$G$66),AND(D112>=Inputs!$H$65,D112<=Inputs!$H$66),IFERROR(AND(D112>=0,D112<=Inputs!$H$66-168),FALSE))","v":false},{"$f":"OR(AND(D112>=Inputs!$I$75,D112<=Inputs!$I$76),AND(D112>=Inputs!$C$75,D112<=Inputs!$C$76),AND(D112>=Inputs!$D$75,D112<=Inputs!$D$76),AND(D112>=Inputs!$E$75,D112<=Inputs!$E$76),AND(D112>=Inputs!$F$75,D112<=Inputs!$F$76),AND(D112>=Inputs!$G$75,D112<=Inputs!$G$76),AND(D112>=Inputs!$H$75,D112<=Inputs!$H$76),IFERROR(AND(D112>=0,D112<=Inputs!$H$76-168),FALSE))","v":false},0,0]
[null,"Monday","03:00:00",27,{"$f":"OR(AND(D113>=Inputs!$I$45,D113<=Inputs!$I$46),AND(D113>=Inputs!$C$45,D113<=Inputs!$C$46),AND(D113>=Inputs!$D$45,D113<=Inputs!$D$46),AND(D113>=Inputs!$E$45,D113<=Inputs!$E$46),AND(D113>=Inputs!$F$45,D113<=Inputs!$F$46),AND(D113>=Inputs!$G$45,D113<=Inputs!$G$46),AND(D113>=Inputs!$H$45,D113<=Inputs!$H$46),IFERROR(AND(D113>=0,D113<=Inputs!$H$46-168),FALSE))","v":false},{"$f":"OR(AND(D113>=Inputs!$I$55,D113<=Inputs!$I$56),AND(D113>=Inputs!$C$55,D113<=Inputs!$C$56),AND(D113>=Inputs!$D$55,D113<=Inputs!$D$56),AND(D113>=Inputs!$E$55,D113<=Inputs!$E$56),AND(D113>=Inputs!$F$55,D113<=Inputs!$F$56),AND(D113>=Inputs!$G$55,D113<=Inputs!$G$56),AND(D113>=Inputs!$H$55,D113<=Inputs!$H$56),IFERROR(AND(D113>=0,D113<=Inputs!$H$56-168),FALSE))","v":false},{"$f":"OR(AND(D113>=Inputs!$I$65,D113<=Inputs!$I$66),AND(D113>=Inputs!$C$65,D113<=Inputs!$C$66),AND(D113>=Inputs!$D$65,D113<=Inputs!$D$66),AND(D113>=Inputs!$E$65,D113<=Inputs!$E$66),AND(D113>=Inputs!$F$65,D113<=Inputs!$F$66),AND(D113>=Inputs!$G$65,D113<=Inputs!$G$66),AND(D113>=Inputs!$H$65,D113<=Inputs!$H$66),IFERROR(AND(D113>=0,D113<=Inputs!$H$66-168),FALSE))","v":false},{"$f":"OR(AND(D113>=Inputs!$I$75,D113<=Inputs!$I$76),AND(D113>=Inputs!$C$75,D113<=Inputs!$C$76),AND(D113>=Inputs!$D$75,D113<=Inputs!$D$76),AND(D113>=Inputs!$E$75,D113<=Inputs!$E$76),AND(D113>=Inputs!$F$75,D113<=Inputs!$F$76),AND(D113>=Inputs!$G$75,D113<=Inputs!$G$76),AND(D113>=Inputs!$H$75,D113<=Inputs!$H$76),IFERROR(AND(D113>=0,D113<=Inputs!$H$76-168),FALSE))","v":false},0,0]
[null,"Monday","04:00:00",28,{"$f":"OR(AND(D114>=Inputs!$I$45,D114<=Inputs!$I$46),AND(D114>=Inputs!$C$45,D114<=Inputs!$C$46),AND(D114>=Inputs!$D$45,D114<=Inputs!$D$46),AND(D114>=Inputs!$E$45,D114<=Inputs!$E$46),AND(D114>=Inputs!$F$45,D114<=Inputs!$F$46),AND(D114>=Inputs!$G$45,D114<=Inputs!$G$46),AND(D114>=Inputs!$H$45,D114<=Inputs!$H$46),IFERROR(AND(D114>=0,D114<=Inputs!$H$46-168),FALSE))","v":false},{"$f":"OR(AND(D114>=Inputs!$I$55,D114<=Inputs!$I$56),AND(D114>=Inputs!$C$55,D114<=Inputs!$C$56),AND(D114>=Inputs!$D$55,D114<=Inputs!$D$56),AND(D114>=Inputs!$E$55,D114<=Inputs!$E$56),AND(D114>=Inputs!$F$55,D114<=Inputs!$F$56),AND(D114>=Inputs!$G$55,D114<=Inputs!$G$56),AND(D114>=Inputs!$H$55,D114<=Inputs!$H$56),IFERROR(AND(D114>=0,D114<=Inputs!$H$56-168),FALSE))","v":false},{"$f":"OR(AND(D114>=Inputs!$I$65,D114<=Inputs!$I$66),AND(D114>=Inputs!$C$65,D114<=Inputs!$C$66),AND(D114>=Inputs!$D$65,D114<=Inputs!$D$66),AND(D114>=Inputs!$E$65,D114<=Inputs!$E$66),AND(D114>=Inputs!$F$65,D114<=Inputs!$F$66),AND(D114>=Inputs!$G$65,D114<=Inputs!$G$66),AND(D114>=Inputs!$H$65,D114<=Inputs!$H$66),IFERROR(AND(D114>=0,D114<=Inputs!$H$66-168),FALSE))","v":false},{"$f":"OR(AND(D114>=Inputs!$I$75,D114<=Inputs!$I$76),AND(D114>=Inputs!$C$75,D114<=Inputs!$C$76),AND(D114>=Inputs!$D$75,D114<=Inputs!$D$76),AND(D114>=Inputs!$E$75,D114<=Inputs!$E$76),AND(D114>=Inputs!$F$75,D114<=Inputs!$F$76),AND(D114>=Inputs!$G$75,D114<=Inputs!$G$76),AND(D114>=Inputs!$H$75,D114<=Inputs!$H$76),IFERROR(AND(D114>=0,D114<=Inputs!$H$76-168),FALSE))","v":false},0,0]
[null,"Monday","05:00:00",29,{"$f":"OR(AND(D115>=Inputs!$I$45,D115<=Inputs!$I$46),AND(D115>=Inputs!$C$45,D115<=Inputs!$C$46),AND(D115>=Inputs!$D$45,D115<=Inputs!$D$46),AND(D115>=Inputs!$E$45,D115<=Inputs!$E$46),AND(D115>=Inputs!$F$45,D115<=Inputs!$F$46),AND(D115>=Inputs!$G$45,D115<=Inputs!$G$46),AND(D115>=Inputs!$H$45,D115<=Inputs!$H$46),IFERROR(AND(D115>=0,D115<=Inputs!$H$46-168),FALSE))","v":false},{"$f":"OR(AND(D115>=Inputs!$I$55,D115<=Inputs!$I$56),AND(D115>=Inputs!$C$55,D115<=Inputs!$C$56),AND(D115>=Inputs!$D$55,D115<=Inputs!$D$56),AND(D115>=Inputs!$E$55,D115<=Inputs!$E$56),AND(D115>=Inputs!$F$55,D115<=Inputs!$F$56),AND(D115>=Inputs!$G$55,D115<=Inputs!$G$56),AND(D115>=Inputs!$H$55,D115<=Inputs!$H$56),IFERROR(AND(D115>=0,D115<=Inputs!$H$56-168),FALSE))","v":false},{"$f":"OR(AND(D115>=Inputs!$I$65,D115<=Inputs!$I$66),AND(D115>=Inputs!$C$65,D115<=Inputs!$C$66),AND(D115>=Inputs!$D$65,D115<=Inputs!$D$66),AND(D115>=Inputs!$E$65,D115<=Inputs!$E$66),AND(D115>=Inputs!$F$65,D115<=Inputs!$F$66),AND(D115>=Inputs!$G$65,D115<=Inputs!$G$66),AND(D115>=Inputs!$H$65,D115<=Inputs!$H$66),IFERROR(AND(D115>=0,D115<=Inputs!$H$66-168),FALSE))","v":false},{"$f":"OR(AND(D115>=Inputs!$I$75,D115<=Inputs!$I$76),AND(D115>=Inputs!$C$75,D115<=Inputs!$C$76),AND(D115>=Inputs!$D$75,D115<=Inputs!$D$76),AND(D115>=Inputs!$E$75,D115<=Inputs!$E$76),AND(D115>=Inputs!$F$75,D115<=Inputs!$F$76),AND(D115>=Inputs!$G$75,D115<=Inputs!$G$76),AND(D115>=Inputs!$H$75,D115<=Inputs!$H$76),IFERROR(AND(D115>=0,D115<=Inputs!$H$76-168),FALSE))","v":false},0,0]
[null,"Monday","06:00:00",30,{"$f":"OR(AND(D116>=Inputs!$I$45,D116<=Inputs!$I$46),AND(D116>=Inputs!$C$45,D116<=Inputs!$C$46),AND(D116>=Inputs!$D$45,D116<=Inputs!$D$46),AND(D116>=Inputs!$E$45,D116<=Inputs!$E$46),AND(D116>=Inputs!$F$45,D116<=Inputs!$F$46),AND(D116>=Inputs!$G$45,D116<=Inputs!$G$46),AND(D116>=Inputs!$H$45,D116<=Inputs!$H$46),IFERROR(AND(D116>=0,D116<=Inputs!$H$46-168),FALSE))","v":false},{"$f":"OR(AND(D116>=Inputs!$I$55,D116<=Inputs!$I$56),AND(D116>=Inputs!$C$55,D116<=Inputs!$C$56),AND(D116>=Inputs!$D$55,D116<=Inputs!$D$56),AND(D116>=Inputs!$E$55,D116<=Inputs!$E$56),AND(D116>=Inputs!$F$55,D116<=Inputs!$F$56),AND(D116>=Inputs!$G$55,D116<=Inputs!$G$56),AND(D116>=Inputs!$H$55,D116<=Inputs!$H$56),IFERROR(AND(D116>=0,D116<=Inputs!$H$56-168),FALSE))","v":false},{"$f":"OR(AND(D116>=Inputs!$I$65,D116<=Inputs!$I$66),AND(D116>=Inputs!$C$65,D116<=Inputs!$C$66),AND(D116>=Inputs!$D$65,D116<=Inputs!$D$66),AND(D116>=Inputs!$E$65,D116<=Inputs!$E$66),AND(D116>=Inputs!$F$65,D116<=Inputs!$F$66),AND(D116>=Inputs!$G$65,D116<=Inputs!$G$66),AND(D116>=Inputs!$H$65,D116<=Inputs!$H$66),IFERROR(AND(D116>=0,D116<=Inputs!$H$66-168),FALSE))","v":false},{"$f":"OR(AND(D116>=Inputs!$I$75,D116<=Inputs!$I$76),AND(D116>=Inputs!$C$75,D116<=Inputs!$C$76),AND(D116>=Inputs!$D$75,D116<=Inputs!$D$76),AND(D116>=Inputs!$E$75,D116<=Inputs!$E$76),AND(D116>=Inputs!$F$75,D116<=Inputs!$F$76),AND(D116>=Inputs!$G$75,D116<=Inputs!$G$76),AND(D116>=Inputs!$H$75,D116<=Inputs!$H$76),IFERROR(AND(D116>=0,D116<=Inputs!$H$76-168),FALSE))","v":false},0,0]
[null,"Monday","07:00:00",31,{"$f":"OR(AND(D117>=Inputs!$I$45,D117<=Inputs!$I$46),AND(D117>=Inputs!$C$45,D117<=Inputs!$C$46),AND(D117>=Inputs!$D$45,D117<=Inputs!$D$46),AND(D117>=Inputs!$E$45,D117<=Inputs!$E$46),AND(D117>=Inputs!$F$45,D117<=Inputs!$F$46),AND(D117>=Inputs!$G$45,D117<=Inputs!$G$46),AND(D117>=Inputs!$H$45,D117<=Inputs!$H$46),IFERROR(AND(D117>=0,D117<=Inputs!$H$46-168),FALSE))","v":false},{"$f":"OR(AND(D117>=Inputs!$I$55,D117<=Inputs!$I$56),AND(D117>=Inputs!$C$55,D117<=Inputs!$C$56),AND(D117>=Inputs!$D$55,D117<=Inputs!$D$56),AND(D117>=Inputs!$E$55,D117<=Inputs!$E$56),AND(D117>=Inputs!$F$55,D117<=Inputs!$F$56),AND(D117>=Inputs!$G$55,D117<=Inputs!$G$56),AND(D117>=Inputs!$H$55,D117<=Inputs!$H$56),IFERROR(AND(D117>=0,D117<=Inputs!$H$56-168),FALSE))","v":false},{"$f":"OR(AND(D117>=Inputs!$I$65,D117<=Inputs!$I$66),AND(D117>=Inputs!$C$65,D117<=Inputs!$C$66),AND(D117>=Inputs!$D$65,D117<=Inputs!$D$66),AND(D117>=Inputs!$E$65,D117<=Inputs!$E$66),AND(D117>=Inputs!$F$65,D117<=Inputs!$F$66),AND(D117>=Inputs!$G$65,D117<=Inputs!$G$66),AND(D117>=Inputs!$H$65,D117<=Inputs!$H$66),IFERROR(AND(D117>=0,D117<=Inputs!$H$66-168),FALSE))","v":false},{"$f":"OR(AND(D117>=Inputs!$I$75,D117<=Inputs!$I$76),AND(D117>=Inputs!$C$75,D117<=Inputs!$C$76),AND(D117>=Inputs!$D$75,D117<=Inputs!$D$76),AND(D117>=Inputs!$E$75,D117<=Inputs!$E$76),AND(D117>=Inputs!$F$75,D117<=Inputs!$F$76),AND(D117>=Inputs!$G$75,D117<=Inputs!$G$76),AND(D117>=Inputs!$H$75,D117<=Inputs!$H$76),IFERROR(AND(D117>=0,D117<=Inputs!$H$76-168),FALSE))","v":false},0,0]
[null,"Monday","08:00:00",32,{"$f":"OR(AND(D118>=Inputs!$I$45,D118<=Inputs!$I$46),AND(D118>=Inputs!$C$45,D118<=Inputs!$C$46),AND(D118>=Inputs!$D$45,D118<=Inputs!$D$46),AND(D118>=Inputs!$E$45,D118<=Inputs!$E$46),AND(D118>=Inputs!$F$45,D118<=Inputs!$F$46),AND(D118>=Inputs!$G$45,D118<=Inputs!$G$46),AND(D118>=Inputs!$H$45,D118<=Inputs!$H$46),IFERROR(AND(D118>=0,D118<=Inputs!$H$46-168),FALSE))","v":false},{"$f":"OR(AND(D118>=Inputs!$I$55,D118<=Inputs!$I$56),AND(D118>=Inputs!$C$55,D118<=Inputs!$C$56),AND(D118>=Inputs!$D$55,D118<=Inputs!$D$56),AND(D118>=Inputs!$E$55,D118<=Inputs!$E$56),AND(D118>=Inputs!$F$55,D118<=Inputs!$F$56),AND(D118>=Inputs!$G$55,D118<=Inputs!$G$56),AND(D118>=Inputs!$H$55,D118<=Inputs!$H$56),IFERROR(AND(D118>=0,D118<=Inputs!$H$56-168),FALSE))","v":false},{"$f":"OR(AND(D118>=Inputs!$I$65,D118<=Inputs!$I$66),AND(D118>=Inputs!$C$65,D118<=Inputs!$C$66),AND(D118>=Inputs!$D$65,D118<=Inputs!$D$66),AND(D118>=Inputs!$E$65,D118<=Inputs!$E$66),AND(D118>=Inputs!$F$65,D118<=Inputs!$F$66),AND(D118>=Inputs!$G$65,D118<=Inputs!$G$66),AND(D118>=Inputs!$H$65,D118<=Inputs!$H$66),IFERROR(AND(D118>=0,D118<=Inputs!$H$66-168),FALSE))","v":false},{"$f":"OR(AND(D118>=Inputs!$I$75,D118<=Inputs!$I$76),AND(D118>=Inputs!$C$75,D118<=Inputs!$C$76),AND(D118>=Inputs!$D$75,D118<=Inputs!$D$76),AND(D118>=Inputs!$E$75,D118<=Inputs!$E$76),AND(D118>=Inputs!$F$75,D118<=Inputs!$F$76),AND(D118>=Inputs!$G$75,D118<=Inputs!$G$76),AND(D118>=Inputs!$H$75,D118<=Inputs!$H$76),IFERROR(AND(D118>=0,D118<=Inputs!$H$76-168),FALSE))","v":false},0,0]
[null,"Monday","09:00:00",33,{"$f":"OR(AND(D119>=Inputs!$I$45,D119<=Inputs!$I$46),AND(D119>=Inputs!$C$45,D119<=Inputs!$C$46),AND(D119>=Inputs!$D$45,D119<=Inputs!$D$46),AND(D119>=Inputs!$E$45,D119<=Inputs!$E$46),AND(D119>=Inputs!$F$45,D119<=Inputs!$F$46),AND(D119>=Inputs!$G$45,D119<=Inputs!$G$46),AND(D119>=Inputs!$H$45,D119<=Inputs!$H$46),IFERROR(AND(D119>=0,D119<=Inputs!$H$46-168),FALSE))","v":true},{"$f":"OR(AND(D119>=Inputs!$I$55,D119<=Inputs!$I$56),AND(D119>=Inputs!$C$55,D119<=Inputs!$C$56),AND(D119>=Inputs!$D$55,D119<=Inputs!$D$56),AND(D119>=Inputs!$E$55,D119<=Inputs!$E$56),AND(D119>=Inputs!$F$55,D119<=Inputs!$F$56),AND(D119>=Inputs!$G$55,D119<=Inputs!$G$56),AND(D119>=Inputs!$H$55,D119<=Inputs!$H$56),IFERROR(AND(D119>=0,D119<=Inputs!$H$56-168),FALSE))","v":false},{"$f":"OR(AND(D119>=Inputs!$I$65,D119<=Inputs!$I$66),AND(D119>=Inputs!$C$65,D119<=Inputs!$C$66),AND(D119>=Inputs!$D$65,D119<=Inputs!$D$66),AND(D119>=Inputs!$E$65,D119<=Inputs!$E$66),AND(D119>=Inputs!$F$65,D119<=Inputs!$F$66),AND(D119>=Inputs!$G$65,D119<=Inputs!$G$66),AND(D119>=Inputs!$H$65,D119<=Inputs!$H$66),IFERROR(AND(D119>=0,D119<=Inputs!$H$66-168),FALSE))","v":false},{"$f":"OR(AND(D119>=Inputs!$I$75,D119<=Inputs!$I$76),AND(D119>=Inputs!$C$75,D119<=Inputs!$C$76),AND(D119>=Inputs!$D$75,D119<=Inputs!$D$76),AND(D119>=Inputs!$E$75,D119<=Inputs!$E$76),AND(D119>=Inputs!$F$75,D119<=Inputs!$F$76),AND(D119>=Inputs!$G$75,D119<=Inputs!$G$76),AND(D119>=Inputs!$H$75,D119<=Inputs!$H$76),IFERROR(AND(D119>=0,D119<=Inputs!$H$76-168),FALSE))","v":false},1,0]
[null,"Monday","10:00:00",34,{"$f":"OR(AND(D120>=Inputs!$I$45,D120<=Inputs!$I$46),AND(D120>=Inputs!$C$45,D120<=Inputs!$C$46),AND(D120>=Inputs!$D$45,D120<=Inputs!$D$46),AND(D120>=Inputs!$E$45,D120<=Inputs!$E$46),AND(D120>=Inputs!$F$45,D120<=Inputs!$F$46),AND(D120>=Inputs!$G$45,D120<=Inputs!$G$46),AND(D120>=Inputs!$H$45,D120<=Inputs!$H$46),IFERROR(AND(D120>=0,D120<=Inputs!$H$46-168),FALSE))","v":true},{"$f":"OR(AND(D120>=Inputs!$I$55,D120<=Inputs!$I$56),AND(D120>=Inputs!$C$55,D120<=Inputs!$C$56),AND(D120>=Inputs!$D$55,D120<=Inputs!$D$56),AND(D120>=Inputs!$E$55,D120<=Inputs!$E$56),AND(D120>=Inputs!$F$55,D120<=Inputs!$F$56),AND(D120>=Inputs!$G$55,D120<=Inputs!$G$56),AND(D120>=Inputs!$H$55,D120<=Inputs!$H$56),IFERROR(AND(D120>=0,D120<=Inputs!$H$56-168),FALSE))","v":false},{"$f":"OR(AND(D120>=Inputs!$I$65,D120<=Inputs!$I$66),AND(D120>=Inputs!$C$65,D120<=Inputs!$C$66),AND(D120>=Inputs!$D$65,D120<=Inputs!$D$66),AND(D120>=Inputs!$E$65,D120<=Inputs!$E$66),AND(D120>=Inputs!$F$65,D120<=Inputs!$F$66),AND(D120>=Inputs!$G$65,D120<=Inputs!$G$66),AND(D120>=Inputs!$H$65,D120<=Inputs!$H$66),IFERROR(AND(D120>=0,D120<=Inputs!$H$66-168),FALSE))","v":false},{"$f":"OR(AND(D120>=Inputs!$I$75,D120<=Inputs!$I$76),AND(D120>=Inputs!$C$75,D120<=Inputs!$C$76),AND(D120>=Inputs!$D$75,D120<=Inputs!$D$76),AND(D120>=Inputs!$E$75,D120<=Inputs!$E$76),AND(D120>=Inputs!$F$75,D120<=Inputs!$F$76),AND(D120>=Inputs!$G$75,D120<=Inputs!$G$76),AND(D120>=Inputs!$H$75,D120<=Inputs!$H$76),IFERROR(AND(D120>=0,D120<=Inputs!$H$76-168),FALSE))","v":false},1,0]
[null,"Monday","11:00:00",35,{"$f":"OR(AND(D121>=Inputs!$I$45,D121<=Inputs!$I$46),AND(D121>=Inputs!$C$45,D121<=Inputs!$C$46),AND(D121>=Inputs!$D$45,D121<=Inputs!$D$46),AND(D121>=Inputs!$E$45,D121<=Inputs!$E$46),AND(D121>=Inputs!$F$45,D121<=Inputs!$F$46),AND(D121>=Inputs!$G$45,D121<=Inputs!$G$46),AND(D121>=Inputs!$H$45,D121<=Inputs!$H$46),IFERROR(AND(D121>=0,D121<=Inputs!$H$46-168),FALSE))","v":true},{"$f":"OR(AND(D121>=Inputs!$I$55,D121<=Inputs!$I$56),AND(D121>=Inputs!$C$55,D121<=Inputs!$C$56),AND(D121>=Inputs!$D$55,D121<=Inputs!$D$56),AND(D121>=Inputs!$E$55,D121<=Inputs!$E$56),AND(D121>=Inputs!$F$55,D121<=Inputs!$F$56),AND(D121>=Inputs!$G$55,D121<=Inputs!$G$56),AND(D121>=Inputs!$H$55,D121<=Inputs!$H$56),IFERROR(AND(D121>=0,D121<=Inputs!$H$56-168),FALSE))","v":false},{"$f":"OR(AND(D121>=Inputs!$I$65,D121<=Inputs!$I$66),AND(D121>=Inputs!$C$65,D121<=Inputs!$C$66),AND(D121>=Inputs!$D$65,D121<=Inputs!$D$66),AND(D121>=Inputs!$E$65,D121<=Inputs!$E$66),AND(D121>=Inputs!$F$65,D121<=Inputs!$F$66),AND(D121>=Inputs!$G$65,D121<=Inputs!$G$66),AND(D121>=Inputs!$H$65,D121<=Inputs!$H$66),IFERROR(AND(D121>=0,D121<=Inputs!$H$66-168),FALSE))","v":false},{"$f":"OR(AND(D121>=Inputs!$I$75,D121<=Inputs!$I$76),AND(D121>=Inputs!$C$75,D121<=Inputs!$C$76),AND(D121>=Inputs!$D$75,D121<=Inputs!$D$76),AND(D121>=Inputs!$E$75,D121<=Inputs!$E$76),AND(D121>=Inputs!$F$75,D121<=Inputs!$F$76),AND(D121>=Inputs!$G$75,D121<=Inputs!$G$76),AND(D121>=Inputs!$H$75,D121<=Inputs!$H$76),IFERROR(AND(D121>=0,D121<=Inputs!$H$76-168),FALSE))","v":false},1,0]
[null,"Monday","12:00:00",36,{"$f":"OR(AND(D122>=Inputs!$I$45,D122<=Inputs!$I$46),AND(D122>=Inputs!$C$45,D122<=Inputs!$C$46),AND(D122>=Inputs!$D$45,D122<=Inputs!$D$46),AND(D122>=Inputs!$E$45,D122<=Inputs!$E$46),AND(D122>=Inputs!$F$45,D122<=Inputs!$F$46),AND(D122>=Inputs!$G$45,D122<=Inputs!$G$46),AND(D122>=Inputs!$H$45,D122<=Inputs!$H$46),IFERROR(AND(D122>=0,D122<=Inputs!$H$46-168),FALSE))","v":true},{"$f":"OR(AND(D122>=Inputs!$I$55,D122<=Inputs!$I$56),AND(D122>=Inputs!$C$55,D122<=Inputs!$C$56),AND(D122>=Inputs!$D$55,D122<=Inputs!$D$56),AND(D122>=Inputs!$E$55,D122<=Inputs!$E$56),AND(D122>=Inputs!$F$55,D122<=Inputs!$F$56),AND(D122>=Inputs!$G$55,D122<=Inputs!$G$56),AND(D122>=Inputs!$H$55,D122<=Inputs!$H$56),IFERROR(AND(D122>=0,D122<=Inputs!$H$56-168),FALSE))","v":false},{"$f":"OR(AND(D122>=Inputs!$I$65,D122<=Inputs!$I$66),AND(D122>=Inputs!$C$65,D122<=Inputs!$C$66),AND(D122>=Inputs!$D$65,D122<=Inputs!$D$66),AND(D122>=Inputs!$E$65,D122<=Inputs!$E$66),AND(D122>=Inputs!$F$65,D122<=Inputs!$F$66),AND(D122>=Inputs!$G$65,D122<=Inputs!$G$66),AND(D122>=Inputs!$H$65,D122<=Inputs!$H$66),IFERROR(AND(D122>=0,D122<=Inputs!$H$66-168),FALSE))","v":false},{"$f":"OR(AND(D122>=Inputs!$I$75,D122<=Inputs!$I$76),AND(D122>=Inputs!$C$75,D122<=Inputs!$C$76),AND(D122>=Inputs!$D$75,D122<=Inputs!$D$76),AND(D122>=Inputs!$E$75,D122<=Inputs!$E$76),AND(D122>=Inputs!$F$75,D122<=Inputs!$F$76),AND(D122>=Inputs!$G$75,D122<=Inputs!$G$76),AND(D122>=Inputs!$H$75,D122<=Inputs!$H$76),IFERROR(AND(D122>=0,D122<=Inputs!$H$76-168),FALSE))","v":false},1,0]
[null,"Monday","13:00:00",37,{"$f":"OR(AND(D123>=Inputs!$I$45,D123<=Inputs!$I$46),AND(D123>=Inputs!$C$45,D123<=Inputs!$C$46),AND(D123>=Inputs!$D$45,D123<=Inputs!$D$46),AND(D123>=Inputs!$E$45,D123<=Inputs!$E$46),AND(D123>=Inputs!$F$45,D123<=Inputs!$F$46),AND(D123>=Inputs!$G$45,D123<=Inputs!$G$46),AND(D123>=Inputs!$H$45,D123<=Inputs!$H$46),IFERROR(AND(D123>=0,D123<=Inputs!$H$46-168),FALSE))","v":true},{"$f":"OR(AND(D123>=Inputs!$I$55,D123<=Inputs!$I$56),AND(D123>=Inputs!$C$55,D123<=Inputs!$C$56),AND(D123>=Inputs!$D$55,D123<=Inputs!$D$56),AND(D123>=Inputs!$E$55,D123<=Inputs!$E$56),AND(D123>=Inputs!$F$55,D123<=Inputs!$F$56),AND(D123>=Inputs!$G$55,D123<=Inputs!$G$56),AND(D123>=Inputs!$H$55,D123<=Inputs!$H$56),IFERROR(AND(D123>=0,D123<=Inputs!$H$56-168),FALSE))","v":false},{"$f":"OR(AND(D123>=Inputs!$I$65,D123<=Inputs!$I$66),AND(D123>=Inputs!$C$65,D123<=Inputs!$C$66),AND(D123>=Inputs!$D$65,D123<=Inputs!$D$66),AND(D123>=Inputs!$E$65,D123<=Inputs!$E$66),AND(D123>=Inputs!$F$65,D123<=Inputs!$F$66),AND(D123>=Inputs!$G$65,D123<=Inputs!$G$66),AND(D123>=Inputs!$H$65,D123<=Inputs!$H$66),IFERROR(AND(D123>=0,D123<=Inputs!$H$66-168),FALSE))","v":false},{"$f":"OR(AND(D123>=Inputs!$I$75,D123<=Inputs!$I$76),AND(D123>=Inputs!$C$75,D123<=Inputs!$C$76),AND(D123>=Inputs!$D$75,D123<=Inputs!$D$76),AND(D123>=Inputs!$E$75,D123<=Inputs!$E$76),AND(D123>=Inputs!$F$75,D123<=Inputs!$F$76),AND(D123>=Inputs!$G$75,D123<=Inputs!$G$76),AND(D123>=Inputs!$H$75,D123<=Inputs!$H$76),IFERROR(AND(D123>=0,D123<=Inputs!$H$76-168),FALSE))","v":false},1,0]
[null,"Monday","14:00:00",38,{"$f":"OR(AND(D124>=Inputs!$I$45,D124<=Inputs!$I$46),AND(D124>=Inputs!$C$45,D124<=Inputs!$C$46),AND(D124>=Inputs!$D$45,D124<=Inputs!$D$46),AND(D124>=Inputs!$E$45,D124<=Inputs!$E$46),AND(D124>=Inputs!$F$45,D124<=Inputs!$F$46),AND(D124>=Inputs!$G$45,D124<=Inputs!$G$46),AND(D124>=Inputs!$H$45,D124<=Inputs!$H$46),IFERROR(AND(D124>=0,D124<=Inputs!$H$46-168),FALSE))","v":false},{"$f":"OR(AND(D124>=Inputs!$I$55,D124<=Inputs!$I$56),AND(D124>=Inputs!$C$55,D124<=Inputs!$C$56),AND(D124>=Inputs!$D$55,D124<=Inputs!$D$56),AND(D124>=Inputs!$E$55,D124<=Inputs!$E$56),AND(D124>=Inputs!$F$55,D124<=Inputs!$F$56),AND(D124>=Inputs!$G$55,D124<=Inputs!$G$56),AND(D124>=Inputs!$H$55,D124<=Inputs!$H$56),IFERROR(AND(D124>=0,D124<=Inputs!$H$56-168),FALSE))","v":false},{"$f":"OR(AND(D124>=Inputs!$I$65,D124<=Inputs!$I$66),AND(D124>=Inputs!$C$65,D124<=Inputs!$C$66),AND(D124>=Inputs!$D$65,D124<=Inputs!$D$66),AND(D124>=Inputs!$E$65,D124<=Inputs!$E$66),AND(D124>=Inputs!$F$65,D124<=Inputs!$F$66),AND(D124>=Inputs!$G$65,D124<=Inputs!$G$66),AND(D124>=Inputs!$H$65,D124<=Inputs!$H$66),IFERROR(AND(D124>=0,D124<=Inputs!$H$66-168),FALSE))","v":false},{"$f":"OR(AND(D124>=Inputs!$I$75,D124<=Inputs!$I$76),AND(D124>=Inputs!$C$75,D124<=Inputs!$C$76),AND(D124>=Inputs!$D$75,D124<=Inputs!$D$76),AND(D124>=Inputs!$E$75,D124<=Inputs!$E$76),AND(D124>=Inputs!$F$75,D124<=Inputs!$F$76),AND(D124>=Inputs!$G$75,D124<=Inputs!$G$76),AND(D124>=Inputs!$H$75,D124<=Inputs!$H$76),IFERROR(AND(D124>=0,D124<=Inputs!$H$76-168),FALSE))","v":false},0,0]
[null,"Monday","15:00:00",39,{"$f":"OR(AND(D125>=Inputs!$I$45,D125<=Inputs!$I$46),AND(D125>=Inputs!$C$45,D125<=Inputs!$C$46),AND(D125>=Inputs!$D$45,D125<=Inputs!$D$46),AND(D125>=Inputs!$E$45,D125<=Inputs!$E$46),AND(D125>=Inputs!$F$45,D125<=Inputs!$F$46),AND(D125>=Inputs!$G$45,D125<=Inputs!$G$46),AND(D125>=Inputs!$H$45,D125<=Inputs!$H$46),IFERROR(AND(D125>=0,D125<=Inputs!$H$46-168),FALSE))","v":false},{"$f":"OR(AND(D125>=Inputs!$I$55,D125<=Inputs!$I$56),AND(D125>=Inputs!$C$55,D125<=Inputs!$C$56),AND(D125>=Inputs!$D$55,D125<=Inputs!$D$56),AND(D125>=Inputs!$E$55,D125<=Inputs!$E$56),AND(D125>=Inputs!$F$55,D125<=Inputs!$F$56),AND(D125>=Inputs!$G$55,D125<=Inputs!$G$56),AND(D125>=Inputs!$H$55,D125<=Inputs!$H$56),IFERROR(AND(D125>=0,D125<=Inputs!$H$56-168),FALSE))","v":false},{"$f":"OR(AND(D125>=Inputs!$I$65,D125<=Inputs!$I$66),AND(D125>=Inputs!$C$65,D125<=Inputs!$C$66),AND(D125>=Inputs!$D$65,D125<=Inputs!$D$66),AND(D125>=Inputs!$E$65,D125<=Inputs!$E$66),AND(D125>=Inputs!$F$65,D125<=Inputs!$F$66),AND(D125>=Inputs!$G$65,D125<=Inputs!$G$66),AND(D125>=Inputs!$H$65,D125<=Inputs!$H$66),IFERROR(AND(D125>=0,D125<=Inputs!$H$66-168),FALSE))","v":false},{"$f":"OR(AND(D125>=Inputs!$I$75,D125<=Inputs!$I$76),AND(D125>=Inputs!$C$75,D125<=Inputs!$C$76),AND(D125>=Inputs!$D$75,D125<=Inputs!$D$76),AND(D125>=Inputs!$E$75,D125<=Inputs!$E$76),AND(D125>=Inputs!$F$75,D125<=Inputs!$F$76),AND(D125>=Inputs!$G$75,D125<=Inputs!$G$76),AND(D125>=Inputs!$H$75,D125<=Inputs!$H$76),IFERROR(AND(D125>=0,D125<=Inputs!$H$76-168),FALSE))","v":false},0,0]
[null,"Monday","16:00:00",40,{"$f":"OR(AND(D126>=Inputs!$I$45,D126<=Inputs!$I$46),AND(D126>=Inputs!$C$45,D126<=Inputs!$C$46),AND(D126>=Inputs!$D$45,D126<=Inputs!$D$46),AND(D126>=Inputs!$E$45,D126<=Inputs!$E$46),AND(D126>=Inputs!$F$45,D126<=Inputs!$F$46),AND(D126>=Inputs!$G$45,D126<=Inputs!$G$46),AND(D126>=Inputs!$H$45,D126<=Inputs!$H$46),IFERROR(AND(D126>=0,D126<=Inputs!$H$46-168),FALSE))","v":false},{"$f":"OR(AND(D126>=Inputs!$I$55,D126<=Inputs!$I$56),AND(D126>=Inputs!$C$55,D126<=Inputs!$C$56),AND(D126>=Inputs!$D$55,D126<=Inputs!$D$56),AND(D126>=Inputs!$E$55,D126<=Inputs!$E$56),AND(D126>=Inputs!$F$55,D126<=Inputs!$F$56),AND(D126>=Inputs!$G$55,D126<=Inputs!$G$56),AND(D126>=Inputs!$H$55,D126<=Inputs!$H$56),IFERROR(AND(D126>=0,D126<=Inputs!$H$56-168),FALSE))","v":false},{"$f":"OR(AND(D126>=Inputs!$I$65,D126<=Inputs!$I$66),AND(D126>=Inputs!$C$65,D126<=Inputs!$C$66),AND(D126>=Inputs!$D$65,D126<=Inputs!$D$66),AND(D126>=Inputs!$E$65,D126<=Inputs!$E$66),AND(D126>=Inputs!$F$65,D126<=Inputs!$F$66),AND(D126>=Inputs!$G$65,D126<=Inputs!$G$66),AND(D126>=Inputs!$H$65,D126<=Inputs!$H$66),IFERROR(AND(D126>=0,D126<=Inputs!$H$66-168),FALSE))","v":false},{"$f":"OR(AND(D126>=Inputs!$I$75,D126<=Inputs!$I$76),AND(D126>=Inputs!$C$75,D126<=Inputs!$C$76),AND(D126>=Inputs!$D$75,D126<=Inputs!$D$76),AND(D126>=Inputs!$E$75,D126<=Inputs!$E$76),AND(D126>=Inputs!$F$75,D126<=Inputs!$F$76),AND(D126>=Inputs!$G$75,D126<=Inputs!$G$76),AND(D126>=Inputs!$H$75,D126<=Inputs!$H$76),IFERROR(AND(D126>=0,D126<=Inputs!$H$76-168),FALSE))","v":false},0,0]
[null,"Monday","17:00:00",41,{"$f":"OR(AND(D127>=Inputs!$I$45,D127<=Inputs!$I$46),AND(D127>=Inputs!$C$45,D127<=Inputs!$C$46),AND(D127>=Inputs!$D$45,D127<=Inputs!$D$46),AND(D127>=Inputs!$E$45,D127<=Inputs!$E$46),AND(D127>=Inputs!$F$45,D127<=Inputs!$F$46),AND(D127>=Inputs!$G$45,D127<=Inputs!$G$46),AND(D127>=Inputs!$H$45,D127<=Inputs!$H$46),IFERROR(AND(D127>=0,D127<=Inputs!$H$46-168),FALSE))","v":false},{"$f":"OR(AND(D127>=Inputs!$I$55,D127<=Inputs!$I$56),AND(D127>=Inputs!$C$55,D127<=Inputs!$C$56),AND(D127>=Inputs!$D$55,D127<=Inputs!$D$56),AND(D127>=Inputs!$E$55,D127<=Inputs!$E$56),AND(D127>=Inputs!$F$55,D127<=Inputs!$F$56),AND(D127>=Inputs!$G$55,D127<=Inputs!$G$56),AND(D127>=Inputs!$H$55,D127<=Inputs!$H$56),IFERROR(AND(D127>=0,D127<=Inputs!$H$56-168),FALSE))","v":false},{"$f":"OR(AND(D127>=Inputs!$I$65,D127<=Inputs!$I$66),AND(D127>=Inputs!$C$65,D127<=Inputs!$C$66),AND(D127>=Inputs!$D$65,D127<=Inputs!$D$66),AND(D127>=Inputs!$E$65,D127<=Inputs!$E$66),AND(D127>=Inputs!$F$65,D127<=Inputs!$F$66),AND(D127>=Inputs!$G$65,D127<=Inputs!$G$66),AND(D127>=Inputs!$H$65,D127<=Inputs!$H$66),IFERROR(AND(D127>=0,D127<=Inputs!$H$66-168),FALSE))","v":false},{"$f":"OR(AND(D127>=Inputs!$I$75,D127<=Inputs!$I$76),AND(D127>=Inputs!$C$75,D127<=Inputs!$C$76),AND(D127>=Inputs!$D$75,D127<=Inputs!$D$76),AND(D127>=Inputs!$E$75,D127<=Inputs!$E$76),AND(D127>=Inputs!$F$75,D127<=Inputs!$F$76),AND(D127>=Inputs!$G$75,D127<=Inputs!$G$76),AND(D127>=Inputs!$H$75,D127<=Inputs!$H$76),IFERROR(AND(D127>=0,D127<=Inputs!$H$76-168),FALSE))","v":false},0,0]
[null,"Monday","18:00:00",42,{"$f":"OR(AND(D128>=Inputs!$I$45,D128<=Inputs!$I$46),AND(D128>=Inputs!$C$45,D128<=Inputs!$C$46),AND(D128>=Inputs!$D$45,D128<=Inputs!$D$46),AND(D128>=Inputs!$E$45,D128<=Inputs!$E$46),AND(D128>=Inputs!$F$45,D128<=Inputs!$F$46),AND(D128>=Inputs!$G$45,D128<=Inputs!$G$46),AND(D128>=Inputs!$H$45,D128<=Inputs!$H$46),IFERROR(AND(D128>=0,D128<=Inputs!$H$46-168),FALSE))","v":false},{"$f":"OR(AND(D128>=Inputs!$I$55,D128<=Inputs!$I$56),AND(D128>=Inputs!$C$55,D128<=Inputs!$C$56),AND(D128>=Inputs!$D$55,D128<=Inputs!$D$56),AND(D128>=Inputs!$E$55,D128<=Inputs!$E$56),AND(D128>=Inputs!$F$55,D128<=Inputs!$F$56),AND(D128>=Inputs!$G$55,D128<=Inputs!$G$56),AND(D128>=Inputs!$H$55,D128<=Inputs!$H$56),IFERROR(AND(D128>=0,D128<=Inputs!$H$56-168),FALSE))","v":false},{"$f":"OR(AND(D128>=Inputs!$I$65,D128<=Inputs!$I$66),AND(D128>=Inputs!$C$65,D128<=Inputs!$C$66),AND(D128>=Inputs!$D$65,D128<=Inputs!$D$66),AND(D128>=Inputs!$E$65,D128<=Inputs!$E$66),AND(D128>=Inputs!$F$65,D128<=Inputs!$F$66),AND(D128>=Inputs!$G$65,D128<=Inputs!$G$66),AND(D128>=Inputs!$H$65,D128<=Inputs!$H$66),IFERROR(AND(D128>=0,D128<=Inputs!$H$66-168),FALSE))","v":false},{"$f":"OR(AND(D128>=Inputs!$I$75,D128<=Inputs!$I$76),AND(D128>=Inputs!$C$75,D128<=Inputs!$C$76),AND(D128>=Inputs!$D$75,D128<=Inputs!$D$76),AND(D128>=Inputs!$E$75,D128<=Inputs!$E$76),AND(D128>=Inputs!$F$75,D128<=Inputs!$F$76),AND(D128>=Inputs!$G$75,D128<=Inputs!$G$76),AND(D128>=Inputs!$H$75,D128<=Inputs!$H$76),IFERROR(AND(D128>=0,D128<=Inputs!$H$76-168),FALSE))","v":false},0,0]
[null,"Monday","19:00:00",43,{"$f":"OR(AND(D129>=Inputs!$I$45,D129<=Inputs!$I$46),AND(D129>=Inputs!$C$45,D129<=Inputs!$C$46),AND(D129>=Inputs!$D$45,D129<=Inputs!$D$46),AND(D129>=Inputs!$E$45,D129<=Inputs!$E$46),AND(D129>=Inputs!$F$45,D129<=Inputs!$F$46),AND(D129>=Inputs!$G$45,D129<=Inputs!$G$46),AND(D129>=Inputs!$H$45,D129<=Inputs!$H$46),IFERROR(AND(D129>=0,D129<=Inputs!$H$46-168),FALSE))","v":false},{"$f":"OR(AND(D129>=Inputs!$I$55,D129<=Inputs!$I$56),AND(D129>=Inputs!$C$55,D129<=Inputs!$C$56),AND(D129>=Inputs!$D$55,D129<=Inputs!$D$56),AND(D129>=Inputs!$E$55,D129<=Inputs!$E$56),AND(D129>=Inputs!$F$55,D129<=Inputs!$F$56),AND(D129>=Inputs!$G$55,D129<=Inputs!$G$56),AND(D129>=Inputs!$H$55,D129<=Inputs!$H$56),IFERROR(AND(D129>=0,D129<=Inputs!$H$56-168),FALSE))","v":false},{"$f":"OR(AND(D129>=Inputs!$I$65,D129<=Inputs!$I$66),AND(D129>=Inputs!$C$65,D129<=Inputs!$C$66),AND(D129>=Inputs!$D$65,D129<=Inputs!$D$66),AND(D129>=Inputs!$E$65,D129<=Inputs!$E$66),AND(D129>=Inputs!$F$65,D129<=Inputs!$F$66),AND(D129>=Inputs!$G$65,D129<=Inputs!$G$66),AND(D129>=Inputs!$H$65,D129<=Inputs!$H$66),IFERROR(AND(D129>=0,D129<=Inputs!$H$66-168),FALSE))","v":false},{"$f":"OR(AND(D129>=Inputs!$I$75,D129<=Inputs!$I$76),AND(D129>=Inputs!$C$75,D129<=Inputs!$C$76),AND(D129>=Inputs!$D$75,D129<=Inputs!$D$76),AND(D129>=Inputs!$E$75,D129<=Inputs!$E$76),AND(D129>=Inputs!$F$75,D129<=Inputs!$F$76),AND(D129>=Inputs!$G$75,D129<=Inputs!$G$76),AND(D129>=Inputs!$H$75,D129<=Inputs!$H$76),IFERROR(AND(D129>=0,D129<=Inputs!$H$76-168),FALSE))","v":false},0,0]
[null,"Monday","20:00:00",44,{"$f":"OR(AND(D130>=Inputs!$I$45,D130<=Inputs!$I$46),AND(D130>=Inputs!$C$45,D130<=Inputs!$C$46),AND(D130>=Inputs!$D$45,D130<=Inputs!$D$46),AND(D130>=Inputs!$E$45,D130<=Inputs!$E$46),AND(D130>=Inputs!$F$45,D130<=Inputs!$F$46),AND(D130>=Inputs!$G$45,D130<=Inputs!$G$46),AND(D130>=Inputs!$H$45,D130<=Inputs!$H$46),IFERROR(AND(D130>=0,D130<=Inputs!$H$46-168),FALSE))","v":false},{"$f":"OR(AND(D130>=Inputs!$I$55,D130<=Inputs!$I$56),AND(D130>=Inputs!$C$55,D130<=Inputs!$C$56),AND(D130>=Inputs!$D$55,D130<=Inputs!$D$56),AND(D130>=Inputs!$E$55,D130<=Inputs!$E$56),AND(D130>=Inputs!$F$55,D130<=Inputs!$F$56),AND(D130>=Inputs!$G$55,D130<=Inputs!$G$56),AND(D130>=Inputs!$H$55,D130<=Inputs!$H$56),IFERROR(AND(D130>=0,D130<=Inputs!$H$56-168),FALSE))","v":false},{"$f":"OR(AND(D130>=Inputs!$I$65,D130<=Inputs!$I$66),AND(D130>=Inputs!$C$65,D130<=Inputs!$C$66),AND(D130>=Inputs!$D$65,D130<=Inputs!$D$66),AND(D130>=Inputs!$E$65,D130<=Inputs!$E$66),AND(D130>=Inputs!$F$65,D130<=Inputs!$F$66),AND(D130>=Inputs!$G$65,D130<=Inputs!$G$66),AND(D130>=Inputs!$H$65,D130<=Inputs!$H$66),IFERROR(AND(D130>=0,D130<=Inputs!$H$66-168),FALSE))","v":false},{"$f":"OR(AND(D130>=Inputs!$I$75,D130<=Inputs!$I$76),AND(D130>=Inputs!$C$75,D130<=Inputs!$C$76),AND(D130>=Inputs!$D$75,D130<=Inputs!$D$76),AND(D130>=Inputs!$E$75,D130<=Inputs!$E$76),AND(D130>=Inputs!$F$75,D130<=Inputs!$F$76),AND(D130>=Inputs!$G$75,D130<=Inputs!$G$76),AND(D130>=Inputs!$H$75,D130<=Inputs!$H$76),IFERROR(AND(D130>=0,D130<=Inputs!$H$76-168),FALSE))","v":false},0,0]
[null,"Monday","21:00:00",45,{"$f":"OR(AND(D131>=Inputs!$I$45,D131<=Inputs!$I$46),AND(D131>=Inputs!$C$45,D131<=Inputs!$C$46),AND(D131>=Inputs!$D$45,D131<=Inputs!$D$46),AND(D131>=Inputs!$E$45,D131<=Inputs!$E$46),AND(D131>=Inputs!$F$45,D131<=Inputs!$F$46),AND(D131>=Inputs!$G$45,D131<=Inputs!$G$46),AND(D131>=Inputs!$H$45,D131<=Inputs!$H$46),IFERROR(AND(D131>=0,D131<=Inputs!$H$46-168),FALSE))","v":false},{"$f":"OR(AND(D131>=Inputs!$I$55,D131<=Inputs!$I$56),AND(D131>=Inputs!$C$55,D131<=Inputs!$C$56),AND(D131>=Inputs!$D$55,D131<=Inputs!$D$56),AND(D131>=Inputs!$E$55,D131<=Inputs!$E$56),AND(D131>=Inputs!$F$55,D131<=Inputs!$F$56),AND(D131>=Inputs!$G$55,D131<=Inputs!$G$56),AND(D131>=Inputs!$H$55,D131<=Inputs!$H$56),IFERROR(AND(D131>=0,D131<=Inputs!$H$56-168),FALSE))","v":false},{"$f":"OR(AND(D131>=Inputs!$I$65,D131<=Inputs!$I$66),AND(D131>=Inputs!$C$65,D131<=Inputs!$C$66),AND(D131>=Inputs!$D$65,D131<=Inputs!$D$66),AND(D131>=Inputs!$E$65,D131<=Inputs!$E$66),AND(D131>=Inputs!$F$65,D131<=Inputs!$F$66),AND(D131>=Inputs!$G$65,D131<=Inputs!$G$66),AND(D131>=Inputs!$H$65,D131<=Inputs!$H$66),IFERROR(AND(D131>=0,D131<=Inputs!$H$66-168),FALSE))","v":false},{"$f":"OR(AND(D131>=Inputs!$I$75,D131<=Inputs!$I$76),AND(D131>=Inputs!$C$75,D131<=Inputs!$C$76),AND(D131>=Inputs!$D$75,D131<=Inputs!$D$76),AND(D131>=Inputs!$E$75,D131<=Inputs!$E$76),AND(D131>=Inputs!$F$75,D131<=Inputs!$F$76),AND(D131>=Inputs!$G$75,D131<=Inputs!$G$76),AND(D131>=Inputs!$H$75,D131<=Inputs!$H$76),IFERROR(AND(D131>=0,D131<=Inputs!$H$76-168),FALSE))","v":false},0,0]
[null,"Monday","22:00:00",46,{"$f":"OR(AND(D132>=Inputs!$I$45,D132<=Inputs!$I$46),AND(D132>=Inputs!$C$45,D132<=Inputs!$C$46),AND(D132>=Inputs!$D$45,D132<=Inputs!$D$46),AND(D132>=Inputs!$E$45,D132<=Inputs!$E$46),AND(D132>=Inputs!$F$45,D132<=Inputs!$F$46),AND(D132>=Inputs!$G$45,D132<=Inputs!$G$46),AND(D132>=Inputs!$H$45,D132<=Inputs!$H$46),IFERROR(AND(D132>=0,D132<=Inputs!$H$46-168),FALSE))","v":false},{"$f":"OR(AND(D132>=Inputs!$I$55,D132<=Inputs!$I$56),AND(D132>=Inputs!$C$55,D132<=Inputs!$C$56),AND(D132>=Inputs!$D$55,D132<=Inputs!$D$56),AND(D132>=Inputs!$E$55,D132<=Inputs!$E$56),AND(D132>=Inputs!$F$55,D132<=Inputs!$F$56),AND(D132>=Inputs!$G$55,D132<=Inputs!$G$56),AND(D132>=Inputs!$H$55,D132<=Inputs!$H$56),IFERROR(AND(D132>=0,D132<=Inputs!$H$56-168),FALSE))","v":false},{"$f":"OR(AND(D132>=Inputs!$I$65,D132<=Inputs!$I$66),AND(D132>=Inputs!$C$65,D132<=Inputs!$C$66),AND(D132>=Inputs!$D$65,D132<=Inputs!$D$66),AND(D132>=Inputs!$E$65,D132<=Inputs!$E$66),AND(D132>=Inputs!$F$65,D132<=Inputs!$F$66),AND(D132>=Inputs!$G$65,D132<=Inputs!$G$66),AND(D132>=Inputs!$H$65,D132<=Inputs!$H$66),IFERROR(AND(D132>=0,D132<=Inputs!$H$66-168),FALSE))","v":false},{"$f":"OR(AND(D132>=Inputs!$I$75,D132<=Inputs!$I$76),AND(D132>=Inputs!$C$75,D132<=Inputs!$C$76),AND(D132>=Inputs!$D$75,D132<=Inputs!$D$76),AND(D132>=Inputs!$E$75,D132<=Inputs!$E$76),AND(D132>=Inputs!$F$75,D132<=Inputs!$F$76),AND(D132>=Inputs!$G$75,D132<=Inputs!$G$76),AND(D132>=Inputs!$H$75,D132<=Inputs!$H$76),IFERROR(AND(D132>=0,D132<=Inputs!$H$76-168),FALSE))","v":false},0,0]
[null,"Monday","23:00:00",47,{"$f":"OR(AND(D133>=Inputs!$I$45,D133<=Inputs!$I$46),AND(D133>=Inputs!$C$45,D133<=Inputs!$C$46),AND(D133>=Inputs!$D$45,D133<=Inputs!$D$46),AND(D133>=Inputs!$E$45,D133<=Inputs!$E$46),AND(D133>=Inputs!$F$45,D133<=Inputs!$F$46),AND(D133>=Inputs!$G$45,D133<=Inputs!$G$46),AND(D133>=Inputs!$H$45,D133<=Inputs!$H$46),IFERROR(AND(D133>=0,D133<=Inputs!$H$46-168),FALSE))","v":false},{"$f":"OR(AND(D133>=Inputs!$I$55,D133<=Inputs!$I$56),AND(D133>=Inputs!$C$55,D133<=Inputs!$C$56),AND(D133>=Inputs!$D$55,D133<=Inputs!$D$56),AND(D133>=Inputs!$E$55,D133<=Inputs!$E$56),AND(D133>=Inputs!$F$55,D133<=Inputs!$F$56),AND(D133>=Inputs!$G$55,D133<=Inputs!$G$56),AND(D133>=Inputs!$H$55,D133<=Inputs!$H$56),IFERROR(AND(D133>=0,D133<=Inputs!$H$56-168),FALSE))","v":false},{"$f":"OR(AND(D133>=Inputs!$I$65,D133<=Inputs!$I$66),AND(D133>=Inputs!$C$65,D133<=Inputs!$C$66),AND(D133>=Inputs!$D$65,D133<=Inputs!$D$66),AND(D133>=Inputs!$E$65,D133<=Inputs!$E$66),AND(D133>=Inputs!$F$65,D133<=Inputs!$F$66),AND(D133>=Inputs!$G$65,D133<=Inputs!$G$66),AND(D133>=Inputs!$H$65,D133<=Inputs!$H$66),IFERROR(AND(D133>=0,D133<=Inputs!$H$66-168),FALSE))","v":false},{"$f":"OR(AND(D133>=Inputs!$I$75,D133<=Inputs!$I$76),AND(D133>=Inputs!$C$75,D133<=Inputs!$C$76),AND(D133>=Inputs!$D$75,D133<=Inputs!$D$76),AND(D133>=Inputs!$E$75,D133<=Inputs!$E$76),AND(D133>=Inputs!$F$75,D133<=Inputs!$F$76),AND(D133>=Inputs!$G$75,D133<=Inputs!$G$76),AND(D133>=Inputs!$H$75,D133<=Inputs!$H$76),IFERROR(AND(D133>=0,D133<=Inputs!$H$76-168),FALSE))","v":false},0,0]
[null,"Tuesday","00:00:00",48,{"$f":"OR(AND(D134>=Inputs!$I$45,D134<=Inputs!$I$46),AND(D134>=Inputs!$C$45,D134<=Inputs!$C$46),AND(D134>=Inputs!$D$45,D134<=Inputs!$D$46),AND(D134>=Inputs!$E$45,D134<=Inputs!$E$46),AND(D134>=Inputs!$F$45,D134<=Inputs!$F$46),AND(D134>=Inputs!$G$45,D134<=Inputs!$G$46),AND(D134>=Inputs!$H$45,D134<=Inputs!$H$46),IFERROR(AND(D134>=0,D134<=Inputs!$H$46-168),FALSE))","v":false},{"$f":"OR(AND(D134>=Inputs!$I$55,D134<=Inputs!$I$56),AND(D134>=Inputs!$C$55,D134<=Inputs!$C$56),AND(D134>=Inputs!$D$55,D134<=Inputs!$D$56),AND(D134>=Inputs!$E$55,D134<=Inputs!$E$56),AND(D134>=Inputs!$F$55,D134<=Inputs!$F$56),AND(D134>=Inputs!$G$55,D134<=Inputs!$G$56),AND(D134>=Inputs!$H$55,D134<=Inputs!$H$56),IFERROR(AND(D134>=0,D134<=Inputs!$H$56-168),FALSE))","v":false},{"$f":"OR(AND(D134>=Inputs!$I$65,D134<=Inputs!$I$66),AND(D134>=Inputs!$C$65,D134<=Inputs!$C$66),AND(D134>=Inputs!$D$65,D134<=Inputs!$D$66),AND(D134>=Inputs!$E$65,D134<=Inputs!$E$66),AND(D134>=Inputs!$F$65,D134<=Inputs!$F$66),AND(D134>=Inputs!$G$65,D134<=Inputs!$G$66),AND(D134>=Inputs!$H$65,D134<=Inputs!$H$66),IFERROR(AND(D134>=0,D134<=Inputs!$H$66-168),FALSE))","v":false},{"$f":"OR(AND(D134>=Inputs!$I$75,D134<=Inputs!$I$76),AND(D134>=Inputs!$C$75,D134<=Inputs!$C$76),AND(D134>=Inputs!$D$75,D134<=Inputs!$D$76),AND(D134>=Inputs!$E$75,D134<=Inputs!$E$76),AND(D134>=Inputs!$F$75,D134<=Inputs!$F$76),AND(D134>=Inputs!$G$75,D134<=Inputs!$G$76),AND(D134>=Inputs!$H$75,D134<=Inputs!$H$76),IFERROR(AND(D134>=0,D134<=Inputs!$H$76-168),FALSE))","v":false},0,0]
[null,"Tuesday","01:00:00",49,{"$f":"OR(AND(D135>=Inputs!$I$45,D135<=Inputs!$I$46),AND(D135>=Inputs!$C$45,D135<=Inputs!$C$46),AND(D135>=Inputs!$D$45,D135<=Inputs!$D$46),AND(D135>=Inputs!$E$45,D135<=Inputs!$E$46),AND(D135>=Inputs!$F$45,D135<=Inputs!$F$46),AND(D135>=Inputs!$G$45,D135<=Inputs!$G$46),AND(D135>=Inputs!$H$45,D135<=Inputs!$H$46),IFERROR(AND(D135>=0,D135<=Inputs!$H$46-168),FALSE))","v":false},{"$f":"OR(AND(D135>=Inputs!$I$55,D135<=Inputs!$I$56),AND(D135>=Inputs!$C$55,D135<=Inputs!$C$56),AND(D135>=Inputs!$D$55,D135<=Inputs!$D$56),AND(D135>=Inputs!$E$55,D135<=Inputs!$E$56),AND(D135>=Inputs!$F$55,D135<=Inputs!$F$56),AND(D135>=Inputs!$G$55,D135<=Inputs!$G$56),AND(D135>=Inputs!$H$55,D135<=Inputs!$H$56),IFERROR(AND(D135>=0,D135<=Inputs!$H$56-168),FALSE))","v":false},{"$f":"OR(AND(D135>=Inputs!$I$65,D135<=Inputs!$I$66),AND(D135>=Inputs!$C$65,D135<=Inputs!$C$66),AND(D135>=Inputs!$D$65,D135<=Inputs!$D$66),AND(D135>=Inputs!$E$65,D135<=Inputs!$E$66),AND(D135>=Inputs!$F$65,D135<=Inputs!$F$66),AND(D135>=Inputs!$G$65,D135<=Inputs!$G$66),AND(D135>=Inputs!$H$65,D135<=Inputs!$H$66),IFERROR(AND(D135>=0,D135<=Inputs!$H$66-168),FALSE))","v":false},{"$f":"OR(AND(D135>=Inputs!$I$75,D135<=Inputs!$I$76),AND(D135>=Inputs!$C$75,D135<=Inputs!$C$76),AND(D135>=Inputs!$D$75,D135<=Inputs!$D$76),AND(D135>=Inputs!$E$75,D135<=Inputs!$E$76),AND(D135>=Inputs!$F$75,D135<=Inputs!$F$76),AND(D135>=Inputs!$G$75,D135<=Inputs!$G$76),AND(D135>=Inputs!$H$75,D135<=Inputs!$H$76),IFERROR(AND(D135>=0,D135<=Inputs!$H$76-168),FALSE))","v":false},0,0]
[null,"Tuesday","02:00:00",50,{"$f":"OR(AND(D136>=Inputs!$I$45,D136<=Inputs!$I$46),AND(D136>=Inputs!$C$45,D136<=Inputs!$C$46),AND(D136>=Inputs!$D$45,D136<=Inputs!$D$46),AND(D136>=Inputs!$E$45,D136<=Inputs!$E$46),AND(D136>=Inputs!$F$45,D136<=Inputs!$F$46),AND(D136>=Inputs!$G$45,D136<=Inputs!$G$46),AND(D136>=Inputs!$H$45,D136<=Inputs!$H$46),IFERROR(AND(D136>=0,D136<=Inputs!$H$46-168),FALSE))","v":false},{"$f":"OR(AND(D136>=Inputs!$I$55,D136<=Inputs!$I$56),AND(D136>=Inputs!$C$55,D136<=Inputs!$C$56),AND(D136>=Inputs!$D$55,D136<=Inputs!$D$56),AND(D136>=Inputs!$E$55,D136<=Inputs!$E$56),AND(D136>=Inputs!$F$55,D136<=Inputs!$F$56),AND(D136>=Inputs!$G$55,D136<=Inputs!$G$56),AND(D136>=Inputs!$H$55,D136<=Inputs!$H$56),IFERROR(AND(D136>=0,D136<=Inputs!$H$56-168),FALSE))","v":false},{"$f":"OR(AND(D136>=Inputs!$I$65,D136<=Inputs!$I$66),AND(D136>=Inputs!$C$65,D136<=Inputs!$C$66),AND(D136>=Inputs!$D$65,D136<=Inputs!$D$66),AND(D136>=Inputs!$E$65,D136<=Inputs!$E$66),AND(D136>=Inputs!$F$65,D136<=Inputs!$F$66),AND(D136>=Inputs!$G$65,D136<=Inputs!$G$66),AND(D136>=Inputs!$H$65,D136<=Inputs!$H$66),IFERROR(AND(D136>=0,D136<=Inputs!$H$66-168),FALSE))","v":false},{"$f":"OR(AND(D136>=Inputs!$I$75,D136<=Inputs!$I$76),AND(D136>=Inputs!$C$75,D136<=Inputs!$C$76),AND(D136>=Inputs!$D$75,D136<=Inputs!$D$76),AND(D136>=Inputs!$E$75,D136<=Inputs!$E$76),AND(D136>=Inputs!$F$75,D136<=Inputs!$F$76),AND(D136>=Inputs!$G$75,D136<=Inputs!$G$76),AND(D136>=Inputs!$H$75,D136<=Inputs!$H$76),IFERROR(AND(D136>=0,D136<=Inputs!$H$76-168),FALSE))","v":false},0,0]
[null,"Tuesday","03:00:00",51,{"$f":"OR(AND(D137>=Inputs!$I$45,D137<=Inputs!$I$46),AND(D137>=Inputs!$C$45,D137<=Inputs!$C$46),AND(D137>=Inputs!$D$45,D137<=Inputs!$D$46),AND(D137>=Inputs!$E$45,D137<=Inputs!$E$46),AND(D137>=Inputs!$F$45,D137<=Inputs!$F$46),AND(D137>=Inputs!$G$45,D137<=Inputs!$G$46),AND(D137>=Inputs!$H$45,D137<=Inputs!$H$46),IFERROR(AND(D137>=0,D137<=Inputs!$H$46-168),FALSE))","v":false},{"$f":"OR(AND(D137>=Inputs!$I$55,D137<=Inputs!$I$56),AND(D137>=Inputs!$C$55,D137<=Inputs!$C$56),AND(D137>=Inputs!$D$55,D137<=Inputs!$D$56),AND(D137>=Inputs!$E$55,D137<=Inputs!$E$56),AND(D137>=Inputs!$F$55,D137<=Inputs!$F$56),AND(D137>=Inputs!$G$55,D137<=Inputs!$G$56),AND(D137>=Inputs!$H$55,D137<=Inputs!$H$56),IFERROR(AND(D137>=0,D137<=Inputs!$H$56-168),FALSE))","v":false},{"$f":"OR(AND(D137>=Inputs!$I$65,D137<=Inputs!$I$66),AND(D137>=Inputs!$C$65,D137<=Inputs!$C$66),AND(D137>=Inputs!$D$65,D137<=Inputs!$D$66),AND(D137>=Inputs!$E$65,D137<=Inputs!$E$66),AND(D137>=Inputs!$F$65,D137<=Inputs!$F$66),AND(D137>=Inputs!$G$65,D137<=Inputs!$G$66),AND(D137>=Inputs!$H$65,D137<=Inputs!$H$66),IFERROR(AND(D137>=0,D137<=Inputs!$H$66-168),FALSE))","v":false},{"$f":"OR(AND(D137>=Inputs!$I$75,D137<=Inputs!$I$76),AND(D137>=Inputs!$C$75,D137<=Inputs!$C$76),AND(D137>=Inputs!$D$75,D137<=Inputs!$D$76),AND(D137>=Inputs!$E$75,D137<=Inputs!$E$76),AND(D137>=Inputs!$F$75,D137<=Inputs!$F$76),AND(D137>=Inputs!$G$75,D137<=Inputs!$G$76),AND(D137>=Inputs!$H$75,D137<=Inputs!$H$76),IFERROR(AND(D137>=0,D137<=Inputs!$H$76-168),FALSE))","v":false},0,0]
[null,"Tuesday","04:00:00",52,{"$f":"OR(AND(D138>=Inputs!$I$45,D138<=Inputs!$I$46),AND(D138>=Inputs!$C$45,D138<=Inputs!$C$46),AND(D138>=Inputs!$D$45,D138<=Inputs!$D$46),AND(D138>=Inputs!$E$45,D138<=Inputs!$E$46),AND(D138>=Inputs!$F$45,D138<=Inputs!$F$46),AND(D138>=Inputs!$G$45,D138<=Inputs!$G$46),AND(D138>=Inputs!$H$45,D138<=Inputs!$H$46),IFERROR(AND(D138>=0,D138<=Inputs!$H$46-168),FALSE))","v":false},{"$f":"OR(AND(D138>=Inputs!$I$55,D138<=Inputs!$I$56),AND(D138>=Inputs!$C$55,D138<=Inputs!$C$56),AND(D138>=Inputs!$D$55,D138<=Inputs!$D$56),AND(D138>=Inputs!$E$55,D138<=Inputs!$E$56),AND(D138>=Inputs!$F$55,D138<=Inputs!$F$56),AND(D138>=Inputs!$G$55,D138<=Inputs!$G$56),AND(D138>=Inputs!$H$55,D138<=Inputs!$H$56),IFERROR(AND(D138>=0,D138<=Inputs!$H$56-168),FALSE))","v":false},{"$f":"OR(AND(D138>=Inputs!$I$65,D138<=Inputs!$I$66),AND(D138>=Inputs!$C$65,D138<=Inputs!$C$66),AND(D138>=Inputs!$D$65,D138<=Inputs!$D$66),AND(D138>=Inputs!$E$65,D138<=Inputs!$E$66),AND(D138>=Inputs!$F$65,D138<=Inputs!$F$66),AND(D138>=Inputs!$G$65,D138<=Inputs!$G$66),AND(D138>=Inputs!$H$65,D138<=Inputs!$H$66),IFERROR(AND(D138>=0,D138<=Inputs!$H$66-168),FALSE))","v":false},{"$f":"OR(AND(D138>=Inputs!$I$75,D138<=Inputs!$I$76),AND(D138>=Inputs!$C$75,D138<=Inputs!$C$76),AND(D138>=Inputs!$D$75,D138<=Inputs!$D$76),AND(D138>=Inputs!$E$75,D138<=Inputs!$E$76),AND(D138>=Inputs!$F$75,D138<=Inputs!$F$76),AND(D138>=Inputs!$G$75,D138<=Inputs!$G$76),AND(D138>=Inputs!$H$75,D138<=Inputs!$H$76),IFERROR(AND(D138>=0,D138<=Inputs!$H$76-168),FALSE))","v":false},0,0]
[null,"Tuesday","05:00:00",53,{"$f":"OR(AND(D139>=Inputs!$I$45,D139<=Inputs!$I$46),AND(D139>=Inputs!$C$45,D139<=Inputs!$C$46),AND(D139>=Inputs!$D$45,D139<=Inputs!$D$46),AND(D139>=Inputs!$E$45,D139<=Inputs!$E$46),AND(D139>=Inputs!$F$45,D139<=Inputs!$F$46),AND(D139>=Inputs!$G$45,D139<=Inputs!$G$46),AND(D139>=Inputs!$H$45,D139<=Inputs!$H$46),IFERROR(AND(D139>=0,D139<=Inputs!$H$46-168),FALSE))","v":false},{"$f":"OR(AND(D139>=Inputs!$I$55,D139<=Inputs!$I$56),AND(D139>=Inputs!$C$55,D139<=Inputs!$C$56),AND(D139>=Inputs!$D$55,D139<=Inputs!$D$56),AND(D139>=Inputs!$E$55,D139<=Inputs!$E$56),AND(D139>=Inputs!$F$55,D139<=Inputs!$F$56),AND(D139>=Inputs!$G$55,D139<=Inputs!$G$56),AND(D139>=Inputs!$H$55,D139<=Inputs!$H$56),IFERROR(AND(D139>=0,D139<=Inputs!$H$56-168),FALSE))","v":false},{"$f":"OR(AND(D139>=Inputs!$I$65,D139<=Inputs!$I$66),AND(D139>=Inputs!$C$65,D139<=Inputs!$C$66),AND(D139>=Inputs!$D$65,D139<=Inputs!$D$66),AND(D139>=Inputs!$E$65,D139<=Inputs!$E$66),AND(D139>=Inputs!$F$65,D139<=Inputs!$F$66),AND(D139>=Inputs!$G$65,D139<=Inputs!$G$66),AND(D139>=Inputs!$H$65,D139<=Inputs!$H$66),IFERROR(AND(D139>=0,D139<=Inputs!$H$66-168),FALSE))","v":false},{"$f":"OR(AND(D139>=Inputs!$I$75,D139<=Inputs!$I$76),AND(D139>=Inputs!$C$75,D139<=Inputs!$C$76),AND(D139>=Inputs!$D$75,D139<=Inputs!$D$76),AND(D139>=Inputs!$E$75,D139<=Inputs!$E$76),AND(D139>=Inputs!$F$75,D139<=Inputs!$F$76),AND(D139>=Inputs!$G$75,D139<=Inputs!$G$76),AND(D139>=Inputs!$H$75,D139<=Inputs!$H$76),IFERROR(AND(D139>=0,D139<=Inputs!$H$76-168),FALSE))","v":false},0,0]
[null,"Tuesday","06:00:00",54,{"$f":"OR(AND(D140>=Inputs!$I$45,D140<=Inputs!$I$46),AND(D140>=Inputs!$C$45,D140<=Inputs!$C$46),AND(D140>=Inputs!$D$45,D140<=Inputs!$D$46),AND(D140>=Inputs!$E$45,D140<=Inputs!$E$46),AND(D140>=Inputs!$F$45,D140<=Inputs!$F$46),AND(D140>=Inputs!$G$45,D140<=Inputs!$G$46),AND(D140>=Inputs!$H$45,D140<=Inputs!$H$46),IFERROR(AND(D140>=0,D140<=Inputs!$H$46-168),FALSE))","v":false},{"$f":"OR(AND(D140>=Inputs!$I$55,D140<=Inputs!$I$56),AND(D140>=Inputs!$C$55,D140<=Inputs!$C$56),AND(D140>=Inputs!$D$55,D140<=Inputs!$D$56),AND(D140>=Inputs!$E$55,D140<=Inputs!$E$56),AND(D140>=Inputs!$F$55,D140<=Inputs!$F$56),AND(D140>=Inputs!$G$55,D140<=Inputs!$G$56),AND(D140>=Inputs!$H$55,D140<=Inputs!$H$56),IFERROR(AND(D140>=0,D140<=Inputs!$H$56-168),FALSE))","v":false},{"$f":"OR(AND(D140>=Inputs!$I$65,D140<=Inputs!$I$66),AND(D140>=Inputs!$C$65,D140<=Inputs!$C$66),AND(D140>=Inputs!$D$65,D140<=Inputs!$D$66),AND(D140>=Inputs!$E$65,D140<=Inputs!$E$66),AND(D140>=Inputs!$F$65,D140<=Inputs!$F$66),AND(D140>=Inputs!$G$65,D140<=Inputs!$G$66),AND(D140>=Inputs!$H$65,D140<=Inputs!$H$66),IFERROR(AND(D140>=0,D140<=Inputs!$H$66-168),FALSE))","v":false},{"$f":"OR(AND(D140>=Inputs!$I$75,D140<=Inputs!$I$76),AND(D140>=Inputs!$C$75,D140<=Inputs!$C$76),AND(D140>=Inputs!$D$75,D140<=Inputs!$D$76),AND(D140>=Inputs!$E$75,D140<=Inputs!$E$76),AND(D140>=Inputs!$F$75,D140<=Inputs!$F$76),AND(D140>=Inputs!$G$75,D140<=Inputs!$G$76),AND(D140>=Inputs!$H$75,D140<=Inputs!$H$76),IFERROR(AND(D140>=0,D140<=Inputs!$H$76-168),FALSE))","v":false},0,0]
[null,"Tuesday","07:00:00",55,{"$f":"OR(AND(D141>=Inputs!$I$45,D141<=Inputs!$I$46),AND(D141>=Inputs!$C$45,D141<=Inputs!$C$46),AND(D141>=Inputs!$D$45,D141<=Inputs!$D$46),AND(D141>=Inputs!$E$45,D141<=Inputs!$E$46),AND(D141>=Inputs!$F$45,D141<=Inputs!$F$46),AND(D141>=Inputs!$G$45,D141<=Inputs!$G$46),AND(D141>=Inputs!$H$45,D141<=Inputs!$H$46),IFERROR(AND(D141>=0,D141<=Inputs!$H$46-168),FALSE))","v":false},{"$f":"OR(AND(D141>=Inputs!$I$55,D141<=Inputs!$I$56),AND(D141>=Inputs!$C$55,D141<=Inputs!$C$56),AND(D141>=Inputs!$D$55,D141<=Inputs!$D$56),AND(D141>=Inputs!$E$55,D141<=Inputs!$E$56),AND(D141>=Inputs!$F$55,D141<=Inputs!$F$56),AND(D141>=Inputs!$G$55,D141<=Inputs!$G$56),AND(D141>=Inputs!$H$55,D141<=Inputs!$H$56),IFERROR(AND(D141>=0,D141<=Inputs!$H$56-168),FALSE))","v":false},{"$f":"OR(AND(D141>=Inputs!$I$65,D141<=Inputs!$I$66),AND(D141>=Inputs!$C$65,D141<=Inputs!$C$66),AND(D141>=Inputs!$D$65,D141<=Inputs!$D$66),AND(D141>=Inputs!$E$65,D141<=Inputs!$E$66),AND(D141>=Inputs!$F$65,D141<=Inputs!$F$66),AND(D141>=Inputs!$G$65,D141<=Inputs!$G$66),AND(D141>=Inputs!$H$65,D141<=Inputs!$H$66),IFERROR(AND(D141>=0,D141<=Inputs!$H$66-168),FALSE))","v":false},{"$f":"OR(AND(D141>=Inputs!$I$75,D141<=Inputs!$I$76),AND(D141>=Inputs!$C$75,D141<=Inputs!$C$76),AND(D141>=Inputs!$D$75,D141<=Inputs!$D$76),AND(D141>=Inputs!$E$75,D141<=Inputs!$E$76),AND(D141>=Inputs!$F$75,D141<=Inputs!$F$76),AND(D141>=Inputs!$G$75,D141<=Inputs!$G$76),AND(D141>=Inputs!$H$75,D141<=Inputs!$H$76),IFERROR(AND(D141>=0,D141<=Inputs!$H$76-168),FALSE))","v":false},0,0]
[null,"Tuesday","08:00:00",56,{"$f":"OR(AND(D142>=Inputs!$I$45,D142<=Inputs!$I$46),AND(D142>=Inputs!$C$45,D142<=Inputs!$C$46),AND(D142>=Inputs!$D$45,D142<=Inputs!$D$46),AND(D142>=Inputs!$E$45,D142<=Inputs!$E$46),AND(D142>=Inputs!$F$45,D142<=Inputs!$F$46),AND(D142>=Inputs!$G$45,D142<=Inputs!$G$46),AND(D142>=Inputs!$H$45,D142<=Inputs!$H$46),IFERROR(AND(D142>=0,D142<=Inputs!$H$46-168),FALSE))","v":false},{"$f":"OR(AND(D142>=Inputs!$I$55,D142<=Inputs!$I$56),AND(D142>=Inputs!$C$55,D142<=Inputs!$C$56),AND(D142>=Inputs!$D$55,D142<=Inputs!$D$56),AND(D142>=Inputs!$E$55,D142<=Inputs!$E$56),AND(D142>=Inputs!$F$55,D142<=Inputs!$F$56),AND(D142>=Inputs!$G$55,D142<=Inputs!$G$56),AND(D142>=Inputs!$H$55,D142<=Inputs!$H$56),IFERROR(AND(D142>=0,D142<=Inputs!$H$56-168),FALSE))","v":false},{"$f":"OR(AND(D142>=Inputs!$I$65,D142<=Inputs!$I$66),AND(D142>=Inputs!$C$65,D142<=Inputs!$C$66),AND(D142>=Inputs!$D$65,D142<=Inputs!$D$66),AND(D142>=Inputs!$E$65,D142<=Inputs!$E$66),AND(D142>=Inputs!$F$65,D142<=Inputs!$F$66),AND(D142>=Inputs!$G$65,D142<=Inputs!$G$66),AND(D142>=Inputs!$H$65,D142<=Inputs!$H$66),IFERROR(AND(D142>=0,D142<=Inputs!$H$66-168),FALSE))","v":false},{"$f":"OR(AND(D142>=Inputs!$I$75,D142<=Inputs!$I$76),AND(D142>=Inputs!$C$75,D142<=Inputs!$C$76),AND(D142>=Inputs!$D$75,D142<=Inputs!$D$76),AND(D142>=Inputs!$E$75,D142<=Inputs!$E$76),AND(D142>=Inputs!$F$75,D142<=Inputs!$F$76),AND(D142>=Inputs!$G$75,D142<=Inputs!$G$76),AND(D142>=Inputs!$H$75,D142<=Inputs!$H$76),IFERROR(AND(D142>=0,D142<=Inputs!$H$76-168),FALSE))","v":false},0,0]
[null,"Tuesday","09:00:00",57,{"$f":"OR(AND(D143>=Inputs!$I$45,D143<=Inputs!$I$46),AND(D143>=Inputs!$C$45,D143<=Inputs!$C$46),AND(D143>=Inputs!$D$45,D143<=Inputs!$D$46),AND(D143>=Inputs!$E$45,D143<=Inputs!$E$46),AND(D143>=Inputs!$F$45,D143<=Inputs!$F$46),AND(D143>=Inputs!$G$45,D143<=Inputs!$G$46),AND(D143>=Inputs!$H$45,D143<=Inputs!$H$46),IFERROR(AND(D143>=0,D143<=Inputs!$H$46-168),FALSE))","v":true},{"$f":"OR(AND(D143>=Inputs!$I$55,D143<=Inputs!$I$56),AND(D143>=Inputs!$C$55,D143<=Inputs!$C$56),AND(D143>=Inputs!$D$55,D143<=Inputs!$D$56),AND(D143>=Inputs!$E$55,D143<=Inputs!$E$56),AND(D143>=Inputs!$F$55,D143<=Inputs!$F$56),AND(D143>=Inputs!$G$55,D143<=Inputs!$G$56),AND(D143>=Inputs!$H$55,D143<=Inputs!$H$56),IFERROR(AND(D143>=0,D143<=Inputs!$H$56-168),FALSE))","v":false},{"$f":"OR(AND(D143>=Inputs!$I$65,D143<=Inputs!$I$66),AND(D143>=Inputs!$C$65,D143<=Inputs!$C$66),AND(D143>=Inputs!$D$65,D143<=Inputs!$D$66),AND(D143>=Inputs!$E$65,D143<=Inputs!$E$66),AND(D143>=Inputs!$F$65,D143<=Inputs!$F$66),AND(D143>=Inputs!$G$65,D143<=Inputs!$G$66),AND(D143>=Inputs!$H$65,D143<=Inputs!$H$66),IFERROR(AND(D143>=0,D143<=Inputs!$H$66-168),FALSE))","v":false},{"$f":"OR(AND(D143>=Inputs!$I$75,D143<=Inputs!$I$76),AND(D143>=Inputs!$C$75,D143<=Inputs!$C$76),AND(D143>=Inputs!$D$75,D143<=Inputs!$D$76),AND(D143>=Inputs!$E$75,D143<=Inputs!$E$76),AND(D143>=Inputs!$F$75,D143<=Inputs!$F$76),AND(D143>=Inputs!$G$75,D143<=Inputs!$G$76),AND(D143>=Inputs!$H$75,D143<=Inputs!$H$76),IFERROR(AND(D143>=0,D143<=Inputs!$H$76-168),FALSE))","v":false},1,0]
[null,"Tuesday","10:00:00",58,{"$f":"OR(AND(D144>=Inputs!$I$45,D144<=Inputs!$I$46),AND(D144>=Inputs!$C$45,D144<=Inputs!$C$46),AND(D144>=Inputs!$D$45,D144<=Inputs!$D$46),AND(D144>=Inputs!$E$45,D144<=Inputs!$E$46),AND(D144>=Inputs!$F$45,D144<=Inputs!$F$46),AND(D144>=Inputs!$G$45,D144<=Inputs!$G$46),AND(D144>=Inputs!$H$45,D144<=Inputs!$H$46),IFERROR(AND(D144>=0,D144<=Inputs!$H$46-168),FALSE))","v":true},{"$f":"OR(AND(D144>=Inputs!$I$55,D144<=Inputs!$I$56),AND(D144>=Inputs!$C$55,D144<=Inputs!$C$56),AND(D144>=Inputs!$D$55,D144<=Inputs!$D$56),AND(D144>=Inputs!$E$55,D144<=Inputs!$E$56),AND(D144>=Inputs!$F$55,D144<=Inputs!$F$56),AND(D144>=Inputs!$G$55,D144<=Inputs!$G$56),AND(D144>=Inputs!$H$55,D144<=Inputs!$H$56),IFERROR(AND(D144>=0,D144<=Inputs!$H$56-168),FALSE))","v":false},{"$f":"OR(AND(D144>=Inputs!$I$65,D144<=Inputs!$I$66),AND(D144>=Inputs!$C$65,D144<=Inputs!$C$66),AND(D144>=Inputs!$D$65,D144<=Inputs!$D$66),AND(D144>=Inputs!$E$65,D144<=Inputs!$E$66),AND(D144>=Inputs!$F$65,D144<=Inputs!$F$66),AND(D144>=Inputs!$G$65,D144<=Inputs!$G$66),AND(D144>=Inputs!$H$65,D144<=Inputs!$H$66),IFERROR(AND(D144>=0,D144<=Inputs!$H$66-168),FALSE))","v":false},{"$f":"OR(AND(D144>=Inputs!$I$75,D144<=Inputs!$I$76),AND(D144>=Inputs!$C$75,D144<=Inputs!$C$76),AND(D144>=Inputs!$D$75,D144<=Inputs!$D$76),AND(D144>=Inputs!$E$75,D144<=Inputs!$E$76),AND(D144>=Inputs!$F$75,D144<=Inputs!$F$76),AND(D144>=Inputs!$G$75,D144<=Inputs!$G$76),AND(D144>=Inputs!$H$75,D144<=Inputs!$H$76),IFERROR(AND(D144>=0,D144<=Inputs!$H$76-168),FALSE))","v":false},1,0]
[null,"Tuesday","11:00:00",59,{"$f":"OR(AND(D145>=Inputs!$I$45,D145<=Inputs!$I$46),AND(D145>=Inputs!$C$45,D145<=Inputs!$C$46),AND(D145>=Inputs!$D$45,D145<=Inputs!$D$46),AND(D145>=Inputs!$E$45,D145<=Inputs!$E$46),AND(D145>=Inputs!$F$45,D145<=Inputs!$F$46),AND(D145>=Inputs!$G$45,D145<=Inputs!$G$46),AND(D145>=Inputs!$H$45,D145<=Inputs!$H$46),IFERROR(AND(D145>=0,D145<=Inputs!$H$46-168),FALSE))","v":true},{"$f":"OR(AND(D145>=Inputs!$I$55,D145<=Inputs!$I$56),AND(D145>=Inputs!$C$55,D145<=Inputs!$C$56),AND(D145>=Inputs!$D$55,D145<=Inputs!$D$56),AND(D145>=Inputs!$E$55,D145<=Inputs!$E$56),AND(D145>=Inputs!$F$55,D145<=Inputs!$F$56),AND(D145>=Inputs!$G$55,D145<=Inputs!$G$56),AND(D145>=Inputs!$H$55,D145<=Inputs!$H$56),IFERROR(AND(D145>=0,D145<=Inputs!$H$56-168),FALSE))","v":false},{"$f":"OR(AND(D145>=Inputs!$I$65,D145<=Inputs!$I$66),AND(D145>=Inputs!$C$65,D145<=Inputs!$C$66),AND(D145>=Inputs!$D$65,D145<=Inputs!$D$66),AND(D145>=Inputs!$E$65,D145<=Inputs!$E$66),AND(D145>=Inputs!$F$65,D145<=Inputs!$F$66),AND(D145>=Inputs!$G$65,D145<=Inputs!$G$66),AND(D145>=Inputs!$H$65,D145<=Inputs!$H$66),IFERROR(AND(D145>=0,D145<=Inputs!$H$66-168),FALSE))","v":false},{"$f":"OR(AND(D145>=Inputs!$I$75,D145<=Inputs!$I$76),AND(D145>=Inputs!$C$75,D145<=Inputs!$C$76),AND(D145>=Inputs!$D$75,D145<=Inputs!$D$76),AND(D145>=Inputs!$E$75,D145<=Inputs!$E$76),AND(D145>=Inputs!$F$75,D145<=Inputs!$F$76),AND(D145>=Inputs!$G$75,D145<=Inputs!$G$76),AND(D145>=Inputs!$H$75,D145<=Inputs!$H$76),IFERROR(AND(D145>=0,D145<=Inputs!$H$76-168),FALSE))","v":false},1,0]
[null,"Tuesday","12:00:00",60,{"$f":"OR(AND(D146>=Inputs!$I$45,D146<=Inputs!$I$46),AND(D146>=Inputs!$C$45,D146<=Inputs!$C$46),AND(D146>=Inputs!$D$45,D146<=Inputs!$D$46),AND(D146>=Inputs!$E$45,D146<=Inputs!$E$46),AND(D146>=Inputs!$F$45,D146<=Inputs!$F$46),AND(D146>=Inputs!$G$45,D146<=Inputs!$G$46),AND(D146>=Inputs!$H$45,D146<=Inputs!$H$46),IFERROR(AND(D146>=0,D146<=Inputs!$H$46-168),FALSE))","v":true},{"$f":"OR(AND(D146>=Inputs!$I$55,D146<=Inputs!$I$56),AND(D146>=Inputs!$C$55,D146<=Inputs!$C$56),AND(D146>=Inputs!$D$55,D146<=Inputs!$D$56),AND(D146>=Inputs!$E$55,D146<=Inputs!$E$56),AND(D146>=Inputs!$F$55,D146<=Inputs!$F$56),AND(D146>=Inputs!$G$55,D146<=Inputs!$G$56),AND(D146>=Inputs!$H$55,D146<=Inputs!$H$56),IFERROR(AND(D146>=0,D146<=Inputs!$H$56-168),FALSE))","v":false},{"$f":"OR(AND(D146>=Inputs!$I$65,D146<=Inputs!$I$66),AND(D146>=Inputs!$C$65,D146<=Inputs!$C$66),AND(D146>=Inputs!$D$65,D146<=Inputs!$D$66),AND(D146>=Inputs!$E$65,D146<=Inputs!$E$66),AND(D146>=Inputs!$F$65,D146<=Inputs!$F$66),AND(D146>=Inputs!$G$65,D146<=Inputs!$G$66),AND(D146>=Inputs!$H$65,D146<=Inputs!$H$66),IFERROR(AND(D146>=0,D146<=Inputs!$H$66-168),FALSE))","v":false},{"$f":"OR(AND(D146>=Inputs!$I$75,D146<=Inputs!$I$76),AND(D146>=Inputs!$C$75,D146<=Inputs!$C$76),AND(D146>=Inputs!$D$75,D146<=Inputs!$D$76),AND(D146>=Inputs!$E$75,D146<=Inputs!$E$76),AND(D146>=Inputs!$F$75,D146<=Inputs!$F$76),AND(D146>=Inputs!$G$75,D146<=Inputs!$G$76),AND(D146>=Inputs!$H$75,D146<=Inputs!$H$76),IFERROR(AND(D146>=0,D146<=Inputs!$H$76-168),FALSE))","v":false},1,0]
[null,"Tuesday","13:00:00",61,{"$f":"OR(AND(D147>=Inputs!$I$45,D147<=Inputs!$I$46),AND(D147>=Inputs!$C$45,D147<=Inputs!$C$46),AND(D147>=Inputs!$D$45,D147<=Inputs!$D$46),AND(D147>=Inputs!$E$45,D147<=Inputs!$E$46),AND(D147>=Inputs!$F$45,D147<=Inputs!$F$46),AND(D147>=Inputs!$G$45,D147<=Inputs!$G$46),AND(D147>=Inputs!$H$45,D147<=Inputs!$H$46),IFERROR(AND(D147>=0,D147<=Inputs!$H$46-168),FALSE))","v":true},{"$f":"OR(AND(D147>=Inputs!$I$55,D147<=Inputs!$I$56),AND(D147>=Inputs!$C$55,D147<=Inputs!$C$56),AND(D147>=Inputs!$D$55,D147<=Inputs!$D$56),AND(D147>=Inputs!$E$55,D147<=Inputs!$E$56),AND(D147>=Inputs!$F$55,D147<=Inputs!$F$56),AND(D147>=Inputs!$G$55,D147<=Inputs!$G$56),AND(D147>=Inputs!$H$55,D147<=Inputs!$H$56),IFERROR(AND(D147>=0,D147<=Inputs!$H$56-168),FALSE))","v":false},{"$f":"OR(AND(D147>=Inputs!$I$65,D147<=Inputs!$I$66),AND(D147>=Inputs!$C$65,D147<=Inputs!$C$66),AND(D147>=Inputs!$D$65,D147<=Inputs!$D$66),AND(D147>=Inputs!$E$65,D147<=Inputs!$E$66),AND(D147>=Inputs!$F$65,D147<=Inputs!$F$66),AND(D147>=Inputs!$G$65,D147<=Inputs!$G$66),AND(D147>=Inputs!$H$65,D147<=Inputs!$H$66),IFERROR(AND(D147>=0,D147<=Inputs!$H$66-168),FALSE))","v":false},{"$f":"OR(AND(D147>=Inputs!$I$75,D147<=Inputs!$I$76),AND(D147>=Inputs!$C$75,D147<=Inputs!$C$76),AND(D147>=Inputs!$D$75,D147<=Inputs!$D$76),AND(D147>=Inputs!$E$75,D147<=Inputs!$E$76),AND(D147>=Inputs!$F$75,D147<=Inputs!$F$76),AND(D147>=Inputs!$G$75,D147<=Inputs!$G$76),AND(D147>=Inputs!$H$75,D147<=Inputs!$H$76),IFERROR(AND(D147>=0,D147<=Inputs!$H$76-168),FALSE))","v":false},1,0]
[null,"Tuesday","14:00:00",62,{"$f":"OR(AND(D148>=Inputs!$I$45,D148<=Inputs!$I$46),AND(D148>=Inputs!$C$45,D148<=Inputs!$C$46),AND(D148>=Inputs!$D$45,D148<=Inputs!$D$46),AND(D148>=Inputs!$E$45,D148<=Inputs!$E$46),AND(D148>=Inputs!$F$45,D148<=Inputs!$F$46),AND(D148>=Inputs!$G$45,D148<=Inputs!$G$46),AND(D148>=Inputs!$H$45,D148<=Inputs!$H$46),IFERROR(AND(D148>=0,D148<=Inputs!$H$46-168),FALSE))","v":false},{"$f":"OR(AND(D148>=Inputs!$I$55,D148<=Inputs!$I$56),AND(D148>=Inputs!$C$55,D148<=Inputs!$C$56),AND(D148>=Inputs!$D$55,D148<=Inputs!$D$56),AND(D148>=Inputs!$E$55,D148<=Inputs!$E$56),AND(D148>=Inputs!$F$55,D148<=Inputs!$F$56),AND(D148>=Inputs!$G$55,D148<=Inputs!$G$56),AND(D148>=Inputs!$H$55,D148<=Inputs!$H$56),IFERROR(AND(D148>=0,D148<=Inputs!$H$56-168),FALSE))","v":false},{"$f":"OR(AND(D148>=Inputs!$I$65,D148<=Inputs!$I$66),AND(D148>=Inputs!$C$65,D148<=Inputs!$C$66),AND(D148>=Inputs!$D$65,D148<=Inputs!$D$66),AND(D148>=Inputs!$E$65,D148<=Inputs!$E$66),AND(D148>=Inputs!$F$65,D148<=Inputs!$F$66),AND(D148>=Inputs!$G$65,D148<=Inputs!$G$66),AND(D148>=Inputs!$H$65,D148<=Inputs!$H$66),IFERROR(AND(D148>=0,D148<=Inputs!$H$66-168),FALSE))","v":false},{"$f":"OR(AND(D148>=Inputs!$I$75,D148<=Inputs!$I$76),AND(D148>=Inputs!$C$75,D148<=Inputs!$C$76),AND(D148>=Inputs!$D$75,D148<=Inputs!$D$76),AND(D148>=Inputs!$E$75,D148<=Inputs!$E$76),AND(D148>=Inputs!$F$75,D148<=Inputs!$F$76),AND(D148>=Inputs!$G$75,D148<=Inputs!$G$76),AND(D148>=Inputs!$H$75,D148<=Inputs!$H$76),IFERROR(AND(D148>=0,D148<=Inputs!$H$76-168),FALSE))","v":false},0,0]
[null,"Tuesday","15:00:00",63,{"$f":"OR(AND(D149>=Inputs!$I$45,D149<=Inputs!$I$46),AND(D149>=Inputs!$C$45,D149<=Inputs!$C$46),AND(D149>=Inputs!$D$45,D149<=Inputs!$D$46),AND(D149>=Inputs!$E$45,D149<=Inputs!$E$46),AND(D149>=Inputs!$F$45,D149<=Inputs!$F$46),AND(D149>=Inputs!$G$45,D149<=Inputs!$G$46),AND(D149>=Inputs!$H$45,D149<=Inputs!$H$46),IFERROR(AND(D149>=0,D149<=Inputs!$H$46-168),FALSE))","v":false},{"$f":"OR(AND(D149>=Inputs!$I$55,D149<=Inputs!$I$56),AND(D149>=Inputs!$C$55,D149<=Inputs!$C$56),AND(D149>=Inputs!$D$55,D149<=Inputs!$D$56),AND(D149>=Inputs!$E$55,D149<=Inputs!$E$56),AND(D149>=Inputs!$F$55,D149<=Inputs!$F$56),AND(D149>=Inputs!$G$55,D149<=Inputs!$G$56),AND(D149>=Inputs!$H$55,D149<=Inputs!$H$56),IFERROR(AND(D149>=0,D149<=Inputs!$H$56-168),FALSE))","v":false},{"$f":"OR(AND(D149>=Inputs!$I$65,D149<=Inputs!$I$66),AND(D149>=Inputs!$C$65,D149<=Inputs!$C$66),AND(D149>=Inputs!$D$65,D149<=Inputs!$D$66),AND(D149>=Inputs!$E$65,D149<=Inputs!$E$66),AND(D149>=Inputs!$F$65,D149<=Inputs!$F$66),AND(D149>=Inputs!$G$65,D149<=Inputs!$G$66),AND(D149>=Inputs!$H$65,D149<=Inputs!$H$66),IFERROR(AND(D149>=0,D149<=Inputs!$H$66-168),FALSE))","v":false},{"$f":"OR(AND(D149>=Inputs!$I$75,D149<=Inputs!$I$76),AND(D149>=Inputs!$C$75,D149<=Inputs!$C$76),AND(D149>=Inputs!$D$75,D149<=Inputs!$D$76),AND(D149>=Inputs!$E$75,D149<=Inputs!$E$76),AND(D149>=Inputs!$F$75,D149<=Inputs!$F$76),AND(D149>=Inputs!$G$75,D149<=Inputs!$G$76),AND(D149>=Inputs!$H$75,D149<=Inputs!$H$76),IFERROR(AND(D149>=0,D149<=Inputs!$H$76-168),FALSE))","v":false},0,0]
[null,"Tuesday","16:00:00",64,{"$f":"OR(AND(D150>=Inputs!$I$45,D150<=Inputs!$I$46),AND(D150>=Inputs!$C$45,D150<=Inputs!$C$46),AND(D150>=Inputs!$D$45,D150<=Inputs!$D$46),AND(D150>=Inputs!$E$45,D150<=Inputs!$E$46),AND(D150>=Inputs!$F$45,D150<=Inputs!$F$46),AND(D150>=Inputs!$G$45,D150<=Inputs!$G$46),AND(D150>=Inputs!$H$45,D150<=Inputs!$H$46),IFERROR(AND(D150>=0,D150<=Inputs!$H$46-168),FALSE))","v":false},{"$f":"OR(AND(D150>=Inputs!$I$55,D150<=Inputs!$I$56),AND(D150>=Inputs!$C$55,D150<=Inputs!$C$56),AND(D150>=Inputs!$D$55,D150<=Inputs!$D$56),AND(D150>=Inputs!$E$55,D150<=Inputs!$E$56),AND(D150>=Inputs!$F$55,D150<=Inputs!$F$56),AND(D150>=Inputs!$G$55,D150<=Inputs!$G$56),AND(D150>=Inputs!$H$55,D150<=Inputs!$H$56),IFERROR(AND(D150>=0,D150<=Inputs!$H$56-168),FALSE))","v":false},{"$f":"OR(AND(D150>=Inputs!$I$65,D150<=Inputs!$I$66),AND(D150>=Inputs!$C$65,D150<=Inputs!$C$66),AND(D150>=Inputs!$D$65,D150<=Inputs!$D$66),AND(D150>=Inputs!$E$65,D150<=Inputs!$E$66),AND(D150>=Inputs!$F$65,D150<=Inputs!$F$66),AND(D150>=Inputs!$G$65,D150<=Inputs!$G$66),AND(D150>=Inputs!$H$65,D150<=Inputs!$H$66),IFERROR(AND(D150>=0,D150<=Inputs!$H$66-168),FALSE))","v":false},{"$f":"OR(AND(D150>=Inputs!$I$75,D150<=Inputs!$I$76),AND(D150>=Inputs!$C$75,D150<=Inputs!$C$76),AND(D150>=Inputs!$D$75,D150<=Inputs!$D$76),AND(D150>=Inputs!$E$75,D150<=Inputs!$E$76),AND(D150>=Inputs!$F$75,D150<=Inputs!$F$76),AND(D150>=Inputs!$G$75,D150<=Inputs!$G$76),AND(D150>=Inputs!$H$75,D150<=Inputs!$H$76),IFERROR(AND(D150>=0,D150<=Inputs!$H$76-168),FALSE))","v":false},0,0]
[null,"Tuesday","17:00:00",65,{"$f":"OR(AND(D151>=Inputs!$I$45,D151<=Inputs!$I$46),AND(D151>=Inputs!$C$45,D151<=Inputs!$C$46),AND(D151>=Inputs!$D$45,D151<=Inputs!$D$46),AND(D151>=Inputs!$E$45,D151<=Inputs!$E$46),AND(D151>=Inputs!$F$45,D151<=Inputs!$F$46),AND(D151>=Inputs!$G$45,D151<=Inputs!$G$46),AND(D151>=Inputs!$H$45,D151<=Inputs!$H$46),IFERROR(AND(D151>=0,D151<=Inputs!$H$46-168),FALSE))","v":false},{"$f":"OR(AND(D151>=Inputs!$I$55,D151<=Inputs!$I$56),AND(D151>=Inputs!$C$55,D151<=Inputs!$C$56),AND(D151>=Inputs!$D$55,D151<=Inputs!$D$56),AND(D151>=Inputs!$E$55,D151<=Inputs!$E$56),AND(D151>=Inputs!$F$55,D151<=Inputs!$F$56),AND(D151>=Inputs!$G$55,D151<=Inputs!$G$56),AND(D151>=Inputs!$H$55,D151<=Inputs!$H$56),IFERROR(AND(D151>=0,D151<=Inputs!$H$56-168),FALSE))","v":false},{"$f":"OR(AND(D151>=Inputs!$I$65,D151<=Inputs!$I$66),AND(D151>=Inputs!$C$65,D151<=Inputs!$C$66),AND(D151>=Inputs!$D$65,D151<=Inputs!$D$66),AND(D151>=Inputs!$E$65,D151<=Inputs!$E$66),AND(D151>=Inputs!$F$65,D151<=Inputs!$F$66),AND(D151>=Inputs!$G$65,D151<=Inputs!$G$66),AND(D151>=Inputs!$H$65,D151<=Inputs!$H$66),IFERROR(AND(D151>=0,D151<=Inputs!$H$66-168),FALSE))","v":false},{"$f":"OR(AND(D151>=Inputs!$I$75,D151<=Inputs!$I$76),AND(D151>=Inputs!$C$75,D151<=Inputs!$C$76),AND(D151>=Inputs!$D$75,D151<=Inputs!$D$76),AND(D151>=Inputs!$E$75,D151<=Inputs!$E$76),AND(D151>=Inputs!$F$75,D151<=Inputs!$F$76),AND(D151>=Inputs!$G$75,D151<=Inputs!$G$76),AND(D151>=Inputs!$H$75,D151<=Inputs!$H$76),IFERROR(AND(D151>=0,D151<=Inputs!$H$76-168),FALSE))","v":false},{"$f":"COUNTIF(E151:H151,\"TRUE\")","v":0},{"$f":"COUNTIF(F151:H151,\"TRUE\")","v":0}]
[null,"Tuesday","18:00:00",66,{"$f":"OR(AND(D152>=Inputs!$I$45,D152<=Inputs!$I$46),AND(D152>=Inputs!$C$45,D152<=Inputs!$C$46),AND(D152>=Inputs!$D$45,D152<=Inputs!$D$46),AND(D152>=Inputs!$E$45,D152<=Inputs!$E$46),AND(D152>=Inputs!$F$45,D152<=Inputs!$F$46),AND(D152>=Inputs!$G$45,D152<=Inputs!$G$46),AND(D152>=Inputs!$H$45,D152<=Inputs!$H$46),IFERROR(AND(D152>=0,D152<=Inputs!$H$46-168),FALSE))","v":false},{"$f":"OR(AND(D152>=Inputs!$I$55,D152<=Inputs!$I$56),AND(D152>=Inputs!$C$55,D152<=Inputs!$C$56),AND(D152>=Inputs!$D$55,D152<=Inputs!$D$56),AND(D152>=Inputs!$E$55,D152<=Inputs!$E$56),AND(D152>=Inputs!$F$55,D152<=Inputs!$F$56),AND(D152>=Inputs!$G$55,D152<=Inputs!$G$56),AND(D152>=Inputs!$H$55,D152<=Inputs!$H$56),IFERROR(AND(D152>=0,D152<=Inputs!$H$56-168),FALSE))","v":false},{"$f":"OR(AND(D152>=Inputs!$I$65,D152<=Inputs!$I$66),AND(D152>=Inputs!$C$65,D152<=Inputs!$C$66),AND(D152>=Inputs!$D$65,D152<=Inputs!$D$66),AND(D152>=Inputs!$E$65,D152<=Inputs!$E$66),AND(D152>=Inputs!$F$65,D152<=Inputs!$F$66),AND(D152>=Inputs!$G$65,D152<=Inputs!$G$66),AND(D152>=Inputs!$H$65,D152<=Inputs!$H$66),IFERROR(AND(D152>=0,D152<=Inputs!$H$66-168),FALSE))","v":false},{"$f":"OR(AND(D152>=Inputs!$I$75,D152<=Inputs!$I$76),AND(D152>=Inputs!$C$75,D152<=Inputs!$C$76),AND(D152>=Inputs!$D$75,D152<=Inputs!$D$76),AND(D152>=Inputs!$E$75,D152<=Inputs!$E$76),AND(D152>=Inputs!$F$75,D152<=Inputs!$F$76),AND(D152>=Inputs!$G$75,D152<=Inputs!$G$76),AND(D152>=Inputs!$H$75,D152<=Inputs!$H$76),IFERROR(AND(D152>=0,D152<=Inputs!$H$76-168),FALSE))","v":false},0,0]
[null,"Tuesday","19:00:00",67,{"$f":"OR(AND(D153>=Inputs!$I$45,D153<=Inputs!$I$46),AND(D153>=Inputs!$C$45,D153<=Inputs!$C$46),AND(D153>=Inputs!$D$45,D153<=Inputs!$D$46),AND(D153>=Inputs!$E$45,D153<=Inputs!$E$46),AND(D153>=Inputs!$F$45,D153<=Inputs!$F$46),AND(D153>=Inputs!$G$45,D153<=Inputs!$G$46),AND(D153>=Inputs!$H$45,D153<=Inputs!$H$46),IFERROR(AND(D153>=0,D153<=Inputs!$H$46-168),FALSE))","v":false},{"$f":"OR(AND(D153>=Inputs!$I$55,D153<=Inputs!$I$56),AND(D153>=Inputs!$C$55,D153<=Inputs!$C$56),AND(D153>=Inputs!$D$55,D153<=Inputs!$D$56),AND(D153>=Inputs!$E$55,D153<=Inputs!$E$56),AND(D153>=Inputs!$F$55,D153<=Inputs!$F$56),AND(D153>=Inputs!$G$55,D153<=Inputs!$G$56),AND(D153>=Inputs!$H$55,D153<=Inputs!$H$56),IFERROR(AND(D153>=0,D153<=Inputs!$H$56-168),FALSE))","v":false},{"$f":"OR(AND(D153>=Inputs!$I$65,D153<=Inputs!$I$66),AND(D153>=Inputs!$C$65,D153<=Inputs!$C$66),AND(D153>=Inputs!$D$65,D153<=Inputs!$D$66),AND(D153>=Inputs!$E$65,D153<=Inputs!$E$66),AND(D153>=Inputs!$F$65,D153<=Inputs!$F$66),AND(D153>=Inputs!$G$65,D153<=Inputs!$G$66),AND(D153>=Inputs!$H$65,D153<=Inputs!$H$66),IFERROR(AND(D153>=0,D153<=Inputs!$H$66-168),FALSE))","v":false},{"$f":"OR(AND(D153>=Inputs!$I$75,D153<=Inputs!$I$76),AND(D153>=Inputs!$C$75,D153<=Inputs!$C$76),AND(D153>=Inputs!$D$75,D153<=Inputs!$D$76),AND(D153>=Inputs!$E$75,D153<=Inputs!$E$76),AND(D153>=Inputs!$F$75,D153<=Inputs!$F$76),AND(D153>=Inputs!$G$75,D153<=Inputs!$G$76),AND(D153>=Inputs!$H$75,D153<=Inputs!$H$76),IFERROR(AND(D153>=0,D153<=Inputs!$H$76-168),FALSE))","v":false},0,0]
[null,"Tuesday","20:00:00",68,{"$f":"OR(AND(D154>=Inputs!$I$45,D154<=Inputs!$I$46),AND(D154>=Inputs!$C$45,D154<=Inputs!$C$46),AND(D154>=Inputs!$D$45,D154<=Inputs!$D$46),AND(D154>=Inputs!$E$45,D154<=Inputs!$E$46),AND(D154>=Inputs!$F$45,D154<=Inputs!$F$46),AND(D154>=Inputs!$G$45,D154<=Inputs!$G$46),AND(D154>=Inputs!$H$45,D154<=Inputs!$H$46),IFERROR(AND(D154>=0,D154<=Inputs!$H$46-168),FALSE))","v":false},{"$f":"OR(AND(D154>=Inputs!$I$55,D154<=Inputs!$I$56),AND(D154>=Inputs!$C$55,D154<=Inputs!$C$56),AND(D154>=Inputs!$D$55,D154<=Inputs!$D$56),AND(D154>=Inputs!$E$55,D154<=Inputs!$E$56),AND(D154>=Inputs!$F$55,D154<=Inputs!$F$56),AND(D154>=Inputs!$G$55,D154<=Inputs!$G$56),AND(D154>=Inputs!$H$55,D154<=Inputs!$H$56),IFERROR(AND(D154>=0,D154<=Inputs!$H$56-168),FALSE))","v":false},{"$f":"OR(AND(D154>=Inputs!$I$65,D154<=Inputs!$I$66),AND(D154>=Inputs!$C$65,D154<=Inputs!$C$66),AND(D154>=Inputs!$D$65,D154<=Inputs!$D$66),AND(D154>=Inputs!$E$65,D154<=Inputs!$E$66),AND(D154>=Inputs!$F$65,D154<=Inputs!$F$66),AND(D154>=Inputs!$G$65,D154<=Inputs!$G$66),AND(D154>=Inputs!$H$65,D154<=Inputs!$H$66),IFERROR(AND(D154>=0,D154<=Inputs!$H$66-168),FALSE))","v":false},{"$f":"OR(AND(D154>=Inputs!$I$75,D154<=Inputs!$I$76),AND(D154>=Inputs!$C$75,D154<=Inputs!$C$76),AND(D154>=Inputs!$D$75,D154<=Inputs!$D$76),AND(D154>=Inputs!$E$75,D154<=Inputs!$E$76),AND(D154>=Inputs!$F$75,D154<=Inputs!$F$76),AND(D154>=Inputs!$G$75,D154<=Inputs!$G$76),AND(D154>=Inputs!$H$75,D154<=Inputs!$H$76),IFERROR(AND(D154>=0,D154<=Inputs!$H$76-168),FALSE))","v":false},0,0]
[null,"Tuesday","21:00:00",69,{"$f":"OR(AND(D155>=Inputs!$I$45,D155<=Inputs!$I$46),AND(D155>=Inputs!$C$45,D155<=Inputs!$C$46),AND(D155>=Inputs!$D$45,D155<=Inputs!$D$46),AND(D155>=Inputs!$E$45,D155<=Inputs!$E$46),AND(D155>=Inputs!$F$45,D155<=Inputs!$F$46),AND(D155>=Inputs!$G$45,D155<=Inputs!$G$46),AND(D155>=Inputs!$H$45,D155<=Inputs!$H$46),IFERROR(AND(D155>=0,D155<=Inputs!$H$46-168),FALSE))","v":false},{"$f":"OR(AND(D155>=Inputs!$I$55,D155<=Inputs!$I$56),AND(D155>=Inputs!$C$55,D155<=Inputs!$C$56),AND(D155>=Inputs!$D$55,D155<=Inputs!$D$56),AND(D155>=Inputs!$E$55,D155<=Inputs!$E$56),AND(D155>=Inputs!$F$55,D155<=Inputs!$F$56),AND(D155>=Inputs!$G$55,D155<=Inputs!$G$56),AND(D155>=Inputs!$H$55,D155<=Inputs!$H$56),IFERROR(AND(D155>=0,D155<=Inputs!$H$56-168),FALSE))","v":false},{"$f":"OR(AND(D155>=Inputs!$I$65,D155<=Inputs!$I$66),AND(D155>=Inputs!$C$65,D155<=Inputs!$C$66),AND(D155>=Inputs!$D$65,D155<=Inputs!$D$66),AND(D155>=Inputs!$E$65,D155<=Inputs!$E$66),AND(D155>=Inputs!$F$65,D155<=Inputs!$F$66),AND(D155>=Inputs!$G$65,D155<=Inputs!$G$66),AND(D155>=Inputs!$H$65,D155<=Inputs!$H$66),IFERROR(AND(D155>=0,D155<=Inputs!$H$66-168),FALSE))","v":false},{"$f":"OR(AND(D155>=Inputs!$I$75,D155<=Inputs!$I$76),AND(D155>=Inputs!$C$75,D155<=Inputs!$C$76),AND(D155>=Inputs!$D$75,D155<=Inputs!$D$76),AND(D155>=Inputs!$E$75,D155<=Inputs!$E$76),AND(D155>=Inputs!$F$75,D155<=Inputs!$F$76),AND(D155>=Inputs!$G$75,D155<=Inputs!$G$76),AND(D155>=Inputs!$H$75,D155<=Inputs!$H$76),IFERROR(AND(D155>=0,D155<=Inputs!$H$76-168),FALSE))","v":false},0,0]
[null,"Tuesday","22:00:00",70,{"$f":"OR(AND(D156>=Inputs!$I$45,D156<=Inputs!$I$46),AND(D156>=Inputs!$C$45,D156<=Inputs!$C$46),AND(D156>=Inputs!$D$45,D156<=Inputs!$D$46),AND(D156>=Inputs!$E$45,D156<=Inputs!$E$46),AND(D156>=Inputs!$F$45,D156<=Inputs!$F$46),AND(D156>=Inputs!$G$45,D156<=Inputs!$G$46),AND(D156>=Inputs!$H$45,D156<=Inputs!$H$46),IFERROR(AND(D156>=0,D156<=Inputs!$H$46-168),FALSE))","v":false},{"$f":"OR(AND(D156>=Inputs!$I$55,D156<=Inputs!$I$56),AND(D156>=Inputs!$C$55,D156<=Inputs!$C$56),AND(D156>=Inputs!$D$55,D156<=Inputs!$D$56),AND(D156>=Inputs!$E$55,D156<=Inputs!$E$56),AND(D156>=Inputs!$F$55,D156<=Inputs!$F$56),AND(D156>=Inputs!$G$55,D156<=Inputs!$G$56),AND(D156>=Inputs!$H$55,D156<=Inputs!$H$56),IFERROR(AND(D156>=0,D156<=Inputs!$H$56-168),FALSE))","v":false},{"$f":"OR(AND(D156>=Inputs!$I$65,D156<=Inputs!$I$66),AND(D156>=Inputs!$C$65,D156<=Inputs!$C$66),AND(D156>=Inputs!$D$65,D156<=Inputs!$D$66),AND(D156>=Inputs!$E$65,D156<=Inputs!$E$66),AND(D156>=Inputs!$F$65,D156<=Inputs!$F$66),AND(D156>=Inputs!$G$65,D156<=Inputs!$G$66),AND(D156>=Inputs!$H$65,D156<=Inputs!$H$66),IFERROR(AND(D156>=0,D156<=Inputs!$H$66-168),FALSE))","v":false},{"$f":"OR(AND(D156>=Inputs!$I$75,D156<=Inputs!$I$76),AND(D156>=Inputs!$C$75,D156<=Inputs!$C$76),AND(D156>=Inputs!$D$75,D156<=Inputs!$D$76),AND(D156>=Inputs!$E$75,D156<=Inputs!$E$76),AND(D156>=Inputs!$F$75,D156<=Inputs!$F$76),AND(D156>=Inputs!$G$75,D156<=Inputs!$G$76),AND(D156>=Inputs!$H$75,D156<=Inputs!$H$76),IFERROR(AND(D156>=0,D156<=Inputs!$H$76-168),FALSE))","v":false},0,0]
[null,"Tuesday","23:00:00",71,{"$f":"OR(AND(D157>=Inputs!$I$45,D157<=Inputs!$I$46),AND(D157>=Inputs!$C$45,D157<=Inputs!$C$46),AND(D157>=Inputs!$D$45,D157<=Inputs!$D$46),AND(D157>=Inputs!$E$45,D157<=Inputs!$E$46),AND(D157>=Inputs!$F$45,D157<=Inputs!$F$46),AND(D157>=Inputs!$G$45,D157<=Inputs!$G$46),AND(D157>=Inputs!$H$45,D157<=Inputs!$H$46),IFERROR(AND(D157>=0,D157<=Inputs!$H$46-168),FALSE))","v":false},{"$f":"OR(AND(D157>=Inputs!$I$55,D157<=Inputs!$I$56),AND(D157>=Inputs!$C$55,D157<=Inputs!$C$56),AND(D157>=Inputs!$D$55,D157<=Inputs!$D$56),AND(D157>=Inputs!$E$55,D157<=Inputs!$E$56),AND(D157>=Inputs!$F$55,D157<=Inputs!$F$56),AND(D157>=Inputs!$G$55,D157<=Inputs!$G$56),AND(D157>=Inputs!$H$55,D157<=Inputs!$H$56),IFERROR(AND(D157>=0,D157<=Inputs!$H$56-168),FALSE))","v":false},{"$f":"OR(AND(D157>=Inputs!$I$65,D157<=Inputs!$I$66),AND(D157>=Inputs!$C$65,D157<=Inputs!$C$66),AND(D157>=Inputs!$D$65,D157<=Inputs!$D$66),AND(D157>=Inputs!$E$65,D157<=Inputs!$E$66),AND(D157>=Inputs!$F$65,D157<=Inputs!$F$66),AND(D157>=Inputs!$G$65,D157<=Inputs!$G$66),AND(D157>=Inputs!$H$65,D157<=Inputs!$H$66),IFERROR(AND(D157>=0,D157<=Inputs!$H$66-168),FALSE))","v":false},{"$f":"OR(AND(D157>=Inputs!$I$75,D157<=Inputs!$I$76),AND(D157>=Inputs!$C$75,D157<=Inputs!$C$76),AND(D157>=Inputs!$D$75,D157<=Inputs!$D$76),AND(D157>=Inputs!$E$75,D157<=Inputs!$E$76),AND(D157>=Inputs!$F$75,D157<=Inputs!$F$76),AND(D157>=Inputs!$G$75,D157<=Inputs!$G$76),AND(D157>=Inputs!$H$75,D157<=Inputs!$H$76),IFERROR(AND(D157>=0,D157<=Inputs!$H$76-168),FALSE))","v":false},0,0]
[null,"Wednesday","00:00:00",72,{"$f":"OR(AND(D158>=Inputs!$I$45,D158<=Inputs!$I$46),AND(D158>=Inputs!$C$45,D158<=Inputs!$C$46),AND(D158>=Inputs!$D$45,D158<=Inputs!$D$46),AND(D158>=Inputs!$E$45,D158<=Inputs!$E$46),AND(D158>=Inputs!$F$45,D158<=Inputs!$F$46),AND(D158>=Inputs!$G$45,D158<=Inputs!$G$46),AND(D158>=Inputs!$H$45,D158<=Inputs!$H$46),IFERROR(AND(D158>=0,D158<=Inputs!$H$46-168),FALSE))","v":false},{"$f":"OR(AND(D158>=Inputs!$I$55,D158<=Inputs!$I$56),AND(D158>=Inputs!$C$55,D158<=Inputs!$C$56),AND(D158>=Inputs!$D$55,D158<=Inputs!$D$56),AND(D158>=Inputs!$E$55,D158<=Inputs!$E$56),AND(D158>=Inputs!$F$55,D158<=Inputs!$F$56),AND(D158>=Inputs!$G$55,D158<=Inputs!$G$56),AND(D158>=Inputs!$H$55,D158<=Inputs!$H$56),IFERROR(AND(D158>=0,D158<=Inputs!$H$56-168),FALSE))","v":false},{"$f":"OR(AND(D158>=Inputs!$I$65,D158<=Inputs!$I$66),AND(D158>=Inputs!$C$65,D158<=Inputs!$C$66),AND(D158>=Inputs!$D$65,D158<=Inputs!$D$66),AND(D158>=Inputs!$E$65,D158<=Inputs!$E$66),AND(D158>=Inputs!$F$65,D158<=Inputs!$F$66),AND(D158>=Inputs!$G$65,D158<=Inputs!$G$66),AND(D158>=Inputs!$H$65,D158<=Inputs!$H$66),IFERROR(AND(D158>=0,D158<=Inputs!$H$66-168),FALSE))","v":false},{"$f":"OR(AND(D158>=Inputs!$I$75,D158<=Inputs!$I$76),AND(D158>=Inputs!$C$75,D158<=Inputs!$C$76),AND(D158>=Inputs!$D$75,D158<=Inputs!$D$76),AND(D158>=Inputs!$E$75,D158<=Inputs!$E$76),AND(D158>=Inputs!$F$75,D158<=Inputs!$F$76),AND(D158>=Inputs!$G$75,D158<=Inputs!$G$76),AND(D158>=Inputs!$H$75,D158<=Inputs!$H$76),IFERROR(AND(D158>=0,D158<=Inputs!$H$76-168),FALSE))","v":false},0,0]
[null,"Wednesday","01:00:00",73,{"$f":"OR(AND(D159>=Inputs!$I$45,D159<=Inputs!$I$46),AND(D159>=Inputs!$C$45,D159<=Inputs!$C$46),AND(D159>=Inputs!$D$45,D159<=Inputs!$D$46),AND(D159>=Inputs!$E$45,D159<=Inputs!$E$46),AND(D159>=Inputs!$F$45,D159<=Inputs!$F$46),AND(D159>=Inputs!$G$45,D159<=Inputs!$G$46),AND(D159>=Inputs!$H$45,D159<=Inputs!$H$46),IFERROR(AND(D159>=0,D159<=Inputs!$H$46-168),FALSE))","v":false},{"$f":"OR(AND(D159>=Inputs!$I$55,D159<=Inputs!$I$56),AND(D159>=Inputs!$C$55,D159<=Inputs!$C$56),AND(D159>=Inputs!$D$55,D159<=Inputs!$D$56),AND(D159>=Inputs!$E$55,D159<=Inputs!$E$56),AND(D159>=Inputs!$F$55,D159<=Inputs!$F$56),AND(D159>=Inputs!$G$55,D159<=Inputs!$G$56),AND(D159>=Inputs!$H$55,D159<=Inputs!$H$56),IFERROR(AND(D159>=0,D159<=Inputs!$H$56-168),FALSE))","v":false},{"$f":"OR(AND(D159>=Inputs!$I$65,D159<=Inputs!$I$66),AND(D159>=Inputs!$C$65,D159<=Inputs!$C$66),AND(D159>=Inputs!$D$65,D159<=Inputs!$D$66),AND(D159>=Inputs!$E$65,D159<=Inputs!$E$66),AND(D159>=Inputs!$F$65,D159<=Inputs!$F$66),AND(D159>=Inputs!$G$65,D159<=Inputs!$G$66),AND(D159>=Inputs!$H$65,D159<=Inputs!$H$66),IFERROR(AND(D159>=0,D159<=Inputs!$H$66-168),FALSE))","v":false},{"$f":"OR(AND(D159>=Inputs!$I$75,D159<=Inputs!$I$76),AND(D159>=Inputs!$C$75,D159<=Inputs!$C$76),AND(D159>=Inputs!$D$75,D159<=Inputs!$D$76),AND(D159>=Inputs!$E$75,D159<=Inputs!$E$76),AND(D159>=Inputs!$F$75,D159<=Inputs!$F$76),AND(D159>=Inputs!$G$75,D159<=Inputs!$G$76),AND(D159>=Inputs!$H$75,D159<=Inputs!$H$76),IFERROR(AND(D159>=0,D159<=Inputs!$H$76-168),FALSE))","v":false},0,0]
[null,"Wednesday","02:00:00",74,{"$f":"OR(AND(D160>=Inputs!$I$45,D160<=Inputs!$I$46),AND(D160>=Inputs!$C$45,D160<=Inputs!$C$46),AND(D160>=Inputs!$D$45,D160<=Inputs!$D$46),AND(D160>=Inputs!$E$45,D160<=Inputs!$E$46),AND(D160>=Inputs!$F$45,D160<=Inputs!$F$46),AND(D160>=Inputs!$G$45,D160<=Inputs!$G$46),AND(D160>=Inputs!$H$45,D160<=Inputs!$H$46),IFERROR(AND(D160>=0,D160<=Inputs!$H$46-168),FALSE))","v":false},{"$f":"OR(AND(D160>=Inputs!$I$55,D160<=Inputs!$I$56),AND(D160>=Inputs!$C$55,D160<=Inputs!$C$56),AND(D160>=Inputs!$D$55,D160<=Inputs!$D$56),AND(D160>=Inputs!$E$55,D160<=Inputs!$E$56),AND(D160>=Inputs!$F$55,D160<=Inputs!$F$56),AND(D160>=Inputs!$G$55,D160<=Inputs!$G$56),AND(D160>=Inputs!$H$55,D160<=Inputs!$H$56),IFERROR(AND(D160>=0,D160<=Inputs!$H$56-168),FALSE))","v":false},{"$f":"OR(AND(D160>=Inputs!$I$65,D160<=Inputs!$I$66),AND(D160>=Inputs!$C$65,D160<=Inputs!$C$66),AND(D160>=Inputs!$D$65,D160<=Inputs!$D$66),AND(D160>=Inputs!$E$65,D160<=Inputs!$E$66),AND(D160>=Inputs!$F$65,D160<=Inputs!$F$66),AND(D160>=Inputs!$G$65,D160<=Inputs!$G$66),AND(D160>=Inputs!$H$65,D160<=Inputs!$H$66),IFERROR(AND(D160>=0,D160<=Inputs!$H$66-168),FALSE))","v":false},{"$f":"OR(AND(D160>=Inputs!$I$75,D160<=Inputs!$I$76),AND(D160>=Inputs!$C$75,D160<=Inputs!$C$76),AND(D160>=Inputs!$D$75,D160<=Inputs!$D$76),AND(D160>=Inputs!$E$75,D160<=Inputs!$E$76),AND(D160>=Inputs!$F$75,D160<=Inputs!$F$76),AND(D160>=Inputs!$G$75,D160<=Inputs!$G$76),AND(D160>=Inputs!$H$75,D160<=Inputs!$H$76),IFERROR(AND(D160>=0,D160<=Inputs!$H$76-168),FALSE))","v":false},0,0]
[null,"Wednesday","03:00:00",75,{"$f":"OR(AND(D161>=Inputs!$I$45,D161<=Inputs!$I$46),AND(D161>=Inputs!$C$45,D161<=Inputs!$C$46),AND(D161>=Inputs!$D$45,D161<=Inputs!$D$46),AND(D161>=Inputs!$E$45,D161<=Inputs!$E$46),AND(D161>=Inputs!$F$45,D161<=Inputs!$F$46),AND(D161>=Inputs!$G$45,D161<=Inputs!$G$46),AND(D161>=Inputs!$H$45,D161<=Inputs!$H$46),IFERROR(AND(D161>=0,D161<=Inputs!$H$46-168),FALSE))","v":false},{"$f":"OR(AND(D161>=Inputs!$I$55,D161<=Inputs!$I$56),AND(D161>=Inputs!$C$55,D161<=Inputs!$C$56),AND(D161>=Inputs!$D$55,D161<=Inputs!$D$56),AND(D161>=Inputs!$E$55,D161<=Inputs!$E$56),AND(D161>=Inputs!$F$55,D161<=Inputs!$F$56),AND(D161>=Inputs!$G$55,D161<=Inputs!$G$56),AND(D161>=Inputs!$H$55,D161<=Inputs!$H$56),IFERROR(AND(D161>=0,D161<=Inputs!$H$56-168),FALSE))","v":false},{"$f":"OR(AND(D161>=Inputs!$I$65,D161<=Inputs!$I$66),AND(D161>=Inputs!$C$65,D161<=Inputs!$C$66),AND(D161>=Inputs!$D$65,D161<=Inputs!$D$66),AND(D161>=Inputs!$E$65,D161<=Inputs!$E$66),AND(D161>=Inputs!$F$65,D161<=Inputs!$F$66),AND(D161>=Inputs!$G$65,D161<=Inputs!$G$66),AND(D161>=Inputs!$H$65,D161<=Inputs!$H$66),IFERROR(AND(D161>=0,D161<=Inputs!$H$66-168),FALSE))","v":false},{"$f":"OR(AND(D161>=Inputs!$I$75,D161<=Inputs!$I$76),AND(D161>=Inputs!$C$75,D161<=Inputs!$C$76),AND(D161>=Inputs!$D$75,D161<=Inputs!$D$76),AND(D161>=Inputs!$E$75,D161<=Inputs!$E$76),AND(D161>=Inputs!$F$75,D161<=Inputs!$F$76),AND(D161>=Inputs!$G$75,D161<=Inputs!$G$76),AND(D161>=Inputs!$H$75,D161<=Inputs!$H$76),IFERROR(AND(D161>=0,D161<=Inputs!$H$76-168),FALSE))","v":false},0,0]
[null,"Wednesday","04:00:00",76,{"$f":"OR(AND(D162>=Inputs!$I$45,D162<=Inputs!$I$46),AND(D162>=Inputs!$C$45,D162<=Inputs!$C$46),AND(D162>=Inputs!$D$45,D162<=Inputs!$D$46),AND(D162>=Inputs!$E$45,D162<=Inputs!$E$46),AND(D162>=Inputs!$F$45,D162<=Inputs!$F$46),AND(D162>=Inputs!$G$45,D162<=Inputs!$G$46),AND(D162>=Inputs!$H$45,D162<=Inputs!$H$46),IFERROR(AND(D162>=0,D162<=Inputs!$H$46-168),FALSE))","v":false},{"$f":"OR(AND(D162>=Inputs!$I$55,D162<=Inputs!$I$56),AND(D162>=Inputs!$C$55,D162<=Inputs!$C$56),AND(D162>=Inputs!$D$55,D162<=Inputs!$D$56),AND(D162>=Inputs!$E$55,D162<=Inputs!$E$56),AND(D162>=Inputs!$F$55,D162<=Inputs!$F$56),AND(D162>=Inputs!$G$55,D162<=Inputs!$G$56),AND(D162>=Inputs!$H$55,D162<=Inputs!$H$56),IFERROR(AND(D162>=0,D162<=Inputs!$H$56-168),FALSE))","v":false},{"$f":"OR(AND(D162>=Inputs!$I$65,D162<=Inputs!$I$66),AND(D162>=Inputs!$C$65,D162<=Inputs!$C$66),AND(D162>=Inputs!$D$65,D162<=Inputs!$D$66),AND(D162>=Inputs!$E$65,D162<=Inputs!$E$66),AND(D162>=Inputs!$F$65,D162<=Inputs!$F$66),AND(D162>=Inputs!$G$65,D162<=Inputs!$G$66),AND(D162>=Inputs!$H$65,D162<=Inputs!$H$66),IFERROR(AND(D162>=0,D162<=Inputs!$H$66-168),FALSE))","v":false},{"$f":"OR(AND(D162>=Inputs!$I$75,D162<=Inputs!$I$76),AND(D162>=Inputs!$C$75,D162<=Inputs!$C$76),AND(D162>=Inputs!$D$75,D162<=Inputs!$D$76),AND(D162>=Inputs!$E$75,D162<=Inputs!$E$76),AND(D162>=Inputs!$F$75,D162<=Inputs!$F$76),AND(D162>=Inputs!$G$75,D162<=Inputs!$G$76),AND(D162>=Inputs!$H$75,D162<=Inputs!$H$76),IFERROR(AND(D162>=0,D162<=Inputs!$H$76-168),FALSE))","v":false},0,0]
[null,"Wednesday","05:00:00",77,{"$f":"OR(AND(D163>=Inputs!$I$45,D163<=Inputs!$I$46),AND(D163>=Inputs!$C$45,D163<=Inputs!$C$46),AND(D163>=Inputs!$D$45,D163<=Inputs!$D$46),AND(D163>=Inputs!$E$45,D163<=Inputs!$E$46),AND(D163>=Inputs!$F$45,D163<=Inputs!$F$46),AND(D163>=Inputs!$G$45,D163<=Inputs!$G$46),AND(D163>=Inputs!$H$45,D163<=Inputs!$H$46),IFERROR(AND(D163>=0,D163<=Inputs!$H$46-168),FALSE))","v":false},{"$f":"OR(AND(D163>=Inputs!$I$55,D163<=Inputs!$I$56),AND(D163>=Inputs!$C$55,D163<=Inputs!$C$56),AND(D163>=Inputs!$D$55,D163<=Inputs!$D$56),AND(D163>=Inputs!$E$55,D163<=Inputs!$E$56),AND(D163>=Inputs!$F$55,D163<=Inputs!$F$56),AND(D163>=Inputs!$G$55,D163<=Inputs!$G$56),AND(D163>=Inputs!$H$55,D163<=Inputs!$H$56),IFERROR(AND(D163>=0,D163<=Inputs!$H$56-168),FALSE))","v":false},{"$f":"OR(AND(D163>=Inputs!$I$65,D163<=Inputs!$I$66),AND(D163>=Inputs!$C$65,D163<=Inputs!$C$66),AND(D163>=Inputs!$D$65,D163<=Inputs!$D$66),AND(D163>=Inputs!$E$65,D163<=Inputs!$E$66),AND(D163>=Inputs!$F$65,D163<=Inputs!$F$66),AND(D163>=Inputs!$G$65,D163<=Inputs!$G$66),AND(D163>=Inputs!$H$65,D163<=Inputs!$H$66),IFERROR(AND(D163>=0,D163<=Inputs!$H$66-168),FALSE))","v":false},{"$f":"OR(AND(D163>=Inputs!$I$75,D163<=Inputs!$I$76),AND(D163>=Inputs!$C$75,D163<=Inputs!$C$76),AND(D163>=Inputs!$D$75,D163<=Inputs!$D$76),AND(D163>=Inputs!$E$75,D163<=Inputs!$E$76),AND(D163>=Inputs!$F$75,D163<=Inputs!$F$76),AND(D163>=Inputs!$G$75,D163<=Inputs!$G$76),AND(D163>=Inputs!$H$75,D163<=Inputs!$H$76),IFERROR(AND(D163>=0,D163<=Inputs!$H$76-168),FALSE))","v":false},0,0]
[null,"Wednesday","06:00:00",78,{"$f":"OR(AND(D164>=Inputs!$I$45,D164<=Inputs!$I$46),AND(D164>=Inputs!$C$45,D164<=Inputs!$C$46),AND(D164>=Inputs!$D$45,D164<=Inputs!$D$46),AND(D164>=Inputs!$E$45,D164<=Inputs!$E$46),AND(D164>=Inputs!$F$45,D164<=Inputs!$F$46),AND(D164>=Inputs!$G$45,D164<=Inputs!$G$46),AND(D164>=Inputs!$H$45,D164<=Inputs!$H$46),IFERROR(AND(D164>=0,D164<=Inputs!$H$46-168),FALSE))","v":false},{"$f":"OR(AND(D164>=Inputs!$I$55,D164<=Inputs!$I$56),AND(D164>=Inputs!$C$55,D164<=Inputs!$C$56),AND(D164>=Inputs!$D$55,D164<=Inputs!$D$56),AND(D164>=Inputs!$E$55,D164<=Inputs!$E$56),AND(D164>=Inputs!$F$55,D164<=Inputs!$F$56),AND(D164>=Inputs!$G$55,D164<=Inputs!$G$56),AND(D164>=Inputs!$H$55,D164<=Inputs!$H$56),IFERROR(AND(D164>=0,D164<=Inputs!$H$56-168),FALSE))","v":false},{"$f":"OR(AND(D164>=Inputs!$I$65,D164<=Inputs!$I$66),AND(D164>=Inputs!$C$65,D164<=Inputs!$C$66),AND(D164>=Inputs!$D$65,D164<=Inputs!$D$66),AND(D164>=Inputs!$E$65,D164<=Inputs!$E$66),AND(D164>=Inputs!$F$65,D164<=Inputs!$F$66),AND(D164>=Inputs!$G$65,D164<=Inputs!$G$66),AND(D164>=Inputs!$H$65,D164<=Inputs!$H$66),IFERROR(AND(D164>=0,D164<=Inputs!$H$66-168),FALSE))","v":false},{"$f":"OR(AND(D164>=Inputs!$I$75,D164<=Inputs!$I$76),AND(D164>=Inputs!$C$75,D164<=Inputs!$C$76),AND(D164>=Inputs!$D$75,D164<=Inputs!$D$76),AND(D164>=Inputs!$E$75,D164<=Inputs!$E$76),AND(D164>=Inputs!$F$75,D164<=Inputs!$F$76),AND(D164>=Inputs!$G$75,D164<=Inputs!$G$76),AND(D164>=Inputs!$H$75,D164<=Inputs!$H$76),IFERROR(AND(D164>=0,D164<=Inputs!$H$76-168),FALSE))","v":false},0,0]
[null,"Wednesday","07:00:00",79,{"$f":"OR(AND(D165>=Inputs!$I$45,D165<=Inputs!$I$46),AND(D165>=Inputs!$C$45,D165<=Inputs!$C$46),AND(D165>=Inputs!$D$45,D165<=Inputs!$D$46),AND(D165>=Inputs!$E$45,D165<=Inputs!$E$46),AND(D165>=Inputs!$F$45,D165<=Inputs!$F$46),AND(D165>=Inputs!$G$45,D165<=Inputs!$G$46),AND(D165>=Inputs!$H$45,D165<=Inputs!$H$46),IFERROR(AND(D165>=0,D165<=Inputs!$H$46-168),FALSE))","v":false},{"$f":"OR(AND(D165>=Inputs!$I$55,D165<=Inputs!$I$56),AND(D165>=Inputs!$C$55,D165<=Inputs!$C$56),AND(D165>=Inputs!$D$55,D165<=Inputs!$D$56),AND(D165>=Inputs!$E$55,D165<=Inputs!$E$56),AND(D165>=Inputs!$F$55,D165<=Inputs!$F$56),AND(D165>=Inputs!$G$55,D165<=Inputs!$G$56),AND(D165>=Inputs!$H$55,D165<=Inputs!$H$56),IFERROR(AND(D165>=0,D165<=Inputs!$H$56-168),FALSE))","v":false},{"$f":"OR(AND(D165>=Inputs!$I$65,D165<=Inputs!$I$66),AND(D165>=Inputs!$C$65,D165<=Inputs!$C$66),AND(D165>=Inputs!$D$65,D165<=Inputs!$D$66),AND(D165>=Inputs!$E$65,D165<=Inputs!$E$66),AND(D165>=Inputs!$F$65,D165<=Inputs!$F$66),AND(D165>=Inputs!$G$65,D165<=Inputs!$G$66),AND(D165>=Inputs!$H$65,D165<=Inputs!$H$66),IFERROR(AND(D165>=0,D165<=Inputs!$H$66-168),FALSE))","v":false},{"$f":"OR(AND(D165>=Inputs!$I$75,D165<=Inputs!$I$76),AND(D165>=Inputs!$C$75,D165<=Inputs!$C$76),AND(D165>=Inputs!$D$75,D165<=Inputs!$D$76),AND(D165>=Inputs!$E$75,D165<=Inputs!$E$76),AND(D165>=Inputs!$F$75,D165<=Inputs!$F$76),AND(D165>=Inputs!$G$75,D165<=Inputs!$G$76),AND(D165>=Inputs!$H$75,D165<=Inputs!$H$76),IFERROR(AND(D165>=0,D165<=Inputs!$H$76-168),FALSE))","v":false},0,0]
[null,"Wednesday","08:00:00",80,{"$f":"OR(AND(D166>=Inputs!$I$45,D166<=Inputs!$I$46),AND(D166>=Inputs!$C$45,D166<=Inputs!$C$46),AND(D166>=Inputs!$D$45,D166<=Inputs!$D$46),AND(D166>=Inputs!$E$45,D166<=Inputs!$E$46),AND(D166>=Inputs!$F$45,D166<=Inputs!$F$46),AND(D166>=Inputs!$G$45,D166<=Inputs!$G$46),AND(D166>=Inputs!$H$45,D166<=Inputs!$H$46),IFERROR(AND(D166>=0,D166<=Inputs!$H$46-168),FALSE))","v":false},{"$f":"OR(AND(D166>=Inputs!$I$55,D166<=Inputs!$I$56),AND(D166>=Inputs!$C$55,D166<=Inputs!$C$56),AND(D166>=Inputs!$D$55,D166<=Inputs!$D$56),AND(D166>=Inputs!$E$55,D166<=Inputs!$E$56),AND(D166>=Inputs!$F$55,D166<=Inputs!$F$56),AND(D166>=Inputs!$G$55,D166<=Inputs!$G$56),AND(D166>=Inputs!$H$55,D166<=Inputs!$H$56),IFERROR(AND(D166>=0,D166<=Inputs!$H$56-168),FALSE))","v":false},{"$f":"OR(AND(D166>=Inputs!$I$65,D166<=Inputs!$I$66),AND(D166>=Inputs!$C$65,D166<=Inputs!$C$66),AND(D166>=Inputs!$D$65,D166<=Inputs!$D$66),AND(D166>=Inputs!$E$65,D166<=Inputs!$E$66),AND(D166>=Inputs!$F$65,D166<=Inputs!$F$66),AND(D166>=Inputs!$G$65,D166<=Inputs!$G$66),AND(D166>=Inputs!$H$65,D166<=Inputs!$H$66),IFERROR(AND(D166>=0,D166<=Inputs!$H$66-168),FALSE))","v":false},{"$f":"OR(AND(D166>=Inputs!$I$75,D166<=Inputs!$I$76),AND(D166>=Inputs!$C$75,D166<=Inputs!$C$76),AND(D166>=Inputs!$D$75,D166<=Inputs!$D$76),AND(D166>=Inputs!$E$75,D166<=Inputs!$E$76),AND(D166>=Inputs!$F$75,D166<=Inputs!$F$76),AND(D166>=Inputs!$G$75,D166<=Inputs!$G$76),AND(D166>=Inputs!$H$75,D166<=Inputs!$H$76),IFERROR(AND(D166>=0,D166<=Inputs!$H$76-168),FALSE))","v":false},0,0]
[null,"Wednesday","09:00:00",81,{"$f":"OR(AND(D167>=Inputs!$I$45,D167<=Inputs!$I$46),AND(D167>=Inputs!$C$45,D167<=Inputs!$C$46),AND(D167>=Inputs!$D$45,D167<=Inputs!$D$46),AND(D167>=Inputs!$E$45,D167<=Inputs!$E$46),AND(D167>=Inputs!$F$45,D167<=Inputs!$F$46),AND(D167>=Inputs!$G$45,D167<=Inputs!$G$46),AND(D167>=Inputs!$H$45,D167<=Inputs!$H$46),IFERROR(AND(D167>=0,D167<=Inputs!$H$46-168),FALSE))","v":true},{"$f":"OR(AND(D167>=Inputs!$I$55,D167<=Inputs!$I$56),AND(D167>=Inputs!$C$55,D167<=Inputs!$C$56),AND(D167>=Inputs!$D$55,D167<=Inputs!$D$56),AND(D167>=Inputs!$E$55,D167<=Inputs!$E$56),AND(D167>=Inputs!$F$55,D167<=Inputs!$F$56),AND(D167>=Inputs!$G$55,D167<=Inputs!$G$56),AND(D167>=Inputs!$H$55,D167<=Inputs!$H$56),IFERROR(AND(D167>=0,D167<=Inputs!$H$56-168),FALSE))","v":false},{"$f":"OR(AND(D167>=Inputs!$I$65,D167<=Inputs!$I$66),AND(D167>=Inputs!$C$65,D167<=Inputs!$C$66),AND(D167>=Inputs!$D$65,D167<=Inputs!$D$66),AND(D167>=Inputs!$E$65,D167<=Inputs!$E$66),AND(D167>=Inputs!$F$65,D167<=Inputs!$F$66),AND(D167>=Inputs!$G$65,D167<=Inputs!$G$66),AND(D167>=Inputs!$H$65,D167<=Inputs!$H$66),IFERROR(AND(D167>=0,D167<=Inputs!$H$66-168),FALSE))","v":false},{"$f":"OR(AND(D167>=Inputs!$I$75,D167<=Inputs!$I$76),AND(D167>=Inputs!$C$75,D167<=Inputs!$C$76),AND(D167>=Inputs!$D$75,D167<=Inputs!$D$76),AND(D167>=Inputs!$E$75,D167<=Inputs!$E$76),AND(D167>=Inputs!$F$75,D167<=Inputs!$F$76),AND(D167>=Inputs!$G$75,D167<=Inputs!$G$76),AND(D167>=Inputs!$H$75,D167<=Inputs!$H$76),IFERROR(AND(D167>=0,D167<=Inputs!$H$76-168),FALSE))","v":false},1,0]
[null,"Wednesday","10:00:00",82,{"$f":"OR(AND(D168>=Inputs!$I$45,D168<=Inputs!$I$46),AND(D168>=Inputs!$C$45,D168<=Inputs!$C$46),AND(D168>=Inputs!$D$45,D168<=Inputs!$D$46),AND(D168>=Inputs!$E$45,D168<=Inputs!$E$46),AND(D168>=Inputs!$F$45,D168<=Inputs!$F$46),AND(D168>=Inputs!$G$45,D168<=Inputs!$G$46),AND(D168>=Inputs!$H$45,D168<=Inputs!$H$46),IFERROR(AND(D168>=0,D168<=Inputs!$H$46-168),FALSE))","v":true},{"$f":"OR(AND(D168>=Inputs!$I$55,D168<=Inputs!$I$56),AND(D168>=Inputs!$C$55,D168<=Inputs!$C$56),AND(D168>=Inputs!$D$55,D168<=Inputs!$D$56),AND(D168>=Inputs!$E$55,D168<=Inputs!$E$56),AND(D168>=Inputs!$F$55,D168<=Inputs!$F$56),AND(D168>=Inputs!$G$55,D168<=Inputs!$G$56),AND(D168>=Inputs!$H$55,D168<=Inputs!$H$56),IFERROR(AND(D168>=0,D168<=Inputs!$H$56-168),FALSE))","v":false},{"$f":"OR(AND(D168>=Inputs!$I$65,D168<=Inputs!$I$66),AND(D168>=Inputs!$C$65,D168<=Inputs!$C$66),AND(D168>=Inputs!$D$65,D168<=Inputs!$D$66),AND(D168>=Inputs!$E$65,D168<=Inputs!$E$66),AND(D168>=Inputs!$F$65,D168<=Inputs!$F$66),AND(D168>=Inputs!$G$65,D168<=Inputs!$G$66),AND(D168>=Inputs!$H$65,D168<=Inputs!$H$66),IFERROR(AND(D168>=0,D168<=Inputs!$H$66-168),FALSE))","v":false},{"$f":"OR(AND(D168>=Inputs!$I$75,D168<=Inputs!$I$76),AND(D168>=Inputs!$C$75,D168<=Inputs!$C$76),AND(D168>=Inputs!$D$75,D168<=Inputs!$D$76),AND(D168>=Inputs!$E$75,D168<=Inputs!$E$76),AND(D168>=Inputs!$F$75,D168<=Inputs!$F$76),AND(D168>=Inputs!$G$75,D168<=Inputs!$G$76),AND(D168>=Inputs!$H$75,D168<=Inputs!$H$76),IFERROR(AND(D168>=0,D168<=Inputs!$H$76-168),FALSE))","v":false},1,0]
[null,"Wednesday","11:00:00",83,{"$f":"OR(AND(D169>=Inputs!$I$45,D169<=Inputs!$I$46),AND(D169>=Inputs!$C$45,D169<=Inputs!$C$46),AND(D169>=Inputs!$D$45,D169<=Inputs!$D$46),AND(D169>=Inputs!$E$45,D169<=Inputs!$E$46),AND(D169>=Inputs!$F$45,D169<=Inputs!$F$46),AND(D169>=Inputs!$G$45,D169<=Inputs!$G$46),AND(D169>=Inputs!$H$45,D169<=Inputs!$H$46),IFERROR(AND(D169>=0,D169<=Inputs!$H$46-168),FALSE))","v":true},{"$f":"OR(AND(D169>=Inputs!$I$55,D169<=Inputs!$I$56),AND(D169>=Inputs!$C$55,D169<=Inputs!$C$56),AND(D169>=Inputs!$D$55,D169<=Inputs!$D$56),AND(D169>=Inputs!$E$55,D169<=Inputs!$E$56),AND(D169>=Inputs!$F$55,D169<=Inputs!$F$56),AND(D169>=Inputs!$G$55,D169<=Inputs!$G$56),AND(D169>=Inputs!$H$55,D169<=Inputs!$H$56),IFERROR(AND(D169>=0,D169<=Inputs!$H$56-168),FALSE))","v":false},{"$f":"OR(AND(D169>=Inputs!$I$65,D169<=Inputs!$I$66),AND(D169>=Inputs!$C$65,D169<=Inputs!$C$66),AND(D169>=Inputs!$D$65,D169<=Inputs!$D$66),AND(D169>=Inputs!$E$65,D169<=Inputs!$E$66),AND(D169>=Inputs!$F$65,D169<=Inputs!$F$66),AND(D169>=Inputs!$G$65,D169<=Inputs!$G$66),AND(D169>=Inputs!$H$65,D169<=Inputs!$H$66),IFERROR(AND(D169>=0,D169<=Inputs!$H$66-168),FALSE))","v":false},{"$f":"OR(AND(D169>=Inputs!$I$75,D169<=Inputs!$I$76),AND(D169>=Inputs!$C$75,D169<=Inputs!$C$76),AND(D169>=Inputs!$D$75,D169<=Inputs!$D$76),AND(D169>=Inputs!$E$75,D169<=Inputs!$E$76),AND(D169>=Inputs!$F$75,D169<=Inputs!$F$76),AND(D169>=Inputs!$G$75,D169<=Inputs!$G$76),AND(D169>=Inputs!$H$75,D169<=Inputs!$H$76),IFERROR(AND(D169>=0,D169<=Inputs!$H$76-168),FALSE))","v":false},1,0]
[null,"Wednesday","12:00:00",84,{"$f":"OR(AND(D170>=Inputs!$I$45,D170<=Inputs!$I$46),AND(D170>=Inputs!$C$45,D170<=Inputs!$C$46),AND(D170>=Inputs!$D$45,D170<=Inputs!$D$46),AND(D170>=Inputs!$E$45,D170<=Inputs!$E$46),AND(D170>=Inputs!$F$45,D170<=Inputs!$F$46),AND(D170>=Inputs!$G$45,D170<=Inputs!$G$46),AND(D170>=Inputs!$H$45,D170<=Inputs!$H$46),IFERROR(AND(D170>=0,D170<=Inputs!$H$46-168),FALSE))","v":true},{"$f":"OR(AND(D170>=Inputs!$I$55,D170<=Inputs!$I$56),AND(D170>=Inputs!$C$55,D170<=Inputs!$C$56),AND(D170>=Inputs!$D$55,D170<=Inputs!$D$56),AND(D170>=Inputs!$E$55,D170<=Inputs!$E$56),AND(D170>=Inputs!$F$55,D170<=Inputs!$F$56),AND(D170>=Inputs!$G$55,D170<=Inputs!$G$56),AND(D170>=Inputs!$H$55,D170<=Inputs!$H$56),IFERROR(AND(D170>=0,D170<=Inputs!$H$56-168),FALSE))","v":false},{"$f":"OR(AND(D170>=Inputs!$I$65,D170<=Inputs!$I$66),AND(D170>=Inputs!$C$65,D170<=Inputs!$C$66),AND(D170>=Inputs!$D$65,D170<=Inputs!$D$66),AND(D170>=Inputs!$E$65,D170<=Inputs!$E$66),AND(D170>=Inputs!$F$65,D170<=Inputs!$F$66),AND(D170>=Inputs!$G$65,D170<=Inputs!$G$66),AND(D170>=Inputs!$H$65,D170<=Inputs!$H$66),IFERROR(AND(D170>=0,D170<=Inputs!$H$66-168),FALSE))","v":false},{"$f":"OR(AND(D170>=Inputs!$I$75,D170<=Inputs!$I$76),AND(D170>=Inputs!$C$75,D170<=Inputs!$C$76),AND(D170>=Inputs!$D$75,D170<=Inputs!$D$76),AND(D170>=Inputs!$E$75,D170<=Inputs!$E$76),AND(D170>=Inputs!$F$75,D170<=Inputs!$F$76),AND(D170>=Inputs!$G$75,D170<=Inputs!$G$76),AND(D170>=Inputs!$H$75,D170<=Inputs!$H$76),IFERROR(AND(D170>=0,D170<=Inputs!$H$76-168),FALSE))","v":false},1,0]
[null,"Wednesday","13:00:00",85,{"$f":"OR(AND(D171>=Inputs!$I$45,D171<=Inputs!$I$46),AND(D171>=Inputs!$C$45,D171<=Inputs!$C$46),AND(D171>=Inputs!$D$45,D171<=Inputs!$D$46),AND(D171>=Inputs!$E$45,D171<=Inputs!$E$46),AND(D171>=Inputs!$F$45,D171<=Inputs!$F$46),AND(D171>=Inputs!$G$45,D171<=Inputs!$G$46),AND(D171>=Inputs!$H$45,D171<=Inputs!$H$46),IFERROR(AND(D171>=0,D171<=Inputs!$H$46-168),FALSE))","v":true},{"$f":"OR(AND(D171>=Inputs!$I$55,D171<=Inputs!$I$56),AND(D171>=Inputs!$C$55,D171<=Inputs!$C$56),AND(D171>=Inputs!$D$55,D171<=Inputs!$D$56),AND(D171>=Inputs!$E$55,D171<=Inputs!$E$56),AND(D171>=Inputs!$F$55,D171<=Inputs!$F$56),AND(D171>=Inputs!$G$55,D171<=Inputs!$G$56),AND(D171>=Inputs!$H$55,D171<=Inputs!$H$56),IFERROR(AND(D171>=0,D171<=Inputs!$H$56-168),FALSE))","v":false},{"$f":"OR(AND(D171>=Inputs!$I$65,D171<=Inputs!$I$66),AND(D171>=Inputs!$C$65,D171<=Inputs!$C$66),AND(D171>=Inputs!$D$65,D171<=Inputs!$D$66),AND(D171>=Inputs!$E$65,D171<=Inputs!$E$66),AND(D171>=Inputs!$F$65,D171<=Inputs!$F$66),AND(D171>=Inputs!$G$65,D171<=Inputs!$G$66),AND(D171>=Inputs!$H$65,D171<=Inputs!$H$66),IFERROR(AND(D171>=0,D171<=Inputs!$H$66-168),FALSE))","v":false},{"$f":"OR(AND(D171>=Inputs!$I$75,D171<=Inputs!$I$76),AND(D171>=Inputs!$C$75,D171<=Inputs!$C$76),AND(D171>=Inputs!$D$75,D171<=Inputs!$D$76),AND(D171>=Inputs!$E$75,D171<=Inputs!$E$76),AND(D171>=Inputs!$F$75,D171<=Inputs!$F$76),AND(D171>=Inputs!$G$75,D171<=Inputs!$G$76),AND(D171>=Inputs!$H$75,D171<=Inputs!$H$76),IFERROR(AND(D171>=0,D171<=Inputs!$H$76-168),FALSE))","v":false},1,0]
[null,"Wednesday","14:00:00",86,{"$f":"OR(AND(D172>=Inputs!$I$45,D172<=Inputs!$I$46),AND(D172>=Inputs!$C$45,D172<=Inputs!$C$46),AND(D172>=Inputs!$D$45,D172<=Inputs!$D$46),AND(D172>=Inputs!$E$45,D172<=Inputs!$E$46),AND(D172>=Inputs!$F$45,D172<=Inputs!$F$46),AND(D172>=Inputs!$G$45,D172<=Inputs!$G$46),AND(D172>=Inputs!$H$45,D172<=Inputs!$H$46),IFERROR(AND(D172>=0,D172<=Inputs!$H$46-168),FALSE))","v":false},{"$f":"OR(AND(D172>=Inputs!$I$55,D172<=Inputs!$I$56),AND(D172>=Inputs!$C$55,D172<=Inputs!$C$56),AND(D172>=Inputs!$D$55,D172<=Inputs!$D$56),AND(D172>=Inputs!$E$55,D172<=Inputs!$E$56),AND(D172>=Inputs!$F$55,D172<=Inputs!$F$56),AND(D172>=Inputs!$G$55,D172<=Inputs!$G$56),AND(D172>=Inputs!$H$55,D172<=Inputs!$H$56),IFERROR(AND(D172>=0,D172<=Inputs!$H$56-168),FALSE))","v":false},{"$f":"OR(AND(D172>=Inputs!$I$65,D172<=Inputs!$I$66),AND(D172>=Inputs!$C$65,D172<=Inputs!$C$66),AND(D172>=Inputs!$D$65,D172<=Inputs!$D$66),AND(D172>=Inputs!$E$65,D172<=Inputs!$E$66),AND(D172>=Inputs!$F$65,D172<=Inputs!$F$66),AND(D172>=Inputs!$G$65,D172<=Inputs!$G$66),AND(D172>=Inputs!$H$65,D172<=Inputs!$H$66),IFERROR(AND(D172>=0,D172<=Inputs!$H$66-168),FALSE))","v":false},{"$f":"OR(AND(D172>=Inputs!$I$75,D172<=Inputs!$I$76),AND(D172>=Inputs!$C$75,D172<=Inputs!$C$76),AND(D172>=Inputs!$D$75,D172<=Inputs!$D$76),AND(D172>=Inputs!$E$75,D172<=Inputs!$E$76),AND(D172>=Inputs!$F$75,D172<=Inputs!$F$76),AND(D172>=Inputs!$G$75,D172<=Inputs!$G$76),AND(D172>=Inputs!$H$75,D172<=Inputs!$H$76),IFERROR(AND(D172>=0,D172<=Inputs!$H$76-168),FALSE))","v":false},0,0]
[null,"Wednesday","15:00:00",87,{"$f":"OR(AND(D173>=Inputs!$I$45,D173<=Inputs!$I$46),AND(D173>=Inputs!$C$45,D173<=Inputs!$C$46),AND(D173>=Inputs!$D$45,D173<=Inputs!$D$46),AND(D173>=Inputs!$E$45,D173<=Inputs!$E$46),AND(D173>=Inputs!$F$45,D173<=Inputs!$F$46),AND(D173>=Inputs!$G$45,D173<=Inputs!$G$46),AND(D173>=Inputs!$H$45,D173<=Inputs!$H$46),IFERROR(AND(D173>=0,D173<=Inputs!$H$46-168),FALSE))","v":false},{"$f":"OR(AND(D173>=Inputs!$I$55,D173<=Inputs!$I$56),AND(D173>=Inputs!$C$55,D173<=Inputs!$C$56),AND(D173>=Inputs!$D$55,D173<=Inputs!$D$56),AND(D173>=Inputs!$E$55,D173<=Inputs!$E$56),AND(D173>=Inputs!$F$55,D173<=Inputs!$F$56),AND(D173>=Inputs!$G$55,D173<=Inputs!$G$56),AND(D173>=Inputs!$H$55,D173<=Inputs!$H$56),IFERROR(AND(D173>=0,D173<=Inputs!$H$56-168),FALSE))","v":false},{"$f":"OR(AND(D173>=Inputs!$I$65,D173<=Inputs!$I$66),AND(D173>=Inputs!$C$65,D173<=Inputs!$C$66),AND(D173>=Inputs!$D$65,D173<=Inputs!$D$66),AND(D173>=Inputs!$E$65,D173<=Inputs!$E$66),AND(D173>=Inputs!$F$65,D173<=Inputs!$F$66),AND(D173>=Inputs!$G$65,D173<=Inputs!$G$66),AND(D173>=Inputs!$H$65,D173<=Inputs!$H$66),IFERROR(AND(D173>=0,D173<=Inputs!$H$66-168),FALSE))","v":false},{"$f":"OR(AND(D173>=Inputs!$I$75,D173<=Inputs!$I$76),AND(D173>=Inputs!$C$75,D173<=Inputs!$C$76),AND(D173>=Inputs!$D$75,D173<=Inputs!$D$76),AND(D173>=Inputs!$E$75,D173<=Inputs!$E$76),AND(D173>=Inputs!$F$75,D173<=Inputs!$F$76),AND(D173>=Inputs!$G$75,D173<=Inputs!$G$76),AND(D173>=Inputs!$H$75,D173<=Inputs!$H$76),IFERROR(AND(D173>=0,D173<=Inputs!$H$76-168),FALSE))","v":false},0,0]
[null,"Wednesday","16:00:00",88,{"$f":"OR(AND(D174>=Inputs!$I$45,D174<=Inputs!$I$46),AND(D174>=Inputs!$C$45,D174<=Inputs!$C$46),AND(D174>=Inputs!$D$45,D174<=Inputs!$D$46),AND(D174>=Inputs!$E$45,D174<=Inputs!$E$46),AND(D174>=Inputs!$F$45,D174<=Inputs!$F$46),AND(D174>=Inputs!$G$45,D174<=Inputs!$G$46),AND(D174>=Inputs!$H$45,D174<=Inputs!$H$46),IFERROR(AND(D174>=0,D174<=Inputs!$H$46-168),FALSE))","v":false},{"$f":"OR(AND(D174>=Inputs!$I$55,D174<=Inputs!$I$56),AND(D174>=Inputs!$C$55,D174<=Inputs!$C$56),AND(D174>=Inputs!$D$55,D174<=Inputs!$D$56),AND(D174>=Inputs!$E$55,D174<=Inputs!$E$56),AND(D174>=Inputs!$F$55,D174<=Inputs!$F$56),AND(D174>=Inputs!$G$55,D174<=Inputs!$G$56),AND(D174>=Inputs!$H$55,D174<=Inputs!$H$56),IFERROR(AND(D174>=0,D174<=Inputs!$H$56-168),FALSE))","v":false},{"$f":"OR(AND(D174>=Inputs!$I$65,D174<=Inputs!$I$66),AND(D174>=Inputs!$C$65,D174<=Inputs!$C$66),AND(D174>=Inputs!$D$65,D174<=Inputs!$D$66),AND(D174>=Inputs!$E$65,D174<=Inputs!$E$66),AND(D174>=Inputs!$F$65,D174<=Inputs!$F$66),AND(D174>=Inputs!$G$65,D174<=Inputs!$G$66),AND(D174>=Inputs!$H$65,D174<=Inputs!$H$66),IFERROR(AND(D174>=0,D174<=Inputs!$H$66-168),FALSE))","v":false},{"$f":"OR(AND(D174>=Inputs!$I$75,D174<=Inputs!$I$76),AND(D174>=Inputs!$C$75,D174<=Inputs!$C$76),AND(D174>=Inputs!$D$75,D174<=Inputs!$D$76),AND(D174>=Inputs!$E$75,D174<=Inputs!$E$76),AND(D174>=Inputs!$F$75,D174<=Inputs!$F$76),AND(D174>=Inputs!$G$75,D174<=Inputs!$G$76),AND(D174>=Inputs!$H$75,D174<=Inputs!$H$76),IFERROR(AND(D174>=0,D174<=Inputs!$H$76-168),FALSE))","v":false},0,0]
[null,"Wednesday","17:00:00",89,{"$f":"OR(AND(D175>=Inputs!$I$45,D175<=Inputs!$I$46),AND(D175>=Inputs!$C$45,D175<=Inputs!$C$46),AND(D175>=Inputs!$D$45,D175<=Inputs!$D$46),AND(D175>=Inputs!$E$45,D175<=Inputs!$E$46),AND(D175>=Inputs!$F$45,D175<=Inputs!$F$46),AND(D175>=Inputs!$G$45,D175<=Inputs!$G$46),AND(D175>=Inputs!$H$45,D175<=Inputs!$H$46),IFERROR(AND(D175>=0,D175<=Inputs!$H$46-168),FALSE))","v":false},{"$f":"OR(AND(D175>=Inputs!$I$55,D175<=Inputs!$I$56),AND(D175>=Inputs!$C$55,D175<=Inputs!$C$56),AND(D175>=Inputs!$D$55,D175<=Inputs!$D$56),AND(D175>=Inputs!$E$55,D175<=Inputs!$E$56),AND(D175>=Inputs!$F$55,D175<=Inputs!$F$56),AND(D175>=Inputs!$G$55,D175<=Inputs!$G$56),AND(D175>=Inputs!$H$55,D175<=Inputs!$H$56),IFERROR(AND(D175>=0,D175<=Inputs!$H$56-168),FALSE))","v":false},{"$f":"OR(AND(D175>=Inputs!$I$65,D175<=Inputs!$I$66),AND(D175>=Inputs!$C$65,D175<=Inputs!$C$66),AND(D175>=Inputs!$D$65,D175<=Inputs!$D$66),AND(D175>=Inputs!$E$65,D175<=Inputs!$E$66),AND(D175>=Inputs!$F$65,D175<=Inputs!$F$66),AND(D175>=Inputs!$G$65,D175<=Inputs!$G$66),AND(D175>=Inputs!$H$65,D175<=Inputs!$H$66),IFERROR(AND(D175>=0,D175<=Inputs!$H$66-168),FALSE))","v":false},{"$f":"OR(AND(D175>=Inputs!$I$75,D175<=Inputs!$I$76),AND(D175>=Inputs!$C$75,D175<=Inputs!$C$76),AND(D175>=Inputs!$D$75,D175<=Inputs!$D$76),AND(D175>=Inputs!$E$75,D175<=Inputs!$E$76),AND(D175>=Inputs!$F$75,D175<=Inputs!$F$76),AND(D175>=Inputs!$G$75,D175<=Inputs!$G$76),AND(D175>=Inputs!$H$75,D175<=Inputs!$H$76),IFERROR(AND(D175>=0,D175<=Inputs!$H$76-168),FALSE))","v":false},0,0]
[null,"Wednesday","18:00:00",90,{"$f":"OR(AND(D176>=Inputs!$I$45,D176<=Inputs!$I$46),AND(D176>=Inputs!$C$45,D176<=Inputs!$C$46),AND(D176>=Inputs!$D$45,D176<=Inputs!$D$46),AND(D176>=Inputs!$E$45,D176<=Inputs!$E$46),AND(D176>=Inputs!$F$45,D176<=Inputs!$F$46),AND(D176>=Inputs!$G$45,D176<=Inputs!$G$46),AND(D176>=Inputs!$H$45,D176<=Inputs!$H$46),IFERROR(AND(D176>=0,D176<=Inputs!$H$46-168),FALSE))","v":false},{"$f":"OR(AND(D176>=Inputs!$I$55,D176<=Inputs!$I$56),AND(D176>=Inputs!$C$55,D176<=Inputs!$C$56),AND(D176>=Inputs!$D$55,D176<=Inputs!$D$56),AND(D176>=Inputs!$E$55,D176<=Inputs!$E$56),AND(D176>=Inputs!$F$55,D176<=Inputs!$F$56),AND(D176>=Inputs!$G$55,D176<=Inputs!$G$56),AND(D176>=Inputs!$H$55,D176<=Inputs!$H$56),IFERROR(AND(D176>=0,D176<=Inputs!$H$56-168),FALSE))","v":false},{"$f":"OR(AND(D176>=Inputs!$I$65,D176<=Inputs!$I$66),AND(D176>=Inputs!$C$65,D176<=Inputs!$C$66),AND(D176>=Inputs!$D$65,D176<=Inputs!$D$66),AND(D176>=Inputs!$E$65,D176<=Inputs!$E$66),AND(D176>=Inputs!$F$65,D176<=Inputs!$F$66),AND(D176>=Inputs!$G$65,D176<=Inputs!$G$66),AND(D176>=Inputs!$H$65,D176<=Inputs!$H$66),IFERROR(AND(D176>=0,D176<=Inputs!$H$66-168),FALSE))","v":false},{"$f":"OR(AND(D176>=Inputs!$I$75,D176<=Inputs!$I$76),AND(D176>=Inputs!$C$75,D176<=Inputs!$C$76),AND(D176>=Inputs!$D$75,D176<=Inputs!$D$76),AND(D176>=Inputs!$E$75,D176<=Inputs!$E$76),AND(D176>=Inputs!$F$75,D176<=Inputs!$F$76),AND(D176>=Inputs!$G$75,D176<=Inputs!$G$76),AND(D176>=Inputs!$H$75,D176<=Inputs!$H$76),IFERROR(AND(D176>=0,D176<=Inputs!$H$76-168),FALSE))","v":false},0,0]
[null,"Wednesday","19:00:00",91,{"$f":"OR(AND(D177>=Inputs!$I$45,D177<=Inputs!$I$46),AND(D177>=Inputs!$C$45,D177<=Inputs!$C$46),AND(D177>=Inputs!$D$45,D177<=Inputs!$D$46),AND(D177>=Inputs!$E$45,D177<=Inputs!$E$46),AND(D177>=Inputs!$F$45,D177<=Inputs!$F$46),AND(D177>=Inputs!$G$45,D177<=Inputs!$G$46),AND(D177>=Inputs!$H$45,D177<=Inputs!$H$46),IFERROR(AND(D177>=0,D177<=Inputs!$H$46-168),FALSE))","v":false},{"$f":"OR(AND(D177>=Inputs!$I$55,D177<=Inputs!$I$56),AND(D177>=Inputs!$C$55,D177<=Inputs!$C$56),AND(D177>=Inputs!$D$55,D177<=Inputs!$D$56),AND(D177>=Inputs!$E$55,D177<=Inputs!$E$56),AND(D177>=Inputs!$F$55,D177<=Inputs!$F$56),AND(D177>=Inputs!$G$55,D177<=Inputs!$G$56),AND(D177>=Inputs!$H$55,D177<=Inputs!$H$56),IFERROR(AND(D177>=0,D177<=Inputs!$H$56-168),FALSE))","v":false},{"$f":"OR(AND(D177>=Inputs!$I$65,D177<=Inputs!$I$66),AND(D177>=Inputs!$C$65,D177<=Inputs!$C$66),AND(D177>=Inputs!$D$65,D177<=Inputs!$D$66),AND(D177>=Inputs!$E$65,D177<=Inputs!$E$66),AND(D177>=Inputs!$F$65,D177<=Inputs!$F$66),AND(D177>=Inputs!$G$65,D177<=Inputs!$G$66),AND(D177>=Inputs!$H$65,D177<=Inputs!$H$66),IFERROR(AND(D177>=0,D177<=Inputs!$H$66-168),FALSE))","v":false},{"$f":"OR(AND(D177>=Inputs!$I$75,D177<=Inputs!$I$76),AND(D177>=Inputs!$C$75,D177<=Inputs!$C$76),AND(D177>=Inputs!$D$75,D177<=Inputs!$D$76),AND(D177>=Inputs!$E$75,D177<=Inputs!$E$76),AND(D177>=Inputs!$F$75,D177<=Inputs!$F$76),AND(D177>=Inputs!$G$75,D177<=Inputs!$G$76),AND(D177>=Inputs!$H$75,D177<=Inputs!$H$76),IFERROR(AND(D177>=0,D177<=Inputs!$H$76-168),FALSE))","v":false},0,0]
[null,"Wednesday","20:00:00",92,{"$f":"OR(AND(D178>=Inputs!$I$45,D178<=Inputs!$I$46),AND(D178>=Inputs!$C$45,D178<=Inputs!$C$46),AND(D178>=Inputs!$D$45,D178<=Inputs!$D$46),AND(D178>=Inputs!$E$45,D178<=Inputs!$E$46),AND(D178>=Inputs!$F$45,D178<=Inputs!$F$46),AND(D178>=Inputs!$G$45,D178<=Inputs!$G$46),AND(D178>=Inputs!$H$45,D178<=Inputs!$H$46),IFERROR(AND(D178>=0,D178<=Inputs!$H$46-168),FALSE))","v":false},{"$f":"OR(AND(D178>=Inputs!$I$55,D178<=Inputs!$I$56),AND(D178>=Inputs!$C$55,D178<=Inputs!$C$56),AND(D178>=Inputs!$D$55,D178<=Inputs!$D$56),AND(D178>=Inputs!$E$55,D178<=Inputs!$E$56),AND(D178>=Inputs!$F$55,D178<=Inputs!$F$56),AND(D178>=Inputs!$G$55,D178<=Inputs!$G$56),AND(D178>=Inputs!$H$55,D178<=Inputs!$H$56),IFERROR(AND(D178>=0,D178<=Inputs!$H$56-168),FALSE))","v":false},{"$f":"OR(AND(D178>=Inputs!$I$65,D178<=Inputs!$I$66),AND(D178>=Inputs!$C$65,D178<=Inputs!$C$66),AND(D178>=Inputs!$D$65,D178<=Inputs!$D$66),AND(D178>=Inputs!$E$65,D178<=Inputs!$E$66),AND(D178>=Inputs!$F$65,D178<=Inputs!$F$66),AND(D178>=Inputs!$G$65,D178<=Inputs!$G$66),AND(D178>=Inputs!$H$65,D178<=Inputs!$H$66),IFERROR(AND(D178>=0,D178<=Inputs!$H$66-168),FALSE))","v":false},{"$f":"OR(AND(D178>=Inputs!$I$75,D178<=Inputs!$I$76),AND(D178>=Inputs!$C$75,D178<=Inputs!$C$76),AND(D178>=Inputs!$D$75,D178<=Inputs!$D$76),AND(D178>=Inputs!$E$75,D178<=Inputs!$E$76),AND(D178>=Inputs!$F$75,D178<=Inputs!$F$76),AND(D178>=Inputs!$G$75,D178<=Inputs!$G$76),AND(D178>=Inputs!$H$75,D178<=Inputs!$H$76),IFERROR(AND(D178>=0,D178<=Inputs!$H$76-168),FALSE))","v":false},0,0]
[null,"Wednesday","21:00:00",93,{"$f":"OR(AND(D179>=Inputs!$I$45,D179<=Inputs!$I$46),AND(D179>=Inputs!$C$45,D179<=Inputs!$C$46),AND(D179>=Inputs!$D$45,D179<=Inputs!$D$46),AND(D179>=Inputs!$E$45,D179<=Inputs!$E$46),AND(D179>=Inputs!$F$45,D179<=Inputs!$F$46),AND(D179>=Inputs!$G$45,D179<=Inputs!$G$46),AND(D179>=Inputs!$H$45,D179<=Inputs!$H$46),IFERROR(AND(D179>=0,D179<=Inputs!$H$46-168),FALSE))","v":false},{"$f":"OR(AND(D179>=Inputs!$I$55,D179<=Inputs!$I$56),AND(D179>=Inputs!$C$55,D179<=Inputs!$C$56),AND(D179>=Inputs!$D$55,D179<=Inputs!$D$56),AND(D179>=Inputs!$E$55,D179<=Inputs!$E$56),AND(D179>=Inputs!$F$55,D179<=Inputs!$F$56),AND(D179>=Inputs!$G$55,D179<=Inputs!$G$56),AND(D179>=Inputs!$H$55,D179<=Inputs!$H$56),IFERROR(AND(D179>=0,D179<=Inputs!$H$56-168),FALSE))","v":false},{"$f":"OR(AND(D179>=Inputs!$I$65,D179<=Inputs!$I$66),AND(D179>=Inputs!$C$65,D179<=Inputs!$C$66),AND(D179>=Inputs!$D$65,D179<=Inputs!$D$66),AND(D179>=Inputs!$E$65,D179<=Inputs!$E$66),AND(D179>=Inputs!$F$65,D179<=Inputs!$F$66),AND(D179>=Inputs!$G$65,D179<=Inputs!$G$66),AND(D179>=Inputs!$H$65,D179<=Inputs!$H$66),IFERROR(AND(D179>=0,D179<=Inputs!$H$66-168),FALSE))","v":false},{"$f":"OR(AND(D179>=Inputs!$I$75,D179<=Inputs!$I$76),AND(D179>=Inputs!$C$75,D179<=Inputs!$C$76),AND(D179>=Inputs!$D$75,D179<=Inputs!$D$76),AND(D179>=Inputs!$E$75,D179<=Inputs!$E$76),AND(D179>=Inputs!$F$75,D179<=Inputs!$F$76),AND(D179>=Inputs!$G$75,D179<=Inputs!$G$76),AND(D179>=Inputs!$H$75,D179<=Inputs!$H$76),IFERROR(AND(D179>=0,D179<=Inputs!$H$76-168),FALSE))","v":false},0,0]
[null,"Wednesday","22:00:00",94,{"$f":"OR(AND(D180>=Inputs!$I$45,D180<=Inputs!$I$46),AND(D180>=Inputs!$C$45,D180<=Inputs!$C$46),AND(D180>=Inputs!$D$45,D180<=Inputs!$D$46),AND(D180>=Inputs!$E$45,D180<=Inputs!$E$46),AND(D180>=Inputs!$F$45,D180<=Inputs!$F$46),AND(D180>=Inputs!$G$45,D180<=Inputs!$G$46),AND(D180>=Inputs!$H$45,D180<=Inputs!$H$46),IFERROR(AND(D180>=0,D180<=Inputs!$H$46-168),FALSE))","v":false},{"$f":"OR(AND(D180>=Inputs!$I$55,D180<=Inputs!$I$56),AND(D180>=Inputs!$C$55,D180<=Inputs!$C$56),AND(D180>=Inputs!$D$55,D180<=Inputs!$D$56),AND(D180>=Inputs!$E$55,D180<=Inputs!$E$56),AND(D180>=Inputs!$F$55,D180<=Inputs!$F$56),AND(D180>=Inputs!$G$55,D180<=Inputs!$G$56),AND(D180>=Inputs!$H$55,D180<=Inputs!$H$56),IFERROR(AND(D180>=0,D180<=Inputs!$H$56-168),FALSE))","v":false},{"$f":"OR(AND(D180>=Inputs!$I$65,D180<=Inputs!$I$66),AND(D180>=Inputs!$C$65,D180<=Inputs!$C$66),AND(D180>=Inputs!$D$65,D180<=Inputs!$D$66),AND(D180>=Inputs!$E$65,D180<=Inputs!$E$66),AND(D180>=Inputs!$F$65,D180<=Inputs!$F$66),AND(D180>=Inputs!$G$65,D180<=Inputs!$G$66),AND(D180>=Inputs!$H$65,D180<=Inputs!$H$66),IFERROR(AND(D180>=0,D180<=Inputs!$H$66-168),FALSE))","v":false},{"$f":"OR(AND(D180>=Inputs!$I$75,D180<=Inputs!$I$76),AND(D180>=Inputs!$C$75,D180<=Inputs!$C$76),AND(D180>=Inputs!$D$75,D180<=Inputs!$D$76),AND(D180>=Inputs!$E$75,D180<=Inputs!$E$76),AND(D180>=Inputs!$F$75,D180<=Inputs!$F$76),AND(D180>=Inputs!$G$75,D180<=Inputs!$G$76),AND(D180>=Inputs!$H$75,D180<=Inputs!$H$76),IFERROR(AND(D180>=0,D180<=Inputs!$H$76-168),FALSE))","v":false},0,0]
[null,"Wednesday","23:00:00",95,{"$f":"OR(AND(D181>=Inputs!$I$45,D181<=Inputs!$I$46),AND(D181>=Inputs!$C$45,D181<=Inputs!$C$46),AND(D181>=Inputs!$D$45,D181<=Inputs!$D$46),AND(D181>=Inputs!$E$45,D181<=Inputs!$E$46),AND(D181>=Inputs!$F$45,D181<=Inputs!$F$46),AND(D181>=Inputs!$G$45,D181<=Inputs!$G$46),AND(D181>=Inputs!$H$45,D181<=Inputs!$H$46),IFERROR(AND(D181>=0,D181<=Inputs!$H$46-168),FALSE))","v":false},{"$f":"OR(AND(D181>=Inputs!$I$55,D181<=Inputs!$I$56),AND(D181>=Inputs!$C$55,D181<=Inputs!$C$56),AND(D181>=Inputs!$D$55,D181<=Inputs!$D$56),AND(D181>=Inputs!$E$55,D181<=Inputs!$E$56),AND(D181>=Inputs!$F$55,D181<=Inputs!$F$56),AND(D181>=Inputs!$G$55,D181<=Inputs!$G$56),AND(D181>=Inputs!$H$55,D181<=Inputs!$H$56),IFERROR(AND(D181>=0,D181<=Inputs!$H$56-168),FALSE))","v":false},{"$f":"OR(AND(D181>=Inputs!$I$65,D181<=Inputs!$I$66),AND(D181>=Inputs!$C$65,D181<=Inputs!$C$66),AND(D181>=Inputs!$D$65,D181<=Inputs!$D$66),AND(D181>=Inputs!$E$65,D181<=Inputs!$E$66),AND(D181>=Inputs!$F$65,D181<=Inputs!$F$66),AND(D181>=Inputs!$G$65,D181<=Inputs!$G$66),AND(D181>=Inputs!$H$65,D181<=Inputs!$H$66),IFERROR(AND(D181>=0,D181<=Inputs!$H$66-168),FALSE))","v":false},{"$f":"OR(AND(D181>=Inputs!$I$75,D181<=Inputs!$I$76),AND(D181>=Inputs!$C$75,D181<=Inputs!$C$76),AND(D181>=Inputs!$D$75,D181<=Inputs!$D$76),AND(D181>=Inputs!$E$75,D181<=Inputs!$E$76),AND(D181>=Inputs!$F$75,D181<=Inputs!$F$76),AND(D181>=Inputs!$G$75,D181<=Inputs!$G$76),AND(D181>=Inputs!$H$75,D181<=Inputs!$H$76),IFERROR(AND(D181>=0,D181<=Inputs!$H$76-168),FALSE))","v":false},0,0]
[null,"Thursday","00:00:00",96,{"$f":"OR(AND(D182>=Inputs!$I$45,D182<=Inputs!$I$46),AND(D182>=Inputs!$C$45,D182<=Inputs!$C$46),AND(D182>=Inputs!$D$45,D182<=Inputs!$D$46),AND(D182>=Inputs!$E$45,D182<=Inputs!$E$46),AND(D182>=Inputs!$F$45,D182<=Inputs!$F$46),AND(D182>=Inputs!$G$45,D182<=Inputs!$G$46),AND(D182>=Inputs!$H$45,D182<=Inputs!$H$46),IFERROR(AND(D182>=0,D182<=Inputs!$H$46-168),FALSE))","v":false},{"$f":"OR(AND(D182>=Inputs!$I$55,D182<=Inputs!$I$56),AND(D182>=Inputs!$C$55,D182<=Inputs!$C$56),AND(D182>=Inputs!$D$55,D182<=Inputs!$D$56),AND(D182>=Inputs!$E$55,D182<=Inputs!$E$56),AND(D182>=Inputs!$F$55,D182<=Inputs!$F$56),AND(D182>=Inputs!$G$55,D182<=Inputs!$G$56),AND(D182>=Inputs!$H$55,D182<=Inputs!$H$56),IFERROR(AND(D182>=0,D182<=Inputs!$H$56-168),FALSE))","v":false},{"$f":"OR(AND(D182>=Inputs!$I$65,D182<=Inputs!$I$66),AND(D182>=Inputs!$C$65,D182<=Inputs!$C$66),AND(D182>=Inputs!$D$65,D182<=Inputs!$D$66),AND(D182>=Inputs!$E$65,D182<=Inputs!$E$66),AND(D182>=Inputs!$F$65,D182<=Inputs!$F$66),AND(D182>=Inputs!$G$65,D182<=Inputs!$G$66),AND(D182>=Inputs!$H$65,D182<=Inputs!$H$66),IFERROR(AND(D182>=0,D182<=Inputs!$H$66-168),FALSE))","v":false},{"$f":"OR(AND(D182>=Inputs!$I$75,D182<=Inputs!$I$76),AND(D182>=Inputs!$C$75,D182<=Inputs!$C$76),AND(D182>=Inputs!$D$75,D182<=Inputs!$D$76),AND(D182>=Inputs!$E$75,D182<=Inputs!$E$76),AND(D182>=Inputs!$F$75,D182<=Inputs!$F$76),AND(D182>=Inputs!$G$75,D182<=Inputs!$G$76),AND(D182>=Inputs!$H$75,D182<=Inputs!$H$76),IFERROR(AND(D182>=0,D182<=Inputs!$H$76-168),FALSE))","v":false},0,0]
[null,"Thursday","01:00:00",97,{"$f":"OR(AND(D183>=Inputs!$I$45,D183<=Inputs!$I$46),AND(D183>=Inputs!$C$45,D183<=Inputs!$C$46),AND(D183>=Inputs!$D$45,D183<=Inputs!$D$46),AND(D183>=Inputs!$E$45,D183<=Inputs!$E$46),AND(D183>=Inputs!$F$45,D183<=Inputs!$F$46),AND(D183>=Inputs!$G$45,D183<=Inputs!$G$46),AND(D183>=Inputs!$H$45,D183<=Inputs!$H$46),IFERROR(AND(D183>=0,D183<=Inputs!$H$46-168),FALSE))","v":false},{"$f":"OR(AND(D183>=Inputs!$I$55,D183<=Inputs!$I$56),AND(D183>=Inputs!$C$55,D183<=Inputs!$C$56),AND(D183>=Inputs!$D$55,D183<=Inputs!$D$56),AND(D183>=Inputs!$E$55,D183<=Inputs!$E$56),AND(D183>=Inputs!$F$55,D183<=Inputs!$F$56),AND(D183>=Inputs!$G$55,D183<=Inputs!$G$56),AND(D183>=Inputs!$H$55,D183<=Inputs!$H$56),IFERROR(AND(D183>=0,D183<=Inputs!$H$56-168),FALSE))","v":false},{"$f":"OR(AND(D183>=Inputs!$I$65,D183<=Inputs!$I$66),AND(D183>=Inputs!$C$65,D183<=Inputs!$C$66),AND(D183>=Inputs!$D$65,D183<=Inputs!$D$66),AND(D183>=Inputs!$E$65,D183<=Inputs!$E$66),AND(D183>=Inputs!$F$65,D183<=Inputs!$F$66),AND(D183>=Inputs!$G$65,D183<=Inputs!$G$66),AND(D183>=Inputs!$H$65,D183<=Inputs!$H$66),IFERROR(AND(D183>=0,D183<=Inputs!$H$66-168),FALSE))","v":false},{"$f":"OR(AND(D183>=Inputs!$I$75,D183<=Inputs!$I$76),AND(D183>=Inputs!$C$75,D183<=Inputs!$C$76),AND(D183>=Inputs!$D$75,D183<=Inputs!$D$76),AND(D183>=Inputs!$E$75,D183<=Inputs!$E$76),AND(D183>=Inputs!$F$75,D183<=Inputs!$F$76),AND(D183>=Inputs!$G$75,D183<=Inputs!$G$76),AND(D183>=Inputs!$H$75,D183<=Inputs!$H$76),IFERROR(AND(D183>=0,D183<=Inputs!$H$76-168),FALSE))","v":false},0,0]
[null,"Thursday","02:00:00",98,{"$f":"OR(AND(D184>=Inputs!$I$45,D184<=Inputs!$I$46),AND(D184>=Inputs!$C$45,D184<=Inputs!$C$46),AND(D184>=Inputs!$D$45,D184<=Inputs!$D$46),AND(D184>=Inputs!$E$45,D184<=Inputs!$E$46),AND(D184>=Inputs!$F$45,D184<=Inputs!$F$46),AND(D184>=Inputs!$G$45,D184<=Inputs!$G$46),AND(D184>=Inputs!$H$45,D184<=Inputs!$H$46),IFERROR(AND(D184>=0,D184<=Inputs!$H$46-168),FALSE))","v":false},{"$f":"OR(AND(D184>=Inputs!$I$55,D184<=Inputs!$I$56),AND(D184>=Inputs!$C$55,D184<=Inputs!$C$56),AND(D184>=Inputs!$D$55,D184<=Inputs!$D$56),AND(D184>=Inputs!$E$55,D184<=Inputs!$E$56),AND(D184>=Inputs!$F$55,D184<=Inputs!$F$56),AND(D184>=Inputs!$G$55,D184<=Inputs!$G$56),AND(D184>=Inputs!$H$55,D184<=Inputs!$H$56),IFERROR(AND(D184>=0,D184<=Inputs!$H$56-168),FALSE))","v":false},{"$f":"OR(AND(D184>=Inputs!$I$65,D184<=Inputs!$I$66),AND(D184>=Inputs!$C$65,D184<=Inputs!$C$66),AND(D184>=Inputs!$D$65,D184<=Inputs!$D$66),AND(D184>=Inputs!$E$65,D184<=Inputs!$E$66),AND(D184>=Inputs!$F$65,D184<=Inputs!$F$66),AND(D184>=Inputs!$G$65,D184<=Inputs!$G$66),AND(D184>=Inputs!$H$65,D184<=Inputs!$H$66),IFERROR(AND(D184>=0,D184<=Inputs!$H$66-168),FALSE))","v":false},{"$f":"OR(AND(D184>=Inputs!$I$75,D184<=Inputs!$I$76),AND(D184>=Inputs!$C$75,D184<=Inputs!$C$76),AND(D184>=Inputs!$D$75,D184<=Inputs!$D$76),AND(D184>=Inputs!$E$75,D184<=Inputs!$E$76),AND(D184>=Inputs!$F$75,D184<=Inputs!$F$76),AND(D184>=Inputs!$G$75,D184<=Inputs!$G$76),AND(D184>=Inputs!$H$75,D184<=Inputs!$H$76),IFERROR(AND(D184>=0,D184<=Inputs!$H$76-168),FALSE))","v":false},0,0]
[null,"Thursday","03:00:00",99,{"$f":"OR(AND(D185>=Inputs!$I$45,D185<=Inputs!$I$46),AND(D185>=Inputs!$C$45,D185<=Inputs!$C$46),AND(D185>=Inputs!$D$45,D185<=Inputs!$D$46),AND(D185>=Inputs!$E$45,D185<=Inputs!$E$46),AND(D185>=Inputs!$F$45,D185<=Inputs!$F$46),AND(D185>=Inputs!$G$45,D185<=Inputs!$G$46),AND(D185>=Inputs!$H$45,D185<=Inputs!$H$46),IFERROR(AND(D185>=0,D185<=Inputs!$H$46-168),FALSE))","v":false},{"$f":"OR(AND(D185>=Inputs!$I$55,D185<=Inputs!$I$56),AND(D185>=Inputs!$C$55,D185<=Inputs!$C$56),AND(D185>=Inputs!$D$55,D185<=Inputs!$D$56),AND(D185>=Inputs!$E$55,D185<=Inputs!$E$56),AND(D185>=Inputs!$F$55,D185<=Inputs!$F$56),AND(D185>=Inputs!$G$55,D185<=Inputs!$G$56),AND(D185>=Inputs!$H$55,D185<=Inputs!$H$56),IFERROR(AND(D185>=0,D185<=Inputs!$H$56-168),FALSE))","v":false},{"$f":"OR(AND(D185>=Inputs!$I$65,D185<=Inputs!$I$66),AND(D185>=Inputs!$C$65,D185<=Inputs!$C$66),AND(D185>=Inputs!$D$65,D185<=Inputs!$D$66),AND(D185>=Inputs!$E$65,D185<=Inputs!$E$66),AND(D185>=Inputs!$F$65,D185<=Inputs!$F$66),AND(D185>=Inputs!$G$65,D185<=Inputs!$G$66),AND(D185>=Inputs!$H$65,D185<=Inputs!$H$66),IFERROR(AND(D185>=0,D185<=Inputs!$H$66-168),FALSE))","v":false},{"$f":"OR(AND(D185>=Inputs!$I$75,D185<=Inputs!$I$76),AND(D185>=Inputs!$C$75,D185<=Inputs!$C$76),AND(D185>=Inputs!$D$75,D185<=Inputs!$D$76),AND(D185>=Inputs!$E$75,D185<=Inputs!$E$76),AND(D185>=Inputs!$F$75,D185<=Inputs!$F$76),AND(D185>=Inputs!$G$75,D185<=Inputs!$G$76),AND(D185>=Inputs!$H$75,D185<=Inputs!$H$76),IFERROR(AND(D185>=0,D185<=Inputs!$H$76-168),FALSE))","v":false},0,0]
[null,"Thursday","04:00:00",100,{"$f":"OR(AND(D186>=Inputs!$I$45,D186<=Inputs!$I$46),AND(D186>=Inputs!$C$45,D186<=Inputs!$C$46),AND(D186>=Inputs!$D$45,D186<=Inputs!$D$46),AND(D186>=Inputs!$E$45,D186<=Inputs!$E$46),AND(D186>=Inputs!$F$45,D186<=Inputs!$F$46),AND(D186>=Inputs!$G$45,D186<=Inputs!$G$46),AND(D186>=Inputs!$H$45,D186<=Inputs!$H$46),IFERROR(AND(D186>=0,D186<=Inputs!$H$46-168),FALSE))","v":false},{"$f":"OR(AND(D186>=Inputs!$I$55,D186<=Inputs!$I$56),AND(D186>=Inputs!$C$55,D186<=Inputs!$C$56),AND(D186>=Inputs!$D$55,D186<=Inputs!$D$56),AND(D186>=Inputs!$E$55,D186<=Inputs!$E$56),AND(D186>=Inputs!$F$55,D186<=Inputs!$F$56),AND(D186>=Inputs!$G$55,D186<=Inputs!$G$56),AND(D186>=Inputs!$H$55,D186<=Inputs!$H$56),IFERROR(AND(D186>=0,D186<=Inputs!$H$56-168),FALSE))","v":false},{"$f":"OR(AND(D186>=Inputs!$I$65,D186<=Inputs!$I$66),AND(D186>=Inputs!$C$65,D186<=Inputs!$C$66),AND(D186>=Inputs!$D$65,D186<=Inputs!$D$66),AND(D186>=Inputs!$E$65,D186<=Inputs!$E$66),AND(D186>=Inputs!$F$65,D186<=Inputs!$F$66),AND(D186>=Inputs!$G$65,D186<=Inputs!$G$66),AND(D186>=Inputs!$H$65,D186<=Inputs!$H$66),IFERROR(AND(D186>=0,D186<=Inputs!$H$66-168),FALSE))","v":false},{"$f":"OR(AND(D186>=Inputs!$I$75,D186<=Inputs!$I$76),AND(D186>=Inputs!$C$75,D186<=Inputs!$C$76),AND(D186>=Inputs!$D$75,D186<=Inputs!$D$76),AND(D186>=Inputs!$E$75,D186<=Inputs!$E$76),AND(D186>=Inputs!$F$75,D186<=Inputs!$F$76),AND(D186>=Inputs!$G$75,D186<=Inputs!$G$76),AND(D186>=Inputs!$H$75,D186<=Inputs!$H$76),IFERROR(AND(D186>=0,D186<=Inputs!$H$76-168),FALSE))","v":false},0,0]
[null,"Thursday","05:00:00",101,{"$f":"OR(AND(D187>=Inputs!$I$45,D187<=Inputs!$I$46),AND(D187>=Inputs!$C$45,D187<=Inputs!$C$46),AND(D187>=Inputs!$D$45,D187<=Inputs!$D$46),AND(D187>=Inputs!$E$45,D187<=Inputs!$E$46),AND(D187>=Inputs!$F$45,D187<=Inputs!$F$46),AND(D187>=Inputs!$G$45,D187<=Inputs!$G$46),AND(D187>=Inputs!$H$45,D187<=Inputs!$H$46),IFERROR(AND(D187>=0,D187<=Inputs!$H$46-168),FALSE))","v":false},{"$f":"OR(AND(D187>=Inputs!$I$55,D187<=Inputs!$I$56),AND(D187>=Inputs!$C$55,D187<=Inputs!$C$56),AND(D187>=Inputs!$D$55,D187<=Inputs!$D$56),AND(D187>=Inputs!$E$55,D187<=Inputs!$E$56),AND(D187>=Inputs!$F$55,D187<=Inputs!$F$56),AND(D187>=Inputs!$G$55,D187<=Inputs!$G$56),AND(D187>=Inputs!$H$55,D187<=Inputs!$H$56),IFERROR(AND(D187>=0,D187<=Inputs!$H$56-168),FALSE))","v":false},{"$f":"OR(AND(D187>=Inputs!$I$65,D187<=Inputs!$I$66),AND(D187>=Inputs!$C$65,D187<=Inputs!$C$66),AND(D187>=Inputs!$D$65,D187<=Inputs!$D$66),AND(D187>=Inputs!$E$65,D187<=Inputs!$E$66),AND(D187>=Inputs!$F$65,D187<=Inputs!$F$66),AND(D187>=Inputs!$G$65,D187<=Inputs!$G$66),AND(D187>=Inputs!$H$65,D187<=Inputs!$H$66),IFERROR(AND(D187>=0,D187<=Inputs!$H$66-168),FALSE))","v":false},{"$f":"OR(AND(D187>=Inputs!$I$75,D187<=Inputs!$I$76),AND(D187>=Inputs!$C$75,D187<=Inputs!$C$76),AND(D187>=Inputs!$D$75,D187<=Inputs!$D$76),AND(D187>=Inputs!$E$75,D187<=Inputs!$E$76),AND(D187>=Inputs!$F$75,D187<=Inputs!$F$76),AND(D187>=Inputs!$G$75,D187<=Inputs!$G$76),AND(D187>=Inputs!$H$75,D187<=Inputs!$H$76),IFERROR(AND(D187>=0,D187<=Inputs!$H$76-168),FALSE))","v":false},0,0]
[null,"Thursday","06:00:00",102,{"$f":"OR(AND(D188>=Inputs!$I$45,D188<=Inputs!$I$46),AND(D188>=Inputs!$C$45,D188<=Inputs!$C$46),AND(D188>=Inputs!$D$45,D188<=Inputs!$D$46),AND(D188>=Inputs!$E$45,D188<=Inputs!$E$46),AND(D188>=Inputs!$F$45,D188<=Inputs!$F$46),AND(D188>=Inputs!$G$45,D188<=Inputs!$G$46),AND(D188>=Inputs!$H$45,D188<=Inputs!$H$46),IFERROR(AND(D188>=0,D188<=Inputs!$H$46-168),FALSE))","v":false},{"$f":"OR(AND(D188>=Inputs!$I$55,D188<=Inputs!$I$56),AND(D188>=Inputs!$C$55,D188<=Inputs!$C$56),AND(D188>=Inputs!$D$55,D188<=Inputs!$D$56),AND(D188>=Inputs!$E$55,D188<=Inputs!$E$56),AND(D188>=Inputs!$F$55,D188<=Inputs!$F$56),AND(D188>=Inputs!$G$55,D188<=Inputs!$G$56),AND(D188>=Inputs!$H$55,D188<=Inputs!$H$56),IFERROR(AND(D188>=0,D188<=Inputs!$H$56-168),FALSE))","v":false},{"$f":"OR(AND(D188>=Inputs!$I$65,D188<=Inputs!$I$66),AND(D188>=Inputs!$C$65,D188<=Inputs!$C$66),AND(D188>=Inputs!$D$65,D188<=Inputs!$D$66),AND(D188>=Inputs!$E$65,D188<=Inputs!$E$66),AND(D188>=Inputs!$F$65,D188<=Inputs!$F$66),AND(D188>=Inputs!$G$65,D188<=Inputs!$G$66),AND(D188>=Inputs!$H$65,D188<=Inputs!$H$66),IFERROR(AND(D188>=0,D188<=Inputs!$H$66-168),FALSE))","v":false},{"$f":"OR(AND(D188>=Inputs!$I$75,D188<=Inputs!$I$76),AND(D188>=Inputs!$C$75,D188<=Inputs!$C$76),AND(D188>=Inputs!$D$75,D188<=Inputs!$D$76),AND(D188>=Inputs!$E$75,D188<=Inputs!$E$76),AND(D188>=Inputs!$F$75,D188<=Inputs!$F$76),AND(D188>=Inputs!$G$75,D188<=Inputs!$G$76),AND(D188>=Inputs!$H$75,D188<=Inputs!$H$76),IFERROR(AND(D188>=0,D188<=Inputs!$H$76-168),FALSE))","v":false},0,0]
[null,"Thursday","07:00:00",103,{"$f":"OR(AND(D189>=Inputs!$I$45,D189<=Inputs!$I$46),AND(D189>=Inputs!$C$45,D189<=Inputs!$C$46),AND(D189>=Inputs!$D$45,D189<=Inputs!$D$46),AND(D189>=Inputs!$E$45,D189<=Inputs!$E$46),AND(D189>=Inputs!$F$45,D189<=Inputs!$F$46),AND(D189>=Inputs!$G$45,D189<=Inputs!$G$46),AND(D189>=Inputs!$H$45,D189<=Inputs!$H$46),IFERROR(AND(D189>=0,D189<=Inputs!$H$46-168),FALSE))","v":false},{"$f":"OR(AND(D189>=Inputs!$I$55,D189<=Inputs!$I$56),AND(D189>=Inputs!$C$55,D189<=Inputs!$C$56),AND(D189>=Inputs!$D$55,D189<=Inputs!$D$56),AND(D189>=Inputs!$E$55,D189<=Inputs!$E$56),AND(D189>=Inputs!$F$55,D189<=Inputs!$F$56),AND(D189>=Inputs!$G$55,D189<=Inputs!$G$56),AND(D189>=Inputs!$H$55,D189<=Inputs!$H$56),IFERROR(AND(D189>=0,D189<=Inputs!$H$56-168),FALSE))","v":false},{"$f":"OR(AND(D189>=Inputs!$I$65,D189<=Inputs!$I$66),AND(D189>=Inputs!$C$65,D189<=Inputs!$C$66),AND(D189>=Inputs!$D$65,D189<=Inputs!$D$66),AND(D189>=Inputs!$E$65,D189<=Inputs!$E$66),AND(D189>=Inputs!$F$65,D189<=Inputs!$F$66),AND(D189>=Inputs!$G$65,D189<=Inputs!$G$66),AND(D189>=Inputs!$H$65,D189<=Inputs!$H$66),IFERROR(AND(D189>=0,D189<=Inputs!$H$66-168),FALSE))","v":false},{"$f":"OR(AND(D189>=Inputs!$I$75,D189<=Inputs!$I$76),AND(D189>=Inputs!$C$75,D189<=Inputs!$C$76),AND(D189>=Inputs!$D$75,D189<=Inputs!$D$76),AND(D189>=Inputs!$E$75,D189<=Inputs!$E$76),AND(D189>=Inputs!$F$75,D189<=Inputs!$F$76),AND(D189>=Inputs!$G$75,D189<=Inputs!$G$76),AND(D189>=Inputs!$H$75,D189<=Inputs!$H$76),IFERROR(AND(D189>=0,D189<=Inputs!$H$76-168),FALSE))","v":false},0,0]
[null,"Thursday","08:00:00",104,{"$f":"OR(AND(D190>=Inputs!$I$45,D190<=Inputs!$I$46),AND(D190>=Inputs!$C$45,D190<=Inputs!$C$46),AND(D190>=Inputs!$D$45,D190<=Inputs!$D$46),AND(D190>=Inputs!$E$45,D190<=Inputs!$E$46),AND(D190>=Inputs!$F$45,D190<=Inputs!$F$46),AND(D190>=Inputs!$G$45,D190<=Inputs!$G$46),AND(D190>=Inputs!$H$45,D190<=Inputs!$H$46),IFERROR(AND(D190>=0,D190<=Inputs!$H$46-168),FALSE))","v":false},{"$f":"OR(AND(D190>=Inputs!$I$55,D190<=Inputs!$I$56),AND(D190>=Inputs!$C$55,D190<=Inputs!$C$56),AND(D190>=Inputs!$D$55,D190<=Inputs!$D$56),AND(D190>=Inputs!$E$55,D190<=Inputs!$E$56),AND(D190>=Inputs!$F$55,D190<=Inputs!$F$56),AND(D190>=Inputs!$G$55,D190<=Inputs!$G$56),AND(D190>=Inputs!$H$55,D190<=Inputs!$H$56),IFERROR(AND(D190>=0,D190<=Inputs!$H$56-168),FALSE))","v":false},{"$f":"OR(AND(D190>=Inputs!$I$65,D190<=Inputs!$I$66),AND(D190>=Inputs!$C$65,D190<=Inputs!$C$66),AND(D190>=Inputs!$D$65,D190<=Inputs!$D$66),AND(D190>=Inputs!$E$65,D190<=Inputs!$E$66),AND(D190>=Inputs!$F$65,D190<=Inputs!$F$66),AND(D190>=Inputs!$G$65,D190<=Inputs!$G$66),AND(D190>=Inputs!$H$65,D190<=Inputs!$H$66),IFERROR(AND(D190>=0,D190<=Inputs!$H$66-168),FALSE))","v":false},{"$f":"OR(AND(D190>=Inputs!$I$75,D190<=Inputs!$I$76),AND(D190>=Inputs!$C$75,D190<=Inputs!$C$76),AND(D190>=Inputs!$D$75,D190<=Inputs!$D$76),AND(D190>=Inputs!$E$75,D190<=Inputs!$E$76),AND(D190>=Inputs!$F$75,D190<=Inputs!$F$76),AND(D190>=Inputs!$G$75,D190<=Inputs!$G$76),AND(D190>=Inputs!$H$75,D190<=Inputs!$H$76),IFERROR(AND(D190>=0,D190<=Inputs!$H$76-168),FALSE))","v":false},0,0]
[null,"Thursday","09:00:00",105,{"$f":"OR(AND(D191>=Inputs!$I$45,D191<=Inputs!$I$46),AND(D191>=Inputs!$C$45,D191<=Inputs!$C$46),AND(D191>=Inputs!$D$45,D191<=Inputs!$D$46),AND(D191>=Inputs!$E$45,D191<=Inputs!$E$46),AND(D191>=Inputs!$F$45,D191<=Inputs!$F$46),AND(D191>=Inputs!$G$45,D191<=Inputs!$G$46),AND(D191>=Inputs!$H$45,D191<=Inputs!$H$46),IFERROR(AND(D191>=0,D191<=Inputs!$H$46-168),FALSE))","v":true},{"$f":"OR(AND(D191>=Inputs!$I$55,D191<=Inputs!$I$56),AND(D191>=Inputs!$C$55,D191<=Inputs!$C$56),AND(D191>=Inputs!$D$55,D191<=Inputs!$D$56),AND(D191>=Inputs!$E$55,D191<=Inputs!$E$56),AND(D191>=Inputs!$F$55,D191<=Inputs!$F$56),AND(D191>=Inputs!$G$55,D191<=Inputs!$G$56),AND(D191>=Inputs!$H$55,D191<=Inputs!$H$56),IFERROR(AND(D191>=0,D191<=Inputs!$H$56-168),FALSE))","v":false},{"$f":"OR(AND(D191>=Inputs!$I$65,D191<=Inputs!$I$66),AND(D191>=Inputs!$C$65,D191<=Inputs!$C$66),AND(D191>=Inputs!$D$65,D191<=Inputs!$D$66),AND(D191>=Inputs!$E$65,D191<=Inputs!$E$66),AND(D191>=Inputs!$F$65,D191<=Inputs!$F$66),AND(D191>=Inputs!$G$65,D191<=Inputs!$G$66),AND(D191>=Inputs!$H$65,D191<=Inputs!$H$66),IFERROR(AND(D191>=0,D191<=Inputs!$H$66-168),FALSE))","v":false},{"$f":"OR(AND(D191>=Inputs!$I$75,D191<=Inputs!$I$76),AND(D191>=Inputs!$C$75,D191<=Inputs!$C$76),AND(D191>=Inputs!$D$75,D191<=Inputs!$D$76),AND(D191>=Inputs!$E$75,D191<=Inputs!$E$76),AND(D191>=Inputs!$F$75,D191<=Inputs!$F$76),AND(D191>=Inputs!$G$75,D191<=Inputs!$G$76),AND(D191>=Inputs!$H$75,D191<=Inputs!$H$76),IFERROR(AND(D191>=0,D191<=Inputs!$H$76-168),FALSE))","v":false},1,0]
[null,"Thursday","10:00:00",106,{"$f":"OR(AND(D192>=Inputs!$I$45,D192<=Inputs!$I$46),AND(D192>=Inputs!$C$45,D192<=Inputs!$C$46),AND(D192>=Inputs!$D$45,D192<=Inputs!$D$46),AND(D192>=Inputs!$E$45,D192<=Inputs!$E$46),AND(D192>=Inputs!$F$45,D192<=Inputs!$F$46),AND(D192>=Inputs!$G$45,D192<=Inputs!$G$46),AND(D192>=Inputs!$H$45,D192<=Inputs!$H$46),IFERROR(AND(D192>=0,D192<=Inputs!$H$46-168),FALSE))","v":true},{"$f":"OR(AND(D192>=Inputs!$I$55,D192<=Inputs!$I$56),AND(D192>=Inputs!$C$55,D192<=Inputs!$C$56),AND(D192>=Inputs!$D$55,D192<=Inputs!$D$56),AND(D192>=Inputs!$E$55,D192<=Inputs!$E$56),AND(D192>=Inputs!$F$55,D192<=Inputs!$F$56),AND(D192>=Inputs!$G$55,D192<=Inputs!$G$56),AND(D192>=Inputs!$H$55,D192<=Inputs!$H$56),IFERROR(AND(D192>=0,D192<=Inputs!$H$56-168),FALSE))","v":false},{"$f":"OR(AND(D192>=Inputs!$I$65,D192<=Inputs!$I$66),AND(D192>=Inputs!$C$65,D192<=Inputs!$C$66),AND(D192>=Inputs!$D$65,D192<=Inputs!$D$66),AND(D192>=Inputs!$E$65,D192<=Inputs!$E$66),AND(D192>=Inputs!$F$65,D192<=Inputs!$F$66),AND(D192>=Inputs!$G$65,D192<=Inputs!$G$66),AND(D192>=Inputs!$H$65,D192<=Inputs!$H$66),IFERROR(AND(D192>=0,D192<=Inputs!$H$66-168),FALSE))","v":false},{"$f":"OR(AND(D192>=Inputs!$I$75,D192<=Inputs!$I$76),AND(D192>=Inputs!$C$75,D192<=Inputs!$C$76),AND(D192>=Inputs!$D$75,D192<=Inputs!$D$76),AND(D192>=Inputs!$E$75,D192<=Inputs!$E$76),AND(D192>=Inputs!$F$75,D192<=Inputs!$F$76),AND(D192>=Inputs!$G$75,D192<=Inputs!$G$76),AND(D192>=Inputs!$H$75,D192<=Inputs!$H$76),IFERROR(AND(D192>=0,D192<=Inputs!$H$76-168),FALSE))","v":false},1,0]
[null,"Thursday","11:00:00",107,{"$f":"OR(AND(D193>=Inputs!$I$45,D193<=Inputs!$I$46),AND(D193>=Inputs!$C$45,D193<=Inputs!$C$46),AND(D193>=Inputs!$D$45,D193<=Inputs!$D$46),AND(D193>=Inputs!$E$45,D193<=Inputs!$E$46),AND(D193>=Inputs!$F$45,D193<=Inputs!$F$46),AND(D193>=Inputs!$G$45,D193<=Inputs!$G$46),AND(D193>=Inputs!$H$45,D193<=Inputs!$H$46),IFERROR(AND(D193>=0,D193<=Inputs!$H$46-168),FALSE))","v":true},{"$f":"OR(AND(D193>=Inputs!$I$55,D193<=Inputs!$I$56),AND(D193>=Inputs!$C$55,D193<=Inputs!$C$56),AND(D193>=Inputs!$D$55,D193<=Inputs!$D$56),AND(D193>=Inputs!$E$55,D193<=Inputs!$E$56),AND(D193>=Inputs!$F$55,D193<=Inputs!$F$56),AND(D193>=Inputs!$G$55,D193<=Inputs!$G$56),AND(D193>=Inputs!$H$55,D193<=Inputs!$H$56),IFERROR(AND(D193>=0,D193<=Inputs!$H$56-168),FALSE))","v":false},{"$f":"OR(AND(D193>=Inputs!$I$65,D193<=Inputs!$I$66),AND(D193>=Inputs!$C$65,D193<=Inputs!$C$66),AND(D193>=Inputs!$D$65,D193<=Inputs!$D$66),AND(D193>=Inputs!$E$65,D193<=Inputs!$E$66),AND(D193>=Inputs!$F$65,D193<=Inputs!$F$66),AND(D193>=Inputs!$G$65,D193<=Inputs!$G$66),AND(D193>=Inputs!$H$65,D193<=Inputs!$H$66),IFERROR(AND(D193>=0,D193<=Inputs!$H$66-168),FALSE))","v":false},{"$f":"OR(AND(D193>=Inputs!$I$75,D193<=Inputs!$I$76),AND(D193>=Inputs!$C$75,D193<=Inputs!$C$76),AND(D193>=Inputs!$D$75,D193<=Inputs!$D$76),AND(D193>=Inputs!$E$75,D193<=Inputs!$E$76),AND(D193>=Inputs!$F$75,D193<=Inputs!$F$76),AND(D193>=Inputs!$G$75,D193<=Inputs!$G$76),AND(D193>=Inputs!$H$75,D193<=Inputs!$H$76),IFERROR(AND(D193>=0,D193<=Inputs!$H$76-168),FALSE))","v":false},1,0]
[null,"Thursday","12:00:00",108,{"$f":"OR(AND(D194>=Inputs!$I$45,D194<=Inputs!$I$46),AND(D194>=Inputs!$C$45,D194<=Inputs!$C$46),AND(D194>=Inputs!$D$45,D194<=Inputs!$D$46),AND(D194>=Inputs!$E$45,D194<=Inputs!$E$46),AND(D194>=Inputs!$F$45,D194<=Inputs!$F$46),AND(D194>=Inputs!$G$45,D194<=Inputs!$G$46),AND(D194>=Inputs!$H$45,D194<=Inputs!$H$46),IFERROR(AND(D194>=0,D194<=Inputs!$H$46-168),FALSE))","v":true},{"$f":"OR(AND(D194>=Inputs!$I$55,D194<=Inputs!$I$56),AND(D194>=Inputs!$C$55,D194<=Inputs!$C$56),AND(D194>=Inputs!$D$55,D194<=Inputs!$D$56),AND(D194>=Inputs!$E$55,D194<=Inputs!$E$56),AND(D194>=Inputs!$F$55,D194<=Inputs!$F$56),AND(D194>=Inputs!$G$55,D194<=Inputs!$G$56),AND(D194>=Inputs!$H$55,D194<=Inputs!$H$56),IFERROR(AND(D194>=0,D194<=Inputs!$H$56-168),FALSE))","v":false},{"$f":"OR(AND(D194>=Inputs!$I$65,D194<=Inputs!$I$66),AND(D194>=Inputs!$C$65,D194<=Inputs!$C$66),AND(D194>=Inputs!$D$65,D194<=Inputs!$D$66),AND(D194>=Inputs!$E$65,D194<=Inputs!$E$66),AND(D194>=Inputs!$F$65,D194<=Inputs!$F$66),AND(D194>=Inputs!$G$65,D194<=Inputs!$G$66),AND(D194>=Inputs!$H$65,D194<=Inputs!$H$66),IFERROR(AND(D194>=0,D194<=Inputs!$H$66-168),FALSE))","v":false},{"$f":"OR(AND(D194>=Inputs!$I$75,D194<=Inputs!$I$76),AND(D194>=Inputs!$C$75,D194<=Inputs!$C$76),AND(D194>=Inputs!$D$75,D194<=Inputs!$D$76),AND(D194>=Inputs!$E$75,D194<=Inputs!$E$76),AND(D194>=Inputs!$F$75,D194<=Inputs!$F$76),AND(D194>=Inputs!$G$75,D194<=Inputs!$G$76),AND(D194>=Inputs!$H$75,D194<=Inputs!$H$76),IFERROR(AND(D194>=0,D194<=Inputs!$H$76-168),FALSE))","v":false},1,0]
[null,"Thursday","13:00:00",109,{"$f":"OR(AND(D195>=Inputs!$I$45,D195<=Inputs!$I$46),AND(D195>=Inputs!$C$45,D195<=Inputs!$C$46),AND(D195>=Inputs!$D$45,D195<=Inputs!$D$46),AND(D195>=Inputs!$E$45,D195<=Inputs!$E$46),AND(D195>=Inputs!$F$45,D195<=Inputs!$F$46),AND(D195>=Inputs!$G$45,D195<=Inputs!$G$46),AND(D195>=Inputs!$H$45,D195<=Inputs!$H$46),IFERROR(AND(D195>=0,D195<=Inputs!$H$46-168),FALSE))","v":true},{"$f":"OR(AND(D195>=Inputs!$I$55,D195<=Inputs!$I$56),AND(D195>=Inputs!$C$55,D195<=Inputs!$C$56),AND(D195>=Inputs!$D$55,D195<=Inputs!$D$56),AND(D195>=Inputs!$E$55,D195<=Inputs!$E$56),AND(D195>=Inputs!$F$55,D195<=Inputs!$F$56),AND(D195>=Inputs!$G$55,D195<=Inputs!$G$56),AND(D195>=Inputs!$H$55,D195<=Inputs!$H$56),IFERROR(AND(D195>=0,D195<=Inputs!$H$56-168),FALSE))","v":false},{"$f":"OR(AND(D195>=Inputs!$I$65,D195<=Inputs!$I$66),AND(D195>=Inputs!$C$65,D195<=Inputs!$C$66),AND(D195>=Inputs!$D$65,D195<=Inputs!$D$66),AND(D195>=Inputs!$E$65,D195<=Inputs!$E$66),AND(D195>=Inputs!$F$65,D195<=Inputs!$F$66),AND(D195>=Inputs!$G$65,D195<=Inputs!$G$66),AND(D195>=Inputs!$H$65,D195<=Inputs!$H$66),IFERROR(AND(D195>=0,D195<=Inputs!$H$66-168),FALSE))","v":false},{"$f":"OR(AND(D195>=Inputs!$I$75,D195<=Inputs!$I$76),AND(D195>=Inputs!$C$75,D195<=Inputs!$C$76),AND(D195>=Inputs!$D$75,D195<=Inputs!$D$76),AND(D195>=Inputs!$E$75,D195<=Inputs!$E$76),AND(D195>=Inputs!$F$75,D195<=Inputs!$F$76),AND(D195>=Inputs!$G$75,D195<=Inputs!$G$76),AND(D195>=Inputs!$H$75,D195<=Inputs!$H$76),IFERROR(AND(D195>=0,D195<=Inputs!$H$76-168),FALSE))","v":false},1,0]
[null,"Thursday","14:00:00",110,{"$f":"OR(AND(D196>=Inputs!$I$45,D196<=Inputs!$I$46),AND(D196>=Inputs!$C$45,D196<=Inputs!$C$46),AND(D196>=Inputs!$D$45,D196<=Inputs!$D$46),AND(D196>=Inputs!$E$45,D196<=Inputs!$E$46),AND(D196>=Inputs!$F$45,D196<=Inputs!$F$46),AND(D196>=Inputs!$G$45,D196<=Inputs!$G$46),AND(D196>=Inputs!$H$45,D196<=Inputs!$H$46),IFERROR(AND(D196>=0,D196<=Inputs!$H$46-168),FALSE))","v":false},{"$f":"OR(AND(D196>=Inputs!$I$55,D196<=Inputs!$I$56),AND(D196>=Inputs!$C$55,D196<=Inputs!$C$56),AND(D196>=Inputs!$D$55,D196<=Inputs!$D$56),AND(D196>=Inputs!$E$55,D196<=Inputs!$E$56),AND(D196>=Inputs!$F$55,D196<=Inputs!$F$56),AND(D196>=Inputs!$G$55,D196<=Inputs!$G$56),AND(D196>=Inputs!$H$55,D196<=Inputs!$H$56),IFERROR(AND(D196>=0,D196<=Inputs!$H$56-168),FALSE))","v":false},{"$f":"OR(AND(D196>=Inputs!$I$65,D196<=Inputs!$I$66),AND(D196>=Inputs!$C$65,D196<=Inputs!$C$66),AND(D196>=Inputs!$D$65,D196<=Inputs!$D$66),AND(D196>=Inputs!$E$65,D196<=Inputs!$E$66),AND(D196>=Inputs!$F$65,D196<=Inputs!$F$66),AND(D196>=Inputs!$G$65,D196<=Inputs!$G$66),AND(D196>=Inputs!$H$65,D196<=Inputs!$H$66),IFERROR(AND(D196>=0,D196<=Inputs!$H$66-168),FALSE))","v":false},{"$f":"OR(AND(D196>=Inputs!$I$75,D196<=Inputs!$I$76),AND(D196>=Inputs!$C$75,D196<=Inputs!$C$76),AND(D196>=Inputs!$D$75,D196<=Inputs!$D$76),AND(D196>=Inputs!$E$75,D196<=Inputs!$E$76),AND(D196>=Inputs!$F$75,D196<=Inputs!$F$76),AND(D196>=Inputs!$G$75,D196<=Inputs!$G$76),AND(D196>=Inputs!$H$75,D196<=Inputs!$H$76),IFERROR(AND(D196>=0,D196<=Inputs!$H$76-168),FALSE))","v":false},0,0]
[null,"Thursday","15:00:00",111,{"$f":"OR(AND(D197>=Inputs!$I$45,D197<=Inputs!$I$46),AND(D197>=Inputs!$C$45,D197<=Inputs!$C$46),AND(D197>=Inputs!$D$45,D197<=Inputs!$D$46),AND(D197>=Inputs!$E$45,D197<=Inputs!$E$46),AND(D197>=Inputs!$F$45,D197<=Inputs!$F$46),AND(D197>=Inputs!$G$45,D197<=Inputs!$G$46),AND(D197>=Inputs!$H$45,D197<=Inputs!$H$46),IFERROR(AND(D197>=0,D197<=Inputs!$H$46-168),FALSE))","v":false},{"$f":"OR(AND(D197>=Inputs!$I$55,D197<=Inputs!$I$56),AND(D197>=Inputs!$C$55,D197<=Inputs!$C$56),AND(D197>=Inputs!$D$55,D197<=Inputs!$D$56),AND(D197>=Inputs!$E$55,D197<=Inputs!$E$56),AND(D197>=Inputs!$F$55,D197<=Inputs!$F$56),AND(D197>=Inputs!$G$55,D197<=Inputs!$G$56),AND(D197>=Inputs!$H$55,D197<=Inputs!$H$56),IFERROR(AND(D197>=0,D197<=Inputs!$H$56-168),FALSE))","v":false},{"$f":"OR(AND(D197>=Inputs!$I$65,D197<=Inputs!$I$66),AND(D197>=Inputs!$C$65,D197<=Inputs!$C$66),AND(D197>=Inputs!$D$65,D197<=Inputs!$D$66),AND(D197>=Inputs!$E$65,D197<=Inputs!$E$66),AND(D197>=Inputs!$F$65,D197<=Inputs!$F$66),AND(D197>=Inputs!$G$65,D197<=Inputs!$G$66),AND(D197>=Inputs!$H$65,D197<=Inputs!$H$66),IFERROR(AND(D197>=0,D197<=Inputs!$H$66-168),FALSE))","v":false},{"$f":"OR(AND(D197>=Inputs!$I$75,D197<=Inputs!$I$76),AND(D197>=Inputs!$C$75,D197<=Inputs!$C$76),AND(D197>=Inputs!$D$75,D197<=Inputs!$D$76),AND(D197>=Inputs!$E$75,D197<=Inputs!$E$76),AND(D197>=Inputs!$F$75,D197<=Inputs!$F$76),AND(D197>=Inputs!$G$75,D197<=Inputs!$G$76),AND(D197>=Inputs!$H$75,D197<=Inputs!$H$76),IFERROR(AND(D197>=0,D197<=Inputs!$H$76-168),FALSE))","v":false},0,0]
[null,"Thursday","16:00:00",112,{"$f":"OR(AND(D198>=Inputs!$I$45,D198<=Inputs!$I$46),AND(D198>=Inputs!$C$45,D198<=Inputs!$C$46),AND(D198>=Inputs!$D$45,D198<=Inputs!$D$46),AND(D198>=Inputs!$E$45,D198<=Inputs!$E$46),AND(D198>=Inputs!$F$45,D198<=Inputs!$F$46),AND(D198>=Inputs!$G$45,D198<=Inputs!$G$46),AND(D198>=Inputs!$H$45,D198<=Inputs!$H$46),IFERROR(AND(D198>=0,D198<=Inputs!$H$46-168),FALSE))","v":false},{"$f":"OR(AND(D198>=Inputs!$I$55,D198<=Inputs!$I$56),AND(D198>=Inputs!$C$55,D198<=Inputs!$C$56),AND(D198>=Inputs!$D$55,D198<=Inputs!$D$56),AND(D198>=Inputs!$E$55,D198<=Inputs!$E$56),AND(D198>=Inputs!$F$55,D198<=Inputs!$F$56),AND(D198>=Inputs!$G$55,D198<=Inputs!$G$56),AND(D198>=Inputs!$H$55,D198<=Inputs!$H$56),IFERROR(AND(D198>=0,D198<=Inputs!$H$56-168),FALSE))","v":false},{"$f":"OR(AND(D198>=Inputs!$I$65,D198<=Inputs!$I$66),AND(D198>=Inputs!$C$65,D198<=Inputs!$C$66),AND(D198>=Inputs!$D$65,D198<=Inputs!$D$66),AND(D198>=Inputs!$E$65,D198<=Inputs!$E$66),AND(D198>=Inputs!$F$65,D198<=Inputs!$F$66),AND(D198>=Inputs!$G$65,D198<=Inputs!$G$66),AND(D198>=Inputs!$H$65,D198<=Inputs!$H$66),IFERROR(AND(D198>=0,D198<=Inputs!$H$66-168),FALSE))","v":false},{"$f":"OR(AND(D198>=Inputs!$I$75,D198<=Inputs!$I$76),AND(D198>=Inputs!$C$75,D198<=Inputs!$C$76),AND(D198>=Inputs!$D$75,D198<=Inputs!$D$76),AND(D198>=Inputs!$E$75,D198<=Inputs!$E$76),AND(D198>=Inputs!$F$75,D198<=Inputs!$F$76),AND(D198>=Inputs!$G$75,D198<=Inputs!$G$76),AND(D198>=Inputs!$H$75,D198<=Inputs!$H$76),IFERROR(AND(D198>=0,D198<=Inputs!$H$76-168),FALSE))","v":false},0,0]
[null,"Thursday","17:00:00",113,{"$f":"OR(AND(D199>=Inputs!$I$45,D199<=Inputs!$I$46),AND(D199>=Inputs!$C$45,D199<=Inputs!$C$46),AND(D199>=Inputs!$D$45,D199<=Inputs!$D$46),AND(D199>=Inputs!$E$45,D199<=Inputs!$E$46),AND(D199>=Inputs!$F$45,D199<=Inputs!$F$46),AND(D199>=Inputs!$G$45,D199<=Inputs!$G$46),AND(D199>=Inputs!$H$45,D199<=Inputs!$H$46),IFERROR(AND(D199>=0,D199<=Inputs!$H$46-168),FALSE))","v":false},{"$f":"OR(AND(D199>=Inputs!$I$55,D199<=Inputs!$I$56),AND(D199>=Inputs!$C$55,D199<=Inputs!$C$56),AND(D199>=Inputs!$D$55,D199<=Inputs!$D$56),AND(D199>=Inputs!$E$55,D199<=Inputs!$E$56),AND(D199>=Inputs!$F$55,D199<=Inputs!$F$56),AND(D199>=Inputs!$G$55,D199<=Inputs!$G$56),AND(D199>=Inputs!$H$55,D199<=Inputs!$H$56),IFERROR(AND(D199>=0,D199<=Inputs!$H$56-168),FALSE))","v":false},{"$f":"OR(AND(D199>=Inputs!$I$65,D199<=Inputs!$I$66),AND(D199>=Inputs!$C$65,D199<=Inputs!$C$66),AND(D199>=Inputs!$D$65,D199<=Inputs!$D$66),AND(D199>=Inputs!$E$65,D199<=Inputs!$E$66),AND(D199>=Inputs!$F$65,D199<=Inputs!$F$66),AND(D199>=Inputs!$G$65,D199<=Inputs!$G$66),AND(D199>=Inputs!$H$65,D199<=Inputs!$H$66),IFERROR(AND(D199>=0,D199<=Inputs!$H$66-168),FALSE))","v":false},{"$f":"OR(AND(D199>=Inputs!$I$75,D199<=Inputs!$I$76),AND(D199>=Inputs!$C$75,D199<=Inputs!$C$76),AND(D199>=Inputs!$D$75,D199<=Inputs!$D$76),AND(D199>=Inputs!$E$75,D199<=Inputs!$E$76),AND(D199>=Inputs!$F$75,D199<=Inputs!$F$76),AND(D199>=Inputs!$G$75,D199<=Inputs!$G$76),AND(D199>=Inputs!$H$75,D199<=Inputs!$H$76),IFERROR(AND(D199>=0,D199<=Inputs!$H$76-168),FALSE))","v":false},0,0]
[null,"Thursday","18:00:00",114,{"$f":"OR(AND(D200>=Inputs!$I$45,D200<=Inputs!$I$46),AND(D200>=Inputs!$C$45,D200<=Inputs!$C$46),AND(D200>=Inputs!$D$45,D200<=Inputs!$D$46),AND(D200>=Inputs!$E$45,D200<=Inputs!$E$46),AND(D200>=Inputs!$F$45,D200<=Inputs!$F$46),AND(D200>=Inputs!$G$45,D200<=Inputs!$G$46),AND(D200>=Inputs!$H$45,D200<=Inputs!$H$46),IFERROR(AND(D200>=0,D200<=Inputs!$H$46-168),FALSE))","v":false},{"$f":"OR(AND(D200>=Inputs!$I$55,D200<=Inputs!$I$56),AND(D200>=Inputs!$C$55,D200<=Inputs!$C$56),AND(D200>=Inputs!$D$55,D200<=Inputs!$D$56),AND(D200>=Inputs!$E$55,D200<=Inputs!$E$56),AND(D200>=Inputs!$F$55,D200<=Inputs!$F$56),AND(D200>=Inputs!$G$55,D200<=Inputs!$G$56),AND(D200>=Inputs!$H$55,D200<=Inputs!$H$56),IFERROR(AND(D200>=0,D200<=Inputs!$H$56-168),FALSE))","v":false},{"$f":"OR(AND(D200>=Inputs!$I$65,D200<=Inputs!$I$66),AND(D200>=Inputs!$C$65,D200<=Inputs!$C$66),AND(D200>=Inputs!$D$65,D200<=Inputs!$D$66),AND(D200>=Inputs!$E$65,D200<=Inputs!$E$66),AND(D200>=Inputs!$F$65,D200<=Inputs!$F$66),AND(D200>=Inputs!$G$65,D200<=Inputs!$G$66),AND(D200>=Inputs!$H$65,D200<=Inputs!$H$66),IFERROR(AND(D200>=0,D200<=Inputs!$H$66-168),FALSE))","v":false},{"$f":"OR(AND(D200>=Inputs!$I$75,D200<=Inputs!$I$76),AND(D200>=Inputs!$C$75,D200<=Inputs!$C$76),AND(D200>=Inputs!$D$75,D200<=Inputs!$D$76),AND(D200>=Inputs!$E$75,D200<=Inputs!$E$76),AND(D200>=Inputs!$F$75,D200<=Inputs!$F$76),AND(D200>=Inputs!$G$75,D200<=Inputs!$G$76),AND(D200>=Inputs!$H$75,D200<=Inputs!$H$76),IFERROR(AND(D200>=0,D200<=Inputs!$H$76-168),FALSE))","v":false},0,0]
[null,"Thursday","19:00:00",115,{"$f":"OR(AND(D201>=Inputs!$I$45,D201<=Inputs!$I$46),AND(D201>=Inputs!$C$45,D201<=Inputs!$C$46),AND(D201>=Inputs!$D$45,D201<=Inputs!$D$46),AND(D201>=Inputs!$E$45,D201<=Inputs!$E$46),AND(D201>=Inputs!$F$45,D201<=Inputs!$F$46),AND(D201>=Inputs!$G$45,D201<=Inputs!$G$46),AND(D201>=Inputs!$H$45,D201<=Inputs!$H$46),IFERROR(AND(D201>=0,D201<=Inputs!$H$46-168),FALSE))","v":false},{"$f":"OR(AND(D201>=Inputs!$I$55,D201<=Inputs!$I$56),AND(D201>=Inputs!$C$55,D201<=Inputs!$C$56),AND(D201>=Inputs!$D$55,D201<=Inputs!$D$56),AND(D201>=Inputs!$E$55,D201<=Inputs!$E$56),AND(D201>=Inputs!$F$55,D201<=Inputs!$F$56),AND(D201>=Inputs!$G$55,D201<=Inputs!$G$56),AND(D201>=Inputs!$H$55,D201<=Inputs!$H$56),IFERROR(AND(D201>=0,D201<=Inputs!$H$56-168),FALSE))","v":false},{"$f":"OR(AND(D201>=Inputs!$I$65,D201<=Inputs!$I$66),AND(D201>=Inputs!$C$65,D201<=Inputs!$C$66),AND(D201>=Inputs!$D$65,D201<=Inputs!$D$66),AND(D201>=Inputs!$E$65,D201<=Inputs!$E$66),AND(D201>=Inputs!$F$65,D201<=Inputs!$F$66),AND(D201>=Inputs!$G$65,D201<=Inputs!$G$66),AND(D201>=Inputs!$H$65,D201<=Inputs!$H$66),IFERROR(AND(D201>=0,D201<=Inputs!$H$66-168),FALSE))","v":false},{"$f":"OR(AND(D201>=Inputs!$I$75,D201<=Inputs!$I$76),AND(D201>=Inputs!$C$75,D201<=Inputs!$C$76),AND(D201>=Inputs!$D$75,D201<=Inputs!$D$76),AND(D201>=Inputs!$E$75,D201<=Inputs!$E$76),AND(D201>=Inputs!$F$75,D201<=Inputs!$F$76),AND(D201>=Inputs!$G$75,D201<=Inputs!$G$76),AND(D201>=Inputs!$H$75,D201<=Inputs!$H$76),IFERROR(AND(D201>=0,D201<=Inputs!$H$76-168),FALSE))","v":false},0,0]
[null,"Thursday","20:00:00",116,{"$f":"OR(AND(D202>=Inputs!$I$45,D202<=Inputs!$I$46),AND(D202>=Inputs!$C$45,D202<=Inputs!$C$46),AND(D202>=Inputs!$D$45,D202<=Inputs!$D$46),AND(D202>=Inputs!$E$45,D202<=Inputs!$E$46),AND(D202>=Inputs!$F$45,D202<=Inputs!$F$46),AND(D202>=Inputs!$G$45,D202<=Inputs!$G$46),AND(D202>=Inputs!$H$45,D202<=Inputs!$H$46),IFERROR(AND(D202>=0,D202<=Inputs!$H$46-168),FALSE))","v":false},{"$f":"OR(AND(D202>=Inputs!$I$55,D202<=Inputs!$I$56),AND(D202>=Inputs!$C$55,D202<=Inputs!$C$56),AND(D202>=Inputs!$D$55,D202<=Inputs!$D$56),AND(D202>=Inputs!$E$55,D202<=Inputs!$E$56),AND(D202>=Inputs!$F$55,D202<=Inputs!$F$56),AND(D202>=Inputs!$G$55,D202<=Inputs!$G$56),AND(D202>=Inputs!$H$55,D202<=Inputs!$H$56),IFERROR(AND(D202>=0,D202<=Inputs!$H$56-168),FALSE))","v":false},{"$f":"OR(AND(D202>=Inputs!$I$65,D202<=Inputs!$I$66),AND(D202>=Inputs!$C$65,D202<=Inputs!$C$66),AND(D202>=Inputs!$D$65,D202<=Inputs!$D$66),AND(D202>=Inputs!$E$65,D202<=Inputs!$E$66),AND(D202>=Inputs!$F$65,D202<=Inputs!$F$66),AND(D202>=Inputs!$G$65,D202<=Inputs!$G$66),AND(D202>=Inputs!$H$65,D202<=Inputs!$H$66),IFERROR(AND(D202>=0,D202<=Inputs!$H$66-168),FALSE))","v":false},{"$f":"OR(AND(D202>=Inputs!$I$75,D202<=Inputs!$I$76),AND(D202>=Inputs!$C$75,D202<=Inputs!$C$76),AND(D202>=Inputs!$D$75,D202<=Inputs!$D$76),AND(D202>=Inputs!$E$75,D202<=Inputs!$E$76),AND(D202>=Inputs!$F$75,D202<=Inputs!$F$76),AND(D202>=Inputs!$G$75,D202<=Inputs!$G$76),AND(D202>=Inputs!$H$75,D202<=Inputs!$H$76),IFERROR(AND(D202>=0,D202<=Inputs!$H$76-168),FALSE))","v":false},0,0]
[null,"Thursday","21:00:00",117,{"$f":"OR(AND(D203>=Inputs!$I$45,D203<=Inputs!$I$46),AND(D203>=Inputs!$C$45,D203<=Inputs!$C$46),AND(D203>=Inputs!$D$45,D203<=Inputs!$D$46),AND(D203>=Inputs!$E$45,D203<=Inputs!$E$46),AND(D203>=Inputs!$F$45,D203<=Inputs!$F$46),AND(D203>=Inputs!$G$45,D203<=Inputs!$G$46),AND(D203>=Inputs!$H$45,D203<=Inputs!$H$46),IFERROR(AND(D203>=0,D203<=Inputs!$H$46-168),FALSE))","v":false},{"$f":"OR(AND(D203>=Inputs!$I$55,D203<=Inputs!$I$56),AND(D203>=Inputs!$C$55,D203<=Inputs!$C$56),AND(D203>=Inputs!$D$55,D203<=Inputs!$D$56),AND(D203>=Inputs!$E$55,D203<=Inputs!$E$56),AND(D203>=Inputs!$F$55,D203<=Inputs!$F$56),AND(D203>=Inputs!$G$55,D203<=Inputs!$G$56),AND(D203>=Inputs!$H$55,D203<=Inputs!$H$56),IFERROR(AND(D203>=0,D203<=Inputs!$H$56-168),FALSE))","v":false},{"$f":"OR(AND(D203>=Inputs!$I$65,D203<=Inputs!$I$66),AND(D203>=Inputs!$C$65,D203<=Inputs!$C$66),AND(D203>=Inputs!$D$65,D203<=Inputs!$D$66),AND(D203>=Inputs!$E$65,D203<=Inputs!$E$66),AND(D203>=Inputs!$F$65,D203<=Inputs!$F$66),AND(D203>=Inputs!$G$65,D203<=Inputs!$G$66),AND(D203>=Inputs!$H$65,D203<=Inputs!$H$66),IFERROR(AND(D203>=0,D203<=Inputs!$H$66-168),FALSE))","v":false},{"$f":"OR(AND(D203>=Inputs!$I$75,D203<=Inputs!$I$76),AND(D203>=Inputs!$C$75,D203<=Inputs!$C$76),AND(D203>=Inputs!$D$75,D203<=Inputs!$D$76),AND(D203>=Inputs!$E$75,D203<=Inputs!$E$76),AND(D203>=Inputs!$F$75,D203<=Inputs!$F$76),AND(D203>=Inputs!$G$75,D203<=Inputs!$G$76),AND(D203>=Inputs!$H$75,D203<=Inputs!$H$76),IFERROR(AND(D203>=0,D203<=Inputs!$H$76-168),FALSE))","v":false},0,0]
[null,"Thursday","22:00:00",118,{"$f":"OR(AND(D204>=Inputs!$I$45,D204<=Inputs!$I$46),AND(D204>=Inputs!$C$45,D204<=Inputs!$C$46),AND(D204>=Inputs!$D$45,D204<=Inputs!$D$46),AND(D204>=Inputs!$E$45,D204<=Inputs!$E$46),AND(D204>=Inputs!$F$45,D204<=Inputs!$F$46),AND(D204>=Inputs!$G$45,D204<=Inputs!$G$46),AND(D204>=Inputs!$H$45,D204<=Inputs!$H$46),IFERROR(AND(D204>=0,D204<=Inputs!$H$46-168),FALSE))","v":false},{"$f":"OR(AND(D204>=Inputs!$I$55,D204<=Inputs!$I$56),AND(D204>=Inputs!$C$55,D204<=Inputs!$C$56),AND(D204>=Inputs!$D$55,D204<=Inputs!$D$56),AND(D204>=Inputs!$E$55,D204<=Inputs!$E$56),AND(D204>=Inputs!$F$55,D204<=Inputs!$F$56),AND(D204>=Inputs!$G$55,D204<=Inputs!$G$56),AND(D204>=Inputs!$H$55,D204<=Inputs!$H$56),IFERROR(AND(D204>=0,D204<=Inputs!$H$56-168),FALSE))","v":false},{"$f":"OR(AND(D204>=Inputs!$I$65,D204<=Inputs!$I$66),AND(D204>=Inputs!$C$65,D204<=Inputs!$C$66),AND(D204>=Inputs!$D$65,D204<=Inputs!$D$66),AND(D204>=Inputs!$E$65,D204<=Inputs!$E$66),AND(D204>=Inputs!$F$65,D204<=Inputs!$F$66),AND(D204>=Inputs!$G$65,D204<=Inputs!$G$66),AND(D204>=Inputs!$H$65,D204<=Inputs!$H$66),IFERROR(AND(D204>=0,D204<=Inputs!$H$66-168),FALSE))","v":false},{"$f":"OR(AND(D204>=Inputs!$I$75,D204<=Inputs!$I$76),AND(D204>=Inputs!$C$75,D204<=Inputs!$C$76),AND(D204>=Inputs!$D$75,D204<=Inputs!$D$76),AND(D204>=Inputs!$E$75,D204<=Inputs!$E$76),AND(D204>=Inputs!$F$75,D204<=Inputs!$F$76),AND(D204>=Inputs!$G$75,D204<=Inputs!$G$76),AND(D204>=Inputs!$H$75,D204<=Inputs!$H$76),IFERROR(AND(D204>=0,D204<=Inputs!$H$76-168),FALSE))","v":false},0,0]
[null,"Thursday","23:00:00",119,{"$f":"OR(AND(D205>=Inputs!$I$45,D205<=Inputs!$I$46),AND(D205>=Inputs!$C$45,D205<=Inputs!$C$46),AND(D205>=Inputs!$D$45,D205<=Inputs!$D$46),AND(D205>=Inputs!$E$45,D205<=Inputs!$E$46),AND(D205>=Inputs!$F$45,D205<=Inputs!$F$46),AND(D205>=Inputs!$G$45,D205<=Inputs!$G$46),AND(D205>=Inputs!$H$45,D205<=Inputs!$H$46),IFERROR(AND(D205>=0,D205<=Inputs!$H$46-168),FALSE))","v":false},{"$f":"OR(AND(D205>=Inputs!$I$55,D205<=Inputs!$I$56),AND(D205>=Inputs!$C$55,D205<=Inputs!$C$56),AND(D205>=Inputs!$D$55,D205<=Inputs!$D$56),AND(D205>=Inputs!$E$55,D205<=Inputs!$E$56),AND(D205>=Inputs!$F$55,D205<=Inputs!$F$56),AND(D205>=Inputs!$G$55,D205<=Inputs!$G$56),AND(D205>=Inputs!$H$55,D205<=Inputs!$H$56),IFERROR(AND(D205>=0,D205<=Inputs!$H$56-168),FALSE))","v":false},{"$f":"OR(AND(D205>=Inputs!$I$65,D205<=Inputs!$I$66),AND(D205>=Inputs!$C$65,D205<=Inputs!$C$66),AND(D205>=Inputs!$D$65,D205<=Inputs!$D$66),AND(D205>=Inputs!$E$65,D205<=Inputs!$E$66),AND(D205>=Inputs!$F$65,D205<=Inputs!$F$66),AND(D205>=Inputs!$G$65,D205<=Inputs!$G$66),AND(D205>=Inputs!$H$65,D205<=Inputs!$H$66),IFERROR(AND(D205>=0,D205<=Inputs!$H$66-168),FALSE))","v":false},{"$f":"OR(AND(D205>=Inputs!$I$75,D205<=Inputs!$I$76),AND(D205>=Inputs!$C$75,D205<=Inputs!$C$76),AND(D205>=Inputs!$D$75,D205<=Inputs!$D$76),AND(D205>=Inputs!$E$75,D205<=Inputs!$E$76),AND(D205>=Inputs!$F$75,D205<=Inputs!$F$76),AND(D205>=Inputs!$G$75,D205<=Inputs!$G$76),AND(D205>=Inputs!$H$75,D205<=Inputs!$H$76),IFERROR(AND(D205>=0,D205<=Inputs!$H$76-168),FALSE))","v":false},0,0]
[null,"Friday","00:00:00",120,{"$f":"OR(AND(D206>=Inputs!$I$45,D206<=Inputs!$I$46),AND(D206>=Inputs!$C$45,D206<=Inputs!$C$46),AND(D206>=Inputs!$D$45,D206<=Inputs!$D$46),AND(D206>=Inputs!$E$45,D206<=Inputs!$E$46),AND(D206>=Inputs!$F$45,D206<=Inputs!$F$46),AND(D206>=Inputs!$G$45,D206<=Inputs!$G$46),AND(D206>=Inputs!$H$45,D206<=Inputs!$H$46),IFERROR(AND(D206>=0,D206<=Inputs!$H$46-168),FALSE))","v":false},{"$f":"OR(AND(D206>=Inputs!$I$55,D206<=Inputs!$I$56),AND(D206>=Inputs!$C$55,D206<=Inputs!$C$56),AND(D206>=Inputs!$D$55,D206<=Inputs!$D$56),AND(D206>=Inputs!$E$55,D206<=Inputs!$E$56),AND(D206>=Inputs!$F$55,D206<=Inputs!$F$56),AND(D206>=Inputs!$G$55,D206<=Inputs!$G$56),AND(D206>=Inputs!$H$55,D206<=Inputs!$H$56),IFERROR(AND(D206>=0,D206<=Inputs!$H$56-168),FALSE))","v":false},{"$f":"OR(AND(D206>=Inputs!$I$65,D206<=Inputs!$I$66),AND(D206>=Inputs!$C$65,D206<=Inputs!$C$66),AND(D206>=Inputs!$D$65,D206<=Inputs!$D$66),AND(D206>=Inputs!$E$65,D206<=Inputs!$E$66),AND(D206>=Inputs!$F$65,D206<=Inputs!$F$66),AND(D206>=Inputs!$G$65,D206<=Inputs!$G$66),AND(D206>=Inputs!$H$65,D206<=Inputs!$H$66),IFERROR(AND(D206>=0,D206<=Inputs!$H$66-168),FALSE))","v":false},{"$f":"OR(AND(D206>=Inputs!$I$75,D206<=Inputs!$I$76),AND(D206>=Inputs!$C$75,D206<=Inputs!$C$76),AND(D206>=Inputs!$D$75,D206<=Inputs!$D$76),AND(D206>=Inputs!$E$75,D206<=Inputs!$E$76),AND(D206>=Inputs!$F$75,D206<=Inputs!$F$76),AND(D206>=Inputs!$G$75,D206<=Inputs!$G$76),AND(D206>=Inputs!$H$75,D206<=Inputs!$H$76),IFERROR(AND(D206>=0,D206<=Inputs!$H$76-168),FALSE))","v":false},0,0]
[null,"Friday","01:00:00",121,{"$f":"OR(AND(D207>=Inputs!$I$45,D207<=Inputs!$I$46),AND(D207>=Inputs!$C$45,D207<=Inputs!$C$46),AND(D207>=Inputs!$D$45,D207<=Inputs!$D$46),AND(D207>=Inputs!$E$45,D207<=Inputs!$E$46),AND(D207>=Inputs!$F$45,D207<=Inputs!$F$46),AND(D207>=Inputs!$G$45,D207<=Inputs!$G$46),AND(D207>=Inputs!$H$45,D207<=Inputs!$H$46),IFERROR(AND(D207>=0,D207<=Inputs!$H$46-168),FALSE))","v":false},{"$f":"OR(AND(D207>=Inputs!$I$55,D207<=Inputs!$I$56),AND(D207>=Inputs!$C$55,D207<=Inputs!$C$56),AND(D207>=Inputs!$D$55,D207<=Inputs!$D$56),AND(D207>=Inputs!$E$55,D207<=Inputs!$E$56),AND(D207>=Inputs!$F$55,D207<=Inputs!$F$56),AND(D207>=Inputs!$G$55,D207<=Inputs!$G$56),AND(D207>=Inputs!$H$55,D207<=Inputs!$H$56),IFERROR(AND(D207>=0,D207<=Inputs!$H$56-168),FALSE))","v":false},{"$f":"OR(AND(D207>=Inputs!$I$65,D207<=Inputs!$I$66),AND(D207>=Inputs!$C$65,D207<=Inputs!$C$66),AND(D207>=Inputs!$D$65,D207<=Inputs!$D$66),AND(D207>=Inputs!$E$65,D207<=Inputs!$E$66),AND(D207>=Inputs!$F$65,D207<=Inputs!$F$66),AND(D207>=Inputs!$G$65,D207<=Inputs!$G$66),AND(D207>=Inputs!$H$65,D207<=Inputs!$H$66),IFERROR(AND(D207>=0,D207<=Inputs!$H$66-168),FALSE))","v":false},{"$f":"OR(AND(D207>=Inputs!$I$75,D207<=Inputs!$I$76),AND(D207>=Inputs!$C$75,D207<=Inputs!$C$76),AND(D207>=Inputs!$D$75,D207<=Inputs!$D$76),AND(D207>=Inputs!$E$75,D207<=Inputs!$E$76),AND(D207>=Inputs!$F$75,D207<=Inputs!$F$76),AND(D207>=Inputs!$G$75,D207<=Inputs!$G$76),AND(D207>=Inputs!$H$75,D207<=Inputs!$H$76),IFERROR(AND(D207>=0,D207<=Inputs!$H$76-168),FALSE))","v":false},0,0]
[null,"Friday","02:00:00",122,{"$f":"OR(AND(D208>=Inputs!$I$45,D208<=Inputs!$I$46),AND(D208>=Inputs!$C$45,D208<=Inputs!$C$46),AND(D208>=Inputs!$D$45,D208<=Inputs!$D$46),AND(D208>=Inputs!$E$45,D208<=Inputs!$E$46),AND(D208>=Inputs!$F$45,D208<=Inputs!$F$46),AND(D208>=Inputs!$G$45,D208<=Inputs!$G$46),AND(D208>=Inputs!$H$45,D208<=Inputs!$H$46),IFERROR(AND(D208>=0,D208<=Inputs!$H$46-168),FALSE))","v":false},{"$f":"OR(AND(D208>=Inputs!$I$55,D208<=Inputs!$I$56),AND(D208>=Inputs!$C$55,D208<=Inputs!$C$56),AND(D208>=Inputs!$D$55,D208<=Inputs!$D$56),AND(D208>=Inputs!$E$55,D208<=Inputs!$E$56),AND(D208>=Inputs!$F$55,D208<=Inputs!$F$56),AND(D208>=Inputs!$G$55,D208<=Inputs!$G$56),AND(D208>=Inputs!$H$55,D208<=Inputs!$H$56),IFERROR(AND(D208>=0,D208<=Inputs!$H$56-168),FALSE))","v":false},{"$f":"OR(AND(D208>=Inputs!$I$65,D208<=Inputs!$I$66),AND(D208>=Inputs!$C$65,D208<=Inputs!$C$66),AND(D208>=Inputs!$D$65,D208<=Inputs!$D$66),AND(D208>=Inputs!$E$65,D208<=Inputs!$E$66),AND(D208>=Inputs!$F$65,D208<=Inputs!$F$66),AND(D208>=Inputs!$G$65,D208<=Inputs!$G$66),AND(D208>=Inputs!$H$65,D208<=Inputs!$H$66),IFERROR(AND(D208>=0,D208<=Inputs!$H$66-168),FALSE))","v":false},{"$f":"OR(AND(D208>=Inputs!$I$75,D208<=Inputs!$I$76),AND(D208>=Inputs!$C$75,D208<=Inputs!$C$76),AND(D208>=Inputs!$D$75,D208<=Inputs!$D$76),AND(D208>=Inputs!$E$75,D208<=Inputs!$E$76),AND(D208>=Inputs!$F$75,D208<=Inputs!$F$76),AND(D208>=Inputs!$G$75,D208<=Inputs!$G$76),AND(D208>=Inputs!$H$75,D208<=Inputs!$H$76),IFERROR(AND(D208>=0,D208<=Inputs!$H$76-168),FALSE))","v":false},0,0]
[null,"Friday","03:00:00",123,{"$f":"OR(AND(D209>=Inputs!$I$45,D209<=Inputs!$I$46),AND(D209>=Inputs!$C$45,D209<=Inputs!$C$46),AND(D209>=Inputs!$D$45,D209<=Inputs!$D$46),AND(D209>=Inputs!$E$45,D209<=Inputs!$E$46),AND(D209>=Inputs!$F$45,D209<=Inputs!$F$46),AND(D209>=Inputs!$G$45,D209<=Inputs!$G$46),AND(D209>=Inputs!$H$45,D209<=Inputs!$H$46),IFERROR(AND(D209>=0,D209<=Inputs!$H$46-168),FALSE))","v":false},{"$f":"OR(AND(D209>=Inputs!$I$55,D209<=Inputs!$I$56),AND(D209>=Inputs!$C$55,D209<=Inputs!$C$56),AND(D209>=Inputs!$D$55,D209<=Inputs!$D$56),AND(D209>=Inputs!$E$55,D209<=Inputs!$E$56),AND(D209>=Inputs!$F$55,D209<=Inputs!$F$56),AND(D209>=Inputs!$G$55,D209<=Inputs!$G$56),AND(D209>=Inputs!$H$55,D209<=Inputs!$H$56),IFERROR(AND(D209>=0,D209<=Inputs!$H$56-168),FALSE))","v":false},{"$f":"OR(AND(D209>=Inputs!$I$65,D209<=Inputs!$I$66),AND(D209>=Inputs!$C$65,D209<=Inputs!$C$66),AND(D209>=Inputs!$D$65,D209<=Inputs!$D$66),AND(D209>=Inputs!$E$65,D209<=Inputs!$E$66),AND(D209>=Inputs!$F$65,D209<=Inputs!$F$66),AND(D209>=Inputs!$G$65,D209<=Inputs!$G$66),AND(D209>=Inputs!$H$65,D209<=Inputs!$H$66),IFERROR(AND(D209>=0,D209<=Inputs!$H$66-168),FALSE))","v":false},{"$f":"OR(AND(D209>=Inputs!$I$75,D209<=Inputs!$I$76),AND(D209>=Inputs!$C$75,D209<=Inputs!$C$76),AND(D209>=Inputs!$D$75,D209<=Inputs!$D$76),AND(D209>=Inputs!$E$75,D209<=Inputs!$E$76),AND(D209>=Inputs!$F$75,D209<=Inputs!$F$76),AND(D209>=Inputs!$G$75,D209<=Inputs!$G$76),AND(D209>=Inputs!$H$75,D209<=Inputs!$H$76),IFERROR(AND(D209>=0,D209<=Inputs!$H$76-168),FALSE))","v":false},0,0]
[null,"Friday","04:00:00",124,{"$f":"OR(AND(D210>=Inputs!$I$45,D210<=Inputs!$I$46),AND(D210>=Inputs!$C$45,D210<=Inputs!$C$46),AND(D210>=Inputs!$D$45,D210<=Inputs!$D$46),AND(D210>=Inputs!$E$45,D210<=Inputs!$E$46),AND(D210>=Inputs!$F$45,D210<=Inputs!$F$46),AND(D210>=Inputs!$G$45,D210<=Inputs!$G$46),AND(D210>=Inputs!$H$45,D210<=Inputs!$H$46),IFERROR(AND(D210>=0,D210<=Inputs!$H$46-168),FALSE))","v":false},{"$f":"OR(AND(D210>=Inputs!$I$55,D210<=Inputs!$I$56),AND(D210>=Inputs!$C$55,D210<=Inputs!$C$56),AND(D210>=Inputs!$D$55,D210<=Inputs!$D$56),AND(D210>=Inputs!$E$55,D210<=Inputs!$E$56),AND(D210>=Inputs!$F$55,D210<=Inputs!$F$56),AND(D210>=Inputs!$G$55,D210<=Inputs!$G$56),AND(D210>=Inputs!$H$55,D210<=Inputs!$H$56),IFERROR(AND(D210>=0,D210<=Inputs!$H$56-168),FALSE))","v":false},{"$f":"OR(AND(D210>=Inputs!$I$65,D210<=Inputs!$I$66),AND(D210>=Inputs!$C$65,D210<=Inputs!$C$66),AND(D210>=Inputs!$D$65,D210<=Inputs!$D$66),AND(D210>=Inputs!$E$65,D210<=Inputs!$E$66),AND(D210>=Inputs!$F$65,D210<=Inputs!$F$66),AND(D210>=Inputs!$G$65,D210<=Inputs!$G$66),AND(D210>=Inputs!$H$65,D210<=Inputs!$H$66),IFERROR(AND(D210>=0,D210<=Inputs!$H$66-168),FALSE))","v":false},{"$f":"OR(AND(D210>=Inputs!$I$75,D210<=Inputs!$I$76),AND(D210>=Inputs!$C$75,D210<=Inputs!$C$76),AND(D210>=Inputs!$D$75,D210<=Inputs!$D$76),AND(D210>=Inputs!$E$75,D210<=Inputs!$E$76),AND(D210>=Inputs!$F$75,D210<=Inputs!$F$76),AND(D210>=Inputs!$G$75,D210<=Inputs!$G$76),AND(D210>=Inputs!$H$75,D210<=Inputs!$H$76),IFERROR(AND(D210>=0,D210<=Inputs!$H$76-168),FALSE))","v":false},0,0]
[null,"Friday","05:00:00",125,{"$f":"OR(AND(D211>=Inputs!$I$45,D211<=Inputs!$I$46),AND(D211>=Inputs!$C$45,D211<=Inputs!$C$46),AND(D211>=Inputs!$D$45,D211<=Inputs!$D$46),AND(D211>=Inputs!$E$45,D211<=Inputs!$E$46),AND(D211>=Inputs!$F$45,D211<=Inputs!$F$46),AND(D211>=Inputs!$G$45,D211<=Inputs!$G$46),AND(D211>=Inputs!$H$45,D211<=Inputs!$H$46),IFERROR(AND(D211>=0,D211<=Inputs!$H$46-168),FALSE))","v":false},{"$f":"OR(AND(D211>=Inputs!$I$55,D211<=Inputs!$I$56),AND(D211>=Inputs!$C$55,D211<=Inputs!$C$56),AND(D211>=Inputs!$D$55,D211<=Inputs!$D$56),AND(D211>=Inputs!$E$55,D211<=Inputs!$E$56),AND(D211>=Inputs!$F$55,D211<=Inputs!$F$56),AND(D211>=Inputs!$G$55,D211<=Inputs!$G$56),AND(D211>=Inputs!$H$55,D211<=Inputs!$H$56),IFERROR(AND(D211>=0,D211<=Inputs!$H$56-168),FALSE))","v":false},{"$f":"OR(AND(D211>=Inputs!$I$65,D211<=Inputs!$I$66),AND(D211>=Inputs!$C$65,D211<=Inputs!$C$66),AND(D211>=Inputs!$D$65,D211<=Inputs!$D$66),AND(D211>=Inputs!$E$65,D211<=Inputs!$E$66),AND(D211>=Inputs!$F$65,D211<=Inputs!$F$66),AND(D211>=Inputs!$G$65,D211<=Inputs!$G$66),AND(D211>=Inputs!$H$65,D211<=Inputs!$H$66),IFERROR(AND(D211>=0,D211<=Inputs!$H$66-168),FALSE))","v":false},{"$f":"OR(AND(D211>=Inputs!$I$75,D211<=Inputs!$I$76),AND(D211>=Inputs!$C$75,D211<=Inputs!$C$76),AND(D211>=Inputs!$D$75,D211<=Inputs!$D$76),AND(D211>=Inputs!$E$75,D211<=Inputs!$E$76),AND(D211>=Inputs!$F$75,D211<=Inputs!$F$76),AND(D211>=Inputs!$G$75,D211<=Inputs!$G$76),AND(D211>=Inputs!$H$75,D211<=Inputs!$H$76),IFERROR(AND(D211>=0,D211<=Inputs!$H$76-168),FALSE))","v":false},0,0]
[null,"Friday","06:00:00",126,{"$f":"OR(AND(D212>=Inputs!$I$45,D212<=Inputs!$I$46),AND(D212>=Inputs!$C$45,D212<=Inputs!$C$46),AND(D212>=Inputs!$D$45,D212<=Inputs!$D$46),AND(D212>=Inputs!$E$45,D212<=Inputs!$E$46),AND(D212>=Inputs!$F$45,D212<=Inputs!$F$46),AND(D212>=Inputs!$G$45,D212<=Inputs!$G$46),AND(D212>=Inputs!$H$45,D212<=Inputs!$H$46),IFERROR(AND(D212>=0,D212<=Inputs!$H$46-168),FALSE))","v":false},{"$f":"OR(AND(D212>=Inputs!$I$55,D212<=Inputs!$I$56),AND(D212>=Inputs!$C$55,D212<=Inputs!$C$56),AND(D212>=Inputs!$D$55,D212<=Inputs!$D$56),AND(D212>=Inputs!$E$55,D212<=Inputs!$E$56),AND(D212>=Inputs!$F$55,D212<=Inputs!$F$56),AND(D212>=Inputs!$G$55,D212<=Inputs!$G$56),AND(D212>=Inputs!$H$55,D212<=Inputs!$H$56),IFERROR(AND(D212>=0,D212<=Inputs!$H$56-168),FALSE))","v":false},{"$f":"OR(AND(D212>=Inputs!$I$65,D212<=Inputs!$I$66),AND(D212>=Inputs!$C$65,D212<=Inputs!$C$66),AND(D212>=Inputs!$D$65,D212<=Inputs!$D$66),AND(D212>=Inputs!$E$65,D212<=Inputs!$E$66),AND(D212>=Inputs!$F$65,D212<=Inputs!$F$66),AND(D212>=Inputs!$G$65,D212<=Inputs!$G$66),AND(D212>=Inputs!$H$65,D212<=Inputs!$H$66),IFERROR(AND(D212>=0,D212<=Inputs!$H$66-168),FALSE))","v":false},{"$f":"OR(AND(D212>=Inputs!$I$75,D212<=Inputs!$I$76),AND(D212>=Inputs!$C$75,D212<=Inputs!$C$76),AND(D212>=Inputs!$D$75,D212<=Inputs!$D$76),AND(D212>=Inputs!$E$75,D212<=Inputs!$E$76),AND(D212>=Inputs!$F$75,D212<=Inputs!$F$76),AND(D212>=Inputs!$G$75,D212<=Inputs!$G$76),AND(D212>=Inputs!$H$75,D212<=Inputs!$H$76),IFERROR(AND(D212>=0,D212<=Inputs!$H$76-168),FALSE))","v":false},0,0]
[null,"Friday","07:00:00",127,{"$f":"OR(AND(D213>=Inputs!$I$45,D213<=Inputs!$I$46),AND(D213>=Inputs!$C$45,D213<=Inputs!$C$46),AND(D213>=Inputs!$D$45,D213<=Inputs!$D$46),AND(D213>=Inputs!$E$45,D213<=Inputs!$E$46),AND(D213>=Inputs!$F$45,D213<=Inputs!$F$46),AND(D213>=Inputs!$G$45,D213<=Inputs!$G$46),AND(D213>=Inputs!$H$45,D213<=Inputs!$H$46),IFERROR(AND(D213>=0,D213<=Inputs!$H$46-168),FALSE))","v":false},{"$f":"OR(AND(D213>=Inputs!$I$55,D213<=Inputs!$I$56),AND(D213>=Inputs!$C$55,D213<=Inputs!$C$56),AND(D213>=Inputs!$D$55,D213<=Inputs!$D$56),AND(D213>=Inputs!$E$55,D213<=Inputs!$E$56),AND(D213>=Inputs!$F$55,D213<=Inputs!$F$56),AND(D213>=Inputs!$G$55,D213<=Inputs!$G$56),AND(D213>=Inputs!$H$55,D213<=Inputs!$H$56),IFERROR(AND(D213>=0,D213<=Inputs!$H$56-168),FALSE))","v":false},{"$f":"OR(AND(D213>=Inputs!$I$65,D213<=Inputs!$I$66),AND(D213>=Inputs!$C$65,D213<=Inputs!$C$66),AND(D213>=Inputs!$D$65,D213<=Inputs!$D$66),AND(D213>=Inputs!$E$65,D213<=Inputs!$E$66),AND(D213>=Inputs!$F$65,D213<=Inputs!$F$66),AND(D213>=Inputs!$G$65,D213<=Inputs!$G$66),AND(D213>=Inputs!$H$65,D213<=Inputs!$H$66),IFERROR(AND(D213>=0,D213<=Inputs!$H$66-168),FALSE))","v":false},{"$f":"OR(AND(D213>=Inputs!$I$75,D213<=Inputs!$I$76),AND(D213>=Inputs!$C$75,D213<=Inputs!$C$76),AND(D213>=Inputs!$D$75,D213<=Inputs!$D$76),AND(D213>=Inputs!$E$75,D213<=Inputs!$E$76),AND(D213>=Inputs!$F$75,D213<=Inputs!$F$76),AND(D213>=Inputs!$G$75,D213<=Inputs!$G$76),AND(D213>=Inputs!$H$75,D213<=Inputs!$H$76),IFERROR(AND(D213>=0,D213<=Inputs!$H$76-168),FALSE))","v":false},0,0]
[null,"Friday","08:00:00",128,{"$f":"OR(AND(D214>=Inputs!$I$45,D214<=Inputs!$I$46),AND(D214>=Inputs!$C$45,D214<=Inputs!$C$46),AND(D214>=Inputs!$D$45,D214<=Inputs!$D$46),AND(D214>=Inputs!$E$45,D214<=Inputs!$E$46),AND(D214>=Inputs!$F$45,D214<=Inputs!$F$46),AND(D214>=Inputs!$G$45,D214<=Inputs!$G$46),AND(D214>=Inputs!$H$45,D214<=Inputs!$H$46),IFERROR(AND(D214>=0,D214<=Inputs!$H$46-168),FALSE))","v":false},{"$f":"OR(AND(D214>=Inputs!$I$55,D214<=Inputs!$I$56),AND(D214>=Inputs!$C$55,D214<=Inputs!$C$56),AND(D214>=Inputs!$D$55,D214<=Inputs!$D$56),AND(D214>=Inputs!$E$55,D214<=Inputs!$E$56),AND(D214>=Inputs!$F$55,D214<=Inputs!$F$56),AND(D214>=Inputs!$G$55,D214<=Inputs!$G$56),AND(D214>=Inputs!$H$55,D214<=Inputs!$H$56),IFERROR(AND(D214>=0,D214<=Inputs!$H$56-168),FALSE))","v":false},{"$f":"OR(AND(D214>=Inputs!$I$65,D214<=Inputs!$I$66),AND(D214>=Inputs!$C$65,D214<=Inputs!$C$66),AND(D214>=Inputs!$D$65,D214<=Inputs!$D$66),AND(D214>=Inputs!$E$65,D214<=Inputs!$E$66),AND(D214>=Inputs!$F$65,D214<=Inputs!$F$66),AND(D214>=Inputs!$G$65,D214<=Inputs!$G$66),AND(D214>=Inputs!$H$65,D214<=Inputs!$H$66),IFERROR(AND(D214>=0,D214<=Inputs!$H$66-168),FALSE))","v":false},{"$f":"OR(AND(D214>=Inputs!$I$75,D214<=Inputs!$I$76),AND(D214>=Inputs!$C$75,D214<=Inputs!$C$76),AND(D214>=Inputs!$D$75,D214<=Inputs!$D$76),AND(D214>=Inputs!$E$75,D214<=Inputs!$E$76),AND(D214>=Inputs!$F$75,D214<=Inputs!$F$76),AND(D214>=Inputs!$G$75,D214<=Inputs!$G$76),AND(D214>=Inputs!$H$75,D214<=Inputs!$H$76),IFERROR(AND(D214>=0,D214<=Inputs!$H$76-168),FALSE))","v":false},0,0]
[null,"Friday","09:00:00",129,{"$f":"OR(AND(D215>=Inputs!$I$45,D215<=Inputs!$I$46),AND(D215>=Inputs!$C$45,D215<=Inputs!$C$46),AND(D215>=Inputs!$D$45,D215<=Inputs!$D$46),AND(D215>=Inputs!$E$45,D215<=Inputs!$E$46),AND(D215>=Inputs!$F$45,D215<=Inputs!$F$46),AND(D215>=Inputs!$G$45,D215<=Inputs!$G$46),AND(D215>=Inputs!$H$45,D215<=Inputs!$H$46),IFERROR(AND(D215>=0,D215<=Inputs!$H$46-168),FALSE))","v":true},{"$f":"OR(AND(D215>=Inputs!$I$55,D215<=Inputs!$I$56),AND(D215>=Inputs!$C$55,D215<=Inputs!$C$56),AND(D215>=Inputs!$D$55,D215<=Inputs!$D$56),AND(D215>=Inputs!$E$55,D215<=Inputs!$E$56),AND(D215>=Inputs!$F$55,D215<=Inputs!$F$56),AND(D215>=Inputs!$G$55,D215<=Inputs!$G$56),AND(D215>=Inputs!$H$55,D215<=Inputs!$H$56),IFERROR(AND(D215>=0,D215<=Inputs!$H$56-168),FALSE))","v":false},{"$f":"OR(AND(D215>=Inputs!$I$65,D215<=Inputs!$I$66),AND(D215>=Inputs!$C$65,D215<=Inputs!$C$66),AND(D215>=Inputs!$D$65,D215<=Inputs!$D$66),AND(D215>=Inputs!$E$65,D215<=Inputs!$E$66),AND(D215>=Inputs!$F$65,D215<=Inputs!$F$66),AND(D215>=Inputs!$G$65,D215<=Inputs!$G$66),AND(D215>=Inputs!$H$65,D215<=Inputs!$H$66),IFERROR(AND(D215>=0,D215<=Inputs!$H$66-168),FALSE))","v":false},{"$f":"OR(AND(D215>=Inputs!$I$75,D215<=Inputs!$I$76),AND(D215>=Inputs!$C$75,D215<=Inputs!$C$76),AND(D215>=Inputs!$D$75,D215<=Inputs!$D$76),AND(D215>=Inputs!$E$75,D215<=Inputs!$E$76),AND(D215>=Inputs!$F$75,D215<=Inputs!$F$76),AND(D215>=Inputs!$G$75,D215<=Inputs!$G$76),AND(D215>=Inputs!$H$75,D215<=Inputs!$H$76),IFERROR(AND(D215>=0,D215<=Inputs!$H$76-168),FALSE))","v":false},{"$f":"COUNTIF(E215:H215,\"TRUE\")","v":1},{"$f":"COUNTIF(F215:H215,\"TRUE\")","v":0}]
[null,"Friday","10:00:00",130,{"$f":"OR(AND(D216>=Inputs!$I$45,D216<=Inputs!$I$46),AND(D216>=Inputs!$C$45,D216<=Inputs!$C$46),AND(D216>=Inputs!$D$45,D216<=Inputs!$D$46),AND(D216>=Inputs!$E$45,D216<=Inputs!$E$46),AND(D216>=Inputs!$F$45,D216<=Inputs!$F$46),AND(D216>=Inputs!$G$45,D216<=Inputs!$G$46),AND(D216>=Inputs!$H$45,D216<=Inputs!$H$46),IFERROR(AND(D216>=0,D216<=Inputs!$H$46-168),FALSE))","v":true},{"$f":"OR(AND(D216>=Inputs!$I$55,D216<=Inputs!$I$56),AND(D216>=Inputs!$C$55,D216<=Inputs!$C$56),AND(D216>=Inputs!$D$55,D216<=Inputs!$D$56),AND(D216>=Inputs!$E$55,D216<=Inputs!$E$56),AND(D216>=Inputs!$F$55,D216<=Inputs!$F$56),AND(D216>=Inputs!$G$55,D216<=Inputs!$G$56),AND(D216>=Inputs!$H$55,D216<=Inputs!$H$56),IFERROR(AND(D216>=0,D216<=Inputs!$H$56-168),FALSE))","v":false},{"$f":"OR(AND(D216>=Inputs!$I$65,D216<=Inputs!$I$66),AND(D216>=Inputs!$C$65,D216<=Inputs!$C$66),AND(D216>=Inputs!$D$65,D216<=Inputs!$D$66),AND(D216>=Inputs!$E$65,D216<=Inputs!$E$66),AND(D216>=Inputs!$F$65,D216<=Inputs!$F$66),AND(D216>=Inputs!$G$65,D216<=Inputs!$G$66),AND(D216>=Inputs!$H$65,D216<=Inputs!$H$66),IFERROR(AND(D216>=0,D216<=Inputs!$H$66-168),FALSE))","v":false},{"$f":"OR(AND(D216>=Inputs!$I$75,D216<=Inputs!$I$76),AND(D216>=Inputs!$C$75,D216<=Inputs!$C$76),AND(D216>=Inputs!$D$75,D216<=Inputs!$D$76),AND(D216>=Inputs!$E$75,D216<=Inputs!$E$76),AND(D216>=Inputs!$F$75,D216<=Inputs!$F$76),AND(D216>=Inputs!$G$75,D216<=Inputs!$G$76),AND(D216>=Inputs!$H$75,D216<=Inputs!$H$76),IFERROR(AND(D216>=0,D216<=Inputs!$H$76-168),FALSE))","v":false},1,0]
[null,"Friday","11:00:00",131,{"$f":"OR(AND(D217>=Inputs!$I$45,D217<=Inputs!$I$46),AND(D217>=Inputs!$C$45,D217<=Inputs!$C$46),AND(D217>=Inputs!$D$45,D217<=Inputs!$D$46),AND(D217>=Inputs!$E$45,D217<=Inputs!$E$46),AND(D217>=Inputs!$F$45,D217<=Inputs!$F$46),AND(D217>=Inputs!$G$45,D217<=Inputs!$G$46),AND(D217>=Inputs!$H$45,D217<=Inputs!$H$46),IFERROR(AND(D217>=0,D217<=Inputs!$H$46-168),FALSE))","v":true},{"$f":"OR(AND(D217>=Inputs!$I$55,D217<=Inputs!$I$56),AND(D217>=Inputs!$C$55,D217<=Inputs!$C$56),AND(D217>=Inputs!$D$55,D217<=Inputs!$D$56),AND(D217>=Inputs!$E$55,D217<=Inputs!$E$56),AND(D217>=Inputs!$F$55,D217<=Inputs!$F$56),AND(D217>=Inputs!$G$55,D217<=Inputs!$G$56),AND(D217>=Inputs!$H$55,D217<=Inputs!$H$56),IFERROR(AND(D217>=0,D217<=Inputs!$H$56-168),FALSE))","v":false},{"$f":"OR(AND(D217>=Inputs!$I$65,D217<=Inputs!$I$66),AND(D217>=Inputs!$C$65,D217<=Inputs!$C$66),AND(D217>=Inputs!$D$65,D217<=Inputs!$D$66),AND(D217>=Inputs!$E$65,D217<=Inputs!$E$66),AND(D217>=Inputs!$F$65,D217<=Inputs!$F$66),AND(D217>=Inputs!$G$65,D217<=Inputs!$G$66),AND(D217>=Inputs!$H$65,D217<=Inputs!$H$66),IFERROR(AND(D217>=0,D217<=Inputs!$H$66-168),FALSE))","v":false},{"$f":"OR(AND(D217>=Inputs!$I$75,D217<=Inputs!$I$76),AND(D217>=Inputs!$C$75,D217<=Inputs!$C$76),AND(D217>=Inputs!$D$75,D217<=Inputs!$D$76),AND(D217>=Inputs!$E$75,D217<=Inputs!$E$76),AND(D217>=Inputs!$F$75,D217<=Inputs!$F$76),AND(D217>=Inputs!$G$75,D217<=Inputs!$G$76),AND(D217>=Inputs!$H$75,D217<=Inputs!$H$76),IFERROR(AND(D217>=0,D217<=Inputs!$H$76-168),FALSE))","v":false},1,0]
[null,"Friday","12:00:00",132,{"$f":"OR(AND(D218>=Inputs!$I$45,D218<=Inputs!$I$46),AND(D218>=Inputs!$C$45,D218<=Inputs!$C$46),AND(D218>=Inputs!$D$45,D218<=Inputs!$D$46),AND(D218>=Inputs!$E$45,D218<=Inputs!$E$46),AND(D218>=Inputs!$F$45,D218<=Inputs!$F$46),AND(D218>=Inputs!$G$45,D218<=Inputs!$G$46),AND(D218>=Inputs!$H$45,D218<=Inputs!$H$46),IFERROR(AND(D218>=0,D218<=Inputs!$H$46-168),FALSE))","v":true},{"$f":"OR(AND(D218>=Inputs!$I$55,D218<=Inputs!$I$56),AND(D218>=Inputs!$C$55,D218<=Inputs!$C$56),AND(D218>=Inputs!$D$55,D218<=Inputs!$D$56),AND(D218>=Inputs!$E$55,D218<=Inputs!$E$56),AND(D218>=Inputs!$F$55,D218<=Inputs!$F$56),AND(D218>=Inputs!$G$55,D218<=Inputs!$G$56),AND(D218>=Inputs!$H$55,D218<=Inputs!$H$56),IFERROR(AND(D218>=0,D218<=Inputs!$H$56-168),FALSE))","v":false},{"$f":"OR(AND(D218>=Inputs!$I$65,D218<=Inputs!$I$66),AND(D218>=Inputs!$C$65,D218<=Inputs!$C$66),AND(D218>=Inputs!$D$65,D218<=Inputs!$D$66),AND(D218>=Inputs!$E$65,D218<=Inputs!$E$66),AND(D218>=Inputs!$F$65,D218<=Inputs!$F$66),AND(D218>=Inputs!$G$65,D218<=Inputs!$G$66),AND(D218>=Inputs!$H$65,D218<=Inputs!$H$66),IFERROR(AND(D218>=0,D218<=Inputs!$H$66-168),FALSE))","v":false},{"$f":"OR(AND(D218>=Inputs!$I$75,D218<=Inputs!$I$76),AND(D218>=Inputs!$C$75,D218<=Inputs!$C$76),AND(D218>=Inputs!$D$75,D218<=Inputs!$D$76),AND(D218>=Inputs!$E$75,D218<=Inputs!$E$76),AND(D218>=Inputs!$F$75,D218<=Inputs!$F$76),AND(D218>=Inputs!$G$75,D218<=Inputs!$G$76),AND(D218>=Inputs!$H$75,D218<=Inputs!$H$76),IFERROR(AND(D218>=0,D218<=Inputs!$H$76-168),FALSE))","v":false},1,0]
[null,"Friday","13:00:00",133,{"$f":"OR(AND(D219>=Inputs!$I$45,D219<=Inputs!$I$46),AND(D219>=Inputs!$C$45,D219<=Inputs!$C$46),AND(D219>=Inputs!$D$45,D219<=Inputs!$D$46),AND(D219>=Inputs!$E$45,D219<=Inputs!$E$46),AND(D219>=Inputs!$F$45,D219<=Inputs!$F$46),AND(D219>=Inputs!$G$45,D219<=Inputs!$G$46),AND(D219>=Inputs!$H$45,D219<=Inputs!$H$46),IFERROR(AND(D219>=0,D219<=Inputs!$H$46-168),FALSE))","v":true},{"$f":"OR(AND(D219>=Inputs!$I$55,D219<=Inputs!$I$56),AND(D219>=Inputs!$C$55,D219<=Inputs!$C$56),AND(D219>=Inputs!$D$55,D219<=Inputs!$D$56),AND(D219>=Inputs!$E$55,D219<=Inputs!$E$56),AND(D219>=Inputs!$F$55,D219<=Inputs!$F$56),AND(D219>=Inputs!$G$55,D219<=Inputs!$G$56),AND(D219>=Inputs!$H$55,D219<=Inputs!$H$56),IFERROR(AND(D219>=0,D219<=Inputs!$H$56-168),FALSE))","v":false},{"$f":"OR(AND(D219>=Inputs!$I$65,D219<=Inputs!$I$66),AND(D219>=Inputs!$C$65,D219<=Inputs!$C$66),AND(D219>=Inputs!$D$65,D219<=Inputs!$D$66),AND(D219>=Inputs!$E$65,D219<=Inputs!$E$66),AND(D219>=Inputs!$F$65,D219<=Inputs!$F$66),AND(D219>=Inputs!$G$65,D219<=Inputs!$G$66),AND(D219>=Inputs!$H$65,D219<=Inputs!$H$66),IFERROR(AND(D219>=0,D219<=Inputs!$H$66-168),FALSE))","v":false},{"$f":"OR(AND(D219>=Inputs!$I$75,D219<=Inputs!$I$76),AND(D219>=Inputs!$C$75,D219<=Inputs!$C$76),AND(D219>=Inputs!$D$75,D219<=Inputs!$D$76),AND(D219>=Inputs!$E$75,D219<=Inputs!$E$76),AND(D219>=Inputs!$F$75,D219<=Inputs!$F$76),AND(D219>=Inputs!$G$75,D219<=Inputs!$G$76),AND(D219>=Inputs!$H$75,D219<=Inputs!$H$76),IFERROR(AND(D219>=0,D219<=Inputs!$H$76-168),FALSE))","v":false},1,0]
[null,"Friday","14:00:00",134,{"$f":"OR(AND(D220>=Inputs!$I$45,D220<=Inputs!$I$46),AND(D220>=Inputs!$C$45,D220<=Inputs!$C$46),AND(D220>=Inputs!$D$45,D220<=Inputs!$D$46),AND(D220>=Inputs!$E$45,D220<=Inputs!$E$46),AND(D220>=Inputs!$F$45,D220<=Inputs!$F$46),AND(D220>=Inputs!$G$45,D220<=Inputs!$G$46),AND(D220>=Inputs!$H$45,D220<=Inputs!$H$46),IFERROR(AND(D220>=0,D220<=Inputs!$H$46-168),FALSE))","v":false},{"$f":"OR(AND(D220>=Inputs!$I$55,D220<=Inputs!$I$56),AND(D220>=Inputs!$C$55,D220<=Inputs!$C$56),AND(D220>=Inputs!$D$55,D220<=Inputs!$D$56),AND(D220>=Inputs!$E$55,D220<=Inputs!$E$56),AND(D220>=Inputs!$F$55,D220<=Inputs!$F$56),AND(D220>=Inputs!$G$55,D220<=Inputs!$G$56),AND(D220>=Inputs!$H$55,D220<=Inputs!$H$56),IFERROR(AND(D220>=0,D220<=Inputs!$H$56-168),FALSE))","v":false},{"$f":"OR(AND(D220>=Inputs!$I$65,D220<=Inputs!$I$66),AND(D220>=Inputs!$C$65,D220<=Inputs!$C$66),AND(D220>=Inputs!$D$65,D220<=Inputs!$D$66),AND(D220>=Inputs!$E$65,D220<=Inputs!$E$66),AND(D220>=Inputs!$F$65,D220<=Inputs!$F$66),AND(D220>=Inputs!$G$65,D220<=Inputs!$G$66),AND(D220>=Inputs!$H$65,D220<=Inputs!$H$66),IFERROR(AND(D220>=0,D220<=Inputs!$H$66-168),FALSE))","v":false},{"$f":"OR(AND(D220>=Inputs!$I$75,D220<=Inputs!$I$76),AND(D220>=Inputs!$C$75,D220<=Inputs!$C$76),AND(D220>=Inputs!$D$75,D220<=Inputs!$D$76),AND(D220>=Inputs!$E$75,D220<=Inputs!$E$76),AND(D220>=Inputs!$F$75,D220<=Inputs!$F$76),AND(D220>=Inputs!$G$75,D220<=Inputs!$G$76),AND(D220>=Inputs!$H$75,D220<=Inputs!$H$76),IFERROR(AND(D220>=0,D220<=Inputs!$H$76-168),FALSE))","v":false},0,0]
[null,"Friday","15:00:00",135,{"$f":"OR(AND(D221>=Inputs!$I$45,D221<=Inputs!$I$46),AND(D221>=Inputs!$C$45,D221<=Inputs!$C$46),AND(D221>=Inputs!$D$45,D221<=Inputs!$D$46),AND(D221>=Inputs!$E$45,D221<=Inputs!$E$46),AND(D221>=Inputs!$F$45,D221<=Inputs!$F$46),AND(D221>=Inputs!$G$45,D221<=Inputs!$G$46),AND(D221>=Inputs!$H$45,D221<=Inputs!$H$46),IFERROR(AND(D221>=0,D221<=Inputs!$H$46-168),FALSE))","v":false},{"$f":"OR(AND(D221>=Inputs!$I$55,D221<=Inputs!$I$56),AND(D221>=Inputs!$C$55,D221<=Inputs!$C$56),AND(D221>=Inputs!$D$55,D221<=Inputs!$D$56),AND(D221>=Inputs!$E$55,D221<=Inputs!$E$56),AND(D221>=Inputs!$F$55,D221<=Inputs!$F$56),AND(D221>=Inputs!$G$55,D221<=Inputs!$G$56),AND(D221>=Inputs!$H$55,D221<=Inputs!$H$56),IFERROR(AND(D221>=0,D221<=Inputs!$H$56-168),FALSE))","v":false},{"$f":"OR(AND(D221>=Inputs!$I$65,D221<=Inputs!$I$66),AND(D221>=Inputs!$C$65,D221<=Inputs!$C$66),AND(D221>=Inputs!$D$65,D221<=Inputs!$D$66),AND(D221>=Inputs!$E$65,D221<=Inputs!$E$66),AND(D221>=Inputs!$F$65,D221<=Inputs!$F$66),AND(D221>=Inputs!$G$65,D221<=Inputs!$G$66),AND(D221>=Inputs!$H$65,D221<=Inputs!$H$66),IFERROR(AND(D221>=0,D221<=Inputs!$H$66-168),FALSE))","v":false},{"$f":"OR(AND(D221>=Inputs!$I$75,D221<=Inputs!$I$76),AND(D221>=Inputs!$C$75,D221<=Inputs!$C$76),AND(D221>=Inputs!$D$75,D221<=Inputs!$D$76),AND(D221>=Inputs!$E$75,D221<=Inputs!$E$76),AND(D221>=Inputs!$F$75,D221<=Inputs!$F$76),AND(D221>=Inputs!$G$75,D221<=Inputs!$G$76),AND(D221>=Inputs!$H$75,D221<=Inputs!$H$76),IFERROR(AND(D221>=0,D221<=Inputs!$H$76-168),FALSE))","v":false},0,0]
[null,"Friday","16:00:00",136,{"$f":"OR(AND(D222>=Inputs!$I$45,D222<=Inputs!$I$46),AND(D222>=Inputs!$C$45,D222<=Inputs!$C$46),AND(D222>=Inputs!$D$45,D222<=Inputs!$D$46),AND(D222>=Inputs!$E$45,D222<=Inputs!$E$46),AND(D222>=Inputs!$F$45,D222<=Inputs!$F$46),AND(D222>=Inputs!$G$45,D222<=Inputs!$G$46),AND(D222>=Inputs!$H$45,D222<=Inputs!$H$46),IFERROR(AND(D222>=0,D222<=Inputs!$H$46-168),FALSE))","v":false},{"$f":"OR(AND(D222>=Inputs!$I$55,D222<=Inputs!$I$56),AND(D222>=Inputs!$C$55,D222<=Inputs!$C$56),AND(D222>=Inputs!$D$55,D222<=Inputs!$D$56),AND(D222>=Inputs!$E$55,D222<=Inputs!$E$56),AND(D222>=Inputs!$F$55,D222<=Inputs!$F$56),AND(D222>=Inputs!$G$55,D222<=Inputs!$G$56),AND(D222>=Inputs!$H$55,D222<=Inputs!$H$56),IFERROR(AND(D222>=0,D222<=Inputs!$H$56-168),FALSE))","v":false},{"$f":"OR(AND(D222>=Inputs!$I$65,D222<=Inputs!$I$66),AND(D222>=Inputs!$C$65,D222<=Inputs!$C$66),AND(D222>=Inputs!$D$65,D222<=Inputs!$D$66),AND(D222>=Inputs!$E$65,D222<=Inputs!$E$66),AND(D222>=Inputs!$F$65,D222<=Inputs!$F$66),AND(D222>=Inputs!$G$65,D222<=Inputs!$G$66),AND(D222>=Inputs!$H$65,D222<=Inputs!$H$66),IFERROR(AND(D222>=0,D222<=Inputs!$H$66-168),FALSE))","v":false},{"$f":"OR(AND(D222>=Inputs!$I$75,D222<=Inputs!$I$76),AND(D222>=Inputs!$C$75,D222<=Inputs!$C$76),AND(D222>=Inputs!$D$75,D222<=Inputs!$D$76),AND(D222>=Inputs!$E$75,D222<=Inputs!$E$76),AND(D222>=Inputs!$F$75,D222<=Inputs!$F$76),AND(D222>=Inputs!$G$75,D222<=Inputs!$G$76),AND(D222>=Inputs!$H$75,D222<=Inputs!$H$76),IFERROR(AND(D222>=0,D222<=Inputs!$H$76-168),FALSE))","v":false},0,0]
[null,"Friday","17:00:00",137,{"$f":"OR(AND(D223>=Inputs!$I$45,D223<=Inputs!$I$46),AND(D223>=Inputs!$C$45,D223<=Inputs!$C$46),AND(D223>=Inputs!$D$45,D223<=Inputs!$D$46),AND(D223>=Inputs!$E$45,D223<=Inputs!$E$46),AND(D223>=Inputs!$F$45,D223<=Inputs!$F$46),AND(D223>=Inputs!$G$45,D223<=Inputs!$G$46),AND(D223>=Inputs!$H$45,D223<=Inputs!$H$46),IFERROR(AND(D223>=0,D223<=Inputs!$H$46-168),FALSE))","v":false},{"$f":"OR(AND(D223>=Inputs!$I$55,D223<=Inputs!$I$56),AND(D223>=Inputs!$C$55,D223<=Inputs!$C$56),AND(D223>=Inputs!$D$55,D223<=Inputs!$D$56),AND(D223>=Inputs!$E$55,D223<=Inputs!$E$56),AND(D223>=Inputs!$F$55,D223<=Inputs!$F$56),AND(D223>=Inputs!$G$55,D223<=Inputs!$G$56),AND(D223>=Inputs!$H$55,D223<=Inputs!$H$56),IFERROR(AND(D223>=0,D223<=Inputs!$H$56-168),FALSE))","v":false},{"$f":"OR(AND(D223>=Inputs!$I$65,D223<=Inputs!$I$66),AND(D223>=Inputs!$C$65,D223<=Inputs!$C$66),AND(D223>=Inputs!$D$65,D223<=Inputs!$D$66),AND(D223>=Inputs!$E$65,D223<=Inputs!$E$66),AND(D223>=Inputs!$F$65,D223<=Inputs!$F$66),AND(D223>=Inputs!$G$65,D223<=Inputs!$G$66),AND(D223>=Inputs!$H$65,D223<=Inputs!$H$66),IFERROR(AND(D223>=0,D223<=Inputs!$H$66-168),FALSE))","v":false},{"$f":"OR(AND(D223>=Inputs!$I$75,D223<=Inputs!$I$76),AND(D223>=Inputs!$C$75,D223<=Inputs!$C$76),AND(D223>=Inputs!$D$75,D223<=Inputs!$D$76),AND(D223>=Inputs!$E$75,D223<=Inputs!$E$76),AND(D223>=Inputs!$F$75,D223<=Inputs!$F$76),AND(D223>=Inputs!$G$75,D223<=Inputs!$G$76),AND(D223>=Inputs!$H$75,D223<=Inputs!$H$76),IFERROR(AND(D223>=0,D223<=Inputs!$H$76-168),FALSE))","v":false},0,0]
[null,"Friday","18:00:00",138,{"$f":"OR(AND(D224>=Inputs!$I$45,D224<=Inputs!$I$46),AND(D224>=Inputs!$C$45,D224<=Inputs!$C$46),AND(D224>=Inputs!$D$45,D224<=Inputs!$D$46),AND(D224>=Inputs!$E$45,D224<=Inputs!$E$46),AND(D224>=Inputs!$F$45,D224<=Inputs!$F$46),AND(D224>=Inputs!$G$45,D224<=Inputs!$G$46),AND(D224>=Inputs!$H$45,D224<=Inputs!$H$46),IFERROR(AND(D224>=0,D224<=Inputs!$H$46-168),FALSE))","v":false},{"$f":"OR(AND(D224>=Inputs!$I$55,D224<=Inputs!$I$56),AND(D224>=Inputs!$C$55,D224<=Inputs!$C$56),AND(D224>=Inputs!$D$55,D224<=Inputs!$D$56),AND(D224>=Inputs!$E$55,D224<=Inputs!$E$56),AND(D224>=Inputs!$F$55,D224<=Inputs!$F$56),AND(D224>=Inputs!$G$55,D224<=Inputs!$G$56),AND(D224>=Inputs!$H$55,D224<=Inputs!$H$56),IFERROR(AND(D224>=0,D224<=Inputs!$H$56-168),FALSE))","v":false},{"$f":"OR(AND(D224>=Inputs!$I$65,D224<=Inputs!$I$66),AND(D224>=Inputs!$C$65,D224<=Inputs!$C$66),AND(D224>=Inputs!$D$65,D224<=Inputs!$D$66),AND(D224>=Inputs!$E$65,D224<=Inputs!$E$66),AND(D224>=Inputs!$F$65,D224<=Inputs!$F$66),AND(D224>=Inputs!$G$65,D224<=Inputs!$G$66),AND(D224>=Inputs!$H$65,D224<=Inputs!$H$66),IFERROR(AND(D224>=0,D224<=Inputs!$H$66-168),FALSE))","v":false},{"$f":"OR(AND(D224>=Inputs!$I$75,D224<=Inputs!$I$76),AND(D224>=Inputs!$C$75,D224<=Inputs!$C$76),AND(D224>=Inputs!$D$75,D224<=Inputs!$D$76),AND(D224>=Inputs!$E$75,D224<=Inputs!$E$76),AND(D224>=Inputs!$F$75,D224<=Inputs!$F$76),AND(D224>=Inputs!$G$75,D224<=Inputs!$G$76),AND(D224>=Inputs!$H$75,D224<=Inputs!$H$76),IFERROR(AND(D224>=0,D224<=Inputs!$H$76-168),FALSE))","v":false},0,0]
[null,"Friday","19:00:00",139,{"$f":"OR(AND(D225>=Inputs!$I$45,D225<=Inputs!$I$46),AND(D225>=Inputs!$C$45,D225<=Inputs!$C$46),AND(D225>=Inputs!$D$45,D225<=Inputs!$D$46),AND(D225>=Inputs!$E$45,D225<=Inputs!$E$46),AND(D225>=Inputs!$F$45,D225<=Inputs!$F$46),AND(D225>=Inputs!$G$45,D225<=Inputs!$G$46),AND(D225>=Inputs!$H$45,D225<=Inputs!$H$46),IFERROR(AND(D225>=0,D225<=Inputs!$H$46-168),FALSE))","v":false},{"$f":"OR(AND(D225>=Inputs!$I$55,D225<=Inputs!$I$56),AND(D225>=Inputs!$C$55,D225<=Inputs!$C$56),AND(D225>=Inputs!$D$55,D225<=Inputs!$D$56),AND(D225>=Inputs!$E$55,D225<=Inputs!$E$56),AND(D225>=Inputs!$F$55,D225<=Inputs!$F$56),AND(D225>=Inputs!$G$55,D225<=Inputs!$G$56),AND(D225>=Inputs!$H$55,D225<=Inputs!$H$56),IFERROR(AND(D225>=0,D225<=Inputs!$H$56-168),FALSE))","v":false},{"$f":"OR(AND(D225>=Inputs!$I$65,D225<=Inputs!$I$66),AND(D225>=Inputs!$C$65,D225<=Inputs!$C$66),AND(D225>=Inputs!$D$65,D225<=Inputs!$D$66),AND(D225>=Inputs!$E$65,D225<=Inputs!$E$66),AND(D225>=Inputs!$F$65,D225<=Inputs!$F$66),AND(D225>=Inputs!$G$65,D225<=Inputs!$G$66),AND(D225>=Inputs!$H$65,D225<=Inputs!$H$66),IFERROR(AND(D225>=0,D225<=Inputs!$H$66-168),FALSE))","v":false},{"$f":"OR(AND(D225>=Inputs!$I$75,D225<=Inputs!$I$76),AND(D225>=Inputs!$C$75,D225<=Inputs!$C$76),AND(D225>=Inputs!$D$75,D225<=Inputs!$D$76),AND(D225>=Inputs!$E$75,D225<=Inputs!$E$76),AND(D225>=Inputs!$F$75,D225<=Inputs!$F$76),AND(D225>=Inputs!$G$75,D225<=Inputs!$G$76),AND(D225>=Inputs!$H$75,D225<=Inputs!$H$76),IFERROR(AND(D225>=0,D225<=Inputs!$H$76-168),FALSE))","v":false},0,0]
[null,"Friday","20:00:00",140,{"$f":"OR(AND(D226>=Inputs!$I$45,D226<=Inputs!$I$46),AND(D226>=Inputs!$C$45,D226<=Inputs!$C$46),AND(D226>=Inputs!$D$45,D226<=Inputs!$D$46),AND(D226>=Inputs!$E$45,D226<=Inputs!$E$46),AND(D226>=Inputs!$F$45,D226<=Inputs!$F$46),AND(D226>=Inputs!$G$45,D226<=Inputs!$G$46),AND(D226>=Inputs!$H$45,D226<=Inputs!$H$46),IFERROR(AND(D226>=0,D226<=Inputs!$H$46-168),FALSE))","v":false},{"$f":"OR(AND(D226>=Inputs!$I$55,D226<=Inputs!$I$56),AND(D226>=Inputs!$C$55,D226<=Inputs!$C$56),AND(D226>=Inputs!$D$55,D226<=Inputs!$D$56),AND(D226>=Inputs!$E$55,D226<=Inputs!$E$56),AND(D226>=Inputs!$F$55,D226<=Inputs!$F$56),AND(D226>=Inputs!$G$55,D226<=Inputs!$G$56),AND(D226>=Inputs!$H$55,D226<=Inputs!$H$56),IFERROR(AND(D226>=0,D226<=Inputs!$H$56-168),FALSE))","v":false},{"$f":"OR(AND(D226>=Inputs!$I$65,D226<=Inputs!$I$66),AND(D226>=Inputs!$C$65,D226<=Inputs!$C$66),AND(D226>=Inputs!$D$65,D226<=Inputs!$D$66),AND(D226>=Inputs!$E$65,D226<=Inputs!$E$66),AND(D226>=Inputs!$F$65,D226<=Inputs!$F$66),AND(D226>=Inputs!$G$65,D226<=Inputs!$G$66),AND(D226>=Inputs!$H$65,D226<=Inputs!$H$66),IFERROR(AND(D226>=0,D226<=Inputs!$H$66-168),FALSE))","v":false},{"$f":"OR(AND(D226>=Inputs!$I$75,D226<=Inputs!$I$76),AND(D226>=Inputs!$C$75,D226<=Inputs!$C$76),AND(D226>=Inputs!$D$75,D226<=Inputs!$D$76),AND(D226>=Inputs!$E$75,D226<=Inputs!$E$76),AND(D226>=Inputs!$F$75,D226<=Inputs!$F$76),AND(D226>=Inputs!$G$75,D226<=Inputs!$G$76),AND(D226>=Inputs!$H$75,D226<=Inputs!$H$76),IFERROR(AND(D226>=0,D226<=Inputs!$H$76-168),FALSE))","v":false},0,0]
[null,"Friday","21:00:00",141,{"$f":"OR(AND(D227>=Inputs!$I$45,D227<=Inputs!$I$46),AND(D227>=Inputs!$C$45,D227<=Inputs!$C$46),AND(D227>=Inputs!$D$45,D227<=Inputs!$D$46),AND(D227>=Inputs!$E$45,D227<=Inputs!$E$46),AND(D227>=Inputs!$F$45,D227<=Inputs!$F$46),AND(D227>=Inputs!$G$45,D227<=Inputs!$G$46),AND(D227>=Inputs!$H$45,D227<=Inputs!$H$46),IFERROR(AND(D227>=0,D227<=Inputs!$H$46-168),FALSE))","v":false},{"$f":"OR(AND(D227>=Inputs!$I$55,D227<=Inputs!$I$56),AND(D227>=Inputs!$C$55,D227<=Inputs!$C$56),AND(D227>=Inputs!$D$55,D227<=Inputs!$D$56),AND(D227>=Inputs!$E$55,D227<=Inputs!$E$56),AND(D227>=Inputs!$F$55,D227<=Inputs!$F$56),AND(D227>=Inputs!$G$55,D227<=Inputs!$G$56),AND(D227>=Inputs!$H$55,D227<=Inputs!$H$56),IFERROR(AND(D227>=0,D227<=Inputs!$H$56-168),FALSE))","v":false},{"$f":"OR(AND(D227>=Inputs!$I$65,D227<=Inputs!$I$66),AND(D227>=Inputs!$C$65,D227<=Inputs!$C$66),AND(D227>=Inputs!$D$65,D227<=Inputs!$D$66),AND(D227>=Inputs!$E$65,D227<=Inputs!$E$66),AND(D227>=Inputs!$F$65,D227<=Inputs!$F$66),AND(D227>=Inputs!$G$65,D227<=Inputs!$G$66),AND(D227>=Inputs!$H$65,D227<=Inputs!$H$66),IFERROR(AND(D227>=0,D227<=Inputs!$H$66-168),FALSE))","v":false},{"$f":"OR(AND(D227>=Inputs!$I$75,D227<=Inputs!$I$76),AND(D227>=Inputs!$C$75,D227<=Inputs!$C$76),AND(D227>=Inputs!$D$75,D227<=Inputs!$D$76),AND(D227>=Inputs!$E$75,D227<=Inputs!$E$76),AND(D227>=Inputs!$F$75,D227<=Inputs!$F$76),AND(D227>=Inputs!$G$75,D227<=Inputs!$G$76),AND(D227>=Inputs!$H$75,D227<=Inputs!$H$76),IFERROR(AND(D227>=0,D227<=Inputs!$H$76-168),FALSE))","v":false},0,0]
[null,"Friday","22:00:00",142,{"$f":"OR(AND(D228>=Inputs!$I$45,D228<=Inputs!$I$46),AND(D228>=Inputs!$C$45,D228<=Inputs!$C$46),AND(D228>=Inputs!$D$45,D228<=Inputs!$D$46),AND(D228>=Inputs!$E$45,D228<=Inputs!$E$46),AND(D228>=Inputs!$F$45,D228<=Inputs!$F$46),AND(D228>=Inputs!$G$45,D228<=Inputs!$G$46),AND(D228>=Inputs!$H$45,D228<=Inputs!$H$46),IFERROR(AND(D228>=0,D228<=Inputs!$H$46-168),FALSE))","v":false},{"$f":"OR(AND(D228>=Inputs!$I$55,D228<=Inputs!$I$56),AND(D228>=Inputs!$C$55,D228<=Inputs!$C$56),AND(D228>=Inputs!$D$55,D228<=Inputs!$D$56),AND(D228>=Inputs!$E$55,D228<=Inputs!$E$56),AND(D228>=Inputs!$F$55,D228<=Inputs!$F$56),AND(D228>=Inputs!$G$55,D228<=Inputs!$G$56),AND(D228>=Inputs!$H$55,D228<=Inputs!$H$56),IFERROR(AND(D228>=0,D228<=Inputs!$H$56-168),FALSE))","v":false},{"$f":"OR(AND(D228>=Inputs!$I$65,D228<=Inputs!$I$66),AND(D228>=Inputs!$C$65,D228<=Inputs!$C$66),AND(D228>=Inputs!$D$65,D228<=Inputs!$D$66),AND(D228>=Inputs!$E$65,D228<=Inputs!$E$66),AND(D228>=Inputs!$F$65,D228<=Inputs!$F$66),AND(D228>=Inputs!$G$65,D228<=Inputs!$G$66),AND(D228>=Inputs!$H$65,D228<=Inputs!$H$66),IFERROR(AND(D228>=0,D228<=Inputs!$H$66-168),FALSE))","v":false},{"$f":"OR(AND(D228>=Inputs!$I$75,D228<=Inputs!$I$76),AND(D228>=Inputs!$C$75,D228<=Inputs!$C$76),AND(D228>=Inputs!$D$75,D228<=Inputs!$D$76),AND(D228>=Inputs!$E$75,D228<=Inputs!$E$76),AND(D228>=Inputs!$F$75,D228<=Inputs!$F$76),AND(D228>=Inputs!$G$75,D228<=Inputs!$G$76),AND(D228>=Inputs!$H$75,D228<=Inputs!$H$76),IFERROR(AND(D228>=0,D228<=Inputs!$H$76-168),FALSE))","v":false},0,0]
[null,"Friday","23:00:00",143,{"$f":"OR(AND(D229>=Inputs!$I$45,D229<=Inputs!$I$46),AND(D229>=Inputs!$C$45,D229<=Inputs!$C$46),AND(D229>=Inputs!$D$45,D229<=Inputs!$D$46),AND(D229>=Inputs!$E$45,D229<=Inputs!$E$46),AND(D229>=Inputs!$F$45,D229<=Inputs!$F$46),AND(D229>=Inputs!$G$45,D229<=Inputs!$G$46),AND(D229>=Inputs!$H$45,D229<=Inputs!$H$46),IFERROR(AND(D229>=0,D229<=Inputs!$H$46-168),FALSE))","v":false},{"$f":"OR(AND(D229>=Inputs!$I$55,D229<=Inputs!$I$56),AND(D229>=Inputs!$C$55,D229<=Inputs!$C$56),AND(D229>=Inputs!$D$55,D229<=Inputs!$D$56),AND(D229>=Inputs!$E$55,D229<=Inputs!$E$56),AND(D229>=Inputs!$F$55,D229<=Inputs!$F$56),AND(D229>=Inputs!$G$55,D229<=Inputs!$G$56),AND(D229>=Inputs!$H$55,D229<=Inputs!$H$56),IFERROR(AND(D229>=0,D229<=Inputs!$H$56-168),FALSE))","v":false},{"$f":"OR(AND(D229>=Inputs!$I$65,D229<=Inputs!$I$66),AND(D229>=Inputs!$C$65,D229<=Inputs!$C$66),AND(D229>=Inputs!$D$65,D229<=Inputs!$D$66),AND(D229>=Inputs!$E$65,D229<=Inputs!$E$66),AND(D229>=Inputs!$F$65,D229<=Inputs!$F$66),AND(D229>=Inputs!$G$65,D229<=Inputs!$G$66),AND(D229>=Inputs!$H$65,D229<=Inputs!$H$66),IFERROR(AND(D229>=0,D229<=Inputs!$H$66-168),FALSE))","v":false},{"$f":"OR(AND(D229>=Inputs!$I$75,D229<=Inputs!$I$76),AND(D229>=Inputs!$C$75,D229<=Inputs!$C$76),AND(D229>=Inputs!$D$75,D229<=Inputs!$D$76),AND(D229>=Inputs!$E$75,D229<=Inputs!$E$76),AND(D229>=Inputs!$F$75,D229<=Inputs!$F$76),AND(D229>=Inputs!$G$75,D229<=Inputs!$G$76),AND(D229>=Inputs!$H$75,D229<=Inputs!$H$76),IFERROR(AND(D229>=0,D229<=Inputs!$H$76-168),FALSE))","v":false},0,0]
[null,"Saturday","00:00:00",144,{"$f":"OR(AND(D230>=Inputs!$I$45,D230<=Inputs!$I$46),AND(D230>=Inputs!$C$45,D230<=Inputs!$C$46),AND(D230>=Inputs!$D$45,D230<=Inputs!$D$46),AND(D230>=Inputs!$E$45,D230<=Inputs!$E$46),AND(D230>=Inputs!$F$45,D230<=Inputs!$F$46),AND(D230>=Inputs!$G$45,D230<=Inputs!$G$46),AND(D230>=Inputs!$H$45,D230<=Inputs!$H$46),IFERROR(AND(D230>=0,D230<=Inputs!$H$46-168),FALSE))","v":false},{"$f":"OR(AND(D230>=Inputs!$I$55,D230<=Inputs!$I$56),AND(D230>=Inputs!$C$55,D230<=Inputs!$C$56),AND(D230>=Inputs!$D$55,D230<=Inputs!$D$56),AND(D230>=Inputs!$E$55,D230<=Inputs!$E$56),AND(D230>=Inputs!$F$55,D230<=Inputs!$F$56),AND(D230>=Inputs!$G$55,D230<=Inputs!$G$56),AND(D230>=Inputs!$H$55,D230<=Inputs!$H$56),IFERROR(AND(D230>=0,D230<=Inputs!$H$56-168),FALSE))","v":false},{"$f":"OR(AND(D230>=Inputs!$I$65,D230<=Inputs!$I$66),AND(D230>=Inputs!$C$65,D230<=Inputs!$C$66),AND(D230>=Inputs!$D$65,D230<=Inputs!$D$66),AND(D230>=Inputs!$E$65,D230<=Inputs!$E$66),AND(D230>=Inputs!$F$65,D230<=Inputs!$F$66),AND(D230>=Inputs!$G$65,D230<=Inputs!$G$66),AND(D230>=Inputs!$H$65,D230<=Inputs!$H$66),IFERROR(AND(D230>=0,D230<=Inputs!$H$66-168),FALSE))","v":false},{"$f":"OR(AND(D230>=Inputs!$I$75,D230<=Inputs!$I$76),AND(D230>=Inputs!$C$75,D230<=Inputs!$C$76),AND(D230>=Inputs!$D$75,D230<=Inputs!$D$76),AND(D230>=Inputs!$E$75,D230<=Inputs!$E$76),AND(D230>=Inputs!$F$75,D230<=Inputs!$F$76),AND(D230>=Inputs!$G$75,D230<=Inputs!$G$76),AND(D230>=Inputs!$H$75,D230<=Inputs!$H$76),IFERROR(AND(D230>=0,D230<=Inputs!$H$76-168),FALSE))","v":false},0,0]
[null,"Saturday","01:00:00",145,{"$f":"OR(AND(D231>=Inputs!$I$45,D231<=Inputs!$I$46),AND(D231>=Inputs!$C$45,D231<=Inputs!$C$46),AND(D231>=Inputs!$D$45,D231<=Inputs!$D$46),AND(D231>=Inputs!$E$45,D231<=Inputs!$E$46),AND(D231>=Inputs!$F$45,D231<=Inputs!$F$46),AND(D231>=Inputs!$G$45,D231<=Inputs!$G$46),AND(D231>=Inputs!$H$45,D231<=Inputs!$H$46),IFERROR(AND(D231>=0,D231<=Inputs!$H$46-168),FALSE))","v":false},{"$f":"OR(AND(D231>=Inputs!$I$55,D231<=Inputs!$I$56),AND(D231>=Inputs!$C$55,D231<=Inputs!$C$56),AND(D231>=Inputs!$D$55,D231<=Inputs!$D$56),AND(D231>=Inputs!$E$55,D231<=Inputs!$E$56),AND(D231>=Inputs!$F$55,D231<=Inputs!$F$56),AND(D231>=Inputs!$G$55,D231<=Inputs!$G$56),AND(D231>=Inputs!$H$55,D231<=Inputs!$H$56),IFERROR(AND(D231>=0,D231<=Inputs!$H$56-168),FALSE))","v":false},{"$f":"OR(AND(D231>=Inputs!$I$65,D231<=Inputs!$I$66),AND(D231>=Inputs!$C$65,D231<=Inputs!$C$66),AND(D231>=Inputs!$D$65,D231<=Inputs!$D$66),AND(D231>=Inputs!$E$65,D231<=Inputs!$E$66),AND(D231>=Inputs!$F$65,D231<=Inputs!$F$66),AND(D231>=Inputs!$G$65,D231<=Inputs!$G$66),AND(D231>=Inputs!$H$65,D231<=Inputs!$H$66),IFERROR(AND(D231>=0,D231<=Inputs!$H$66-168),FALSE))","v":false},{"$f":"OR(AND(D231>=Inputs!$I$75,D231<=Inputs!$I$76),AND(D231>=Inputs!$C$75,D231<=Inputs!$C$76),AND(D231>=Inputs!$D$75,D231<=Inputs!$D$76),AND(D231>=Inputs!$E$75,D231<=Inputs!$E$76),AND(D231>=Inputs!$F$75,D231<=Inputs!$F$76),AND(D231>=Inputs!$G$75,D231<=Inputs!$G$76),AND(D231>=Inputs!$H$75,D231<=Inputs!$H$76),IFERROR(AND(D231>=0,D231<=Inputs!$H$76-168),FALSE))","v":false},0,0]
[null,"Saturday","02:00:00",146,{"$f":"OR(AND(D232>=Inputs!$I$45,D232<=Inputs!$I$46),AND(D232>=Inputs!$C$45,D232<=Inputs!$C$46),AND(D232>=Inputs!$D$45,D232<=Inputs!$D$46),AND(D232>=Inputs!$E$45,D232<=Inputs!$E$46),AND(D232>=Inputs!$F$45,D232<=Inputs!$F$46),AND(D232>=Inputs!$G$45,D232<=Inputs!$G$46),AND(D232>=Inputs!$H$45,D232<=Inputs!$H$46),IFERROR(AND(D232>=0,D232<=Inputs!$H$46-168),FALSE))","v":false},{"$f":"OR(AND(D232>=Inputs!$I$55,D232<=Inputs!$I$56),AND(D232>=Inputs!$C$55,D232<=Inputs!$C$56),AND(D232>=Inputs!$D$55,D232<=Inputs!$D$56),AND(D232>=Inputs!$E$55,D232<=Inputs!$E$56),AND(D232>=Inputs!$F$55,D232<=Inputs!$F$56),AND(D232>=Inputs!$G$55,D232<=Inputs!$G$56),AND(D232>=Inputs!$H$55,D232<=Inputs!$H$56),IFERROR(AND(D232>=0,D232<=Inputs!$H$56-168),FALSE))","v":false},{"$f":"OR(AND(D232>=Inputs!$I$65,D232<=Inputs!$I$66),AND(D232>=Inputs!$C$65,D232<=Inputs!$C$66),AND(D232>=Inputs!$D$65,D232<=Inputs!$D$66),AND(D232>=Inputs!$E$65,D232<=Inputs!$E$66),AND(D232>=Inputs!$F$65,D232<=Inputs!$F$66),AND(D232>=Inputs!$G$65,D232<=Inputs!$G$66),AND(D232>=Inputs!$H$65,D232<=Inputs!$H$66),IFERROR(AND(D232>=0,D232<=Inputs!$H$66-168),FALSE))","v":false},{"$f":"OR(AND(D232>=Inputs!$I$75,D232<=Inputs!$I$76),AND(D232>=Inputs!$C$75,D232<=Inputs!$C$76),AND(D232>=Inputs!$D$75,D232<=Inputs!$D$76),AND(D232>=Inputs!$E$75,D232<=Inputs!$E$76),AND(D232>=Inputs!$F$75,D232<=Inputs!$F$76),AND(D232>=Inputs!$G$75,D232<=Inputs!$G$76),AND(D232>=Inputs!$H$75,D232<=Inputs!$H$76),IFERROR(AND(D232>=0,D232<=Inputs!$H$76-168),FALSE))","v":false},0,0]
[null,"Saturday","03:00:00",147,{"$f":"OR(AND(D233>=Inputs!$I$45,D233<=Inputs!$I$46),AND(D233>=Inputs!$C$45,D233<=Inputs!$C$46),AND(D233>=Inputs!$D$45,D233<=Inputs!$D$46),AND(D233>=Inputs!$E$45,D233<=Inputs!$E$46),AND(D233>=Inputs!$F$45,D233<=Inputs!$F$46),AND(D233>=Inputs!$G$45,D233<=Inputs!$G$46),AND(D233>=Inputs!$H$45,D233<=Inputs!$H$46),IFERROR(AND(D233>=0,D233<=Inputs!$H$46-168),FALSE))","v":false},{"$f":"OR(AND(D233>=Inputs!$I$55,D233<=Inputs!$I$56),AND(D233>=Inputs!$C$55,D233<=Inputs!$C$56),AND(D233>=Inputs!$D$55,D233<=Inputs!$D$56),AND(D233>=Inputs!$E$55,D233<=Inputs!$E$56),AND(D233>=Inputs!$F$55,D233<=Inputs!$F$56),AND(D233>=Inputs!$G$55,D233<=Inputs!$G$56),AND(D233>=Inputs!$H$55,D233<=Inputs!$H$56),IFERROR(AND(D233>=0,D233<=Inputs!$H$56-168),FALSE))","v":false},{"$f":"OR(AND(D233>=Inputs!$I$65,D233<=Inputs!$I$66),AND(D233>=Inputs!$C$65,D233<=Inputs!$C$66),AND(D233>=Inputs!$D$65,D233<=Inputs!$D$66),AND(D233>=Inputs!$E$65,D233<=Inputs!$E$66),AND(D233>=Inputs!$F$65,D233<=Inputs!$F$66),AND(D233>=Inputs!$G$65,D233<=Inputs!$G$66),AND(D233>=Inputs!$H$65,D233<=Inputs!$H$66),IFERROR(AND(D233>=0,D233<=Inputs!$H$66-168),FALSE))","v":false},{"$f":"OR(AND(D233>=Inputs!$I$75,D233<=Inputs!$I$76),AND(D233>=Inputs!$C$75,D233<=Inputs!$C$76),AND(D233>=Inputs!$D$75,D233<=Inputs!$D$76),AND(D233>=Inputs!$E$75,D233<=Inputs!$E$76),AND(D233>=Inputs!$F$75,D233<=Inputs!$F$76),AND(D233>=Inputs!$G$75,D233<=Inputs!$G$76),AND(D233>=Inputs!$H$75,D233<=Inputs!$H$76),IFERROR(AND(D233>=0,D233<=Inputs!$H$76-168),FALSE))","v":false},0,0]
[null,"Saturday","04:00:00",148,{"$f":"OR(AND(D234>=Inputs!$I$45,D234<=Inputs!$I$46),AND(D234>=Inputs!$C$45,D234<=Inputs!$C$46),AND(D234>=Inputs!$D$45,D234<=Inputs!$D$46),AND(D234>=Inputs!$E$45,D234<=Inputs!$E$46),AND(D234>=Inputs!$F$45,D234<=Inputs!$F$46),AND(D234>=Inputs!$G$45,D234<=Inputs!$G$46),AND(D234>=Inputs!$H$45,D234<=Inputs!$H$46),IFERROR(AND(D234>=0,D234<=Inputs!$H$46-168),FALSE))","v":false},{"$f":"OR(AND(D234>=Inputs!$I$55,D234<=Inputs!$I$56),AND(D234>=Inputs!$C$55,D234<=Inputs!$C$56),AND(D234>=Inputs!$D$55,D234<=Inputs!$D$56),AND(D234>=Inputs!$E$55,D234<=Inputs!$E$56),AND(D234>=Inputs!$F$55,D234<=Inputs!$F$56),AND(D234>=Inputs!$G$55,D234<=Inputs!$G$56),AND(D234>=Inputs!$H$55,D234<=Inputs!$H$56),IFERROR(AND(D234>=0,D234<=Inputs!$H$56-168),FALSE))","v":false},{"$f":"OR(AND(D234>=Inputs!$I$65,D234<=Inputs!$I$66),AND(D234>=Inputs!$C$65,D234<=Inputs!$C$66),AND(D234>=Inputs!$D$65,D234<=Inputs!$D$66),AND(D234>=Inputs!$E$65,D234<=Inputs!$E$66),AND(D234>=Inputs!$F$65,D234<=Inputs!$F$66),AND(D234>=Inputs!$G$65,D234<=Inputs!$G$66),AND(D234>=Inputs!$H$65,D234<=Inputs!$H$66),IFERROR(AND(D234>=0,D234<=Inputs!$H$66-168),FALSE))","v":false},{"$f":"OR(AND(D234>=Inputs!$I$75,D234<=Inputs!$I$76),AND(D234>=Inputs!$C$75,D234<=Inputs!$C$76),AND(D234>=Inputs!$D$75,D234<=Inputs!$D$76),AND(D234>=Inputs!$E$75,D234<=Inputs!$E$76),AND(D234>=Inputs!$F$75,D234<=Inputs!$F$76),AND(D234>=Inputs!$G$75,D234<=Inputs!$G$76),AND(D234>=Inputs!$H$75,D234<=Inputs!$H$76),IFERROR(AND(D234>=0,D234<=Inputs!$H$76-168),FALSE))","v":false},0,0]
[null,"Saturday","05:00:00",149,{"$f":"OR(AND(D235>=Inputs!$I$45,D235<=Inputs!$I$46),AND(D235>=Inputs!$C$45,D235<=Inputs!$C$46),AND(D235>=Inputs!$D$45,D235<=Inputs!$D$46),AND(D235>=Inputs!$E$45,D235<=Inputs!$E$46),AND(D235>=Inputs!$F$45,D235<=Inputs!$F$46),AND(D235>=Inputs!$G$45,D235<=Inputs!$G$46),AND(D235>=Inputs!$H$45,D235<=Inputs!$H$46),IFERROR(AND(D235>=0,D235<=Inputs!$H$46-168),FALSE))","v":false},{"$f":"OR(AND(D235>=Inputs!$I$55,D235<=Inputs!$I$56),AND(D235>=Inputs!$C$55,D235<=Inputs!$C$56),AND(D235>=Inputs!$D$55,D235<=Inputs!$D$56),AND(D235>=Inputs!$E$55,D235<=Inputs!$E$56),AND(D235>=Inputs!$F$55,D235<=Inputs!$F$56),AND(D235>=Inputs!$G$55,D235<=Inputs!$G$56),AND(D235>=Inputs!$H$55,D235<=Inputs!$H$56),IFERROR(AND(D235>=0,D235<=Inputs!$H$56-168),FALSE))","v":false},{"$f":"OR(AND(D235>=Inputs!$I$65,D235<=Inputs!$I$66),AND(D235>=Inputs!$C$65,D235<=Inputs!$C$66),AND(D235>=Inputs!$D$65,D235<=Inputs!$D$66),AND(D235>=Inputs!$E$65,D235<=Inputs!$E$66),AND(D235>=Inputs!$F$65,D235<=Inputs!$F$66),AND(D235>=Inputs!$G$65,D235<=Inputs!$G$66),AND(D235>=Inputs!$H$65,D235<=Inputs!$H$66),IFERROR(AND(D235>=0,D235<=Inputs!$H$66-168),FALSE))","v":false},{"$f":"OR(AND(D235>=Inputs!$I$75,D235<=Inputs!$I$76),AND(D235>=Inputs!$C$75,D235<=Inputs!$C$76),AND(D235>=Inputs!$D$75,D235<=Inputs!$D$76),AND(D235>=Inputs!$E$75,D235<=Inputs!$E$76),AND(D235>=Inputs!$F$75,D235<=Inputs!$F$76),AND(D235>=Inputs!$G$75,D235<=Inputs!$G$76),AND(D235>=Inputs!$H$75,D235<=Inputs!$H$76),IFERROR(AND(D235>=0,D235<=Inputs!$H$76-168),FALSE))","v":false},0,0]
[null,"Saturday","06:00:00",150,{"$f":"OR(AND(D236>=Inputs!$I$45,D236<=Inputs!$I$46),AND(D236>=Inputs!$C$45,D236<=Inputs!$C$46),AND(D236>=Inputs!$D$45,D236<=Inputs!$D$46),AND(D236>=Inputs!$E$45,D236<=Inputs!$E$46),AND(D236>=Inputs!$F$45,D236<=Inputs!$F$46),AND(D236>=Inputs!$G$45,D236<=Inputs!$G$46),AND(D236>=Inputs!$H$45,D236<=Inputs!$H$46),IFERROR(AND(D236>=0,D236<=Inputs!$H$46-168),FALSE))","v":false},{"$f":"OR(AND(D236>=Inputs!$I$55,D236<=Inputs!$I$56),AND(D236>=Inputs!$C$55,D236<=Inputs!$C$56),AND(D236>=Inputs!$D$55,D236<=Inputs!$D$56),AND(D236>=Inputs!$E$55,D236<=Inputs!$E$56),AND(D236>=Inputs!$F$55,D236<=Inputs!$F$56),AND(D236>=Inputs!$G$55,D236<=Inputs!$G$56),AND(D236>=Inputs!$H$55,D236<=Inputs!$H$56),IFERROR(AND(D236>=0,D236<=Inputs!$H$56-168),FALSE))","v":false},{"$f":"OR(AND(D236>=Inputs!$I$65,D236<=Inputs!$I$66),AND(D236>=Inputs!$C$65,D236<=Inputs!$C$66),AND(D236>=Inputs!$D$65,D236<=Inputs!$D$66),AND(D236>=Inputs!$E$65,D236<=Inputs!$E$66),AND(D236>=Inputs!$F$65,D236<=Inputs!$F$66),AND(D236>=Inputs!$G$65,D236<=Inputs!$G$66),AND(D236>=Inputs!$H$65,D236<=Inputs!$H$66),IFERROR(AND(D236>=0,D236<=Inputs!$H$66-168),FALSE))","v":false},{"$f":"OR(AND(D236>=Inputs!$I$75,D236<=Inputs!$I$76),AND(D236>=Inputs!$C$75,D236<=Inputs!$C$76),AND(D236>=Inputs!$D$75,D236<=Inputs!$D$76),AND(D236>=Inputs!$E$75,D236<=Inputs!$E$76),AND(D236>=Inputs!$F$75,D236<=Inputs!$F$76),AND(D236>=Inputs!$G$75,D236<=Inputs!$G$76),AND(D236>=Inputs!$H$75,D236<=Inputs!$H$76),IFERROR(AND(D236>=0,D236<=Inputs!$H$76-168),FALSE))","v":false},0,0]
[null,"Saturday","07:00:00",151,{"$f":"OR(AND(D237>=Inputs!$I$45,D237<=Inputs!$I$46),AND(D237>=Inputs!$C$45,D237<=Inputs!$C$46),AND(D237>=Inputs!$D$45,D237<=Inputs!$D$46),AND(D237>=Inputs!$E$45,D237<=Inputs!$E$46),AND(D237>=Inputs!$F$45,D237<=Inputs!$F$46),AND(D237>=Inputs!$G$45,D237<=Inputs!$G$46),AND(D237>=Inputs!$H$45,D237<=Inputs!$H$46),IFERROR(AND(D237>=0,D237<=Inputs!$H$46-168),FALSE))","v":false},{"$f":"OR(AND(D237>=Inputs!$I$55,D237<=Inputs!$I$56),AND(D237>=Inputs!$C$55,D237<=Inputs!$C$56),AND(D237>=Inputs!$D$55,D237<=Inputs!$D$56),AND(D237>=Inputs!$E$55,D237<=Inputs!$E$56),AND(D237>=Inputs!$F$55,D237<=Inputs!$F$56),AND(D237>=Inputs!$G$55,D237<=Inputs!$G$56),AND(D237>=Inputs!$H$55,D237<=Inputs!$H$56),IFERROR(AND(D237>=0,D237<=Inputs!$H$56-168),FALSE))","v":false},{"$f":"OR(AND(D237>=Inputs!$I$65,D237<=Inputs!$I$66),AND(D237>=Inputs!$C$65,D237<=Inputs!$C$66),AND(D237>=Inputs!$D$65,D237<=Inputs!$D$66),AND(D237>=Inputs!$E$65,D237<=Inputs!$E$66),AND(D237>=Inputs!$F$65,D237<=Inputs!$F$66),AND(D237>=Inputs!$G$65,D237<=Inputs!$G$66),AND(D237>=Inputs!$H$65,D237<=Inputs!$H$66),IFERROR(AND(D237>=0,D237<=Inputs!$H$66-168),FALSE))","v":false},{"$f":"OR(AND(D237>=Inputs!$I$75,D237<=Inputs!$I$76),AND(D237>=Inputs!$C$75,D237<=Inputs!$C$76),AND(D237>=Inputs!$D$75,D237<=Inputs!$D$76),AND(D237>=Inputs!$E$75,D237<=Inputs!$E$76),AND(D237>=Inputs!$F$75,D237<=Inputs!$F$76),AND(D237>=Inputs!$G$75,D237<=Inputs!$G$76),AND(D237>=Inputs!$H$75,D237<=Inputs!$H$76),IFERROR(AND(D237>=0,D237<=Inputs!$H$76-168),FALSE))","v":false},0,0]
[null,"Saturday","08:00:00",152,{"$f":"OR(AND(D238>=Inputs!$I$45,D238<=Inputs!$I$46),AND(D238>=Inputs!$C$45,D238<=Inputs!$C$46),AND(D238>=Inputs!$D$45,D238<=Inputs!$D$46),AND(D238>=Inputs!$E$45,D238<=Inputs!$E$46),AND(D238>=Inputs!$F$45,D238<=Inputs!$F$46),AND(D238>=Inputs!$G$45,D238<=Inputs!$G$46),AND(D238>=Inputs!$H$45,D238<=Inputs!$H$46),IFERROR(AND(D238>=0,D238<=Inputs!$H$46-168),FALSE))","v":false},{"$f":"OR(AND(D238>=Inputs!$I$55,D238<=Inputs!$I$56),AND(D238>=Inputs!$C$55,D238<=Inputs!$C$56),AND(D238>=Inputs!$D$55,D238<=Inputs!$D$56),AND(D238>=Inputs!$E$55,D238<=Inputs!$E$56),AND(D238>=Inputs!$F$55,D238<=Inputs!$F$56),AND(D238>=Inputs!$G$55,D238<=Inputs!$G$56),AND(D238>=Inputs!$H$55,D238<=Inputs!$H$56),IFERROR(AND(D238>=0,D238<=Inputs!$H$56-168),FALSE))","v":false},{"$f":"OR(AND(D238>=Inputs!$I$65,D238<=Inputs!$I$66),AND(D238>=Inputs!$C$65,D238<=Inputs!$C$66),AND(D238>=Inputs!$D$65,D238<=Inputs!$D$66),AND(D238>=Inputs!$E$65,D238<=Inputs!$E$66),AND(D238>=Inputs!$F$65,D238<=Inputs!$F$66),AND(D238>=Inputs!$G$65,D238<=Inputs!$G$66),AND(D238>=Inputs!$H$65,D238<=Inputs!$H$66),IFERROR(AND(D238>=0,D238<=Inputs!$H$66-168),FALSE))","v":false},{"$f":"OR(AND(D238>=Inputs!$I$75,D238<=Inputs!$I$76),AND(D238>=Inputs!$C$75,D238<=Inputs!$C$76),AND(D238>=Inputs!$D$75,D238<=Inputs!$D$76),AND(D238>=Inputs!$E$75,D238<=Inputs!$E$76),AND(D238>=Inputs!$F$75,D238<=Inputs!$F$76),AND(D238>=Inputs!$G$75,D238<=Inputs!$G$76),AND(D238>=Inputs!$H$75,D238<=Inputs!$H$76),IFERROR(AND(D238>=0,D238<=Inputs!$H$76-168),FALSE))","v":false},0,0]
[null,"Saturday","09:00:00",153,{"$f":"OR(AND(D239>=Inputs!$I$45,D239<=Inputs!$I$46),AND(D239>=Inputs!$C$45,D239<=Inputs!$C$46),AND(D239>=Inputs!$D$45,D239<=Inputs!$D$46),AND(D239>=Inputs!$E$45,D239<=Inputs!$E$46),AND(D239>=Inputs!$F$45,D239<=Inputs!$F$46),AND(D239>=Inputs!$G$45,D239<=Inputs!$G$46),AND(D239>=Inputs!$H$45,D239<=Inputs!$H$46),IFERROR(AND(D239>=0,D239<=Inputs!$H$46-168),FALSE))","v":false},{"$f":"OR(AND(D239>=Inputs!$I$55,D239<=Inputs!$I$56),AND(D239>=Inputs!$C$55,D239<=Inputs!$C$56),AND(D239>=Inputs!$D$55,D239<=Inputs!$D$56),AND(D239>=Inputs!$E$55,D239<=Inputs!$E$56),AND(D239>=Inputs!$F$55,D239<=Inputs!$F$56),AND(D239>=Inputs!$G$55,D239<=Inputs!$G$56),AND(D239>=Inputs!$H$55,D239<=Inputs!$H$56),IFERROR(AND(D239>=0,D239<=Inputs!$H$56-168),FALSE))","v":false},{"$f":"OR(AND(D239>=Inputs!$I$65,D239<=Inputs!$I$66),AND(D239>=Inputs!$C$65,D239<=Inputs!$C$66),AND(D239>=Inputs!$D$65,D239<=Inputs!$D$66),AND(D239>=Inputs!$E$65,D239<=Inputs!$E$66),AND(D239>=Inputs!$F$65,D239<=Inputs!$F$66),AND(D239>=Inputs!$G$65,D239<=Inputs!$G$66),AND(D239>=Inputs!$H$65,D239<=Inputs!$H$66),IFERROR(AND(D239>=0,D239<=Inputs!$H$66-168),FALSE))","v":false},{"$f":"OR(AND(D239>=Inputs!$I$75,D239<=Inputs!$I$76),AND(D239>=Inputs!$C$75,D239<=Inputs!$C$76),AND(D239>=Inputs!$D$75,D239<=Inputs!$D$76),AND(D239>=Inputs!$E$75,D239<=Inputs!$E$76),AND(D239>=Inputs!$F$75,D239<=Inputs!$F$76),AND(D239>=Inputs!$G$75,D239<=Inputs!$G$76),AND(D239>=Inputs!$H$75,D239<=Inputs!$H$76),IFERROR(AND(D239>=0,D239<=Inputs!$H$76-168),FALSE))","v":false},0,0]
[null,"Saturday","10:00:00",154,{"$f":"OR(AND(D240>=Inputs!$I$45,D240<=Inputs!$I$46),AND(D240>=Inputs!$C$45,D240<=Inputs!$C$46),AND(D240>=Inputs!$D$45,D240<=Inputs!$D$46),AND(D240>=Inputs!$E$45,D240<=Inputs!$E$46),AND(D240>=Inputs!$F$45,D240<=Inputs!$F$46),AND(D240>=Inputs!$G$45,D240<=Inputs!$G$46),AND(D240>=Inputs!$H$45,D240<=Inputs!$H$46),IFERROR(AND(D240>=0,D240<=Inputs!$H$46-168),FALSE))","v":false},{"$f":"OR(AND(D240>=Inputs!$I$55,D240<=Inputs!$I$56),AND(D240>=Inputs!$C$55,D240<=Inputs!$C$56),AND(D240>=Inputs!$D$55,D240<=Inputs!$D$56),AND(D240>=Inputs!$E$55,D240<=Inputs!$E$56),AND(D240>=Inputs!$F$55,D240<=Inputs!$F$56),AND(D240>=Inputs!$G$55,D240<=Inputs!$G$56),AND(D240>=Inputs!$H$55,D240<=Inputs!$H$56),IFERROR(AND(D240>=0,D240<=Inputs!$H$56-168),FALSE))","v":false},{"$f":"OR(AND(D240>=Inputs!$I$65,D240<=Inputs!$I$66),AND(D240>=Inputs!$C$65,D240<=Inputs!$C$66),AND(D240>=Inputs!$D$65,D240<=Inputs!$D$66),AND(D240>=Inputs!$E$65,D240<=Inputs!$E$66),AND(D240>=Inputs!$F$65,D240<=Inputs!$F$66),AND(D240>=Inputs!$G$65,D240<=Inputs!$G$66),AND(D240>=Inputs!$H$65,D240<=Inputs!$H$66),IFERROR(AND(D240>=0,D240<=Inputs!$H$66-168),FALSE))","v":false},{"$f":"OR(AND(D240>=Inputs!$I$75,D240<=Inputs!$I$76),AND(D240>=Inputs!$C$75,D240<=Inputs!$C$76),AND(D240>=Inputs!$D$75,D240<=Inputs!$D$76),AND(D240>=Inputs!$E$75,D240<=Inputs!$E$76),AND(D240>=Inputs!$F$75,D240<=Inputs!$F$76),AND(D240>=Inputs!$G$75,D240<=Inputs!$G$76),AND(D240>=Inputs!$H$75,D240<=Inputs!$H$76),IFERROR(AND(D240>=0,D240<=Inputs!$H$76-168),FALSE))","v":false},0,0]
[null,"Saturday","11:00:00",155,{"$f":"OR(AND(D241>=Inputs!$I$45,D241<=Inputs!$I$46),AND(D241>=Inputs!$C$45,D241<=Inputs!$C$46),AND(D241>=Inputs!$D$45,D241<=Inputs!$D$46),AND(D241>=Inputs!$E$45,D241<=Inputs!$E$46),AND(D241>=Inputs!$F$45,D241<=Inputs!$F$46),AND(D241>=Inputs!$G$45,D241<=Inputs!$G$46),AND(D241>=Inputs!$H$45,D241<=Inputs!$H$46),IFERROR(AND(D241>=0,D241<=Inputs!$H$46-168),FALSE))","v":false},{"$f":"OR(AND(D241>=Inputs!$I$55,D241<=Inputs!$I$56),AND(D241>=Inputs!$C$55,D241<=Inputs!$C$56),AND(D241>=Inputs!$D$55,D241<=Inputs!$D$56),AND(D241>=Inputs!$E$55,D241<=Inputs!$E$56),AND(D241>=Inputs!$F$55,D241<=Inputs!$F$56),AND(D241>=Inputs!$G$55,D241<=Inputs!$G$56),AND(D241>=Inputs!$H$55,D241<=Inputs!$H$56),IFERROR(AND(D241>=0,D241<=Inputs!$H$56-168),FALSE))","v":false},{"$f":"OR(AND(D241>=Inputs!$I$65,D241<=Inputs!$I$66),AND(D241>=Inputs!$C$65,D241<=Inputs!$C$66),AND(D241>=Inputs!$D$65,D241<=Inputs!$D$66),AND(D241>=Inputs!$E$65,D241<=Inputs!$E$66),AND(D241>=Inputs!$F$65,D241<=Inputs!$F$66),AND(D241>=Inputs!$G$65,D241<=Inputs!$G$66),AND(D241>=Inputs!$H$65,D241<=Inputs!$H$66),IFERROR(AND(D241>=0,D241<=Inputs!$H$66-168),FALSE))","v":false},{"$f":"OR(AND(D241>=Inputs!$I$75,D241<=Inputs!$I$76),AND(D241>=Inputs!$C$75,D241<=Inputs!$C$76),AND(D241>=Inputs!$D$75,D241<=Inputs!$D$76),AND(D241>=Inputs!$E$75,D241<=Inputs!$E$76),AND(D241>=Inputs!$F$75,D241<=Inputs!$F$76),AND(D241>=Inputs!$G$75,D241<=Inputs!$G$76),AND(D241>=Inputs!$H$75,D241<=Inputs!$H$76),IFERROR(AND(D241>=0,D241<=Inputs!$H$76-168),FALSE))","v":false},0,0]
[null,"Saturday","12:00:00",156,{"$f":"OR(AND(D242>=Inputs!$I$45,D242<=Inputs!$I$46),AND(D242>=Inputs!$C$45,D242<=Inputs!$C$46),AND(D242>=Inputs!$D$45,D242<=Inputs!$D$46),AND(D242>=Inputs!$E$45,D242<=Inputs!$E$46),AND(D242>=Inputs!$F$45,D242<=Inputs!$F$46),AND(D242>=Inputs!$G$45,D242<=Inputs!$G$46),AND(D242>=Inputs!$H$45,D242<=Inputs!$H$46),IFERROR(AND(D242>=0,D242<=Inputs!$H$46-168),FALSE))","v":false},{"$f":"OR(AND(D242>=Inputs!$I$55,D242<=Inputs!$I$56),AND(D242>=Inputs!$C$55,D242<=Inputs!$C$56),AND(D242>=Inputs!$D$55,D242<=Inputs!$D$56),AND(D242>=Inputs!$E$55,D242<=Inputs!$E$56),AND(D242>=Inputs!$F$55,D242<=Inputs!$F$56),AND(D242>=Inputs!$G$55,D242<=Inputs!$G$56),AND(D242>=Inputs!$H$55,D242<=Inputs!$H$56),IFERROR(AND(D242>=0,D242<=Inputs!$H$56-168),FALSE))","v":false},{"$f":"OR(AND(D242>=Inputs!$I$65,D242<=Inputs!$I$66),AND(D242>=Inputs!$C$65,D242<=Inputs!$C$66),AND(D242>=Inputs!$D$65,D242<=Inputs!$D$66),AND(D242>=Inputs!$E$65,D242<=Inputs!$E$66),AND(D242>=Inputs!$F$65,D242<=Inputs!$F$66),AND(D242>=Inputs!$G$65,D242<=Inputs!$G$66),AND(D242>=Inputs!$H$65,D242<=Inputs!$H$66),IFERROR(AND(D242>=0,D242<=Inputs!$H$66-168),FALSE))","v":false},{"$f":"OR(AND(D242>=Inputs!$I$75,D242<=Inputs!$I$76),AND(D242>=Inputs!$C$75,D242<=Inputs!$C$76),AND(D242>=Inputs!$D$75,D242<=Inputs!$D$76),AND(D242>=Inputs!$E$75,D242<=Inputs!$E$76),AND(D242>=Inputs!$F$75,D242<=Inputs!$F$76),AND(D242>=Inputs!$G$75,D242<=Inputs!$G$76),AND(D242>=Inputs!$H$75,D242<=Inputs!$H$76),IFERROR(AND(D242>=0,D242<=Inputs!$H$76-168),FALSE))","v":false},0,0]
[null,"Saturday","13:00:00",157,{"$f":"OR(AND(D243>=Inputs!$I$45,D243<=Inputs!$I$46),AND(D243>=Inputs!$C$45,D243<=Inputs!$C$46),AND(D243>=Inputs!$D$45,D243<=Inputs!$D$46),AND(D243>=Inputs!$E$45,D243<=Inputs!$E$46),AND(D243>=Inputs!$F$45,D243<=Inputs!$F$46),AND(D243>=Inputs!$G$45,D243<=Inputs!$G$46),AND(D243>=Inputs!$H$45,D243<=Inputs!$H$46),IFERROR(AND(D243>=0,D243<=Inputs!$H$46-168),FALSE))","v":false},{"$f":"OR(AND(D243>=Inputs!$I$55,D243<=Inputs!$I$56),AND(D243>=Inputs!$C$55,D243<=Inputs!$C$56),AND(D243>=Inputs!$D$55,D243<=Inputs!$D$56),AND(D243>=Inputs!$E$55,D243<=Inputs!$E$56),AND(D243>=Inputs!$F$55,D243<=Inputs!$F$56),AND(D243>=Inputs!$G$55,D243<=Inputs!$G$56),AND(D243>=Inputs!$H$55,D243<=Inputs!$H$56),IFERROR(AND(D243>=0,D243<=Inputs!$H$56-168),FALSE))","v":false},{"$f":"OR(AND(D243>=Inputs!$I$65,D243<=Inputs!$I$66),AND(D243>=Inputs!$C$65,D243<=Inputs!$C$66),AND(D243>=Inputs!$D$65,D243<=Inputs!$D$66),AND(D243>=Inputs!$E$65,D243<=Inputs!$E$66),AND(D243>=Inputs!$F$65,D243<=Inputs!$F$66),AND(D243>=Inputs!$G$65,D243<=Inputs!$G$66),AND(D243>=Inputs!$H$65,D243<=Inputs!$H$66),IFERROR(AND(D243>=0,D243<=Inputs!$H$66-168),FALSE))","v":false},{"$f":"OR(AND(D243>=Inputs!$I$75,D243<=Inputs!$I$76),AND(D243>=Inputs!$C$75,D243<=Inputs!$C$76),AND(D243>=Inputs!$D$75,D243<=Inputs!$D$76),AND(D243>=Inputs!$E$75,D243<=Inputs!$E$76),AND(D243>=Inputs!$F$75,D243<=Inputs!$F$76),AND(D243>=Inputs!$G$75,D243<=Inputs!$G$76),AND(D243>=Inputs!$H$75,D243<=Inputs!$H$76),IFERROR(AND(D243>=0,D243<=Inputs!$H$76-168),FALSE))","v":false},0,0]
[null,"Saturday","14:00:00",158,{"$f":"OR(AND(D244>=Inputs!$I$45,D244<=Inputs!$I$46),AND(D244>=Inputs!$C$45,D244<=Inputs!$C$46),AND(D244>=Inputs!$D$45,D244<=Inputs!$D$46),AND(D244>=Inputs!$E$45,D244<=Inputs!$E$46),AND(D244>=Inputs!$F$45,D244<=Inputs!$F$46),AND(D244>=Inputs!$G$45,D244<=Inputs!$G$46),AND(D244>=Inputs!$H$45,D244<=Inputs!$H$46),IFERROR(AND(D244>=0,D244<=Inputs!$H$46-168),FALSE))","v":false},{"$f":"OR(AND(D244>=Inputs!$I$55,D244<=Inputs!$I$56),AND(D244>=Inputs!$C$55,D244<=Inputs!$C$56),AND(D244>=Inputs!$D$55,D244<=Inputs!$D$56),AND(D244>=Inputs!$E$55,D244<=Inputs!$E$56),AND(D244>=Inputs!$F$55,D244<=Inputs!$F$56),AND(D244>=Inputs!$G$55,D244<=Inputs!$G$56),AND(D244>=Inputs!$H$55,D244<=Inputs!$H$56),IFERROR(AND(D244>=0,D244<=Inputs!$H$56-168),FALSE))","v":false},{"$f":"OR(AND(D244>=Inputs!$I$65,D244<=Inputs!$I$66),AND(D244>=Inputs!$C$65,D244<=Inputs!$C$66),AND(D244>=Inputs!$D$65,D244<=Inputs!$D$66),AND(D244>=Inputs!$E$65,D244<=Inputs!$E$66),AND(D244>=Inputs!$F$65,D244<=Inputs!$F$66),AND(D244>=Inputs!$G$65,D244<=Inputs!$G$66),AND(D244>=Inputs!$H$65,D244<=Inputs!$H$66),IFERROR(AND(D244>=0,D244<=Inputs!$H$66-168),FALSE))","v":false},{"$f":"OR(AND(D244>=Inputs!$I$75,D244<=Inputs!$I$76),AND(D244>=Inputs!$C$75,D244<=Inputs!$C$76),AND(D244>=Inputs!$D$75,D244<=Inputs!$D$76),AND(D244>=Inputs!$E$75,D244<=Inputs!$E$76),AND(D244>=Inputs!$F$75,D244<=Inputs!$F$76),AND(D244>=Inputs!$G$75,D244<=Inputs!$G$76),AND(D244>=Inputs!$H$75,D244<=Inputs!$H$76),IFERROR(AND(D244>=0,D244<=Inputs!$H$76-168),FALSE))","v":false},0,0]
[null,"Saturday","15:00:00",159,{"$f":"OR(AND(D245>=Inputs!$I$45,D245<=Inputs!$I$46),AND(D245>=Inputs!$C$45,D245<=Inputs!$C$46),AND(D245>=Inputs!$D$45,D245<=Inputs!$D$46),AND(D245>=Inputs!$E$45,D245<=Inputs!$E$46),AND(D245>=Inputs!$F$45,D245<=Inputs!$F$46),AND(D245>=Inputs!$G$45,D245<=Inputs!$G$46),AND(D245>=Inputs!$H$45,D245<=Inputs!$H$46),IFERROR(AND(D245>=0,D245<=Inputs!$H$46-168),FALSE))","v":false},{"$f":"OR(AND(D245>=Inputs!$I$55,D245<=Inputs!$I$56),AND(D245>=Inputs!$C$55,D245<=Inputs!$C$56),AND(D245>=Inputs!$D$55,D245<=Inputs!$D$56),AND(D245>=Inputs!$E$55,D245<=Inputs!$E$56),AND(D245>=Inputs!$F$55,D245<=Inputs!$F$56),AND(D245>=Inputs!$G$55,D245<=Inputs!$G$56),AND(D245>=Inputs!$H$55,D245<=Inputs!$H$56),IFERROR(AND(D245>=0,D245<=Inputs!$H$56-168),FALSE))","v":false},{"$f":"OR(AND(D245>=Inputs!$I$65,D245<=Inputs!$I$66),AND(D245>=Inputs!$C$65,D245<=Inputs!$C$66),AND(D245>=Inputs!$D$65,D245<=Inputs!$D$66),AND(D245>=Inputs!$E$65,D245<=Inputs!$E$66),AND(D245>=Inputs!$F$65,D245<=Inputs!$F$66),AND(D245>=Inputs!$G$65,D245<=Inputs!$G$66),AND(D245>=Inputs!$H$65,D245<=Inputs!$H$66),IFERROR(AND(D245>=0,D245<=Inputs!$H$66-168),FALSE))","v":false},{"$f":"OR(AND(D245>=Inputs!$I$75,D245<=Inputs!$I$76),AND(D245>=Inputs!$C$75,D245<=Inputs!$C$76),AND(D245>=Inputs!$D$75,D245<=Inputs!$D$76),AND(D245>=Inputs!$E$75,D245<=Inputs!$E$76),AND(D245>=Inputs!$F$75,D245<=Inputs!$F$76),AND(D245>=Inputs!$G$75,D245<=Inputs!$G$76),AND(D245>=Inputs!$H$75,D245<=Inputs!$H$76),IFERROR(AND(D245>=0,D245<=Inputs!$H$76-168),FALSE))","v":false},0,0]
[null,"Saturday","16:00:00",160,{"$f":"OR(AND(D246>=Inputs!$I$45,D246<=Inputs!$I$46),AND(D246>=Inputs!$C$45,D246<=Inputs!$C$46),AND(D246>=Inputs!$D$45,D246<=Inputs!$D$46),AND(D246>=Inputs!$E$45,D246<=Inputs!$E$46),AND(D246>=Inputs!$F$45,D246<=Inputs!$F$46),AND(D246>=Inputs!$G$45,D246<=Inputs!$G$46),AND(D246>=Inputs!$H$45,D246<=Inputs!$H$46),IFERROR(AND(D246>=0,D246<=Inputs!$H$46-168),FALSE))","v":false},{"$f":"OR(AND(D246>=Inputs!$I$55,D246<=Inputs!$I$56),AND(D246>=Inputs!$C$55,D246<=Inputs!$C$56),AND(D246>=Inputs!$D$55,D246<=Inputs!$D$56),AND(D246>=Inputs!$E$55,D246<=Inputs!$E$56),AND(D246>=Inputs!$F$55,D246<=Inputs!$F$56),AND(D246>=Inputs!$G$55,D246<=Inputs!$G$56),AND(D246>=Inputs!$H$55,D246<=Inputs!$H$56),IFERROR(AND(D246>=0,D246<=Inputs!$H$56-168),FALSE))","v":false},{"$f":"OR(AND(D246>=Inputs!$I$65,D246<=Inputs!$I$66),AND(D246>=Inputs!$C$65,D246<=Inputs!$C$66),AND(D246>=Inputs!$D$65,D246<=Inputs!$D$66),AND(D246>=Inputs!$E$65,D246<=Inputs!$E$66),AND(D246>=Inputs!$F$65,D246<=Inputs!$F$66),AND(D246>=Inputs!$G$65,D246<=Inputs!$G$66),AND(D246>=Inputs!$H$65,D246<=Inputs!$H$66),IFERROR(AND(D246>=0,D246<=Inputs!$H$66-168),FALSE))","v":false},{"$f":"OR(AND(D246>=Inputs!$I$75,D246<=Inputs!$I$76),AND(D246>=Inputs!$C$75,D246<=Inputs!$C$76),AND(D246>=Inputs!$D$75,D246<=Inputs!$D$76),AND(D246>=Inputs!$E$75,D246<=Inputs!$E$76),AND(D246>=Inputs!$F$75,D246<=Inputs!$F$76),AND(D246>=Inputs!$G$75,D246<=Inputs!$G$76),AND(D246>=Inputs!$H$75,D246<=Inputs!$H$76),IFERROR(AND(D246>=0,D246<=Inputs!$H$76-168),FALSE))","v":false},0,0]
[null,"Saturday","17:00:00",161,{"$f":"OR(AND(D247>=Inputs!$I$45,D247<=Inputs!$I$46),AND(D247>=Inputs!$C$45,D247<=Inputs!$C$46),AND(D247>=Inputs!$D$45,D247<=Inputs!$D$46),AND(D247>=Inputs!$E$45,D247<=Inputs!$E$46),AND(D247>=Inputs!$F$45,D247<=Inputs!$F$46),AND(D247>=Inputs!$G$45,D247<=Inputs!$G$46),AND(D247>=Inputs!$H$45,D247<=Inputs!$H$46),IFERROR(AND(D247>=0,D247<=Inputs!$H$46-168),FALSE))","v":false},{"$f":"OR(AND(D247>=Inputs!$I$55,D247<=Inputs!$I$56),AND(D247>=Inputs!$C$55,D247<=Inputs!$C$56),AND(D247>=Inputs!$D$55,D247<=Inputs!$D$56),AND(D247>=Inputs!$E$55,D247<=Inputs!$E$56),AND(D247>=Inputs!$F$55,D247<=Inputs!$F$56),AND(D247>=Inputs!$G$55,D247<=Inputs!$G$56),AND(D247>=Inputs!$H$55,D247<=Inputs!$H$56),IFERROR(AND(D247>=0,D247<=Inputs!$H$56-168),FALSE))","v":false},{"$f":"OR(AND(D247>=Inputs!$I$65,D247<=Inputs!$I$66),AND(D247>=Inputs!$C$65,D247<=Inputs!$C$66),AND(D247>=Inputs!$D$65,D247<=Inputs!$D$66),AND(D247>=Inputs!$E$65,D247<=Inputs!$E$66),AND(D247>=Inputs!$F$65,D247<=Inputs!$F$66),AND(D247>=Inputs!$G$65,D247<=Inputs!$G$66),AND(D247>=Inputs!$H$65,D247<=Inputs!$H$66),IFERROR(AND(D247>=0,D247<=Inputs!$H$66-168),FALSE))","v":false},{"$f":"OR(AND(D247>=Inputs!$I$75,D247<=Inputs!$I$76),AND(D247>=Inputs!$C$75,D247<=Inputs!$C$76),AND(D247>=Inputs!$D$75,D247<=Inputs!$D$76),AND(D247>=Inputs!$E$75,D247<=Inputs!$E$76),AND(D247>=Inputs!$F$75,D247<=Inputs!$F$76),AND(D247>=Inputs!$G$75,D247<=Inputs!$G$76),AND(D247>=Inputs!$H$75,D247<=Inputs!$H$76),IFERROR(AND(D247>=0,D247<=Inputs!$H$76-168),FALSE))","v":false},0,0]
[null,"Saturday","18:00:00",162,{"$f":"OR(AND(D248>=Inputs!$I$45,D248<=Inputs!$I$46),AND(D248>=Inputs!$C$45,D248<=Inputs!$C$46),AND(D248>=Inputs!$D$45,D248<=Inputs!$D$46),AND(D248>=Inputs!$E$45,D248<=Inputs!$E$46),AND(D248>=Inputs!$F$45,D248<=Inputs!$F$46),AND(D248>=Inputs!$G$45,D248<=Inputs!$G$46),AND(D248>=Inputs!$H$45,D248<=Inputs!$H$46),IFERROR(AND(D248>=0,D248<=Inputs!$H$46-168),FALSE))","v":false},{"$f":"OR(AND(D248>=Inputs!$I$55,D248<=Inputs!$I$56),AND(D248>=Inputs!$C$55,D248<=Inputs!$C$56),AND(D248>=Inputs!$D$55,D248<=Inputs!$D$56),AND(D248>=Inputs!$E$55,D248<=Inputs!$E$56),AND(D248>=Inputs!$F$55,D248<=Inputs!$F$56),AND(D248>=Inputs!$G$55,D248<=Inputs!$G$56),AND(D248>=Inputs!$H$55,D248<=Inputs!$H$56),IFERROR(AND(D248>=0,D248<=Inputs!$H$56-168),FALSE))","v":false},{"$f":"OR(AND(D248>=Inputs!$I$65,D248<=Inputs!$I$66),AND(D248>=Inputs!$C$65,D248<=Inputs!$C$66),AND(D248>=Inputs!$D$65,D248<=Inputs!$D$66),AND(D248>=Inputs!$E$65,D248<=Inputs!$E$66),AND(D248>=Inputs!$F$65,D248<=Inputs!$F$66),AND(D248>=Inputs!$G$65,D248<=Inputs!$G$66),AND(D248>=Inputs!$H$65,D248<=Inputs!$H$66),IFERROR(AND(D248>=0,D248<=Inputs!$H$66-168),FALSE))","v":false},{"$f":"OR(AND(D248>=Inputs!$I$75,D248<=Inputs!$I$76),AND(D248>=Inputs!$C$75,D248<=Inputs!$C$76),AND(D248>=Inputs!$D$75,D248<=Inputs!$D$76),AND(D248>=Inputs!$E$75,D248<=Inputs!$E$76),AND(D248>=Inputs!$F$75,D248<=Inputs!$F$76),AND(D248>=Inputs!$G$75,D248<=Inputs!$G$76),AND(D248>=Inputs!$H$75,D248<=Inputs!$H$76),IFERROR(AND(D248>=0,D248<=Inputs!$H$76-168),FALSE))","v":false},0,0]
[null,"Saturday","19:00:00",163,{"$f":"OR(AND(D249>=Inputs!$I$45,D249<=Inputs!$I$46),AND(D249>=Inputs!$C$45,D249<=Inputs!$C$46),AND(D249>=Inputs!$D$45,D249<=Inputs!$D$46),AND(D249>=Inputs!$E$45,D249<=Inputs!$E$46),AND(D249>=Inputs!$F$45,D249<=Inputs!$F$46),AND(D249>=Inputs!$G$45,D249<=Inputs!$G$46),AND(D249>=Inputs!$H$45,D249<=Inputs!$H$46),IFERROR(AND(D249>=0,D249<=Inputs!$H$46-168),FALSE))","v":false},{"$f":"OR(AND(D249>=Inputs!$I$55,D249<=Inputs!$I$56),AND(D249>=Inputs!$C$55,D249<=Inputs!$C$56),AND(D249>=Inputs!$D$55,D249<=Inputs!$D$56),AND(D249>=Inputs!$E$55,D249<=Inputs!$E$56),AND(D249>=Inputs!$F$55,D249<=Inputs!$F$56),AND(D249>=Inputs!$G$55,D249<=Inputs!$G$56),AND(D249>=Inputs!$H$55,D249<=Inputs!$H$56),IFERROR(AND(D249>=0,D249<=Inputs!$H$56-168),FALSE))","v":false},{"$f":"OR(AND(D249>=Inputs!$I$65,D249<=Inputs!$I$66),AND(D249>=Inputs!$C$65,D249<=Inputs!$C$66),AND(D249>=Inputs!$D$65,D249<=Inputs!$D$66),AND(D249>=Inputs!$E$65,D249<=Inputs!$E$66),AND(D249>=Inputs!$F$65,D249<=Inputs!$F$66),AND(D249>=Inputs!$G$65,D249<=Inputs!$G$66),AND(D249>=Inputs!$H$65,D249<=Inputs!$H$66),IFERROR(AND(D249>=0,D249<=Inputs!$H$66-168),FALSE))","v":false},{"$f":"OR(AND(D249>=Inputs!$I$75,D249<=Inputs!$I$76),AND(D249>=Inputs!$C$75,D249<=Inputs!$C$76),AND(D249>=Inputs!$D$75,D249<=Inputs!$D$76),AND(D249>=Inputs!$E$75,D249<=Inputs!$E$76),AND(D249>=Inputs!$F$75,D249<=Inputs!$F$76),AND(D249>=Inputs!$G$75,D249<=Inputs!$G$76),AND(D249>=Inputs!$H$75,D249<=Inputs!$H$76),IFERROR(AND(D249>=0,D249<=Inputs!$H$76-168),FALSE))","v":false},0,0]
[null,"Saturday","20:00:00",164,{"$f":"OR(AND(D250>=Inputs!$I$45,D250<=Inputs!$I$46),AND(D250>=Inputs!$C$45,D250<=Inputs!$C$46),AND(D250>=Inputs!$D$45,D250<=Inputs!$D$46),AND(D250>=Inputs!$E$45,D250<=Inputs!$E$46),AND(D250>=Inputs!$F$45,D250<=Inputs!$F$46),AND(D250>=Inputs!$G$45,D250<=Inputs!$G$46),AND(D250>=Inputs!$H$45,D250<=Inputs!$H$46),IFERROR(AND(D250>=0,D250<=Inputs!$H$46-168),FALSE))","v":false},{"$f":"OR(AND(D250>=Inputs!$I$55,D250<=Inputs!$I$56),AND(D250>=Inputs!$C$55,D250<=Inputs!$C$56),AND(D250>=Inputs!$D$55,D250<=Inputs!$D$56),AND(D250>=Inputs!$E$55,D250<=Inputs!$E$56),AND(D250>=Inputs!$F$55,D250<=Inputs!$F$56),AND(D250>=Inputs!$G$55,D250<=Inputs!$G$56),AND(D250>=Inputs!$H$55,D250<=Inputs!$H$56),IFERROR(AND(D250>=0,D250<=Inputs!$H$56-168),FALSE))","v":false},{"$f":"OR(AND(D250>=Inputs!$I$65,D250<=Inputs!$I$66),AND(D250>=Inputs!$C$65,D250<=Inputs!$C$66),AND(D250>=Inputs!$D$65,D250<=Inputs!$D$66),AND(D250>=Inputs!$E$65,D250<=Inputs!$E$66),AND(D250>=Inputs!$F$65,D250<=Inputs!$F$66),AND(D250>=Inputs!$G$65,D250<=Inputs!$G$66),AND(D250>=Inputs!$H$65,D250<=Inputs!$H$66),IFERROR(AND(D250>=0,D250<=Inputs!$H$66-168),FALSE))","v":false},{"$f":"OR(AND(D250>=Inputs!$I$75,D250<=Inputs!$I$76),AND(D250>=Inputs!$C$75,D250<=Inputs!$C$76),AND(D250>=Inputs!$D$75,D250<=Inputs!$D$76),AND(D250>=Inputs!$E$75,D250<=Inputs!$E$76),AND(D250>=Inputs!$F$75,D250<=Inputs!$F$76),AND(D250>=Inputs!$G$75,D250<=Inputs!$G$76),AND(D250>=Inputs!$H$75,D250<=Inputs!$H$76),IFERROR(AND(D250>=0,D250<=Inputs!$H$76-168),FALSE))","v":false},0,0]
[null,"Saturday","21:00:00",165,{"$f":"OR(AND(D251>=Inputs!$I$45,D251<=Inputs!$I$46),AND(D251>=Inputs!$C$45,D251<=Inputs!$C$46),AND(D251>=Inputs!$D$45,D251<=Inputs!$D$46),AND(D251>=Inputs!$E$45,D251<=Inputs!$E$46),AND(D251>=Inputs!$F$45,D251<=Inputs!$F$46),AND(D251>=Inputs!$G$45,D251<=Inputs!$G$46),AND(D251>=Inputs!$H$45,D251<=Inputs!$H$46),IFERROR(AND(D251>=0,D251<=Inputs!$H$46-168),FALSE))","v":false},{"$f":"OR(AND(D251>=Inputs!$I$55,D251<=Inputs!$I$56),AND(D251>=Inputs!$C$55,D251<=Inputs!$C$56),AND(D251>=Inputs!$D$55,D251<=Inputs!$D$56),AND(D251>=Inputs!$E$55,D251<=Inputs!$E$56),AND(D251>=Inputs!$F$55,D251<=Inputs!$F$56),AND(D251>=Inputs!$G$55,D251<=Inputs!$G$56),AND(D251>=Inputs!$H$55,D251<=Inputs!$H$56),IFERROR(AND(D251>=0,D251<=Inputs!$H$56-168),FALSE))","v":false},{"$f":"OR(AND(D251>=Inputs!$I$65,D251<=Inputs!$I$66),AND(D251>=Inputs!$C$65,D251<=Inputs!$C$66),AND(D251>=Inputs!$D$65,D251<=Inputs!$D$66),AND(D251>=Inputs!$E$65,D251<=Inputs!$E$66),AND(D251>=Inputs!$F$65,D251<=Inputs!$F$66),AND(D251>=Inputs!$G$65,D251<=Inputs!$G$66),AND(D251>=Inputs!$H$65,D251<=Inputs!$H$66),IFERROR(AND(D251>=0,D251<=Inputs!$H$66-168),FALSE))","v":false},{"$f":"OR(AND(D251>=Inputs!$I$75,D251<=Inputs!$I$76),AND(D251>=Inputs!$C$75,D251<=Inputs!$C$76),AND(D251>=Inputs!$D$75,D251<=Inputs!$D$76),AND(D251>=Inputs!$E$75,D251<=Inputs!$E$76),AND(D251>=Inputs!$F$75,D251<=Inputs!$F$76),AND(D251>=Inputs!$G$75,D251<=Inputs!$G$76),AND(D251>=Inputs!$H$75,D251<=Inputs!$H$76),IFERROR(AND(D251>=0,D251<=Inputs!$H$76-168),FALSE))","v":false},0,0]
[null,"Saturday","22:00:00",166,{"$f":"OR(AND(D252>=Inputs!$I$45,D252<=Inputs!$I$46),AND(D252>=Inputs!$C$45,D252<=Inputs!$C$46),AND(D252>=Inputs!$D$45,D252<=Inputs!$D$46),AND(D252>=Inputs!$E$45,D252<=Inputs!$E$46),AND(D252>=Inputs!$F$45,D252<=Inputs!$F$46),AND(D252>=Inputs!$G$45,D252<=Inputs!$G$46),AND(D252>=Inputs!$H$45,D252<=Inputs!$H$46),IFERROR(AND(D252>=0,D252<=Inputs!$H$46-168),FALSE))","v":false},{"$f":"OR(AND(D252>=Inputs!$I$55,D252<=Inputs!$I$56),AND(D252>=Inputs!$C$55,D252<=Inputs!$C$56),AND(D252>=Inputs!$D$55,D252<=Inputs!$D$56),AND(D252>=Inputs!$E$55,D252<=Inputs!$E$56),AND(D252>=Inputs!$F$55,D252<=Inputs!$F$56),AND(D252>=Inputs!$G$55,D252<=Inputs!$G$56),AND(D252>=Inputs!$H$55,D252<=Inputs!$H$56),IFERROR(AND(D252>=0,D252<=Inputs!$H$56-168),FALSE))","v":false},{"$f":"OR(AND(D252>=Inputs!$I$65,D252<=Inputs!$I$66),AND(D252>=Inputs!$C$65,D252<=Inputs!$C$66),AND(D252>=Inputs!$D$65,D252<=Inputs!$D$66),AND(D252>=Inputs!$E$65,D252<=Inputs!$E$66),AND(D252>=Inputs!$F$65,D252<=Inputs!$F$66),AND(D252>=Inputs!$G$65,D252<=Inputs!$G$66),AND(D252>=Inputs!$H$65,D252<=Inputs!$H$66),IFERROR(AND(D252>=0,D252<=Inputs!$H$66-168),FALSE))","v":false},{"$f":"OR(AND(D252>=Inputs!$I$75,D252<=Inputs!$I$76),AND(D252>=Inputs!$C$75,D252<=Inputs!$C$76),AND(D252>=Inputs!$D$75,D252<=Inputs!$D$76),AND(D252>=Inputs!$E$75,D252<=Inputs!$E$76),AND(D252>=Inputs!$F$75,D252<=Inputs!$F$76),AND(D252>=Inputs!$G$75,D252<=Inputs!$G$76),AND(D252>=Inputs!$H$75,D252<=Inputs!$H$76),IFERROR(AND(D252>=0,D252<=Inputs!$H$76-168),FALSE))","v":false},0,0]
[null,"Saturday","23:00:00",167,{"$f":"OR(AND(D253>=Inputs!$I$45,D253<=Inputs!$I$46),AND(D253>=Inputs!$C$45,D253<=Inputs!$C$46),AND(D253>=Inputs!$D$45,D253<=Inputs!$D$46),AND(D253>=Inputs!$E$45,D253<=Inputs!$E$46),AND(D253>=Inputs!$F$45,D253<=Inputs!$F$46),AND(D253>=Inputs!$G$45,D253<=Inputs!$G$46),AND(D253>=Inputs!$H$45,D253<=Inputs!$H$46),IFERROR(AND(D253>=0,D253<=Inputs!$H$46-168),FALSE))","v":false},{"$f":"OR(AND(D253>=Inputs!$I$55,D253<=Inputs!$I$56),AND(D253>=Inputs!$C$55,D253<=Inputs!$C$56),AND(D253>=Inputs!$D$55,D253<=Inputs!$D$56),AND(D253>=Inputs!$E$55,D253<=Inputs!$E$56),AND(D253>=Inputs!$F$55,D253<=Inputs!$F$56),AND(D253>=Inputs!$G$55,D253<=Inputs!$G$56),AND(D253>=Inputs!$H$55,D253<=Inputs!$H$56),IFERROR(AND(D253>=0,D253<=Inputs!$H$56-168),FALSE))","v":false},{"$f":"OR(AND(D253>=Inputs!$I$65,D253<=Inputs!$I$66),AND(D253>=Inputs!$C$65,D253<=Inputs!$C$66),AND(D253>=Inputs!$D$65,D253<=Inputs!$D$66),AND(D253>=Inputs!$E$65,D253<=Inputs!$E$66),AND(D253>=Inputs!$F$65,D253<=Inputs!$F$66),AND(D253>=Inputs!$G$65,D253<=Inputs!$G$66),AND(D253>=Inputs!$H$65,D253<=Inputs!$H$66),IFERROR(AND(D253>=0,D253<=Inputs!$H$66-168),FALSE))","v":false},{"$f":"OR(AND(D253>=Inputs!$I$75,D253<=Inputs!$I$76),AND(D253>=Inputs!$C$75,D253<=Inputs!$C$76),AND(D253>=Inputs!$D$75,D253<=Inputs!$D$76),AND(D253>=Inputs!$E$75,D253<=Inputs!$E$76),AND(D253>=Inputs!$F$75,D253<=Inputs!$F$76),AND(D253>=Inputs!$G$75,D253<=Inputs!$G$76),AND(D253>=Inputs!$H$75,D253<=Inputs!$H$76),IFERROR(AND(D253>=0,D253<=Inputs!$H$76-168),FALSE))","v":false},0,0]

{"sheet":"Volume Import","index":1,"n_rows":169,"n_cols":40,"rows_kept":169,"cut":false,"hidden":false,"merged":[[61,39,62,44],[10,39,11,44],[13,39,14,44],[19,39,20,44],[22,39,23,44],[26,39,28,44],[30,39,33,44],[35,39,36,44],[45,39,50,44],[52,39,54,44],[56,39,57,44],[10,11,11,16],[35,11,36,16],[52,11,54,16],[56,11,57,16],[61,11,62,16],[13,11,14,16],[19,11,20,16],[22,11,23,16],[26,11,28,16],[30,11,33,16],[45,11,50,16]]}
["Date","Hour","PDir","PDirHV","NDir","NDirHV",null,null,null,"Truck Percentage Inputs","Sunday","Monday","Tuesday","Wednesday","Thursday","Friday","Saturday",null,null,null,null,null,"Sun","Sun","Mon","Mon","Tue","Tue","Wed","Wed","Thu","Thu","Fri","Fri","Sat","Sat"]
[{"$f":"I9","v":"2019-08-01"},0,{"$f":"MROUND(INDEX($W$3:$AJ$26,MATCH(B2,$V$3:$V$26,0),MATCH(CHOOSE(WEEKDAY(A2),\"Sun\",\"Mon\",\"Tue\",\"Wed\",\"Thu\",\"Fri\",\"Sat\")&C$1,$W$27:$AJ$27,0)),1)","v":618},0,{"$f":"MROUND(INDEX($W$3:$AJ$26,MATCH(B2,$V$3:$V$26,0),MATCH(CHOOSE(WEEKDAY(A2),\"Sun\",\"Mon\",\"Tue\",\"Wed\",\"Thu\",\"Fri\",\"Sat\")&E$1,$W$27:$AJ$27,0)),1)","v":609},0,null,null,null,"AM         Truck % (6 AM - 9 AM)",0.1,0.1,0.1,0.1,0.1,0.1,0.1,"AM",null,null,null,null,"PDir","NDir","PDir","NDir","PDir","NDir","PDir","NDir","PDir","NDir","PDir","NDir","PDir","NDir"]
[{"$f":"A2","v":"2019-08-01"},1,488,0,420,0,null,null,null,"MD         Truck % (9 AM - 3 PM)",0.1,0.1,0.1,0.1,0.1,0.1,0.1,"MD",null,null,null,0,931,1132.75,657.5,468,564.5,590.25,619,649,617.6,608.79999999999995,665,740.4,1040.5999999999999,1030]
["2019-08-01",2,412,0,402,0,null,null,null,"PM          Truck % (3 PM - 6 PM)",0.1,0.1,0.1,0.1,0.1,0.1,0.1,"PM",null,null,null,1,477.5,615,419.5,310.5,443.75,392.25,446.5,409.25,488,420.2,532,485.2,574.4,554]
["2019-08-01",3,535,0,534,0,null,null,null,"NT           Truck % (6 PM - 6 AM)",0.1,0.1,0.1,0.1,0.1,0.1,0.1,"NT",null,null,null,2,352,438.5,351.25,291.5,385.25,357,388.25,393.75,411.6,401.8,424,437.4,426.8,438]
["2019-08-01",4,1343,0,964,0,null,null,null,null,null,null,null,null,null,null,null,null,null,null,null,3,273.75,393.25,534.75,463.25,561.25,492.25,547.25,506,535.4,533.6,558.79999999999995,544.6,425.6,445.6]
["2019-08-01",5,3771,0,2170,0,null,null,null,null,null,null,null,null,null,null,null,null,null,null,null,4,337.75,445,1291,1020.5,1318.25,1001.25,1319.5,948.5,1342.8,964.2,1248.5999999999999,958.8,597.20000000000005,564.4]
["2019-08-01",6,6470,0,3592,0,null,null,null,null,0.1,null,null,null,null,null,null,null,null,null,null,5,601.5,599.75,3674.5,2211.25,3813.25,2183.75,3860,2184.75,3771.2,2169.8000000000002,3477.2,1968.4,1223,914.6]
["2019-08-01",7,6752,0,4528,0,null,"Date:","2019-08-01",null,null,null,null,null,null,null,null,null,null,null,null,6,1125.75,921.25,6136.75,3585.75,6480.25,3693,6481.5,3619.5,6470.2,3592.4,5982,3307,2055.6,1448.8]
["2019-08-01",8,5885,0,4292,0,null,"Counter ID:",400007,null,null,null,null,null,null,null,null,null,null,null,null,7,1477.5,1514.5,6695.5,4526.75,7067.75,4721,6623.75,4705.5,6752.4,4527.6000000000004,6937.6,4300.2,2712,2118.1999999999998]
["2019-08-01",9,5039,0,3952,0,null,"Location:","I-894 - AT CLEVELAND AVE WEST ALLIS",null,null,"The purpose of this tab is to enable users to import volume data from a Jackalope SQL Excel output or WisTransPortal Excel output.",null,null,null,null,null,null,null,null,null,8,2413,2185.25,5707.5,3863,5955.75,4324.75,5517.25,4317.25,5885.4,4291.8,5542.8,4022,3781,2877.8,null,null,null,"The purpose of this tab is to enable users to import volume data from a Jackalope SQL Excel output or WisTransPortal Excel output."]
["2019-08-01",10,4996,0,3938,0,null,null,null,null,null,null,null,null,null,null,null,null,null,null,null,9,3405,3153,4667.5,3661.75,4957.75,3765.5,4949.25,3827,5039.2,3952.2,5136.8,3960.4,4645.3999999999996,3716]
["2019-08-01",11,4672,0,3553,0,null,{"$f":"LEFT(Inputs!$C$10,2)","v":"NB"},{"$f":"RIGHT(Inputs!$C$10,2)","v":"SB"},null,null,null,null,null,null,null,null,null,null,null,null,10,4576,4174.5,4540.25,3780,4628,3746.5,4849.5,3870.25,4995.6000000000004,3938,5202,4158.8,5155.8,4379.6000000000004]
["2019-08-01",12,4779,0,3621,0,null,1,1,"Location Adjustment Factor",null,"Click the Jackalope SQL button to import data from a Jackalope SQL Excel output and a window will open to select the file to import.",null,null,null,null,null,null,null,null,null,11,4875.25,4779.75,4400,4116.5,4455,4012.25,4616.5,4066.5,4672.2,3553.2,5217.3999999999996,4454.6000000000004,5198.6000000000004,4677.2,"Location Adjustment Factor",null,null,"Click the Jackalope SQL button to import data from a Jackalope SQL Excel output and a window will open to select the file to import."]
["2019-08-01",13,4768,0,3982,0,null,0,0,"Growth %",null,null,null,null,null,null,null,null,null,null,null,12,4915.5,5207.75,4377.25,4419.25,4476.5,4338.75,4610.75,4487.5,4778.6000000000004,3621.4,5253,5005.8,5116.6000000000004,4956,"Growth %"]
["2019-08-01",14,5330,0,5542,0,null,0,0,"Diversion %",null,"Example volume-only file",null,null,null,null,null,null,null,null,null,13,4633.5,5263.75,4351.5,4536,4473.25,4603.5,4489.25,4809.75,4768.3999999999996,3982,5383.6,5288.6,4780.3999999999996,4901.8,"Diversion %",null,null,"Example volume-only file"]
["2019-08-01",15,5481,0,6961,0,null,null,null,null,null,"Example volume+length file",null,null,null,null,null,null,null,null,null,14,4526.25,5510.25,4794,5738.75,5079.5,5841.75,5045.75,5910.25,5330,5542,5656.2,6340.4,4907,5023.2,null,null,null,"Example volume+length file"]
["2019-08-01",16,5031,0,6811,0,null,null,null,null,null,"Example volume+axle file",null,null,null,null,null,null,null,null,null,15,4306.25,5553,4995.5,6677.5,5224.25,6887.5,5270.5,7085.5,5480.8,6960.8,5672,6920.8,4841,4964,null,null,null,"Example volume+axle file"]
["2019-08-01",17,4965,0,6584,0,null,null,null,null,null,"Example volume-only monthly averages file",null,null,null,null,null,null,null,null,null,16,4439.25,5646.75,5052.25,6859.5,5267.5,7299.5,5107.75,6916,5031.2,6810.6,5284.8,5353.6,4655.8,4670,null,null,null,"Example volume-only monthly averages file"]
["2019-08-01",18,4233,0,4865,0,null,null,null,null,null,"Imported Jackalope SQL files must be in exact format as one of the four example files above.  \"Monthly Averages\" file contains weekday averages for a single month.",null,null,null,null,null,null,null,null,null,17,4207.75,5080,4769.25,6632.5,5039,6742.25,4962.25,6791,4965.2,6583.6,4990.8,5180.3999999999996,4165.6000000000004,4254.6000000000004,null,null,null,"Imported Jackalope SQL files must be in exact format as one of the four example files above.  \"Monthly Averages\" file contains weekday averages for a single month."]
["2019-08-01",19,3177,0,3681,0,null,null,null,null,null,null,null,null,null,null,null,null,null,null,null,18,3779.25,4244.75,3829.5,4579.75,3963.5,4899.25,4130.75,4842.5,4232.8,4865,4666.2,4238.6000000000004,3647.4,3634.8]
["2019-08-01",20,2740,0,3127,0,null,null,null,null,null,null,null,null,null,null,null,null,null,null,null,19,3103,3537.75,2701.5,3337.75,2791.25,3510.5,2988.25,3673,3177,3681.2,3610,3591.4,3026,3359.6]
["2019-08-01",21,2331,0,2517,0,null,null,null,null,null,"Click the WisTransPortal button to import data from a WisTransPortal Excel output and a window will open to select the file to import.",null,null,null,null,null,null,null,null,null,20,2632.75,2822.25,2251.5,2707.25,2434.25,2962.75,2598.25,2952.25,2740,3127.4,2883.2,3067.4,2809,3137.4,null,null,null,"Click the WisTransPortal button to import data from a WisTransPortal Excel output and a window will open to select the file to import."]
["2019-08-01",22,1585,0,1992,0,null,null,null,null,null,null,null,null,null,null,null,null,null,null,null,21,2044.5,2085.5,1882.5,2107.5,2017.75,2445.25,2128.25,2378.5,2331.1999999999998,2516.8000000000002,2513.6,2801.6,2442,2810.4]
["2019-08-01",23,1051,0,1443,0,null,null,null,null,null,"Example continuous count file",null,null,null,null,null,null,null,null,null,22,1350.75,1376.25,1243.25,1468,1329,1838.25,1413.5,1675,1584.8,1992.4,1923.4,2444,1856.2,2285.6,null,null,null,"Example continuous count file"]
[{"$f":"A2+1","v":"2019-08-02"},{"$f":"B2","v":0},665,0,740,0,null,null,null,null,null,"Example short-term count file",null,null,null,null,null,null,null,null,null,23,926.75,893.75,839,1006.75,914.5,1301,898,1134.75,1051.2,1442.6,1433.4,1836.2,1335.2,1673.6,null,null,null,"Example short-term count file"]
[{"$f":"A3+1","v":"2019-08-02"},{"$f":"B3","v":1},532,0,485,0,null,null,null,null,null,"Imported WisTransPortal files must be in exact format as one of the two example files above.  The continuous count file contains monthly averages for each weekday for a single month.  The short-term count file contains 48 hours of data.",null,null,null,null,null,null,null,null,null,null,{"$f":"W1&W2","v":"SunPDir"},{"$f":"X1&X2","v":"SunNDir"},"MonPDir","MonNDir","TuePDir","TueNDir","WedPDir","WedNDir","ThuPDir","ThuNDir","FriPDir","FriNDir","SatPDir","SatNDir",null,null,null,"Imported WisTransPortal files must be in exact format as one of the two example files above.  The continuous count file contains monthly averages for each weekday for a single month.  The short-term count file contains 48 hours of data."]
["2019-08-02",2,424,0,437,0,null,null,null,null,null,null,null,null,null,null,null,null,null,null,null,"Cells from WisTransPortal CT Report to Import"]
["2019-08-02",3,559,0,545,0,null,null,null,null,null,null,null,null,null,null,null,null,null,null,null,0,"B12","C12","E12","F12","H12","I12","K12","L12","N12","O12","Q12","R12","T12","U12"]
["2019-08-02",4,1249,0,959,0,null,null,null,null,null,null,null,null,null,null,null,null,null,null,null,1,"B13","C13","E13","F13","H13","I13","K13","L13","N13","O13","Q13","R13","T13","U13"]
["2019-08-02",5,3477,0,1968,0,null,null,null,null,null,"If user imports WisTransPortal file of volume-only Jackalope SQL file, \"PDirHV\" and \"NDirHV\" columns will show zero and a truck percentage table will show where user can input truck percentages for each period of each day. \"Copy Truck% For All\" button can be clicked to copy same truck percentage for each period of each day.",null,null,null,null,null,null,null,null,null,2,"B14","C14","E14","F14","H14","I14","K14","L14","N14","O14","Q14","R14","T14","U14",null,null,null,"If user imports WisTransPortal file of volume-only Jackalope SQL file, \"PDirHV\" and \"NDirHV\" columns will show zero and a truck percentage table will show where user can input truck percentages for each period of each day. \"Copy Truck% For All\" button can be clicked to copy same truck percentage for each period of each day."]
["2019-08-02",6,5982,0,3307,0,null,null,null,null,null,null,null,null,null,null,null,null,null,null,null,3,"B15","C15","E15","F15","H15","I15","K15","L15","N15","O15","Q15","R15","T15","U15"]
["2019-08-02",7,6938,0,4300,0,null,null,null,null,null,null,null,null,null,null,null,null,null,null,null,4,"B16","C16","E16","F16","H16","I16","K16","L16","N16","O16","Q16","R16","T16","U16"]
["2019-08-02",8,{"$f":"MROUND(INDEX($W$3:$AJ$26,MATCH(B34,$V$3:$V$26,0),MATCH(CHOOSE(WEEKDAY(A34),\"Sun\",\"Mon\",\"Tue\",\"Wed\",\"Thu\",\"Fri\",\"Sat\")&C$1,$W$27:$AJ$27,0)),1)","v":5543},0,{"$f":"MROUND(INDEX($W$3:$AJ$26,MATCH(B34,$V$3:$V$26,0),MATCH(CHOOSE(WEEKDAY(A34),\"Sun\",\"Mon\",\"Tue\",\"Wed\",\"Thu\",\"Fri\",\"Sat\")&E$1,$W$27:$AJ$27,0)),1)","v":4022},0,null,null,null,null,null,null,null,null,null,null,null,null,null,null,null,5,"B17","C17","E17","F17","H17","I17","K17","L17","N17","O17","Q17","R17","T17","U17"]
["2019-08-02",9,5137,0,3960,0,null,null,null,null,null,null,null,null,null,null,null,null,null,null,null,6,"B18","C18","E18","F18","H18","I18","K18","L18","N18","O18","Q18","R18","T18","U18"]
["2019-08-02",10,5202,0,4159,0,null,null,null,null,null,"\"Location Adjustment Factor\" is used to adjust raw volumes if count site not in same location as closure.  See example below using AADT volumes.",null,null,null,null,null,null,null,null,null,7,"B19","C19","E19","F19","H19","I19","K19","L19","N19","O19","Q19","R19","T19","U19",null,null,null,"\"Location Adjustment Factor\" is used to adjust raw volumes if count site not in same location as closure.  See example below using AADT volumes."]
["2019-08-02",11,5217,0,4455,0,null,null,null,null,null,null,null,null,null,null,null,null,null,null,null,8,"B20","C20","E20","F20","H20","I20","K20","L20","N20","O20","Q20","R20","T20","U20"]
["2019-08-02",12,5253,0,5006,0,null,null,null,null,null,null,null,null,null,null,null,null,null,null,null,9,"B21","C21","E21","F21","H21","I21","K21","L21","N21","O21","Q21","R21","T21","U21"]
["2019-08-02",13,5384,0,5289,0,null,null,null,null,null,null,null,null,null,null,null,null,null,null,null,10,"B22","C22","E22","F22","H22","I22","K22","L22","N22","O22","Q22","R22","T22","U22"]
["2019-08-02",14,5656,0,6340,0,null,null,null,null,null,null,null,null,null,null,null,null,null,null,null,11,"B23","C23","E23","F23","H23","I23","K23","L23","N23","O23","Q23","R23","T23","U23"]
["2019-08-02",15,5672,0,6921,0,null,null,null,null,null,null,null,null,null,null,null,null,null,null,null,12,"B24","C24","E24","F24","H24","I24","K24","L24","N24","O24","Q24","R24","T24","U24"]
["2019-08-02",16,5285,0,5354,0,null,null,null,null,null,null,null,null,null,null,null,null,null,null,null,13,"B25","C25","E25","F25","H25","I25","K25","L25","N25","O25","Q25","R25","T25","U25"]
["2019-08-02",17,4991,0,5180,0,null,null,null,null,null,null,null,null,null,null,null,null,null,null,null,14,"B26","C26","E26","F26","H26","I26","K26","L26","N26","O26","Q26","R26","T26","U26"]
["2019-08-02",18,4666,0,4239,0,null,null,null,null,null,null,null,null,null,null,null,null,null,null,null,15,"B27","C27","E27","F27","H27","I27","K27","L27","N27","O27","Q27","R27","T27","U27"]
["2019-08-02",19,3610,0,3591,0,null,null,null,null,null,null,null,null,null,null,null,null,null,null,null,16,"B28","C28","E28","F28","H28","I28","K28","L28","N28","O28","Q28","R28","T28","U28"]
["2019-08-02",20,2883,0,3067,0,null,null,null,null,null,"Imported volumes from a nearby \"Continuous Count Location\" can be factored based on a short-duration count that is closer to the work zone closure.  The factor is applied to every hour of every day.  For example, in the picture above, to adjust the continuous count based on the nearby short duration count, a factor of 1.11 (128,000/115,000) can be applied to the continous count data to estimate continuous data at the site of the short-duration count closer to the closure.",null,null,null,null,null,null,null,null,null,17,"B29","C29","E29","F29","H29","I29","K29","L29","N29","O29","Q29","R29","T29","U29",null,null,null,"Imported volumes from a nearby \"Continuous Count Location\" can be factored based on a short-duration count that is closer to the work zone closure.  The factor is applied to every hour of every day.  For example, in the picture above, to adjust the continuous count based on the nearby short duration count, a factor of 1.11 (128,000/115,000) can be applied to the continous count data to estimate continuous data at the site of the short-duration count closer to the closure."]
["2019-08-02",21,2514,0,2802,0,null,null,null,null,null,null,null,null,null,null,null,null,null,null,null,18,"B30","C30","E30","F30","H30","I30","K30","L30","N30","O30","Q30","R30","T30","U30"]
["2019-08-02",22,1923,0,2444,0,null,null,null,null,null,null,null,null,null,null,null,null,null,null,null,19,"B31","C31","E31","F31","H31","I31","K31","L31","N31","O31","Q31","R31","T31","U31"]
["2019-08-02",23,1433,0,1836,0,null,null,null,null,null,null,null,null,null,null,null,null,null,null,null,20,"B32","C32","E32","F32","H32","I32","K32","L32","N32","O32","Q32","R32","T32","U32"]
["2019-08-03",0,1041,0,1030,0,null,null,null,null,null,null,null,null,null,null,null,null,null,null,null,21,"B33","C33","E33","F33","H33","I33","K33","L33","N33","O33","Q33","R33","T33","U33"]
["2019-08-03",1,574,0,554,0,null,null,null,null,null,null,null,null,null,null,null,null,null,null,null,22,"B34","C34","E34","F34","H34","I34","K34","L34","N34","O34","Q34","R34","T34","U34"]
["2019-08-03",2,427,0,438,0,null,null,null,null,null,null,null,null,null,null,null,null,null,null,null,23,"B35","C35","E35","F35","H35","I35","K35","L35","N35","O35","Q35","R35","T35","U35"]
["2019-08-03",3,426,0,446,0,null,null,null,null,null,"\"Growth %\" is applied to the volumes to add growth (i.e. [raw volume]x[1+growth %]).  For example, to test the impact if traffic volumes were 20% higher.  It is important to note, this is NOT a growth rate to expand volumes through years (e.g., 3% per year).",null,null,null,null,null,null,null,null,null,null,null,null,null,null,null,null,null,null,null,null,null,null,null,null,null,null,null,"\"Growth %\" is applied to the volumes to add growth (i.e. [raw volume]x[1+growth %]).  For example, to test the impact if traffic volumes were 20% higher.  It is important to note, this is NOT a growth rate to expand volumes through years (e.g., 3% per year)."]
["2019-08-03",4,597,0,564,0]
["2019-08-03",5,1223,0,915,0]
["2019-08-03",6,2056,0,1449,0]
["2019-08-03",7,2712,0,2118,0,null,null,null,null,null,"\"Diversion %\" is the percent of volume user expects to divert to alternative route(s) due to closure.",null,null,null,null,null,null,null,null,null,null,null,null,null,null,null,null,null,null,null,null,null,null,null,null,null,null,null,"\"Diversion %\" is the percent of volume user expects to divert to alternative route(s) due to closure."]
["2019-08-03",8,3781,0,2878,0]
["2019-08-03",9,4645,0,3716,0]
["2019-08-03",10,5156,0,4380,0,null,null,null,null,null,"Growth/diversion updates will be reflected on every tab throughout tool.",null,null,null,null,null,null,null,null,null,null,null,null,null,null,null,null,null,null,null,null,null,null,null,null,null,null,null,"Growth/diversion updates will be reflected on every tab throughout tool."]
["2019-08-03",11,5199,0,4677,0]
["2019-08-03",12,5117,0,4956,0,null,null,null,null,null,"Volumes in columns C&E of this tab will always show the raw volumes.  Adjusted volumes will be shown on \"Calculations\" tabs in columns M&P.",null,null,null,null,null,null,null,null,null,null,null,null,null,null,null,null,null,null,null,null,null,null,null,null,null,null,null,"Volumes in columns C&E of this tab will always show the raw volumes.  Adjusted volumes will be shown on \"Calculations\" tabs in columns M&P."]
["2019-08-03",13,4780,0,4902,0]
["2019-08-03",14,4907,0,5023,0]
["2019-08-03",15,4841,0,4964,0]
["2019-08-03",16,{"$f":"MROUND(INDEX($W$3:$AJ$26,MATCH(B66,$V$3:$V$26,0),MATCH(CHOOSE(WEEKDAY(A66),\"Sun\",\"Mon\",\"Tue\",\"Wed\",\"Thu\",\"Fri\",\"Sat\")&C$1,$W$27:$AJ$27,0)),1)","v":4656},0,{"$f":"MROUND(INDEX($W$3:$AJ$26,MATCH(B66,$V$3:$V$26,0),MATCH(CHOOSE(WEEKDAY(A66),\"Sun\",\"Mon\",\"Tue\",\"Wed\",\"Thu\",\"Fri\",\"Sat\")&E$1,$W$27:$AJ$27,0)),1)","v":4670},0]
["2019-08-03",17,4166,0,4255,0]
["2019-08-03",18,3647,0,3635,0]
["2019-08-03",19,3026,0,3360,0]
["2019-08-03",20,2809,0,3137,0]
["2019-08-03",21,2442,0,2810,0]
["2019-08-03",22,1856,0,2286,0]
["2019-08-03",23,1335,0,1674,0]
["2019-08-04",0,931,0,1133,0]
["2019-08-04",1,478,0,615,0]
["2019-08-04",2,352,0,439,0]
["2019-08-04",3,274,0,393,0]
["2019-08-04",4,338,0,445,0]
["2019-08-04",5,602,0,600,0]
["2019-08-04",6,1126,0,921,0]
["2019-08-04",7,1478,0,1515,0]
["2019-08-04",8,2413,0,2185,0]
["2019-08-04",9,3405,0,3153,0]
["2019-08-04",10,4576,0,4175,0]
["2019-08-04",11,4875,0,4780,0]
["2019-08-04",12,4916,0,5208,0]
["2019-08-04",13,4634,0,5264,0]
["2019-08-04",14,4526,0,5510,0]
["2019-08-04",15,4306,0,5553,0]
["2019-08-04",16,4439,0,5647,0]
[{"$f":"A67+1","v":"2019-08-04"},{"$f":"B67","v":17},4208,0,5080,0]
["2019-08-04",18,3779,0,4245,0]
["2019-08-04",19,3103,0,3538,0]
["2019-08-04",20,2633,0,2822,0]
["2019-08-04",21,2045,0,2086,0]
["2019-08-04",22,1351,0,1376,0]
["2019-08-04",23,927,0,894,0]
["2019-08-05",0,{"$f":"MROUND(INDEX($W$3:$AJ$26,MATCH(B98,$V$3:$V$26,0),MATCH(CHOOSE(WEEKDAY(A98),\"Sun\",\"Mon\",\"Tue\",\"Wed\",\"Thu\",\"Fri\",\"Sat\")&C$1,$W$27:$AJ$27,0)),1)","v":658},0,{"$f":"MROUND(INDEX($W$3:$AJ$26,MATCH(B98,$V$3:$V$26,0),MATCH(CHOOSE(WEEKDAY(A98),\"Sun\",\"Mon\",\"Tue\",\"Wed\",\"Thu\",\"Fri\",\"Sat\")&E$1,$W$27:$AJ$27,0)),1)","v":468},0]
["2019-08-05",1,420,0,311,0]
["2019-08-05",2,351,0,292,0]
["2019-08-05",3,535,0,463,0]
["2019-08-05",4,1291,0,1021,0]
["2019-08-05",5,3675,0,2211,0]
["2019-08-05",6,6137,0,3586,0]
["2019-08-05",7,6696,0,4527,0]
["2019-08-05",8,5708,0,3863,0]
["2019-08-05",9,4668,0,3662,0]
["2019-08-05",10,4540,0,3780,0]
["2019-08-05",11,4400,0,4117,0]
["2019-08-05",12,4377,0,4419,0]
["2019-08-05",13,4352,0,4536,0]
["2019-08-05",14,4794,0,5739,0]
["2019-08-05",15,4996,0,6678,0]
["2019-08-05",16,5052,0,6860,0]
["2019-08-05",17,4769,0,6633,0]
["2019-08-05",18,3830,0,4580,0]
["2019-08-05",19,2702,0,3338,0]
["2019-08-05",20,2252,0,2707,0]
["2019-08-05",21,1883,0,2108,0]
["2019-08-05",22,1243,0,1468,0]
["2019-08-05",23,839,0,1007,0]
["2019-08-06",0,565,0,590,0]
["2019-08-06",1,444,0,392,0]
["2019-08-06",2,385,0,357,0]
["2019-08-06",3,561,0,492,0]
["2019-08-06",4,1318,0,1001,0]
["2019-08-06",5,3813,0,2184,0]
["2019-08-06",6,6480,0,3693,0]
["2019-08-06",7,7068,0,4721,0]
["2019-08-06",8,{"$f":"MROUND(INDEX($W$3:$AJ$26,MATCH(B130,$V$3:$V$26,0),MATCH(CHOOSE(WEEKDAY(A130),\"Sun\",\"Mon\",\"Tue\",\"Wed\",\"Thu\",\"Fri\",\"Sat\")&C$1,$W$27:$AJ$27,0)),1)","v":5956},0,{"$f":"MROUND(INDEX($W$3:$AJ$26,MATCH(B130,$V$3:$V$26,0),MATCH(CHOOSE(WEEKDAY(A130),\"Sun\",\"Mon\",\"Tue\",\"Wed\",\"Thu\",\"Fri\",\"Sat\")&E$1,$W$27:$AJ$27,0)),1)","v":4325},0]
["2019-08-06",9,4958,0,3766,0]
["2019-08-06",10,4628,0,3747,0]
["2019-08-06",11,4455,0,4012,0]
["2019-08-06",12,4477,0,4339,0]
["2019-08-06",13,4473,0,4604,0]
["2019-08-06",14,5080,0,5842,0]
["2019-08-06",15,5224,0,6888,0]
["2019-08-06",16,5268,0,7300,0]
["2019-08-06",17,5039,0,6742,0]
["2019-08-06",18,3964,0,4899,0]
["2019-08-06",19,2791,0,3511,0]
["2019-08-06",20,2434,0,2963,0]
["2019-08-06",21,2018,0,2445,0]
["2019-08-06",22,1329,0,1838,0]
["2019-08-06",23,915,0,1301,0]
["2019-08-07",0,619,0,649,0]
["2019-08-07",1,447,0,409,0]
["2019-08-07",2,388,0,394,0]
["2019-08-07",3,547,0,506,0]
["2019-08-07",4,1320,0,949,0]
["2019-08-07",5,3860,0,2185,0]
["2019-08-07",6,6482,0,3620,0]
["2019-08-07",7,6624,0,4706,0]
["2019-08-07",8,5517,0,4317,0]
[{"$f":"A131+1","v":"2019-08-07"},{"$f":"B131","v":9},4949,0,3827,0]
["2019-08-07",10,4850,0,3870,0]
["2019-08-07",11,4617,0,4067,0]
["2019-08-07",12,4611,0,4488,0]
["2019-08-07",13,4489,0,4810,0]
["2019-08-07",14,5046,0,5910,0]
["2019-08-07",15,5271,0,7086,0]
["2019-08-07",16,{"$f":"MROUND(INDEX($W$3:$AJ$26,MATCH(B162,$V$3:$V$26,0),MATCH(CHOOSE(WEEKDAY(A162),\"Sun\",\"Mon\",\"Tue\",\"Wed\",\"Thu\",\"Fri\",\"Sat\")&C$1,$W$27:$AJ$27,0)),1)","v":5108},0,{"$f":"MROUND(INDEX($W$3:$AJ$26,MATCH(B162,$V$3:$V$26,0),MATCH(CHOOSE(WEEKDAY(A162),\"Sun\",\"Mon\",\"Tue\",\"Wed\",\"Thu\",\"Fri\",\"Sat\")&E$1,$W$27:$AJ$27,0)),1)","v":6916},0]
["2019-08-07",17,4962,0,6791,0]
["2019-08-07",18,4131,0,4843,0]
["2019-08-07",19,2988,0,3673,0]
["2019-08-07",20,2598,0,2952,0]
["2019-08-07",21,2128,0,2379,0]
["2019-08-07",22,1414,0,1675,0]
["2019-08-07",23,898,0,1135,0]

{"sheet":"Calculations","index":2,"n_rows":178,"n_cols":46,"rows_kept":178,"cut":false,"hidden":false,"merged":[[5,0,7,6],[0,15,0,29],[0,31,0,45],[0,8,0,9],[0,11,0,12],[4,8,5,8],[4,11,5,11]]}
["Queue Information Calculations",null,null,null,null,null,null,null,{"$f":"\"Factors For \"&I8","v":"Factors For NB"},null,null,{"$f":"\"Factors For \"&L8","v":"Factors For SB"},null,null,null,{"$f":"Q8&\" Queue Calculations\"","v":"NB Queue Calculations"},null,null,null,null,null,null,null,null,null,null,null,null,null,null,null,{"$f":"AG8&\" Queue Calculations\"","v":"SB Queue Calculations"}]
[{"$f":"Inputs!B6&\": \"","v":"Region: "},null,{"$f":"Inputs!C6","v":"Southeast"},null,null,null,null,null,"Growth",0,null,"Growth",0,null,null,"Closure 1","Closure 2","Closure 3","Closure 4",null,null,null,null,null,null,null,null,null,null,null,null,"Closure 1","Closure 2","Closure 3","Closure 4"]
[{"$f":"Inputs!B7&\": \"","v":"County: "},null,{"$f":"Inputs!C7","v":"Milwaukee"},null,null,null,null,null,"Diversion",0,null,"Diversion",0,null,null,{"$f":"RIGHT(Inputs!C18,1)","v":"3"},{"$f":"RIGHT(Inputs!D18,1)","v":""},{"$f":"RIGHT(Inputs!E18,1)","v":""},{"$f":"RIGHT(Inputs!F18,1)","v":""},"Open Lanes",null,null,null,null,null,null,null,null,null,null,null,{"$f":"RIGHT(Inputs!C18,1)","v":"3"},{"$f":"RIGHT(Inputs!D18,1)","v":""},{"$f":"RIGHT(Inputs!E18,1)","v":""},{"$f":"RIGHT(Inputs!F18,1)","v":""},"Open Lanes"]
[{"$f":"Inputs!B8&\": \"","v":"Construction ID: "},null,{"$f":"Inputs!C8","v":"0000-00-00"},null,null,null,null,null,null,null,null,null,null,null,null,{"$f":"IFERROR(LEFT(Inputs!C18,1)-RIGHT(Inputs!C18,1),\"\")","v":1},{"$f":"IFERROR(LEFT(Inputs!D18,1)-RIGHT(Inputs!D18,1),\"\")","v":""},{"$f":"IFERROR(LEFT(Inputs!E18,1)-RIGHT(Inputs!E18,1),\"\")","v":""},{"$f":"IFERROR(LEFT(Inputs!F18,1)-RIGHT(Inputs!F18,1),\"\")","v":""},"Closed Lanes",null,null,null,null,null,null,null,null,null,null,null,{"$f":"IFERROR(LEFT(Inputs!C18,1)-RIGHT(Inputs!C18,1),\"\")","v":1},{"$f":"IFERROR(LEFT(Inputs!D18,1)-RIGHT(Inputs!D18,1),\"\")","v":""},{"$f":"IFERROR(LEFT(Inputs!E18,1)-RIGHT(Inputs!E18,1),\"\")","v":""},{"$f":"IFERROR(LEFT(Inputs!F18,1)-RIGHT(Inputs!F18,1),\"\")","v":""},"Closed Lanes"]
[{"$f":"Inputs!B9&\": \"","v":"Highway: "},null,{"$f":"Inputs!C9","v":"I-894"},null,null,null,null,null,"Diversion\nDelay\nTime (min)",10,null,"Diversion\nDelay\nTime (min)",10]
["This tab contains the caculations for the work zone capacity estimates, queues, and costs.  The growth %, diversion %, and diversion delay time inputs are the only editable cells.  Growth/diversion updates will be reflected on every tab throughout tool."]
[null,null,null,null,null,null,null,null,null,null,null,null,null,null,null,"Free Flow",null,null,null,null,null,null,null,null,null,null,null,null,null,null,null,"Free Flow"]
[null,null,null,null,null,null,null,null,{"$f":"LEFT(Inputs!$C$10,2)","v":"NB"},{"$f":"I8","v":"NB"},null,{"$f":"RIGHT(Inputs!$C$10,2)","v":"SB"},{"$f":"L8","v":"SB"},null,"Average","Capacity or",{"$f":"I8","v":"NB"},{"$f":"Q8","v":"NB"},{"$f":"Q8","v":"NB"},{"$f":"Q8","v":"NB"},{"$f":"Q8","v":"NB"},{"$f":"Q8","v":"NB"},{"$f":"Q8","v":"NB"},null,null,null,null,"Max ",null,null,null,"Capacity or",{"$f":"L8","v":"SB"},{"$f":"AG8","v":"SB"},{"$f":"AG8","v":"SB"},{"$f":"AG8","v":"SB"},{"$f":"AG8","v":"SB"},{"$f":"AG8","v":"SB"},{"$f":"AG8","v":"SB"},null,null,null,null,"Max "]
[null,null,null,null,null,null,null,null,"Vol","HV%",null,"Vol","HV%",null,"PCE Headway","WZ QDR","# Over","Total","Queue","Queue","Queue","Diversion","Total",null,null,"Cell","Cell","Q in ","Start","End",null,"WZ QDR","# Over","Total","Queue","Queue","Queue","Diversion","Total",null,null,"Cell","Cell","Q in ","Start","End"]
["Date","Day #","Day","Hour","T.O.D.","Week Hour","Closure?",null,"PDir","PDir",null,"NDir","NDir",null,"(ft/PCE)","(veh/hr)","Under","Queue","Miles","Minutes","Costs","Costs","Costs",null,"Date & Time","Start","End","Range","Time","Time",null,"(veh/hr)","Under","Queue","Miles","Minutes","Costs","Costs","Costs",null,"Date & Time","Start","End","Range","Time","Time"]
[{"$f":"'Volume Import'!A2","v":"2019-08-01"},{"$f":"WEEKDAY(A11)","v":5},{"$f":"CHOOSE(WEEKDAY(A11),\"Sunday\",\"Monday\",\"Tuesday\",\"Wednesday\",\"Thursday\",\"Friday\",\"Saturday\")","v":"Thursday"},"00:00:00",{"$f":"INDEX(Lists!$M$3:$M$26,MATCH(Calculations!D11,Lists!$L$3:$L$26,0))","v":"NT"},{"$f":"HOUR(D11)+(B11*24-24)","v":96},{"$f":"IF(INDEX(Inputs!$H$86:$H$253,MATCH(F11,Inputs!$D$86:$D$253,0)),\"TRUE 4\",\nIF(INDEX(Inputs!$G$86:$G$253,MATCH(F11,Inputs!$D$86:$D$253,0)),\"TRUE 3\",\nIF(INDEX(Inputs!$F$86:$F$253,MATCH(F11,Inputs!$D$86:$D$253,0)),\"TRUE 2\",\nIF(INDEX(Inputs!$E$86:$E$253,MATCH(F11,Inputs!$D$86:$D$253,0)),\"TRUE 1\",\nFALSE))))","v":false},null,{"$f":"'Volume Import'!C2*'Volume Import'!$H$14*(1+'Volume Import'!$H$15)*(1-'Volume Import'!$H$16)","v":618},{"$f":"IF(AND('Volume Import'!D2=0,'Volume Import'!C2=0),0,\nIF('Volume Import'!D2=0,INDEX('Volume Import'!$K$2:$Q$5,MATCH(E11,'Volume Import'!$R$2:$R$5,0),MATCH(C11,'Volume Import'!$K$1:$Q$1,0)),\n'Volume Import'!D2/'Volume Import'!C2))","v":0.1},null,{"$f":"'Volume Import'!E2*'Volume Import'!$I$14*(1+'Volume Import'!$I$15)*(1-'Volume Import'!$I$16)","v":609},{"$f":"IF('Volume Import'!F2=0,J11,'Volume Import'!F2/'Volume Import'!E2)","v":0.1},null,{"$f":"IF(G11=\"TRUE 1\",IF(E11=\"NT\",Inputs!$C$35,Inputs!$C$34),\nIF(G11=\"TRUE 2\",IF(E11=\"NT\",Inputs!$D$35,Inputs!$D$34),\nIF(G11=\"TRUE 3\",IF(E11=\"NT\",Inputs!$E$35,Inputs!$E$34),\nIF(G11=\"TRUE 4\",IF(E11=\"NT\",Inputs!$F$35,Inputs!$F$34),\n0))))","v":0},{"$f":"IF(G11=\"TRUE 1\",IF(E11=\"NT\",MROUND(Inputs!$C$32*$P$3*(1/(1+J11*(2-1))),1),MROUND(Inputs!$C$30*$P$3*(1/(1+J11*(2-1))),1)),\nIF(G11=\"TRUE 2\",IF(E11=\"NT\",MROUND(Inputs!$D$32*$Q$3*(1/(1+J11*(2-1))),1),MROUND(Inputs!$D$30*$Q$3*(1/(1+J11*(2-1))),1)),\nIF(G11=\"TRUE 3\",IF(E11=\"NT\",MROUND(Inputs!$E$32*$R$3*(1/(1+J11*(2-1))),1),MROUND(Inputs!$E$30*$R$3*(1/(1+J11*(2-1))),1)),\nIF(G11=\"TRUE 4\",IF(E11=\"NT\",MROUND(Inputs!$F$32*$S$3*(1/(1+J11*(2-1))),1),MROUND(Inputs!$F$30*$S$3*(1/(1+J11*(2-1))),1)),\nMROUND(Inputs!$C$15*(1/(1+J11*(2-1)))*($P$3+$P$4),1)))))","v":8727},{"$f":"I11-P11","v":-8109},{"$f":"IF(Q11<0,0,Q11)","v":0},{"$f":"(R11/(1/(1+J11*(2-1))))*O11/LEFT(Inputs!$C$18,1)/5280","v":0},{"$f":"R11/P11*60","v":0},{"$f":"(T11/60)*((Inputs!$C$13*Calculations!R11*(1-Calculations!J11))+(Inputs!$C$14*Calculations!R11*Calculations!J11))","v":0},{"$f":"IF(R11>0,($J$5/60)*(((I11*$J$3/(1-$J$3))*(1-J11)*Inputs!$C$13)+((I11*$J$3/(1-$J$3))*J11*Inputs!$C$14)),0)","v":0},{"$f":"U11+V11","v":0},null,{"$f":"A11","v":"2019-08-01"},{"$f":"IF(AND(AC11=\"\",AD11=\"\"),\"\",IF(ISNUMBER(AC11),SUBSTITUTE(ADDRESS(1,COLUMN($S$10),4),\"1\",\"\")&ROW(Z11),\"\"))","v":""},{"$f":"IF(ISNUMBER(AD11),SUBSTITUTE(ADDRESS(1,COLUMN($S$10),4),\"1\",\"\")&ROW(AA11),\"\")","v":""},{"$f":"IF(AND(Z11<>\"\",AA11<>\"\"),MAX(INDIRECT(Z11):INDIRECT(AA11)),\"\")","v":""},{"$f":"IF(S11>0,$Y11,\"\")","v":""},{"$f":"IF(AND(S11>0,S12=0),$Y11,IF(AND(S11>0,S12>0),\"Q\",\"\"))","v":""},null,{"$f":"IF(G11=\"TRUE 1\",IF(E11=\"NT\",MROUND(Inputs!$C$32*$AF$3*(1/(1+M11*(2-1))),1),MROUND(Inputs!$C$30*$AF$3*(1/(1+M11*(2-1))),1)),\nIF(G11=\"TRUE 2\",IF(E11=\"NT\",MROUND(Inputs!$D$32*$AG$3*(1/(1+M11*(2-1))),1),MROUND(Inputs!$D$30*$AG$3*(1/(1+M11*(2-1))),1)),\nIF(G11=\"TRUE 3\",IF(E11=\"NT\",MROUND(Inputs!$E$32*$AH$3*(1/(1+M11*(2-1))),1),MROUND(Inputs!$E$30*$AH$3*(1/(1+M11*(2-1))),1)),\nIF(G11=\"TRUE 4\",IF(E11=\"NT\",MROUND(Inputs!$F$32*$AI$3*(1/(1+M11*(2-1))),1),MROUND(Inputs!$F$30*$AI$3*(1/(1+M11*(2-1))),1)),\nMROUND(Inputs!$C$15*(1/(1+M11*(2-1)))*($AF$3+$AF$4),1)))))","v":8727},{"$f":"L11-AF11","v":-8118},{"$f":"IF(AG11<0,0,AG11)","v":0},{"$f":"(AH11/(1/(1+M11*(2-1))))*O11/LEFT(Inputs!$C$18,1)/5280","v":0},{"$f":"AH11/AF11*60","v":0},{"$f":"(AJ11/60)*((Inputs!$C$13*Calculations!AH11*(1-Calculations!M11))+(Inputs!$C$14*Calculations!AH11*Calculations!M11))","v":0},{"$f":"IF(AH11>0,($M$5/60)*(((L11*$M$3/(1-$M$3))*(1-M11)*Inputs!$C$13)+((L11*$M$3/(1-$M$3))*M11*Inputs!$C$14)),0)","v":0},{"$f":"AK11+AL11","v":0},null,{"$f":"A11","v":"2019-08-01"},{"$f":"IF(AND(AS11=\"\",AT11=\"\"),\"\",IF(ISNUMBER(AS11),SUBSTITUTE(ADDRESS(1,COLUMN($AI$10),4),\"1\",\"\")&ROW(AP11),\"\"))","v":""},{"$f":"IF(ISNUMBER(AT11),SUBSTITUTE(ADDRESS(1,COLUMN($AI$10),4),\"1\",\"\")&ROW(AQ11),\"\")","v":""},{"$f":"IF(AND(AP11<>\"\",AQ11<>\"\"),MAX(INDIRECT(AP11):INDIRECT(AQ11)),\"\")","v":""},{"$f":"IF(AI11>0,$Y11,\"\")","v":""},{"$f":"IF(AND(AI11>0,AI12=0),$Y11,IF(AND(AI11>0,AI12>0),\"Q\",\"\"))","v":""}]
[{"$f":"A$11","v":"2019-08-01"},{"$f":"WEEKDAY(A12)","v":5},{"$f":"CHOOSE(WEEKDAY(A12),\"Sunday\",\"Monday\",\"Tuesday\",\"Wednesday\",\"Thursday\",\"Friday\",\"Saturday\")","v":"Thursday"},"01:00:00",{"$f":"INDEX(Lists!$M$3:$M$26,MATCH(Calculations!D12,Lists!$L$3:$L$26,0))","v":"NT"},{"$f":"HOUR(D12)+(B12*24-24)","v":97},{"$f":"IF(INDEX(Inputs!$H$86:$H$253,MATCH(F12,Inputs!$D$86:$D$253,0)),\"TRUE 4\",\nIF(INDEX(Inputs!$G$86:$G$253,MATCH(F12,Inputs!$D$86:$D$253,0)),\"TRUE 3\",\nIF(INDEX(Inputs!$F$86:$F$253,MATCH(F12,Inputs!$D$86:$D$253,0)),\"TRUE 2\",\nIF(INDEX(Inputs!$E$86:$E$253,MATCH(F12,Inputs!$D$86:$D$253,0)),\"TRUE 1\",\nFALSE))))","v":false},null,{"$f":"'Volume Import'!C3*'Volume Import'!$H$14*(1+'Volume Import'!$H$15)*(1-'Volume Import'!$H$16)","v":488},{"$f":"IF(AND('Volume Import'!D3=0,'Volume Import'!C3=0),0,\nIF('Volume Import'!D3=0,INDEX('Volume Import'!$K$2:$Q$5,MATCH(E12,'Volume Import'!$R$2:$R$5,0),MATCH(C12,'Volume Import'!$K$1:$Q$1,0)),\n'Volume Import'!D3/'Volume Import'!C3))","v":0.1},null,{"$f":"'Volume Import'!E3*'Volume Import'!$I$14*(1+'Volume Import'!$I$15)*(1-'Volume Import'!$I$16)","v":420},{"$f":"IF('Volume Import'!F3=0,J12,'Volume Import'!F3/'Volume Import'!E3)","v":0.1},null,{"$f":"IF(G12=\"TRUE 1\",IF(E12=\"NT\",Inputs!$C$35,Inputs!$C$34),\nIF(G12=\"TRUE 2\",IF(E12=\"NT\",Inputs!$D$35,Inputs!$D$34),\nIF(G12=\"TRUE 3\",IF(E12=\"NT\",Inputs!$E$35,Inputs!$E$34),\nIF(G12=\"TRUE 4\",IF(E12=\"NT\",Inputs!$F$35,Inputs!$F$34),\nO11))))","v":0},{"$f":"IF(G12=\"TRUE 1\",IF(E12=\"NT\",MROUND(Inputs!$C$32*$P$3*(1/(1+J12*(2-1))),1),MROUND(Inputs!$C$30*$P$3*(1/(1+J12*(2-1))),1)),\nIF(G12=\"TRUE 2\",IF(E12=\"NT\",MROUND(Inputs!$D$32*$Q$3*(1/(1+J12*(2-1))),1),MROUND(Inputs!$D$30*$Q$3*(1/(1+J12*(2-1))),1)),\nIF(G12=\"TRUE 3\",IF(E12=\"NT\",MROUND(Inputs!$E$32*$R$3*(1/(1+J12*(2-1))),1),MROUND(Inputs!$E$30*$R$3*(1/(1+J12*(2-1))),1)),\nIF(G12=\"TRUE 4\",IF(E12=\"NT\",MROUND(Inputs!$F$32*$S$3*(1/(1+J12*(2-1))),1),MROUND(Inputs!$F$30*$S$3*(1/(1+J12*(2-1))),1)),\nMROUND(Inputs!$C$15*(1/(1+J12*(2-1)))*($P$3+$P$4),1)))))","v":8727},{"$f":"I12-P12","v":-8239},{"$f":"IF(R11+Q12<0,0,R11+Q12)","v":0},{"$f":"(R12/(1/(1+J12*(2-1))))*O12/LEFT(Inputs!$C$18,1)/5280","v":0},{"$f":"R12/P12*60","v":0},{"$f":"(T12/60)*((Inputs!$C$13*Calculations!R12*(1-Calculations!J12))+(Inputs!$C$14*Calculations!R12*Calculations!J12))","v":0},{"$f":"IF(R12>0,($J$5/60)*(((I12*$J$3/(1-$J$3))*(1-J12)*Inputs!$C$13)+((I12*$J$3/(1-$J$3))*J12*Inputs!$C$14)),0)","v":0},{"$f":"U12+V12","v":0},null,{"$f":"Y11+1/24","v":"2019-08-01T01:00:00"},{"$f":"IF(AND(AC12=\"\",AD12=\"\"),\"\",IF(ISNUMBER(AC12),SUBSTITUTE(ADDRESS(1,COLUMN($S$10),4),\"1\",\"\")&ROW(Z12),Z11))","v":""},{"$f":"IF(ISNUMBER(AD12),SUBSTITUTE(ADDRESS(1,COLUMN($S$10),4),\"1\",\"\")&ROW(AA12),\"\")","v":""},{"$f":"IF(AND(Z12<>\"\",AA12<>\"\"),MAX(INDIRECT(Z12):INDIRECT(AA12)),\"\")","v":""},{"$f":"IF(AND(S12>0,S11=0),$Y12,IF(AND(S12>0,S11>0),\"Q\",\"\"))","v":""},"",null,{"$f":"IF(G12=\"TRUE 1\",IF(E12=\"NT\",MROUND(Inputs!$C$32*$AF$3*(1/(1+M12*(2-1))),1),MROUND(Inputs!$C$30*$AF$3*(1/(1+M12*(2-1))),1)),\nIF(G12=\"TRUE 2\",IF(E12=\"NT\",MROUND(Inputs!$D$32*$AG$3*(1/(1+M12*(2-1))),1),MROUND(Inputs!$D$30*$AG$3*(1/(1+M12*(2-1))),1)),\nIF(G12=\"TRUE 3\",IF(E12=\"NT\",MROUND(Inputs!$E$32*$AH$3*(1/(1+M12*(2-1))),1),MROUND(Inputs!$E$30*$AH$3*(1/(1+M12*(2-1))),1)),\nIF(G12=\"TRUE 4\",IF(E12=\"NT\",MROUND(Inputs!$F$32*$AI$3*(1/(1+M12*(2-1))),1),MROUND(Inputs!$F$30*$AI$3*(1/(1+M12*(2-1))),1)),\nMROUND(Inputs!$C$15*(1/(1+M12*(2-1)))*($AF$3+$AF$4),1)))))","v":8727},{"$f":"L12-AF12","v":-8307},{"$f":"IF(AH11+AG12<0,0,AH11+AG12)","v":0},{"$f":"(AH12/(1/(1+M12*(2-1))))*O12/LEFT(Inputs!$C$18,1)/5280","v":0},{"$f":"AH12/AF12*60","v":0},{"$f":"(AJ12/60)*((Inputs!$C$13*Calculations!AH12*(1-Calculations!M12))+(Inputs!$C$14*Calculations!AH12*Calculations!M12))","v":0},{"$f":"IF(AH12>0,($M$5/60)*(((L12*$M$3/(1-$M$3))*(1-M12)*Inputs!$C$13)+((L12*$M$3/(1-$M$3))*M12*Inputs!$C$14)),0)","v":0},{"$f":"AK12+AL12","v":0},null,{"$f":"AO11+1/24","v":"2019-08-01T01:00:00"},{"$f":"IF(AND(AS12=\"\",AT12=\"\"),\"\",IF(ISNUMBER(AS12),SUBSTITUTE(ADDRESS(1,COLUMN($AI$10),4),\"1\",\"\")&ROW(AP12),AP11))","v":""},{"$f":"IF(ISNUMBER(AT12),SUBSTITUTE(ADDRESS(1,COLUMN($AI$10),4),\"1\",\"\")&ROW(AQ12),\"\")","v":""},{"$f":"IF(AND(AP12<>\"\",AQ12<>\"\"),MAX(INDIRECT(AP12):INDIRECT(AQ12)),\"\")","v":""},{"$f":"IF(AND(AI12>0,AI11=0),$Y12,IF(AND(AI12>0,AI11>0),\"Q\",\"\"))","v":""},{"$f":"IF(AND(AI12>0,AI13=0),$Y12,IF(AND(AI12>0,AI13>0),\"Q\",\"\"))","v":""}]
[{"$f":"A$11","v":"2019-08-01"},{"$f":"WEEKDAY(A13)","v":5},"Thursday","02:00:00",{"$f":"INDEX(Lists!$M$3:$M$26,MATCH(Calculations!D13,Lists!$L$3:$L$26,0))","v":"NT"},98,{"$f":"IF(INDEX(Inputs!$H$86:$H$253,MATCH(F13,Inputs!$D$86:$D$253,0)),\"TRUE 4\",\nIF(INDEX(Inputs!$G$86:$G$253,MATCH(F13,Inputs!$D$86:$D$253,0)),\"TRUE 3\",\nIF(INDEX(Inputs!$F$86:$F$253,MATCH(F13,Inputs!$D$86:$D$253,0)),\"TRUE 2\",\nIF(INDEX(Inputs!$E$86:$E$253,MATCH(F13,Inputs!$D$86:$D$253,0)),\"TRUE 1\",\nFALSE))))","v":false},null,{"$f":"'Volume Import'!C4*'Volume Import'!$H$14*(1+'Volume Import'!$H$15)*(1-'Volume Import'!$H$16)","v":412},{"$f":"IF(AND('Volume Import'!D4=0,'Volume Import'!C4=0),0,\nIF('Volume Import'!D4=0,INDEX('Volume Import'!$K$2:$Q$5,MATCH(E13,'Volume Import'!$R$2:$R$5,0),MATCH(C13,'Volume Import'!$K$1:$Q$1,0)),\n'Volume Import'!D4/'Volume Import'!C4))","v":0.1},null,{"$f":"'Volume Import'!E4*'Volume Import'!$I$14*(1+'Volume Import'!$I$15)*(1-'Volume Import'!$I$16)","v":402},{"$f":"IF('Volume Import'!F4=0,J13,'Volume Import'!F4/'Volume Import'!E4)","v":0.1},null,{"$f":"IF(G13=\"TRUE 1\",IF(E13=\"NT\",Inputs!$C$35,Inputs!$C$34),\nIF(G13=\"TRUE 2\",IF(E13=\"NT\",Inputs!$D$35,Inputs!$D$34),\nIF(G13=\"TRUE 3\",IF(E13=\"NT\",Inputs!$E$35,Inputs!$E$34),\nIF(G13=\"TRUE 4\",IF(E13=\"NT\",Inputs!$F$35,Inputs!$F$34),\nO12))))","v":0},{"$f":"IF(G13=\"TRUE 1\",IF(E13=\"NT\",MROUND(Inputs!$C$32*$P$3*(1/(1+J13*(2-1))),1),MROUND(Inputs!$C$30*$P$3*(1/(1+J13*(2-1))),1)),\nIF(G13=\"TRUE 2\",IF(E13=\"NT\",MROUND(Inputs!$D$32*$Q$3*(1/(1+J13*(2-1))),1),MROUND(Inputs!$D$30*$Q$3*(1/(1+J13*(2-1))),1)),\nIF(G13=\"TRUE 3\",IF(E13=\"NT\",MROUND(Inputs!$E$32*$R$3*(1/(1+J13*(2-1))),1),MROUND(Inputs!$E$30*$R$3*(1/(1+J13*(2-1))),1)),\nIF(G13=\"TRUE 4\",IF(E13=\"NT\",MROUND(Inputs!$F$32*$S$3*(1/(1+J13*(2-1))),1),MROUND(Inputs!$F$30*$S$3*(1/(1+J13*(2-1))),1)),\nMROUND(Inputs!$C$15*(1/(1+J13*(2-1)))*($P$3+$P$4),1)))))","v":8727},-8315,{"$f":"IF(R12+Q13<0,0,R12+Q13)","v":0},{"$f":"(R13/(1/(1+J13*(2-1))))*O13/LEFT(Inputs!$C$18,1)/5280","v":0},0,{"$f":"(T13/60)*((Inputs!$C$13*Calculations!R13*(1-Calculations!J13))+(Inputs!$C$14*Calculations!R13*Calculations!J13))","v":0},{"$f":"IF(R13>0,($J$5/60)*(((I13*$J$3/(1-$J$3))*(1-J13)*Inputs!$C$13)+((I13*$J$3/(1-$J$3))*J13*Inputs!$C$14)),0)","v":0},0,null,{"$f":"Y12+1/24","v":"2019-08-01T02:00:00"},"","",{"$f":"IF(AND(Z13<>\"\",AA13<>\"\"),MAX(INDIRECT(Z13):INDIRECT(AA13)),\"\")","v":""},"","",null,{"$f":"IF(G13=\"TRUE 1\",IF(E13=\"NT\",MROUND(Inputs!$C$32*$AF$3*(1/(1+M13*(2-1))),1),MROUND(Inputs!$C$30*$AF$3*(1/(1+M13*(2-1))),1)),\nIF(G13=\"TRUE 2\",IF(E13=\"NT\",MROUND(Inputs!$D$32*$AG$3*(1/(1+M13*(2-1))),1),MROUND(Inputs!$D$30*$AG$3*(1/(1+M13*(2-1))),1)),\nIF(G13=\"TRUE 3\",IF(E13=\"NT\",MROUND(Inputs!$E$32*$AH$3*(1/(1+M13*(2-1))),1),MROUND(Inputs!$E$30*$AH$3*(1/(1+M13*(2-1))),1)),\nIF(G13=\"TRUE 4\",IF(E13=\"NT\",MROUND(Inputs!$F$32*$AI$3*(1/(1+M13*(2-1))),1),MROUND(Inputs!$F$30*$AI$3*(1/(1+M13*(2-1))),1)),\nMROUND(Inputs!$C$15*(1/(1+M13*(2-1)))*($AF$3+$AF$4),1)))))","v":8727},-8325,{"$f":"IF(AH12+AG13<0,0,AH12+AG13)","v":0},{"$f":"(AH13/(1/(1+M13*(2-1))))*O13/LEFT(Inputs!$C$18,1)/5280","v":0},0,{"$f":"(AJ13/60)*((Inputs!$C$13*Calculations!AH13*(1-Calculations!M13))+(Inputs!$C$14*Calculations!AH13*Calculations!M13))","v":0},{"$f":"IF(AH13>0,($M$5/60)*(((L13*$M$3/(1-$M$3))*(1-M13)*Inputs!$C$13)+((L13*$M$3/(1-$M$3))*M13*Inputs!$C$14)),0)","v":0},0,null,{"$f":"AO12+1/24","v":"2019-08-01T02:00:00"},{"$f":"IF(AND(AS13=\"\",AT13=\"\"),\"\",IF(ISNUMBER(AS13),SUBSTITUTE(ADDRESS(1,COLUMN($AI$10),4),\"1\",\"\")&ROW(AP13),AP12))","v":""},"",{"$f":"IF(AND(AP13<>\"\",AQ13<>\"\"),MAX(INDIRECT(AP13):INDIRECT(AQ13)),\"\")","v":""},"",""]
["2019-08-01",5,"Thursday","03:00:00",{"$f":"INDEX(Lists!$M$3:$M$26,MATCH(Calculations!D14,Lists!$L$3:$L$26,0))","v":"NT"},99,{"$f":"IF(INDEX(Inputs!$H$86:$H$253,MATCH(F14,Inputs!$D$86:$D$253,0)),\"TRUE 4\",\nIF(INDEX(Inputs!$G$86:$G$253,MATCH(F14,Inputs!$D$86:$D$253,0)),\"TRUE 3\",\nIF(INDEX(Inputs!$F$86:$F$253,MATCH(F14,Inputs!$D$86:$D$253,0)),\"TRUE 2\",\nIF(INDEX(Inputs!$E$86:$E$253,MATCH(F14,Inputs!$D$86:$D$253,0)),\"TRUE 1\",\nFALSE))))","v":false},null,{"$f":"'Volume Import'!C5*'Volume Import'!$H$14*(1+'Volume Import'!$H$15)*(1-'Volume Import'!$H$16)","v":535},{"$f":"IF(AND('Volume Import'!D5=0,'Volume Import'!C5=0),0,\nIF('Volume Import'!D5=0,INDEX('Volume Import'!$K$2:$Q$5,MATCH(E14,'Volume Import'!$R$2:$R$5,0),MATCH(C14,'Volume Import'!$K$1:$Q$1,0)),\n'Volume Import'!D5/'Volume Import'!C5))","v":0.1},null,{"$f":"'Volume Import'!E5*'Volume Import'!$I$14*(1+'Volume Import'!$I$15)*(1-'Volume Import'!$I$16)","v":534},{"$f":"IF('Volume Import'!F5=0,J14,'Volume Import'!F5/'Volume Import'!E5)","v":0.1},null,{"$f":"IF(G14=\"TRUE 1\",IF(E14=\"NT\",Inputs!$C$35,Inputs!$C$34),\nIF(G14=\"TRUE 2\",IF(E14=\"NT\",Inputs!$D$35,Inputs!$D$34),\nIF(G14=\"TRUE 3\",IF(E14=\"NT\",Inputs!$E$35,Inputs!$E$34),\nIF(G14=\"TRUE 4\",IF(E14=\"NT\",Inputs!$F$35,Inputs!$F$34),\nO13))))","v":0},{"$f":"IF(G14=\"TRUE 1\",IF(E14=\"NT\",MROUND(Inputs!$C$32*$P$3*(1/(1+J14*(2-1))),1),MROUND(Inputs!$C$30*$P$3*(1/(1+J14*(2-1))),1)),\nIF(G14=\"TRUE 2\",IF(E14=\"NT\",MROUND(Inputs!$D$32*$Q$3*(1/(1+J14*(2-1))),1),MROUND(Inputs!$D$30*$Q$3*(1/(1+J14*(2-1))),1)),\nIF(G14=\"TRUE 3\",IF(E14=\"NT\",MROUND(Inputs!$E$32*$R$3*(1/(1+J14*(2-1))),1),MROUND(Inputs!$E$30*$R$3*(1/(1+J14*(2-1))),1)),\nIF(G14=\"TRUE 4\",IF(E14=\"NT\",MROUND(Inputs!$F$32*$S$3*(1/(1+J14*(2-1))),1),MROUND(Inputs!$F$30*$S$3*(1/(1+J14*(2-1))),1)),\nMROUND(Inputs!$C$15*(1/(1+J14*(2-1)))*($P$3+$P$4),1)))))","v":8727},-8192,0,{"$f":"(R14/(1/(1+J14*(2-1))))*O14/LEFT(Inputs!$C$18,1)/5280","v":0},0,{"$f":"(T14/60)*((Inputs!$C$13*Calculations!R14*(1-Calculations!J14))+(Inputs!$C$14*Calculations!R14*Calculations!J14))","v":0},{"$f":"IF(R14>0,($J$5/60)*(((I14*$J$3/(1-$J$3))*(1-J14)*Inputs!$C$13)+((I14*$J$3/(1-$J$3))*J14*Inputs!$C$14)),0)","v":0},0,null,"2019-08-01T03:00:00","","",{"$f":"IF(AND(Z14<>\"\",AA14<>\"\"),MAX(INDIRECT(Z14):INDIRECT(AA14)),\"\")","v":""},"","",null,{"$f":"IF(G14=\"TRUE 1\",IF(E14=\"NT\",MROUND(Inputs!$C$32*$AF$3*(1/(1+M14*(2-1))),1),MROUND(Inputs!$C$30*$AF$3*(1/(1+M14*(2-1))),1)),\nIF(G14=\"TRUE 2\",IF(E14=\"NT\",MROUND(Inputs!$D$32*$AG$3*(1/(1+M14*(2-1))),1),MROUND(Inputs!$D$30*$AG$3*(1/(1+M14*(2-1))),1)),\nIF(G14=\"TRUE 3\",IF(E14=\"NT\",MROUND(Inputs!$E$32*$AH$3*(1/(1+M14*(2-1))),1),MROUND(Inputs!$E$30*$AH$3*(1/(1+M14*(2-1))),1)),\nIF(G14=\"TRUE 4\",IF(E14=\"NT\",MROUND(Inputs!$F$32*$AI$3*(1/(1+M14*(2-1))),1),MROUND(Inputs!$F$30*$AI$3*(1/(1+M14*(2-1))),1)),\nMROUND(Inputs!$C$15*(1/(1+M14*(2-1)))*($AF$3+$AF$4),1)))))","v":8727},-8193,{"$f":"IF(AH13+AG14<0,0,AH13+AG14)","v":0},{"$f":"(AH14/(1/(1+M14*(2-1))))*O14/LEFT(Inputs!$C$18,1)/5280","v":0},0,{"$f":"(AJ14/60)*((Inputs!$C$13*Calculations!AH14*(1-Calculations!M14))+(Inputs!$C$14*Calculations!AH14*Calculations!M14))","v":0},{"$f":"IF(AH14>0,($M$5/60)*(((L14*$M$3/(1-$M$3))*(1-M14)*Inputs!$C$13)+((L14*$M$3/(1-$M$3))*M14*Inputs!$C$14)),0)","v":0},0,null,"2019-08-01T03:00:00","","",{"$f":"IF(AND(AP14<>\"\",AQ14<>\"\"),MAX(INDIRECT(AP14):INDIRECT(AQ14)),\"\")","v":""},"",""]
["2019-08-01",5,"Thursday","04:00:00",{"$f":"INDEX(Lists!$M$3:$M$26,MATCH(Calculations!D15,Lists!$L$3:$L$26,0))","v":"NT"},100,{"$f":"IF(INDEX(Inputs!$H$86:$H$253,MATCH(F15,Inputs!$D$86:$D$253,0)),\"TRUE 4\",\nIF(INDEX(Inputs!$G$86:$G$253,MATCH(F15,Inputs!$D$86:$D$253,0)),\"TRUE 3\",\nIF(INDEX(Inputs!$F$86:$F$253,MATCH(F15,Inputs!$D$86:$D$253,0)),\"TRUE 2\",\nIF(INDEX(Inputs!$E$86:$E$253,MATCH(F15,Inputs!$D$86:$D$253,0)),\"TRUE 1\",\nFALSE))))","v":false},null,{"$f":"'Volume Import'!C6*'Volume Import'!$H$14*(1+'Volume Import'!$H$15)*(1-'Volume Import'!$H$16)","v":1343},{"$f":"IF(AND('Volume Import'!D6=0,'Volume Import'!C6=0),0,\nIF('Volume Import'!D6=0,INDEX('Volume Import'!$K$2:$Q$5,MATCH(E15,'Volume Import'!$R$2:$R$5,0),MATCH(C15,'Volume Import'!$K$1:$Q$1,0)),\n'Volume Import'!D6/'Volume Import'!C6))","v":0.1},null,{"$f":"'Volume Import'!E6*'Volume Import'!$I$14*(1+'Volume Import'!$I$15)*(1-'Volume Import'!$I$16)","v":964},{"$f":"IF('Volume Import'!F6=0,J15,'Volume Import'!F6/'Volume Import'!E6)","v":0.1},null,{"$f":"IF(G15=\"TRUE 1\",IF(E15=\"NT\",Inputs!$C$35,Inputs!$C$34),\nIF(G15=\"TRUE 2\",IF(E15=\"NT\",Inputs!$D$35,Inputs!$D$34),\nIF(G15=\"TRUE 3\",IF(E15=\"NT\",Inputs!$E$35,Inputs!$E$34),\nIF(G15=\"TRUE 4\",IF(E15=\"NT\",Inputs!$F$35,Inputs!$F$34),\nO14))))","v":0},{"$f":"IF(G15=\"TRUE 1\",IF(E15=\"NT\",MROUND(Inputs!$C$32*$P$3*(1/(1+J15*(2-1))),1),MROUND(Inputs!$C$30*$P$3*(1/(1+J15*(2-1))),1)),\nIF(G15=\"TRUE 2\",IF(E15=\"NT\",MROUND(Inputs!$D$32*$Q$3*(1/(1+J15*(2-1))),1),MROUND(Inputs!$D$30*$Q$3*(1/(1+J15*(2-1))),1)),\nIF(G15=\"TRUE 3\",IF(E15=\"NT\",MROUND(Inputs!$E$32*$R$3*(1/(1+J15*(2-1))),1),MROUND(Inputs!$E$30*$R$3*(1/(1+J15*(2-1))),1)),\nIF(G15=\"TRUE 4\",IF(E15=\"NT\",MROUND(Inputs!$F$32*$S$3*(1/(1+J15*(2-1))),1),MROUND(Inputs!$F$30*$S$3*(1/(1+J15*(2-1))),1)),\nMROUND(Inputs!$C$15*(1/(1+J15*(2-1)))*($P$3+$P$4),1)))))","v":8727},-7384,0,{"$f":"(R15/(1/(1+J15*(2-1))))*O15/LEFT(Inputs!$C$18,1)/5280","v":0},0,{"$f":"(T15/60)*((Inputs!$C$13*Calculations!R15*(1-Calculations!J15))+(Inputs!$C$14*Calculations!R15*Calculations!J15))","v":0},{"$f":"IF(R15>0,($J$5/60)*(((I15*$J$3/(1-$J$3))*(1-J15)*Inputs!$C$13)+((I15*$J$3/(1-$J$3))*J15*Inputs!$C$14)),0)","v":0},0,null,"2019-08-01T04:00:00","","",{"$f":"IF(AND(Z15<>\"\",AA15<>\"\"),MAX(INDIRECT(Z15):INDIRECT(AA15)),\"\")","v":""},"","",null,{"$f":"IF(G15=\"TRUE 1\",IF(E15=\"NT\",MROUND(Inputs!$C$32*$AF$3*(1/(1+M15*(2-1))),1),MROUND(Inputs!$C$30*$AF$3*(1/(1+M15*(2-1))),1)),\nIF(G15=\"TRUE 2\",IF(E15=\"NT\",MROUND(Inputs!$D$32*$AG$3*(1/(1+M15*(2-1))),1),MROUND(Inputs!$D$30*$AG$3*(1/(1+M15*(2-1))),1)),\nIF(G15=\"TRUE 3\",IF(E15=\"NT\",MROUND(Inputs!$E$32*$AH$3*(1/(1+M15*(2-1))),1),MROUND(Inputs!$E$30*$AH$3*(1/(1+M15*(2-1))),1)),\nIF(G15=\"TRUE 4\",IF(E15=\"NT\",MROUND(Inputs!$F$32*$AI$3*(1/(1+M15*(2-1))),1),MROUND(Inputs!$F$30*$AI$3*(1/(1+M15*(2-1))),1)),\nMROUND(Inputs!$C$15*(1/(1+M15*(2-1)))*($AF$3+$AF$4),1)))))","v":8727},-7763,{"$f":"IF(AH14+AG15<0,0,AH14+AG15)","v":0},{"$f":"(AH15/(1/(1+M15*(2-1))))*O15/LEFT(Inputs!$C$18,1)/5280","v":0},0,{"$f":"(AJ15/60)*((Inputs!$C$13*Calculations!AH15*(1-Calculations!M15))+(Inputs!$C$14*Calculations!AH15*Calculations!M15))","v":0},{"$f":"IF(AH15>0,($M$5/60)*(((L15*$M$3/(1-$M$3))*(1-M15)*Inputs!$C$13)+((L15*$M$3/(1-$M$3))*M15*Inputs!$C$14)),0)","v":0},0,null,"2019-08-01T04:00:00","","",{"$f":"IF(AND(AP15<>\"\",AQ15<>\"\"),MAX(INDIRECT(AP15):INDIRECT(AQ15)),\"\")","v":""},"",""]
["2019-08-01",5,"Thursday","05:00:00",{"$f":"INDEX(Lists!$M$3:$M$26,MATCH(Calculations!D16,Lists!$L$3:$L$26,0))","v":"NT"},101,{"$f":"IF(INDEX(Inputs!$H$86:$H$253,MATCH(F16,Inputs!$D$86:$D$253,0)),\"TRUE 4\",\nIF(INDEX(Inputs!$G$86:$G$253,MATCH(F16,Inputs!$D$86:$D$253,0)),\"TRUE 3\",\nIF(INDEX(Inputs!$F$86:$F$253,MATCH(F16,Inputs!$D$86:$D$253,0)),\"TRUE 2\",\nIF(INDEX(Inputs!$E$86:$E$253,MATCH(F16,Inputs!$D$86:$D$253,0)),\"TRUE 1\",\nFALSE))))","v":false},null,{"$f":"'Volume Import'!C7*'Volume Import'!$H$14*(1+'Volume Import'!$H$15)*(1-'Volume Import'!$H$16)","v":3771},{"$f":"IF(AND('Volume Import'!D7=0,'Volume Import'!C7=0),0,\nIF('Volume Import'!D7=0,INDEX('Volume Import'!$K$2:$Q$5,MATCH(E16,'Volume Import'!$R$2:$R$5,0),MATCH(C16,'Volume Import'!$K$1:$Q$1,0)),\n'Volume Import'!D7/'Volume Import'!C7))","v":0.1},null,{"$f":"'Volume Import'!E7*'Volume Import'!$I$14*(1+'Volume Import'!$I$15)*(1-'Volume Import'!$I$16)","v":2170},{"$f":"IF('Volume Import'!F7=0,J16,'Volume Import'!F7/'Volume Import'!E7)","v":0.1},null,{"$f":"IF(G16=\"TRUE 1\",IF(E16=\"NT\",Inputs!$C$35,Inputs!$C$34),\nIF(G16=\"TRUE 2\",IF(E16=\"NT\",Inputs!$D$35,Inputs!$D$34),\nIF(G16=\"TRUE 3\",IF(E16=\"NT\",Inputs!$E$35,Inputs!$E$34),\nIF(G16=\"TRUE 4\",IF(E16=\"NT\",Inputs!$F$35,Inputs!$F$34),\nO15))))","v":0},{"$f":"IF(G16=\"TRUE 1\",IF(E16=\"NT\",MROUND(Inputs!$C$32*$P$3*(1/(1+J16*(2-1))),1),MROUND(Inputs!$C$30*$P$3*(1/(1+J16*(2-1))),1)),\nIF(G16=\"TRUE 2\",IF(E16=\"NT\",MROUND(Inputs!$D$32*$Q$3*(1/(1+J16*(2-1))),1),MROUND(Inputs!$D$30*$Q$3*(1/(1+J16*(2-1))),1)),\nIF(G16=\"TRUE 3\",IF(E16=\"NT\",MROUND(Inputs!$E$32*$R$3*(1/(1+J16*(2-1))),1),MROUND(Inputs!$E$30*$R$3*(1/(1+J16*(2-1))),1)),\nIF(G16=\"TRUE 4\",IF(E16=\"NT\",MROUND(Inputs!$F$32*$S$3*(1/(1+J16*(2-1))),1),MROUND(Inputs!$F$30*$S$3*(1/(1+J16*(2-1))),1)),\nMROUND(Inputs!$C$15*(1/(1+J16*(2-1)))*($P$3+$P$4),1)))))","v":8727},-4956,0,{"$f":"(R16/(1/(1+J16*(2-1))))*O16/LEFT(Inputs!$C$18,1)/5280","v":0},0,{"$f":"(T16/60)*((Inputs!$C$13*Calculations!R16*(1-Calculations!J16))+(Inputs!$C$14*Calculations!R16*Calculations!J16))","v":0},{"$f":"IF(R16>0,($J$5/60)*(((I16*$J$3/(1-$J$3))*(1-J16)*Inputs!$C$13)+((I16*$J$3/(1-$J$3))*J16*Inputs!$C$14)),0)","v":0},0,null,"2019-08-01T05:00:00","","",{"$f":"IF(AND(Z16<>\"\",AA16<>\"\"),MAX(INDIRECT(Z16):INDIRECT(AA16)),\"\")","v":""},"","",null,{"$f":"IF(G16=\"TRUE 1\",IF(E16=\"NT\",MROUND(Inputs!$C$32*$AF$3*(1/(1+M16*(2-1))),1),MROUND(Inputs!$C$30*$AF$3*(1/(1+M16*(2-1))),1)),\nIF(G16=\"TRUE 2\",IF(E16=\"NT\",MROUND(Inputs!$D$32*$AG$3*(1/(1+M16*(2-1))),1),MROUND(Inputs!$D$30*$AG$3*(1/(1+M16*(2-1))),1)),\nIF(G16=\"TRUE 3\",IF(E16=\"NT\",MROUND(Inputs!$E$32*$AH$3*(1/(1+M16*(2-1))),1),MROUND(Inputs!$E$30*$AH$3*(1/(1+M16*(2-1))),1)),\nIF(G16=\"TRUE 4\",IF(E16=\"NT\",MROUND(Inputs!$F$32*$AI$3*(1/(1+M16*(2-1))),1),MROUND(Inputs!$F$30*$AI$3*(1/(1+M16*(2-1))),1)),\nMROUND(Inputs!$C$15*(1/(1+M16*(2-1)))*($AF$3+$AF$4),1)))))","v":8727},-6557,0,{"$f":"(AH16/(1/(1+M16*(2-1))))*O16/LEFT(Inputs!$C$18,1)/5280","v":0},0,{"$f":"(AJ16/60)*((Inputs!$C$13*Calculations!AH16*(1-Calculations!M16))+(Inputs!$C$14*Calculations!AH16*Calculations!M16))","v":0},{"$f":"IF(AH16>0,($M$5/60)*(((L16*$M$3/(1-$M$3))*(1-M16)*Inputs!$C$13)+((L16*$M$3/(1-$M$3))*M16*Inputs!$C$14)),0)","v":0},0,null,"2019-08-01T05:00:00","","",{"$f":"IF(AND(AP16<>\"\",AQ16<>\"\"),MAX(INDIRECT(AP16):INDIRECT(AQ16)),\"\")","v":""},"",""]
["2019-08-01",5,"Thursday","06:00:00",{"$f":"INDEX(Lists!$M$3:$M$26,MATCH(Calculations!D17,Lists!$L$3:$L$26,0))","v":"AM"},102,{"$f":"IF(INDEX(Inputs!$H$86:$H$253,MATCH(F17,Inputs!$D$86:$D$253,0)),\"TRUE 4\",\nIF(INDEX(Inputs!$G$86:$G$253,MATCH(F17,Inputs!$D$86:$D$253,0)),\"TRUE 3\",\nIF(INDEX(Inputs!$F$86:$F$253,MATCH(F17,Inputs!$D$86:$D$253,0)),\"TRUE 2\",\nIF(INDEX(Inputs!$E$86:$E$253,MATCH(F17,Inputs!$D$86:$D$253,0)),\"TRUE 1\",\nFALSE))))","v":false},null,{"$f":"'Volume Import'!C8*'Volume Import'!$H$14*(1+'Volume Import'!$H$15)*(1-'Volume Import'!$H$16)","v":6470},{"$f":"IF(AND('Volume Import'!D8=0,'Volume Import'!C8=0),0,\nIF('Volume Import'!D8=0,INDEX('Volume Import'!$K$2:$Q$5,MATCH(E17,'Volume Import'!$R$2:$R$5,0),MATCH(C17,'Volume Import'!$K$1:$Q$1,0)),\n'Volume Import'!D8/'Volume Import'!C8))","v":0.1},null,{"$f":"'Volume Import'!E8*'Volume Import'!$I$14*(1+'Volume Import'!$I$15)*(1-'Volume Import'!$I$16)","v":3592},{"$f":"IF('Volume Import'!F8=0,J17,'Volume Import'!F8/'Volume Import'!E8)","v":0.1},null,{"$f":"IF(G17=\"TRUE 1\",IF(E17=\"NT\",Inputs!$C$35,Inputs!$C$34),\nIF(G17=\"TRUE 2\",IF(E17=\"NT\",Inputs!$D$35,Inputs!$D$34),\nIF(G17=\"TRUE 3\",IF(E17=\"NT\",Inputs!$E$35,Inputs!$E$34),\nIF(G17=\"TRUE 4\",IF(E17=\"NT\",Inputs!$F$35,Inputs!$F$34),\nO16))))","v":0},{"$f":"IF(G17=\"TRUE 1\",IF(E17=\"NT\",MROUND(Inputs!$C$32*$P$3*(1/(1+J17*(2-1))),1),MROUND(Inputs!$C$30*$P$3*(1/(1+J17*(2-1))),1)),\nIF(G17=\"TRUE 2\",IF(E17=\"NT\",MROUND(Inputs!$D$32*$Q$3*(1/(1+J17*(2-1))),1),MROUND(Inputs!$D$30*$Q$3*(1/(1+J17*(2-1))),1)),\nIF(G17=\"TRUE 3\",IF(E17=\"NT\",MROUND(Inputs!$E$32*$R$3*(1/(1+J17*(2-1))),1),MROUND(Inputs!$E$30*$R$3*(1/(1+J17*(2-1))),1)),\nIF(G17=\"TRUE 4\",IF(E17=\"NT\",MROUND(Inputs!$F$32*$S$3*(1/(1+J17*(2-1))),1),MROUND(Inputs!$F$30*$S$3*(1/(1+J17*(2-1))),1)),\nMROUND(Inputs!$C$15*(1/(1+J17*(2-1)))*($P$3+$P$4),1)))))","v":8727},-2257,0,{"$f":"(R17/(1/(1+J17*(2-1))))*O17/LEFT(Inputs!$C$18,1)/5280","v":0},0,{"$f":"(T17/60)*((Inputs!$C$13*Calculations!R17*(1-Calculations!J17))+(Inputs!$C$14*Calculations!R17*Calculations!J17))","v":0},{"$f":"IF(R17>0,($J$5/60)*(((I17*$J$3/(1-$J$3))*(1-J17)*Inputs!$C$13)+((I17*$J$3/(1-$J$3))*J17*Inputs!$C$14)),0)","v":0},0,null,"2019-08-01T06:00:00","","",{"$f":"IF(AND(Z17<>\"\",AA17<>\"\"),MAX(INDIRECT(Z17):INDIRECT(AA17)),\"\")","v":""},"","",null,{"$f":"IF(G17=\"TRUE 1\",IF(E17=\"NT\",MROUND(Inputs!$C$32*$AF$3*(1/(1+M17*(2-1))),1),MROUND(Inputs!$C$30*$AF$3*(1/(1+M17*(2-1))),1)),\nIF(G17=\"TRUE 2\",IF(E17=\"NT\",MROUND(Inputs!$D$32*$AG$3*(1/(1+M17*(2-1))),1),MROUND(Inputs!$D$30*$AG$3*(1/(1+M17*(2-1))),1)),\nIF(G17=\"TRUE 3\",IF(E17=\"NT\",MROUND(Inputs!$E$32*$AH$3*(1/(1+M17*(2-1))),1),MROUND(Inputs!$E$30*$AH$3*(1/(1+M17*(2-1))),1)),\nIF(G17=\"TRUE 4\",IF(E17=\"NT\",MROUND(Inputs!$F$32*$AI$3*(1/(1+M17*(2-1))),1),MROUND(Inputs!$F$30*$AI$3*(1/(1+M17*(2-1))),1)),\nMROUND(Inputs!$C$15*(1/(1+M17*(2-1)))*($AF$3+$AF$4),1)))))","v":8727},-5135,0,{"$f":"(AH17/(1/(1+M17*(2-1))))*O17/LEFT(Inputs!$C$18,1)/5280","v":0},0,{"$f":"(AJ17/60)*((Inputs!$C$13*Calculations!AH17*(1-Calculations!M17))+(Inputs!$C$14*Calculations!AH17*Calculations!M17))","v":0},{"$f":"IF(AH17>0,($M$5/60)*(((L17*$M$3/(1-$M$3))*(1-M17)*Inputs!$C$13)+((L17*$M$3/(1-$M$3))*M17*Inputs!$C$14)),0)","v":0},0,null,"2019-08-01T06:00:00","","",{"$f":"IF(AND(AP17<>\"\",AQ17<>\"\"),MAX(INDIRECT(AP17):INDIRECT(AQ17)),\"\")","v":""},"",""]
["2019-08-01",5,"Thursday","07:00:00",{"$f":"INDEX(Lists!$M$3:$M$26,MATCH(Calculations!D18,Lists!$L$3:$L$26,0))","v":"AM"},103,{"$f":"IF(INDEX(Inputs!$H$86:$H$253,MATCH(F18,Inputs!$D$86:$D$253,0)),\"TRUE 4\",\nIF(INDEX(Inputs!$G$86:$G$253,MATCH(F18,Inputs!$D$86:$D$253,0)),\"TRUE 3\",\nIF(INDEX(Inputs!$F$86:$F$253,MATCH(F18,Inputs!$D$86:$D$253,0)),\"TRUE 2\",\nIF(INDEX(Inputs!$E$86:$E$253,MATCH(F18,Inputs!$D$86:$D$253,0)),\"TRUE 1\",\nFALSE))))","v":false},null,{"$f":"'Volume Import'!C9*'Volume Import'!$H$14*(1+'Volume Import'!$H$15)*(1-'Volume Import'!$H$16)","v":6752},{"$f":"IF(AND('Volume Import'!D9=0,'Volume Import'!C9=0),0,\nIF('Volume Import'!D9=0,INDEX('Volume Import'!$K$2:$Q$5,MATCH(E18,'Volume Import'!$R$2:$R$5,0),MATCH(C18,'Volume Import'!$K$1:$Q$1,0)),\n'Volume Import'!D9/'Volume Import'!C9))","v":0.1},null,{"$f":"'Volume Import'!E9*'Volume Import'!$I$14*(1+'Volume Import'!$I$15)*(1-'Volume Import'!$I$16)","v":4528},{"$f":"IF('Volume Import'!F9=0,J18,'Volume Import'!F9/'Volume Import'!E9)","v":0.1},null,{"$f":"IF(G18=\"TRUE 1\",IF(E18=\"NT\",Inputs!$C$35,Inputs!$C$34),\nIF(G18=\"TRUE 2\",IF(E18=\"NT\",Inputs!$D$35,Inputs!$D$34),\nIF(G18=\"TRUE 3\",IF(E18=\"NT\",Inputs!$E$35,Inputs!$E$34),\nIF(G18=\"TRUE 4\",IF(E18=\"NT\",Inputs!$F$35,Inputs!$F$34),\nO17))))","v":0},{"$f":"IF(G18=\"TRUE 1\",IF(E18=\"NT\",MROUND(Inputs!$C$32*$P$3*(1/(1+J18*(2-1))),1),MROUND(Inputs!$C$30*$P$3*(1/(1+J18*(2-1))),1)),\nIF(G18=\"TRUE 2\",IF(E18=\"NT\",MROUND(Inputs!$D$32*$Q$3*(1/(1+J18*(2-1))),1),MROUND(Inputs!$D$30*$Q$3*(1/(1+J18*(2-1))),1)),\nIF(G18=\"TRUE 3\",IF(E18=\"NT\",MROUND(Inputs!$E$32*$R$3*(1/(1+J18*(2-1))),1),MROUND(Inputs!$E$30*$R$3*(1/(1+J18*(2-1))),1)),\nIF(G18=\"TRUE 4\",IF(E18=\"NT\",MROUND(Inputs!$F$32*$S$3*(1/(1+J18*(2-1))),1),MROUND(Inputs!$F$30*$S$3*(1/(1+J18*(2-1))),1)),\nMROUND(Inputs!$C$15*(1/(1+J18*(2-1)))*($P$3+$P$4),1)))))","v":8727},-1975,0,{"$f":"(R18/(1/(1+J18*(2-1))))*O18/LEFT(Inputs!$C$18,1)/5280","v":0},0,{"$f":"(T18/60)*((Inputs!$C$13*Calculations!R18*(1-Calculations!J18))+(Inputs!$C$14*Calculations!R18*Calculations!J18))","v":0},{"$f":"IF(R18>0,($J$5/60)*(((I18*$J$3/(1-$J$3))*(1-J18)*Inputs!$C$13)+((I18*$J$3/(1-$J$3))*J18*Inputs!$C$14)),0)","v":0},0,null,"2019-08-01T07:00:00","","",{"$f":"IF(AND(Z18<>\"\",AA18<>\"\"),MAX(INDIRECT(Z18):INDIRECT(AA18)),\"\")","v":""},"","",null,{"$f":"IF(G18=\"TRUE 1\",IF(E18=\"NT\",MROUND(Inputs!$C$32*$AF$3*(1/(1+M18*(2-1))),1),MROUND(Inputs!$C$30*$AF$3*(1/(1+M18*(2-1))),1)),\nIF(G18=\"TRUE 2\",IF(E18=\"NT\",MROUND(Inputs!$D$32*$AG$3*(1/(1+M18*(2-1))),1),MROUND(Inputs!$D$30*$AG$3*(1/(1+M18*(2-1))),1)),\nIF(G18=\"TRUE 3\",IF(E18=\"NT\",MROUND(Inputs!$E$32*$AH$3*(1/(1+M18*(2-1))),1),MROUND(Inputs!$E$30*$AH$3*(1/(1+M18*(2-1))),1)),\nIF(G18=\"TRUE 4\",IF(E18=\"NT\",MROUND(Inputs!$F$32*$AI$3*(1/(1+M18*(2-1))),1),MROUND(Inputs!$F$30*$AI$3*(1/(1+M18*(2-1))),1)),\nMROUND(Inputs!$C$15*(1/(1+M18*(2-1)))*($AF$3+$AF$4),1)))))","v":8727},-4199,0,{"$f":"(AH18/(1/(1+M18*(2-1))))*O18/LEFT(Inputs!$C$18,1)/5280","v":0},0,{"$f":"(AJ18/60)*((Inputs!$C$13*Calculations!AH18*(1-Calculations!M18))+(Inputs!$C$14*Calculations!AH18*Calculations!M18))","v":0},{"$f":"IF(AH18>0,($M$5/60)*(((L18*$M$3/(1-$M$3))*(1-M18)*Inputs!$C$13)+((L18*$M$3/(1-$M$3))*M18*Inputs!$C$14)),0)","v":0},0,null,"2019-08-01T07:00:00","","",{"$f":"IF(AND(AP18<>\"\",AQ18<>\"\"),MAX(INDIRECT(AP18):INDIRECT(AQ18)),\"\")","v":""},"",""]
["2019-08-01",{"$f":"WEEKDAY(A19)","v":5},"Thursday","08:00:00",{"$f":"INDEX(Lists!$M$3:$M$26,MATCH(Calculations!D19,Lists!$L$3:$L$26,0))","v":"AM"},104,{"$f":"IF(INDEX(Inputs!$H$86:$H$253,MATCH(F19,Inputs!$D$86:$D$253,0)),\"TRUE 4\",\nIF(INDEX(Inputs!$G$86:$G$253,MATCH(F19,Inputs!$D$86:$D$253,0)),\"TRUE 3\",\nIF(INDEX(Inputs!$F$86:$F$253,MATCH(F19,Inputs!$D$86:$D$253,0)),\"TRUE 2\",\nIF(INDEX(Inputs!$E$86:$E$253,MATCH(F19,Inputs!$D$86:$D$253,0)),\"TRUE 1\",\nFALSE))))","v":false},null,{"$f":"'Volume Import'!C10*'Volume Import'!$H$14*(1+'Volume Import'!$H$15)*(1-'Volume Import'!$H$16)","v":5885},{"$f":"IF(AND('Volume Import'!D10=0,'Volume Import'!C10=0),0,\nIF('Volume Import'!D10=0,INDEX('Volume Import'!$K$2:$Q$5,MATCH(E19,'Volume Import'!$R$2:$R$5,0),MATCH(C19,'Volume Import'!$K$1:$Q$1,0)),\n'Volume Import'!D10/'Volume Import'!C10))","v":0.1},null,{"$f":"'Volume Import'!E10*'Volume Import'!$I$14*(1+'Volume Import'!$I$15)*(1-'Volume Import'!$I$16)","v":4292},{"$f":"IF('Volume Import'!F10=0,J19,'Volume Import'!F10/'Volume Import'!E10)","v":0.1},null,{"$f":"IF(G19=\"TRUE 1\",IF(E19=\"NT\",Inputs!$C$35,Inputs!$C$34),\nIF(G19=\"TRUE 2\",IF(E19=\"NT\",Inputs!$D$35,Inputs!$D$34),\nIF(G19=\"TRUE 3\",IF(E19=\"NT\",Inputs!$E$35,Inputs!$E$34),\nIF(G19=\"TRUE 4\",IF(E19=\"NT\",Inputs!$F$35,Inputs!$F$34),\nO18))))","v":0},{"$f":"IF(G19=\"TRUE 1\",IF(E19=\"NT\",MROUND(Inputs!$C$32*$P$3*(1/(1+J19*(2-1))),1),MROUND(Inputs!$C$30*$P$3*(1/(1+J19*(2-1))),1)),\nIF(G19=\"TRUE 2\",IF(E19=\"NT\",MROUND(Inputs!$D$32*$Q$3*(1/(1+J19*(2-1))),1),MROUND(Inputs!$D$30*$Q$3*(1/(1+J19*(2-1))),1)),\nIF(G19=\"TRUE 3\",IF(E19=\"NT\",MROUND(Inputs!$E$32*$R$3*(1/(1+J19*(2-1))),1),MROUND(Inputs!$E$30*$R$3*(1/(1+J19*(2-1))),1)),\nIF(G19=\"TRUE 4\",IF(E19=\"NT\",MROUND(Inputs!$F$32*$S$3*(1/(1+J19*(2-1))),1),MROUND(Inputs!$F$30*$S$3*(1/(1+J19*(2-1))),1)),\nMROUND(Inputs!$C$15*(1/(1+J19*(2-1)))*($P$3+$P$4),1)))))","v":8727},-2842,0,{"$f":"(R19/(1/(1+J19*(2-1))))*O19/LEFT(Inputs!$C$18,1)/5280","v":0},0,{"$f":"(T19/60)*((Inputs!$C$13*Calculations!R19*(1-Calculations!J19))+(Inputs!$C$14*Calculations!R19*Calculations!J19))","v":0},{"$f":"IF(R19>0,($J$5/60)*(((I19*$J$3/(1-$J$3))*(1-J19)*Inputs!$C$13)+((I19*$J$3/(1-$J$3))*J19*Inputs!$C$14)),0)","v":0},0,null,"2019-08-01T08:00:00","","",{"$f":"IF(AND(Z19<>\"\",AA19<>\"\"),MAX(INDIRECT(Z19):INDIRECT(AA19)),\"\")","v":""},"","",null,{"$f":"IF(G19=\"TRUE 1\",IF(E19=\"NT\",MROUND(Inputs!$C$32*$AF$3*(1/(1+M19*(2-1))),1),MROUND(Inputs!$C$30*$AF$3*(1/(1+M19*(2-1))),1)),\nIF(G19=\"TRUE 2\",IF(E19=\"NT\",MROUND(Inputs!$D$32*$AG$3*(1/(1+M19*(2-1))),1),MROUND(Inputs!$D$30*$AG$3*(1/(1+M19*(2-1))),1)),\nIF(G19=\"TRUE 3\",IF(E19=\"NT\",MROUND(Inputs!$E$32*$AH$3*(1/(1+M19*(2-1))),1),MROUND(Inputs!$E$30*$AH$3*(1/(1+M19*(2-1))),1)),\nIF(G19=\"TRUE 4\",IF(E19=\"NT\",MROUND(Inputs!$F$32*$AI$3*(1/(1+M19*(2-1))),1),MROUND(Inputs!$F$30*$AI$3*(1/(1+M19*(2-1))),1)),\nMROUND(Inputs!$C$15*(1/(1+M19*(2-1)))*($AF$3+$AF$4),1)))))","v":8727},-4435,0,{"$f":"(AH19/(1/(1+M19*(2-1))))*O19/LEFT(Inputs!$C$18,1)/5280","v":0},0,{"$f":"(AJ19/60)*((Inputs!$C$13*Calculations!AH19*(1-Calculations!M19))+(Inputs!$C$14*Calculations!AH19*Calculations!M19))","v":0},{"$f":"IF(AH19>0,($M$5/60)*(((L19*$M$3/(1-$M$3))*(1-M19)*Inputs!$C$13)+((L19*$M$3/(1-$M$3))*M19*Inputs!$C$14)),0)","v":0},0,null,"2019-08-01T08:00:00","","",{"$f":"IF(AND(AP19<>\"\",AQ19<>\"\"),MAX(INDIRECT(AP19):INDIRECT(AQ19)),\"\")","v":""},"",""]
["2019-08-01",5,"Thursday","09:00:00",{"$f":"INDEX(Lists!$M$3:$M$26,MATCH(Calculations!D20,Lists!$L$3:$L$26,0))","v":"MD"},105,{"$f":"IF(INDEX(Inputs!$H$86:$H$253,MATCH(F20,Inputs!$D$86:$D$253,0)),\"TRUE 4\",\nIF(INDEX(Inputs!$G$86:$G$253,MATCH(F20,Inputs!$D$86:$D$253,0)),\"TRUE 3\",\nIF(INDEX(Inputs!$F$86:$F$253,MATCH(F20,Inputs!$D$86:$D$253,0)),\"TRUE 2\",\nIF(INDEX(Inputs!$E$86:$E$253,MATCH(F20,Inputs!$D$86:$D$253,0)),\"TRUE 1\",\nFALSE))))","v":"TRUE 1"},null,{"$f":"'Volume Import'!C11*'Volume Import'!$H$14*(1+'Volume Import'!$H$15)*(1-'Volume Import'!$H$16)","v":5039},{"$f":"IF(AND('Volume Import'!D11=0,'Volume Import'!C11=0),0,\nIF('Volume Import'!D11=0,INDEX('Volume Import'!$K$2:$Q$5,MATCH(E20,'Volume Import'!$R$2:$R$5,0),MATCH(C20,'Volume Import'!$K$1:$Q$1,0)),\n'Volume Import'!D11/'Volume Import'!C11))","v":0.1},null,{"$f":"'Volume Import'!E11*'Volume Import'!$I$14*(1+'Volume Import'!$I$15)*(1-'Volume Import'!$I$16)","v":3952},{"$f":"IF('Volume Import'!F11=0,J20,'Volume Import'!F11/'Volume Import'!E11)","v":0.1},null,{"$f":"IF(G20=\"TRUE 1\",IF(E20=\"NT\",Inputs!$C$35,Inputs!$C$34),\nIF(G20=\"TRUE 2\",IF(E20=\"NT\",Inputs!$D$35,Inputs!$D$34),\nIF(G20=\"TRUE 3\",IF(E20=\"NT\",Inputs!$E$35,Inputs!$E$34),\nIF(G20=\"TRUE 4\",IF(E20=\"NT\",Inputs!$F$35,Inputs!$F$34),\nO19))))","v":65.476687896673383},{"$f":"IF(G20=\"TRUE 1\",IF(E20=\"NT\",MROUND(Inputs!$C$32*$P$3*(1/(1+J20*(2-1))),1),MROUND(Inputs!$C$30*$P$3*(1/(1+J20*(2-1))),1)),\nIF(G20=\"TRUE 2\",IF(E20=\"NT\",MROUND(Inputs!$D$32*$Q$3*(1/(1+J20*(2-1))),1),MROUND(Inputs!$D$30*$Q$3*(1/(1+J20*(2-1))),1)),\nIF(G20=\"TRUE 3\",IF(E20=\"NT\",MROUND(Inputs!$E$32*$R$3*(1/(1+J20*(2-1))),1),MROUND(Inputs!$E$30*$R$3*(1/(1+J20*(2-1))),1)),\nIF(G20=\"TRUE 4\",IF(E20=\"NT\",MROUND(Inputs!$F$32*$S$3*(1/(1+J20*(2-1))),1),MROUND(Inputs!$F$30*$S$3*(1/(1+J20*(2-1))),1)),\nMROUND(Inputs!$C$15*(1/(1+J20*(2-1)))*($P$3+$P$4),1)))))","v":4681},358,358,{"$f":"(R20/(1/(1+J20*(2-1))))*O20/LEFT(Inputs!$C$18,1)/5280","v":1.2208674097400558},4.588763084810938,{"$f":"(T20/60)*((Inputs!$C$13*Calculations!R20*(1-Calculations!J20))+(Inputs!$C$14*Calculations!R20*Calculations!J20))","v":629.95029096346946},{"$f":"IF(R20>0,($J$5/60)*(((I20*$J$3/(1-$J$3))*(1-J20)*Inputs!$C$13)+((I20*$J$3/(1-$J$3))*J20*Inputs!$C$14)),0)","v":0},629.95029096346946,null,"2019-08-01T09:00:00","S20","",{"$f":"IF(AND(Z20<>\"\",AA20<>\"\"),MAX(INDIRECT(Z20):INDIRECT(AA20)),\"\")","v":""},"2019-08-01T09:00:00","Q",null,{"$f":"IF(G20=\"TRUE 1\",IF(E20=\"NT\",MROUND(Inputs!$C$32*$AF$3*(1/(1+M20*(2-1))),1),MROUND(Inputs!$C$30*$AF$3*(1/(1+M20*(2-1))),1)),\nIF(G20=\"TRUE 2\",IF(E20=\"NT\",MROUND(Inputs!$D$32*$AG$3*(1/(1+M20*(2-1))),1),MROUND(Inputs!$D$30*$AG$3*(1/(1+M20*(2-1))),1)),\nIF(G20=\"TRUE 3\",IF(E20=\"NT\",MROUND(Inputs!$E$32*$AH$3*(1/(1+M20*(2-1))),1),MROUND(Inputs!$E$30*$AH$3*(1/(1+M20*(2-1))),1)),\nIF(G20=\"TRUE 4\",IF(E20=\"NT\",MROUND(Inputs!$F$32*$AI$3*(1/(1+M20*(2-1))),1),MROUND(Inputs!$F$30*$AI$3*(1/(1+M20*(2-1))),1)),\nMROUND(Inputs!$C$15*(1/(1+M20*(2-1)))*($AF$3+$AF$4),1)))))","v":4681},-729,0,{"$f":"(AH20/(1/(1+M20*(2-1))))*O20/LEFT(Inputs!$C$18,1)/5280","v":0},0,{"$f":"(AJ20/60)*((Inputs!$C$13*Calculations!AH20*(1-Calculations!M20))+(Inputs!$C$14*Calculations!AH20*Calculations!M20))","v":0},{"$f":"IF(AH20>0,($M$5/60)*(((L20*$M$3/(1-$M$3))*(1-M20)*Inputs!$C$13)+((L20*$M$3/(1-$M$3))*M20*Inputs!$C$14)),0)","v":0},0,null,"2019-08-01T09:00:00","","",{"$f":"IF(AND(AP20<>\"\",AQ20<>\"\"),MAX(INDIRECT(AP20):INDIRECT(AQ20)),\"\")","v":""},"",""]
[{"$f":"A$11","v":"2019-08-01"},5,"Thursday","10:00:00",{"$f":"INDEX(Lists!$M$3:$M$26,MATCH(Calculations!D21,Lists!$L$3:$L$26,0))","v":"MD"},106,{"$f":"IF(INDEX(Inputs!$H$86:$H$253,MATCH(F21,Inputs!$D$86:$D$253,0)),\"TRUE 4\",\nIF(INDEX(Inputs!$G$86:$G$253,MATCH(F21,Inputs!$D$86:$D$253,0)),\"TRUE 3\",\nIF(INDEX(Inputs!$F$86:$F$253,MATCH(F21,Inputs!$D$86:$D$253,0)),\"TRUE 2\",\nIF(INDEX(Inputs!$E$86:$E$253,MATCH(F21,Inputs!$D$86:$D$253,0)),\"TRUE 1\",\nFALSE))))","v":"TRUE 1"},null,{"$f":"'Volume Import'!C12*'Volume Import'!$H$14*(1+'Volume Import'!$H$15)*(1-'Volume Import'!$H$16)","v":4996},{"$f":"IF(AND('Volume Import'!D12=0,'Volume Import'!C12=0),0,\nIF('Volume Import'!D12=0,INDEX('Volume Import'!$K$2:$Q$5,MATCH(E21,'Volume Import'!$R$2:$R$5,0),MATCH(C21,'Volume Import'!$K$1:$Q$1,0)),\n'Volume Import'!D12/'Volume Import'!C12))","v":0.1},null,{"$f":"'Volume Import'!E12*'Volume Import'!$I$14*(1+'Volume Import'!$I$15)*(1-'Volume Import'!$I$16)","v":3938},{"$f":"IF('Volume Import'!F12=0,J21,'Volume Import'!F12/'Volume Import'!E12)","v":0.1},null,{"$f":"IF(G21=\"TRUE 1\",IF(E21=\"NT\",Inputs!$C$35,Inputs!$C$34),\nIF(G21=\"TRUE 2\",IF(E21=\"NT\",Inputs!$D$35,Inputs!$D$34),\nIF(G21=\"TRUE 3\",IF(E21=\"NT\",Inputs!$E$35,Inputs!$E$34),\nIF(G21=\"TRUE 4\",IF(E21=\"NT\",Inputs!$F$35,Inputs!$F$34),\nO20))))","v":65.476687896673383},{"$f":"IF(G21=\"TRUE 1\",IF(E21=\"NT\",MROUND(Inputs!$C$32*$P$3*(1/(1+J21*(2-1))),1),MROUND(Inputs!$C$30*$P$3*(1/(1+J21*(2-1))),1)),\nIF(G21=\"TRUE 2\",IF(E21=\"NT\",MROUND(Inputs!$D$32*$Q$3*(1/(1+J21*(2-1))),1),MROUND(Inputs!$D$30*$Q$3*(1/(1+J21*(2-1))),1)),\nIF(G21=\"TRUE 3\",IF(E21=\"NT\",MROUND(Inputs!$E$32*$R$3*(1/(1+J21*(2-1))),1),MROUND(Inputs!$E$30*$R$3*(1/(1+J21*(2-1))),1)),\nIF(G21=\"TRUE 4\",IF(E21=\"NT\",MROUND(Inputs!$F$32*$S$3*(1/(1+J21*(2-1))),1),MROUND(Inputs!$F$30*$S$3*(1/(1+J21*(2-1))),1)),\nMROUND(Inputs!$C$15*(1/(1+J21*(2-1)))*($P$3+$P$4),1)))))","v":4681},315,673,{"$f":"(R21/(1/(1+J21*(2-1))))*O21/LEFT(Inputs!$C$18,1)/5280","v":2.2950943205448535},8.6263618884853663,{"$f":"(T21/60)*((Inputs!$C$13*Calculations!R21*(1-Calculations!J21))+(Inputs!$C$14*Calculations!R21*Calculations!J21))","v":2226.2316667378768},{"$f":"IF(R21>0,($J$5/60)*(((I21*$J$3/(1-$J$3))*(1-J21)*Inputs!$C$13)+((I21*$J$3/(1-$J$3))*J21*Inputs!$C$14)),0)","v":0},2226.2316667378768,null,"2019-08-01T10:00:00","S20","",{"$f":"IF(AND(Z21<>\"\",AA21<>\"\"),MAX(INDIRECT(Z21):INDIRECT(AA21)),\"\")","v":""},"Q","Q",null,{"$f":"IF(G21=\"TRUE 1\",IF(E21=\"NT\",MROUND(Inputs!$C$32*$AF$3*(1/(1+M21*(2-1))),1),MROUND(Inputs!$C$30*$AF$3*(1/(1+M21*(2-1))),1)),\nIF(G21=\"TRUE 2\",IF(E21=\"NT\",MROUND(Inputs!$D$32*$AG$3*(1/(1+M21*(2-1))),1),MROUND(Inputs!$D$30*$AG$3*(1/(1+M21*(2-1))),1)),\nIF(G21=\"TRUE 3\",IF(E21=\"NT\",MROUND(Inputs!$E$32*$AH$3*(1/(1+M21*(2-1))),1),MROUND(Inputs!$E$30*$AH$3*(1/(1+M21*(2-1))),1)),\nIF(G21=\"TRUE 4\",IF(E21=\"NT\",MROUND(Inputs!$F$32*$AI$3*(1/(1+M21*(2-1))),1),MROUND(Inputs!$F$30*$AI$3*(1/(1+M21*(2-1))),1)),\nMROUND(Inputs!$C$15*(1/(1+M21*(2-1)))*($AF$3+$AF$4),1)))))","v":4681},-743,0,{"$f":"(AH21/(1/(1+M21*(2-1))))*O21/LEFT(Inputs!$C$18,1)/5280","v":0},0,{"$f":"(AJ21/60)*((Inputs!$C$13*Calculations!AH21*(1-Calculations!M21))+(Inputs!$C$14*Calculations!AH21*Calculations!M21))","v":0},{"$f":"IF(AH21>0,($M$5/60)*(((L21*$M$3/(1-$M$3))*(1-M21)*Inputs!$C$13)+((L21*$M$3/(1-$M$3))*M21*Inputs!$C$14)),0)","v":0},0,null,"2019-08-01T10:00:00","","",{"$f":"IF(AND(AP21<>\"\",AQ21<>\"\"),MAX(INDIRECT(AP21):INDIRECT(AQ21)),\"\")","v":""},"",""]
["2019-08-01",5,"Thursday","11:00:00",{"$f":"INDEX(Lists!$M$3:$M$26,MATCH(Calculations!D22,Lists!$L$3:$L$26,0))","v":"MD"},107,{"$f":"IF(INDEX(Inputs!$H$86:$H$253,MATCH(F22,Inputs!$D$86:$D$253,0)),\"TRUE 4\",\nIF(INDEX(Inputs!$G$86:$G$253,MATCH(F22,Inputs!$D$86:$D$253,0)),\"TRUE 3\",\nIF(INDEX(Inputs!$F$86:$F$253,MATCH(F22,Inputs!$D$86:$D$253,0)),\"TRUE 2\",\nIF(INDEX(Inputs!$E$86:$E$253,MATCH(F22,Inputs!$D$86:$D$253,0)),\"TRUE 1\",\nFALSE))))","v":"TRUE 1"},null,{"$f":"'Volume Import'!C13*'Volume Import'!$H$14*(1+'Volume Import'!$H$15)*(1-'Volume Import'!$H$16)","v":4672},{"$f":"IF(AND('Volume Import'!D13=0,'Volume Import'!C13=0),0,\nIF('Volume Import'!D13=0,INDEX('Volume Import'!$K$2:$Q$5,MATCH(E22,'Volume Import'!$R$2:$R$5,0),MATCH(C22,'Volume Import'!$K$1:$Q$1,0)),\n'Volume Import'!D13/'Volume Import'!C13))","v":0.1},null,{"$f":"'Volume Import'!E13*'Volume Import'!$I$14*(1+'Volume Import'!$I$15)*(1-'Volume Import'!$I$16)","v":3553},{"$f":"IF('Volume Import'!F13=0,J22,'Volume Import'!F13/'Volume Import'!E13)","v":0.1},null,{"$f":"IF(G22=\"TRUE 1\",IF(E22=\"NT\",Inputs!$C$35,Inputs!$C$34),\nIF(G22=\"TRUE 2\",IF(E22=\"NT\",Inputs!$D$35,Inputs!$D$34),\nIF(G22=\"TRUE 3\",IF(E22=\"NT\",Inputs!$E$35,Inputs!$E$34),\nIF(G22=\"TRUE 4\",IF(E22=\"NT\",Inputs!$F$35,Inputs!$F$34),\nO21))))","v":65.476687896673383},{"$f":"IF(G22=\"TRUE 1\",IF(E22=\"NT\",MROUND(Inputs!$C$32*$P$3*(1/(1+J22*(2-1))),1),MROUND(Inputs!$C$30*$P$3*(1/(1+J22*(2-1))),1)),\nIF(G22=\"TRUE 2\",IF(E22=\"NT\",MROUND(Inputs!$D$32*$Q$3*(1/(1+J22*(2-1))),1),MROUND(Inputs!$D$30*$Q$3*(1/(1+J22*(2-1))),1)),\nIF(G22=\"TRUE 3\",IF(E22=\"NT\",MROUND(Inputs!$E$32*$R$3*(1/(1+J22*(2-1))),1),MROUND(Inputs!$E$30*$R$3*(1/(1+J22*(2-1))),1)),\nIF(G22=\"TRUE 4\",IF(E22=\"NT\",MROUND(Inputs!$F$32*$S$3*(1/(1+J22*(2-1))),1),MROUND(Inputs!$F$30*$S$3*(1/(1+J22*(2-1))),1)),\nMROUND(Inputs!$C$15*(1/(1+J22*(2-1)))*($P$3+$P$4),1)))))","v":4681},-9,664,{"$f":"(R22/(1/(1+J22*(2-1))))*O22/LEFT(Inputs!$C$18,1)/5280","v":2.2644021230932876},8.5110019226660967,{"$f":"(T22/60)*((Inputs!$C$13*Calculations!R22*(1-Calculations!J22))+(Inputs!$C$14*Calculations!R22*Calculations!J22))","v":2167.0871967528306},{"$f":"IF(R22>0,($J$5/60)*(((I22*$J$3/(1-$J$3))*(1-J22)*Inputs!$C$13)+((I22*$J$3/(1-$J$3))*J22*Inputs!$C$14)),0)","v":0},2167.0871967528306,null,"2019-08-01T11:00:00","S20","",{"$f":"IF(AND(Z22<>\"\",AA22<>\"\"),MAX(INDIRECT(Z22):INDIRECT(AA22)),\"\")","v":""},"Q","Q",null,{"$f":"IF(G22=\"TRUE 1\",IF(E22=\"NT\",MROUND(Inputs!$C$32*$AF$3*(1/(1+M22*(2-1))),1),MROUND(Inputs!$C$30*$AF$3*(1/(1+M22*(2-1))),1)),\nIF(G22=\"TRUE 2\",IF(E22=\"NT\",MROUND(Inputs!$D$32*$AG$3*(1/(1+M22*(2-1))),1),MROUND(Inputs!$D$30*$AG$3*(1/(1+M22*(2-1))),1)),\nIF(G22=\"TRUE 3\",IF(E22=\"NT\",MROUND(Inputs!$E$32*$AH$3*(1/(1+M22*(2-1))),1),MROUND(Inputs!$E$30*$AH$3*(1/(1+M22*(2-1))),1)),\nIF(G22=\"TRUE 4\",IF(E22=\"NT\",MROUND(Inputs!$F$32*$AI$3*(1/(1+M22*(2-1))),1),MROUND(Inputs!$F$30*$AI$3*(1/(1+M22*(2-1))),1)),\nMROUND(Inputs!$C$15*(1/(1+M22*(2-1)))*($AF$3+$AF$4),1)))))","v":4681},-1128,0,{"$f":"(AH22/(1/(1+M22*(2-1))))*O22/LEFT(Inputs!$C$18,1)/5280","v":0},0,{"$f":"(AJ22/60)*((Inputs!$C$13*Calculations!AH22*(1-Calculations!M22))+(Inputs!$C$14*Calculations!AH22*Calculations!M22))","v":0},{"$f":"IF(AH22>0,($M$5/60)*(((L22*$M$3/(1-$M$3))*(1-M22)*Inputs!$C$13)+((L22*$M$3/(1-$M$3))*M22*Inputs!$C$14)),0)","v":0},0,null,"2019-08-01T11:00:00","","",{"$f":"IF(AND(AP22<>\"\",AQ22<>\"\"),MAX(INDIRECT(AP22):INDIRECT(AQ22)),\"\")","v":""},"",""]
["2019-08-01",5,"Thursday","12:00:00",{"$f":"INDEX(Lists!$M$3:$M$26,MATCH(Calculations!D23,Lists!$L$3:$L$26,0))","v":"MD"},108,{"$f":"IF(INDEX(Inputs!$H$86:$H$253,MATCH(F23,Inputs!$D$86:$D$253,0)),\"TRUE 4\",\nIF(INDEX(Inputs!$G$86:$G$253,MATCH(F23,Inputs!$D$86:$D$253,0)),\"TRUE 3\",\nIF(INDEX(Inputs!$F$86:$F$253,MATCH(F23,Inputs!$D$86:$D$253,0)),\"TRUE 2\",\nIF(INDEX(Inputs!$E$86:$E$253,MATCH(F23,Inputs!$D$86:$D$253,0)),\"TRUE 1\",\nFALSE))))","v":"TRUE 1"},null,{"$f":"'Volume Import'!C14*'Volume Import'!$H$14*(1+'Volume Import'!$H$15)*(1-'Volume Import'!$H$16)","v":4779},{"$f":"IF(AND('Volume Import'!D14=0,'Volume Import'!C14=0),0,\nIF('Volume Import'!D14=0,INDEX('Volume Import'!$K$2:$Q$5,MATCH(E23,'Volume Import'!$R$2:$R$5,0),MATCH(C23,'Volume Import'!$K$1:$Q$1,0)),\n'Volume Import'!D14/'Volume Import'!C14))","v":0.1},null,{"$f":"'Volume Import'!E14*'Volume Import'!$I$14*(1+'Volume Import'!$I$15)*(1-'Volume Import'!$I$16)","v":3621},{"$f":"IF('Volume Import'!F14=0,J23,'Volume Import'!F14/'Volume Import'!E14)","v":0.1},null,{"$f":"IF(G23=\"TRUE 1\",IF(E23=\"NT\",Inputs!$C$35,Inputs!$C$34),\nIF(G23=\"TRUE 2\",IF(E23=\"NT\",Inputs!$D$35,Inputs!$D$34),\nIF(G23=\"TRUE 3\",IF(E23=\"NT\",Inputs!$E$35,Inputs!$E$34),\nIF(G23=\"TRUE 4\",IF(E23=\"NT\",Inputs!$F$35,Inputs!$F$34),\nO22))))","v":65.476687896673383},{"$f":"IF(G23=\"TRUE 1\",IF(E23=\"NT\",MROUND(Inputs!$C$32*$P$3*(1/(1+J23*(2-1))),1),MROUND(Inputs!$C$30*$P$3*(1/(1+J23*(2-1))),1)),\nIF(G23=\"TRUE 2\",IF(E23=\"NT\",MROUND(Inputs!$D$32*$Q$3*(1/(1+J23*(2-1))),1),MROUND(Inputs!$D$30*$Q$3*(1/(1+J23*(2-1))),1)),\nIF(G23=\"TRUE 3\",IF(E23=\"NT\",MROUND(Inputs!$E$32*$R$3*(1/(1+J23*(2-1))),1),MROUND(Inputs!$E$30*$R$3*(1/(1+J23*(2-1))),1)),\nIF(G23=\"TRUE 4\",IF(E23=\"NT\",MROUND(Inputs!$F$32*$S$3*(1/(1+J23*(2-1))),1),MROUND(Inputs!$F$30*$S$3*(1/(1+J23*(2-1))),1)),\nMROUND(Inputs!$C$15*(1/(1+J23*(2-1)))*($P$3+$P$4),1)))))","v":4681},98,762,{"$f":"(R23/(1/(1+J23*(2-1))))*O23/LEFT(Inputs!$C$18,1)/5280","v":2.598606050899225},9.7671437726981427,{"$f":"(T23/60)*((Inputs!$C$13*Calculations!R23*(1-Calculations!J23))+(Inputs!$C$14*Calculations!R23*Calculations!J23))","v":2853.9750378124336},{"$f":"IF(R23>0,($J$5/60)*(((I23*$J$3/(1-$J$3))*(1-J23)*Inputs!$C$13)+((I23*$J$3/(1-$J$3))*J23*Inputs!$C$14)),0)","v":0},2853.9750378124336,null,"2019-08-01T12:00:00","S20","",{"$f":"IF(AND(Z23<>\"\",AA23<>\"\"),MAX(INDIRECT(Z23):INDIRECT(AA23)),\"\")","v":""},"Q","Q",null,{"$f":"IF(G23=\"TRUE 1\",IF(E23=\"NT\",MROUND(Inputs!$C$32*$AF$3*(1/(1+M23*(2-1))),1),MROUND(Inputs!$C$30*$AF$3*(1/(1+M23*(2-1))),1)),\nIF(G23=\"TRUE 2\",IF(E23=\"NT\",MROUND(Inputs!$D$32*$AG$3*(1/(1+M23*(2-1))),1),MROUND(Inputs!$D$30*$AG$3*(1/(1+M23*(2-1))),1)),\nIF(G23=\"TRUE 3\",IF(E23=\"NT\",MROUND(Inputs!$E$32*$AH$3*(1/(1+M23*(2-1))),1),MROUND(Inputs!$E$30*$AH$3*(1/(1+M23*(2-1))),1)),\nIF(G23=\"TRUE 4\",IF(E23=\"NT\",MROUND(Inputs!$F$32*$AI$3*(1/(1+M23*(2-1))),1),MROUND(Inputs!$F$30*$AI$3*(1/(1+M23*(2-1))),1)),\nMROUND(Inputs!$C$15*(1/(1+M23*(2-1)))*($AF$3+$AF$4),1)))))","v":4681},-1060,0,{"$f":"(AH23/(1/(1+M23*(2-1))))*O23/LEFT(Inputs!$C$18,1)/5280","v":0},0,{"$f":"(AJ23/60)*((Inputs!$C$13*Calculations!AH23*(1-Calculations!M23))+(Inputs!$C$14*Calculations!AH23*Calculations!M23))","v":0},{"$f":"IF(AH23>0,($M$5/60)*(((L23*$M$3/(1-$M$3))*(1-M23)*Inputs!$C$13)+((L23*$M$3/(1-$M$3))*M23*Inputs!$C$14)),0)","v":0},0,null,"2019-08-01T12:00:00","","",{"$f":"IF(AND(AP23<>\"\",AQ23<>\"\"),MAX(INDIRECT(AP23):INDIRECT(AQ23)),\"\")","v":""},"",""]
["2019-08-01",5,"Thursday","13:00:00",{"$f":"INDEX(Lists!$M$3:$M$26,MATCH(Calculations!D24,Lists!$L$3:$L$26,0))","v":"MD"},109,{"$f":"IF(INDEX(Inputs!$H$86:$H$253,MATCH(F24,Inputs!$D$86:$D$253,0)),\"TRUE 4\",\nIF(INDEX(Inputs!$G$86:$G$253,MATCH(F24,Inputs!$D$86:$D$253,0)),\"TRUE 3\",\nIF(INDEX(Inputs!$F$86:$F$253,MATCH(F24,Inputs!$D$86:$D$253,0)),\"TRUE 2\",\nIF(INDEX(Inputs!$E$86:$E$253,MATCH(F24,Inputs!$D$86:$D$253,0)),\"TRUE 1\",\nFALSE))))","v":"TRUE 1"},null,{"$f":"'Volume Import'!C15*'Volume Import'!$H$14*(1+'Volume Import'!$H$15)*(1-'Volume Import'!$H$16)","v":4768},{"$f":"IF(AND('Volume Import'!D15=0,'Volume Import'!C15=0),0,\nIF('Volume Import'!D15=0,INDEX('Volume Import'!$K$2:$Q$5,MATCH(E24,'Volume Import'!$R$2:$R$5,0),MATCH(C24,'Volume Import'!$K$1:$Q$1,0)),\n'Volume Import'!D15/'Volume Import'!C15))","v":0.1},null,{"$f":"'Volume Import'!E15*'Volume Import'!$I$14*(1+'Volume Import'!$I$15)*(1-'Volume Import'!$I$16)","v":3982},{"$f":"IF('Volume Import'!F15=0,J24,'Volume Import'!F15/'Volume Import'!E15)","v":0.1},null,{"$f":"IF(G24=\"TRUE 1\",IF(E24=\"NT\",Inputs!$C$35,Inputs!$C$34),\nIF(G24=\"TRUE 2\",IF(E24=\"NT\",Inputs!$D$35,Inputs!$D$34),\nIF(G24=\"TRUE 3\",IF(E24=\"NT\",Inputs!$E$35,Inputs!$E$34),\nIF(G24=\"TRUE 4\",IF(E24=\"NT\",Inputs!$F$35,Inputs!$F$34),\nO23))))","v":65.476687896673383},{"$f":"IF(G24=\"TRUE 1\",IF(E24=\"NT\",MROUND(Inputs!$C$32*$P$3*(1/(1+J24*(2-1))),1),MROUND(Inputs!$C$30*$P$3*(1/(1+J24*(2-1))),1)),\nIF(G24=\"TRUE 2\",IF(E24=\"NT\",MROUND(Inputs!$D$32*$Q$3*(1/(1+J24*(2-1))),1),MROUND(Inputs!$D$30*$Q$3*(1/(1+J24*(2-1))),1)),\nIF(G24=\"TRUE 3\",IF(E24=\"NT\",MROUND(Inputs!$E$32*$R$3*(1/(1+J24*(2-1))),1),MROUND(Inputs!$E$30*$R$3*(1/(1+J24*(2-1))),1)),\nIF(G24=\"TRUE 4\",IF(E24=\"NT\",MROUND(Inputs!$F$32*$S$3*(1/(1+J24*(2-1))),1),MROUND(Inputs!$F$30*$S$3*(1/(1+J24*(2-1))),1)),\nMROUND(Inputs!$C$15*(1/(1+J24*(2-1)))*($P$3+$P$4),1)))))","v":4681},87,849,{"$f":"(R24/(1/(1+J24*(2-1))))*O24/LEFT(Inputs!$C$18,1)/5280","v":2.8952972929310259},10.882290108951079,{"$f":"(T24/60)*((Inputs!$C$13*Calculations!R24*(1-Calculations!J24))+(Inputs!$C$14*Calculations!R24*Calculations!J24))","v":3542.8731911984623},{"$f":"IF(R24>0,($J$5/60)*(((I24*$J$3/(1-$J$3))*(1-J24)*Inputs!$C$13)+((I24*$J$3/(1-$J$3))*J24*Inputs!$C$14)),0)","v":0},3542.8731911984623,null,"2019-08-01T13:00:00","S20","S24",{"$f":"IF(AND(Z24<>\"\",AA24<>\"\"),MAX(INDIRECT(Z24):INDIRECT(AA24)),\"\")","v":2.8952972929310259},"Q","2019-08-01T13:00:00",null,{"$f":"IF(G24=\"TRUE 1\",IF(E24=\"NT\",MROUND(Inputs!$C$32*$AF$3*(1/(1+M24*(2-1))),1),MROUND(Inputs!$C$30*$AF$3*(1/(1+M24*(2-1))),1)),\nIF(G24=\"TRUE 2\",IF(E24=\"NT\",MROUND(Inputs!$D$32*$AG$3*(1/(1+M24*(2-1))),1),MROUND(Inputs!$D$30*$AG$3*(1/(1+M24*(2-1))),1)),\nIF(G24=\"TRUE 3\",IF(E24=\"NT\",MROUND(Inputs!$E$32*$AH$3*(1/(1+M24*(2-1))),1),MROUND(Inputs!$E$30*$AH$3*(1/(1+M24*(2-1))),1)),\nIF(G24=\"TRUE 4\",IF(E24=\"NT\",MROUND(Inputs!$F$32*$AI$3*(1/(1+M24*(2-1))),1),MROUND(Inputs!$F$30*$AI$3*(1/(1+M24*(2-1))),1)),\nMROUND(Inputs!$C$15*(1/(1+M24*(2-1)))*($AF$3+$AF$4),1)))))","v":4681},-699,0,{"$f":"(AH24/(1/(1+M24*(2-1))))*O24/LEFT(Inputs!$C$18,1)/5280","v":0},0,{"$f":"(AJ24/60)*((Inputs!$C$13*Calculations!AH24*(1-Calculations!M24))+(Inputs!$C$14*Calculations!AH24*Calculations!M24))","v":0},{"$f":"IF(AH24>0,($M$5/60)*(((L24*$M$3/(1-$M$3))*(1-M24)*Inputs!$C$13)+((L24*$M$3/(1-$M$3))*M24*Inputs!$C$14)),0)","v":0},0,null,"2019-08-01T13:00:00","","",{"$f":"IF(AND(AP24<>\"\",AQ24<>\"\"),MAX(INDIRECT(AP24):INDIRECT(AQ24)),\"\")","v":""},"",""]
["2019-08-01",5,"Thursday","14:00:00",{"$f":"INDEX(Lists!$M$3:$M$26,MATCH(Calculations!D25,Lists!$L$3:$L$26,0))","v":"MD"},110,{"$f":"IF(INDEX(Inputs!$H$86:$H$253,MATCH(F25,Inputs!$D$86:$D$253,0)),\"TRUE 4\",\nIF(INDEX(Inputs!$G$86:$G$253,MATCH(F25,Inputs!$D$86:$D$253,0)),\"TRUE 3\",\nIF(INDEX(Inputs!$F$86:$F$253,MATCH(F25,Inputs!$D$86:$D$253,0)),\"TRUE 2\",\nIF(INDEX(Inputs!$E$86:$E$253,MATCH(F25,Inputs!$D$86:$D$253,0)),\"TRUE 1\",\nFALSE))))","v":false},null,{"$f":"'Volume Import'!C16*'Volume Import'!$H$14*(1+'Volume Import'!$H$15)*(1-'Volume Import'!$H$16)","v":5330},{"$f":"IF(AND('Volume Import'!D16=0,'Volume Import'!C16=0),0,\nIF('Volume Import'!D16=0,INDEX('Volume Import'!$K$2:$Q$5,MATCH(E25,'Volume Import'!$R$2:$R$5,0),MATCH(C25,'Volume Import'!$K$1:$Q$1,0)),\n'Volume Import'!D16/'Volume Import'!C16))","v":0.1},null,{"$f":"'Volume Import'!E16*'Volume Import'!$I$14*(1+'Volume Import'!$I$15)*(1-'Volume Import'!$I$16)","v":5542},{"$f":"IF('Volume Import'!F16=0,J25,'Volume Import'!F16/'Volume Import'!E16)","v":0.1},null,{"$f":"IF(G25=\"TRUE 1\",IF(E25=\"NT\",Inputs!$C$35,Inputs!$C$34),\nIF(G25=\"TRUE 2\",IF(E25=\"NT\",Inputs!$D$35,Inputs!$D$34),\nIF(G25=\"TRUE 3\",IF(E25=\"NT\",Inputs!$E$35,Inputs!$E$34),\nIF(G25=\"TRUE 4\",IF(E25=\"NT\",Inputs!$F$35,Inputs!$F$34),\nO24))))","v":65.476687896673383},{"$f":"IF(G25=\"TRUE 1\",IF(E25=\"NT\",MROUND(Inputs!$C$32*$P$3*(1/(1+J25*(2-1))),1),MROUND(Inputs!$C$30*$P$3*(1/(1+J25*(2-1))),1)),\nIF(G25=\"TRUE 2\",IF(E25=\"NT\",MROUND(Inputs!$D$32*$Q$3*(1/(1+J25*(2-1))),1),MROUND(Inputs!$D$30*$Q$3*(1/(1+J25*(2-1))),1)),\nIF(G25=\"TRUE 3\",IF(E25=\"NT\",MROUND(Inputs!$E$32*$R$3*(1/(1+J25*(2-1))),1),MROUND(Inputs!$E$30*$R$3*(1/(1+J25*(2-1))),1)),\nIF(G25=\"TRUE 4\",IF(E25=\"NT\",MROUND(Inputs!$F$32*$S$3*(1/(1+J25*(2-1))),1),MROUND(Inputs!$F$30*$S$3*(1/(1+J25*(2-1))),1)),\nMROUND(Inputs!$C$15*(1/(1+J25*(2-1)))*($P$3+$P$4),1)))))","v":8727},-3397,0,{"$f":"(R25/(1/(1+J25*(2-1))))*O25/LEFT(Inputs!$C$18,1)/5280","v":0},0,{"$f":"(T25/60)*((Inputs!$C$13*Calculations!R25*(1-Calculations!J25))+(Inputs!$C$14*Calculations!R25*Calculations!J25))","v":0},{"$f":"IF(R25>0,($J$5/60)*(((I25*$J$3/(1-$J$3))*(1-J25)*Inputs!$C$13)+((I25*$J$3/(1-$J$3))*J25*Inputs!$C$14)),0)","v":0},0,null,"2019-08-01T14:00:00","","",{"$f":"IF(AND(Z25<>\"\",AA25<>\"\"),MAX(INDIRECT(Z25):INDIRECT(AA25)),\"\")","v":""},"","",null,{"$f":"IF(G25=\"TRUE 1\",IF(E25=\"NT\",MROUND(Inputs!$C$32*$AF$3*(1/(1+M25*(2-1))),1),MROUND(Inputs!$C$30*$AF$3*(1/(1+M25*(2-1))),1)),\nIF(G25=\"TRUE 2\",IF(E25=\"NT\",MROUND(Inputs!$D$32*$AG$3*(1/(1+M25*(2-1))),1),MROUND(Inputs!$D$30*$AG$3*(1/(1+M25*(2-1))),1)),\nIF(G25=\"TRUE 3\",IF(E25=\"NT\",MROUND(Inputs!$E$32*$AH$3*(1/(1+M25*(2-1))),1),MROUND(Inputs!$E$30*$AH$3*(1/(1+M25*(2-1))),1)),\nIF(G25=\"TRUE 4\",IF(E25=\"NT\",MROUND(Inputs!$F$32*$AI$3*(1/(1+M25*(2-1))),1),MROUND(Inputs!$F$30*$AI$3*(1/(1+M25*(2-1))),1)),\nMROUND(Inputs!$C$15*(1/(1+M25*(2-1)))*($AF$3+$AF$4),1)))))","v":8727},-3185,0,{"$f":"(AH25/(1/(1+M25*(2-1))))*O25/LEFT(Inputs!$C$18,1)/5280","v":0},0,{"$f":"(AJ25/60)*((Inputs!$C$13*Calculations!AH25*(1-Calculations!M25))+(Inputs!$C$14*Calculations!AH25*Calculations!M25))","v":0},{"$f":"IF(AH25>0,($M$5/60)*(((L25*$M$3/(1-$M$3))*(1-M25)*Inputs!$C$13)+((L25*$M$3/(1-$M$3))*M25*Inputs!$C$14)),0)","v":0},0,null,"2019-08-01T14:00:00","","",{"$f":"IF(AND(AP25<>\"\",AQ25<>\"\"),MAX(INDIRECT(AP25):INDIRECT(AQ25)),\"\")","v":""},"",""]
["2019-08-01",5,"Thursday","15:00:00",{"$f":"INDEX(Lists!$M$3:$M$26,MATCH(Calculations!D26,Lists!$L$3:$L$26,0))","v":"PM"},111,{"$f":"IF(INDEX(Inputs!$H$86:$H$253,MATCH(F26,Inputs!$D$86:$D$253,0)),\"TRUE 4\",\nIF(INDEX(Inputs!$G$86:$G$253,MATCH(F26,Inputs!$D$86:$D$253,0)),\"TRUE 3\",\nIF(INDEX(Inputs!$F$86:$F$253,MATCH(F26,Inputs!$D$86:$D$253,0)),\"TRUE 2\",\nIF(INDEX(Inputs!$E$86:$E$253,MATCH(F26,Inputs!$D$86:$D$253,0)),\"TRUE 1\",\nFALSE))))","v":false},null,{"$f":"'Volume Import'!C17*'Volume Import'!$H$14*(1+'Volume Import'!$H$15)*(1-'Volume Import'!$H$16)","v":5481},{"$f":"IF(AND('Volume Import'!D17=0,'Volume Import'!C17=0),0,\nIF('Volume Import'!D17=0,INDEX('Volume Import'!$K$2:$Q$5,MATCH(E26,'Volume Import'!$R$2:$R$5,0),MATCH(C26,'Volume Import'!$K$1:$Q$1,0)),\n'Volume Import'!D17/'Volume Import'!C17))","v":0.1},null,{"$f":"'Volume Import'!E17*'Volume Import'!$I$14*(1+'Volume Import'!$I$15)*(1-'Volume Import'!$I$16)","v":6961},{"$f":"IF('Volume Import'!F17=0,J26,'Volume Import'!F17/'Volume Import'!E17)","v":0.1},null,{"$f":"IF(G26=\"TRUE 1\",IF(E26=\"NT\",Inputs!$C$35,Inputs!$C$34),\nIF(G26=\"TRUE 2\",IF(E26=\"NT\",Inputs!$D$35,Inputs!$D$34),\nIF(G26=\"TRUE 3\",IF(E26=\"NT\",Inputs!$E$35,Inputs!$E$34),\nIF(G26=\"TRUE 4\",IF(E26=\"NT\",Inputs!$F$35,Inputs!$F$34),\nO25))))","v":65.476687896673383},{"$f":"IF(G26=\"TRUE 1\",IF(E26=\"NT\",MROUND(Inputs!$C$32*$P$3*(1/(1+J26*(2-1))),1),MROUND(Inputs!$C$30*$P$3*(1/(1+J26*(2-1))),1)),\nIF(G26=\"TRUE 2\",IF(E26=\"NT\",MROUND(Inputs!$D$32*$Q$3*(1/(1+J26*(2-1))),1),MROUND(Inputs!$D$30*$Q$3*(1/(1+J26*(2-1))),1)),\nIF(G26=\"TRUE 3\",IF(E26=\"NT\",MROUND(Inputs!$E$32*$R$3*(1/(1+J26*(2-1))),1),MROUND(Inputs!$E$30*$R$3*(1/(1+J26*(2-1))),1)),\nIF(G26=\"TRUE 4\",IF(E26=\"NT\",MROUND(Inputs!$F$32*$S$3*(1/(1+J26*(2-1))),1),MROUND(Inputs!$F$30*$S$3*(1/(1+J26*(2-1))),1)),\nMROUND(Inputs!$C$15*(1/(1+J26*(2-1)))*($P$3+$P$4),1)))))","v":8727},-3246,0,{"$f":"(R26/(1/(1+J26*(2-1))))*O26/LEFT(Inputs!$C$18,1)/5280","v":0},0,{"$f":"(T26/60)*((Inputs!$C$13*Calculations!R26*(1-Calculations!J26))+(Inputs!$C$14*Calculations!R26*Calculations!J26))","v":0},{"$f":"IF(R26>0,($J$5/60)*(((I26*$J$3/(1-$J$3))*(1-J26)*Inputs!$C$13)+((I26*$J$3/(1-$J$3))*J26*Inputs!$C$14)),0)","v":0},0,null,"2019-08-01T15:00:00","","",{"$f":"IF(AND(Z26<>\"\",AA26<>\"\"),MAX(INDIRECT(Z26):INDIRECT(AA26)),\"\")","v":""},"","",null,{"$f":"IF(G26=\"TRUE 1\",IF(E26=\"NT\",MROUND(Inputs!$C$32*$AF$3*(1/(1+M26*(2-1))),1),MROUND(Inputs!$C$30*$AF$3*(1/(1+M26*(2-1))),1)),\nIF(G26=\"TRUE 2\",IF(E26=\"NT\",MROUND(Inputs!$D$32*$AG$3*(1/(1+M26*(2-1))),1),MROUND(Inputs!$D$30*$AG$3*(1/(1+M26*(2-1))),1)),\nIF(G26=\"TRUE 3\",IF(E26=\"NT\",MROUND(Inputs!$E$32*$AH$3*(1/(1+M26*(2-1))),1),MROUND(Inputs!$E$30*$AH$3*(1/(1+M26*(2-1))),1)),\nIF(G26=\"TRUE 4\",IF(E26=\"NT\",MROUND(Inputs!$F$32*$AI$3*(1/(1+M26*(2-1))),1),MROUND(Inputs!$F$30*$AI$3*(1/(1+M26*(2-1))),1)),\nMROUND(Inputs!$C$15*(1/(1+M26*(2-1)))*($AF$3+$AF$4),1)))))","v":8727},-1766,0,{"$f":"(AH26/(1/(1+M26*(2-1))))*O26/LEFT(Inputs!$C$18,1)/5280","v":0},0,{"$f":"(AJ26/60)*((Inputs!$C$13*Calculations!AH26*(1-Calculations!M26))+(Inputs!$C$14*Calculations!AH26*Calculations!M26))","v":0},{"$f":"IF(AH26>0,($M$5/60)*(((L26*$M$3/(1-$M$3))*(1-M26)*Inputs!$C$13)+((L26*$M$3/(1-$M$3))*M26*Inputs!$C$14)),0)","v":0},0,null,"2019-08-01T15:00:00","","",{"$f":"IF(AND(AP26<>\"\",AQ26<>\"\"),MAX(INDIRECT(AP26):INDIRECT(AQ26)),\"\")","v":""},"",""]
["2019-08-01",5,"Thursday","16:00:00",{"$f":"INDEX(Lists!$M$3:$M$26,MATCH(Calculations!D27,Lists!$L$3:$L$26,0))","v":"PM"},112,{"$f":"IF(INDEX(Inputs!$H$86:$H$253,MATCH(F27,Inputs!$D$86:$D$253,0)),\"TRUE 4\",\nIF(INDEX(Inputs!$G$86:$G$253,MATCH(F27,Inputs!$D$86:$D$253,0)),\"TRUE 3\",\nIF(INDEX(Inputs!$F$86:$F$253,MATCH(F27,Inputs!$D$86:$D$253,0)),\"TRUE 2\",\nIF(INDEX(Inputs!$E$86:$E$253,MATCH(F27,Inputs!$D$86:$D$253,0)),\"TRUE 1\",\nFALSE))))","v":false},null,{"$f":"'Volume Import'!C18*'Volume Import'!$H$14*(1+'Volume Import'!$H$15)*(1-'Volume Import'!$H$16)","v":5031},{"$f":"IF(AND('Volume Import'!D18=0,'Volume Import'!C18=0),0,\nIF('Volume Import'!D18=0,INDEX('Volume Import'!$K$2:$Q$5,MATCH(E27,'Volume Import'!$R$2:$R$5,0),MATCH(C27,'Volume Import'!$K$1:$Q$1,0)),\n'Volume Import'!D18/'Volume Import'!C18))","v":0.1},null,{"$f":"'Volume Import'!E18*'Volume Import'!$I$14*(1+'Volume Import'!$I$15)*(1-'Volume Import'!$I$16)","v":6811},{"$f":"IF('Volume Import'!F18=0,J27,'Volume Import'!F18/'Volume Import'!E18)","v":0.1},null,{"$f":"IF(G27=\"TRUE 1\",IF(E27=\"NT\",Inputs!$C$35,Inputs!$C$34),\nIF(G27=\"TRUE 2\",IF(E27=\"NT\",Inputs!$D$35,Inputs!$D$34),\nIF(G27=\"TRUE 3\",IF(E27=\"NT\",Inputs!$E$35,Inputs!$E$34),\nIF(G27=\"TRUE 4\",IF(E27=\"NT\",Inputs!$F$35,Inputs!$F$34),\nO26))))","v":65.476687896673383},{"$f":"IF(G27=\"TRUE 1\",IF(E27=\"NT\",MROUND(Inputs!$C$32*$P$3*(1/(1+J27*(2-1))),1),MROUND(Inputs!$C$30*$P$3*(1/(1+J27*(2-1))),1)),\nIF(G27=\"TRUE 2\",IF(E27=\"NT\",MROUND(Inputs!$D$32*$Q$3*(1/(1+J27*(2-1))),1),MROUND(Inputs!$D$30*$Q$3*(1/(1+J27*(2-1))),1)),\nIF(G27=\"TRUE 3\",IF(E27=\"NT\",MROUND(Inputs!$E$32*$R$3*(1/(1+J27*(2-1))),1),MROUND(Inputs!$E$30*$R$3*(1/(1+J27*(2-1))),1)),\nIF(G27=\"TRUE 4\",IF(E27=\"NT\",MROUND(Inputs!$F$32*$S$3*(1/(1+J27*(2-1))),1),MROUND(Inputs!$F$30*$S$3*(1/(1+J27*(2-1))),1)),\nMROUND(Inputs!$C$15*(1/(1+J27*(2-1)))*($P$3+$P$4),1)))))","v":8727},-3696,0,{"$f":"(R27/(1/(1+J27*(2-1))))*O27/LEFT(Inputs!$C$18,1)/5280","v":0},0,{"$f":"(T27/60)*((Inputs!$C$13*Calculations!R27*(1-Calculations!J27))+(Inputs!$C$14*Calculations!R27*Calculations!J27))","v":0},{"$f":"IF(R27>0,($J$5/60)*(((I27*$J$3/(1-$J$3))*(1-J27)*Inputs!$C$13)+((I27*$J$3/(1-$J$3))*J27*Inputs!$C$14)),0)","v":0},0,null,"2019-08-01T16:00:00","","",{"$f":"IF(AND(Z27<>\"\",AA27<>\"\"),MAX(INDIRECT(Z27):INDIRECT(AA27)),\"\")","v":""},"","",null,{"$f":"IF(G27=\"TRUE 1\",IF(E27=\"NT\",MROUND(Inputs!$C$32*$AF$3*(1/(1+M27*(2-1))),1),MROUND(Inputs!$C$30*$AF$3*(1/(1+M27*(2-1))),1)),\nIF(G27=\"TRUE 2\",IF(E27=\"NT\",MROUND(Inputs!$D$32*$AG$3*(1/(1+M27*(2-1))),1),MROUND(Inputs!$D$30*$AG$3*(1/(1+M27*(2-1))),1)),\nIF(G27=\"TRUE 3\",IF(E27=\"NT\",MROUND(Inputs!$E$32*$AH$3*(1/(1+M27*(2-1))),1),MROUND(Inputs!$E$30*$AH$3*(1/(1+M27*(2-1))),1)),\nIF(G27=\"TRUE 4\",IF(E27=\"NT\",MROUND(Inputs!$F$32*$AI$3*(1/(1+M27*(2-1))),1),MROUND(Inputs!$F$30*$AI$3*(1/(1+M27*(2-1))),1)),\nMROUND(Inputs!$C$15*(1/(1+M27*(2-1)))*($AF$3+$AF$4),1)))))","v":8727},-1916,0,{"$f":"(AH27/(1/(1+M27*(2-1))))*O27/LEFT(Inputs!$C$18,1)/5280","v":0},0,{"$f":"(AJ27/60)*((Inputs!$C$13*Calculations!AH27*(1-Calculations!M27))+(Inputs!$C$14*Calculations!AH27*Calculations!M27))","v":0},{"$f":"IF(AH27>0,($M$5/60)*(((L27*$M$3/(1-$M$3))*(1-M27)*Inputs!$C$13)+((L27*$M$3/(1-$M$3))*M27*Inputs!$C$14)),0)","v":0},0,null,"2019-08-01T16:00:00","","",{"$f":"IF(AND(AP27<>\"\",AQ27<>\"\"),MAX(INDIRECT(AP27):INDIRECT(AQ27)),\"\")","v":""},"",""]
["2019-08-01",5,"Thursday","17:00:00",{"$f":"INDEX(Lists!$M$3:$M$26,MATCH(Calculations!D28,Lists!$L$3:$L$26,0))","v":"PM"},113,{"$f":"IF(INDEX(Inputs!$H$86:$H$253,MATCH(F28,Inputs!$D$86:$D$253,0)),\"TRUE 4\",\nIF(INDEX(Inputs!$G$86:$G$253,MATCH(F28,Inputs!$D$86:$D$253,0)),\"TRUE 3\",\nIF(INDEX(Inputs!$F$86:$F$253,MATCH(F28,Inputs!$D$86:$D$253,0)),\"TRUE 2\",\nIF(INDEX(Inputs!$E$86:$E$253,MATCH(F28,Inputs!$D$86:$D$253,0)),\"TRUE 1\",\nFALSE))))","v":false},null,{"$f":"'Volume Import'!C19*'Volume Import'!$H$14*(1+'Volume Import'!$H$15)*(1-'Volume Import'!$H$16)","v":4965},{"$f":"IF(AND('Volume Import'!D19=0,'Volume Import'!C19=0),0,\nIF('Volume Import'!D19=0,INDEX('Volume Import'!$K$2:$Q$5,MATCH(E28,'Volume Import'!$R$2:$R$5,0),MATCH(C28,'Volume Import'!$K$1:$Q$1,0)),\n'Volume Import'!D19/'Volume Import'!C19))","v":0.1},null,{"$f":"'Volume Import'!E19*'Volume Import'!$I$14*(1+'Volume Import'!$I$15)*(1-'Volume Import'!$I$16)","v":6584},{"$f":"IF('Volume Import'!F19=0,J28,'Volume Import'!F19/'Volume Import'!E19)","v":0.1},null,{"$f":"IF(G28=\"TRUE 1\",IF(E28=\"NT\",Inputs!$C$35,Inputs!$C$34),\nIF(G28=\"TRUE 2\",IF(E28=\"NT\",Inputs!$D$35,Inputs!$D$34),\nIF(G28=\"TRUE 3\",IF(E28=\"NT\",Inputs!$E$35,Inputs!$E$34),\nIF(G28=\"TRUE 4\",IF(E28=\"NT\",Inputs!$F$35,Inputs!$F$34),\nO27))))","v":65.476687896673383},{"$f":"IF(G28=\"TRUE 1\",IF(E28=\"NT\",MROUND(Inputs!$C$32*$P$3*(1/(1+J28*(2-1))),1),MROUND(Inputs!$C$30*$P$3*(1/(1+J28*(2-1))),1)),\nIF(G28=\"TRUE 2\",IF(E28=\"NT\",MROUND(Inputs!$D$32*$Q$3*(1/(1+J28*(2-1))),1),MROUND(Inputs!$D$30*$Q$3*(1/(1+J28*(2-1))),1)),\nIF(G28=\"TRUE 3\",IF(E28=\"NT\",MROUND(Inputs!$E$32*$R$3*(1/(1+J28*(2-1))),1),MROUND(Inputs!$E$30*$R$3*(1/(1+J28*(2-1))),1)),\nIF(G28=\"TRUE 4\",IF(E28=\"NT\",MROUND(Inputs!$F$32*$S$3*(1/(1+J28*(2-1))),1),MROUND(Inputs!$F$30*$S$3*(1/(1+J28*(2-1))),1)),\nMROUND(Inputs!$C$15*(1/(1+J28*(2-1)))*($P$3+$P$4),1)))))","v":8727},-3762,0,{"$f":"(R28/(1/(1+J28*(2-1))))*O28/LEFT(Inputs!$C$18,1)/5280","v":0},0,{"$f":"(T28/60)*((Inputs!$C$13*Calculations!R28*(1-Calculations!J28))+(Inputs!$C$14*Calculations!R28*Calculations!J28))","v":0},{"$f":"IF(R28>0,($J$5/60)*(((I28*$J$3/(1-$J$3))*(1-J28)*Inputs!$C$13)+((I28*$J$3/(1-$J$3))*J28*Inputs!$C$14)),0)","v":0},0,null,"2019-08-01T17:00:00","","",{"$f":"IF(AND(Z28<>\"\",AA28<>\"\"),MAX(INDIRECT(Z28):INDIRECT(AA28)),\"\")","v":""},"","",null,{"$f":"IF(G28=\"TRUE 1\",IF(E28=\"NT\",MROUND(Inputs!$C$32*$AF$3*(1/(1+M28*(2-1))),1),MROUND(Inputs!$C$30*$AF$3*(1/(1+M28*(2-1))),1)),\nIF(G28=\"TRUE 2\",IF(E28=\"NT\",MROUND(Inputs!$D$32*$AG$3*(1/(1+M28*(2-1))),1),MROUND(Inputs!$D$30*$AG$3*(1/(1+M28*(2-1))),1)),\nIF(G28=\"TRUE 3\",IF(E28=\"NT\",MROUND(Inputs!$E$32*$AH$3*(1/(1+M28*(2-1))),1),MROUND(Inputs!$E$30*$AH$3*(1/(1+M28*(2-1))),1)),\nIF(G28=\"TRUE 4\",IF(E28=\"NT\",MROUND(Inputs!$F$32*$AI$3*(1/(1+M28*(2-1))),1),MROUND(Inputs!$F$30*$AI$3*(1/(1+M28*(2-1))),1)),\nMROUND(Inputs!$C$15*(1/(1+M28*(2-1)))*($AF$3+$AF$4),1)))))","v":8727},-2143,0,{"$f":"(AH28/(1/(1+M28*(2-1))))*O28/LEFT(Inputs!$C$18,1)/5280","v":0},0,{"$f":"(AJ28/60)*((Inputs!$C$13*Calculations!AH28*(1-Calculations!M28))+(Inputs!$C$14*Calculations!AH28*Calculations!M28))","v":0},{"$f":"IF(AH28>0,($M$5/60)*(((L28*$M$3/(1-$M$3))*(1-M28)*Inputs!$C$13)+((L28*$M$3/(1-$M$3))*M28*Inputs!$C$14)),0)","v":0},0,null,"2019-08-01T17:00:00","","",{"$f":"IF(AND(AP28<>\"\",AQ28<>\"\"),MAX(INDIRECT(AP28):INDIRECT(AQ28)),\"\")","v":""},"",""]
["2019-08-01",5,"Thursday","18:00:00",{"$f":"INDEX(Lists!$M$3:$M$26,MATCH(Calculations!D29,Lists!$L$3:$L$26,0))","v":"NT"},114,{"$f":"IF(INDEX(Inputs!$H$86:$H$253,MATCH(F29,Inputs!$D$86:$D$253,0)),\"TRUE 4\",\nIF(INDEX(Inputs!$G$86:$G$253,MATCH(F29,Inputs!$D$86:$D$253,0)),\"TRUE 3\",\nIF(INDEX(Inputs!$F$86:$F$253,MATCH(F29,Inputs!$D$86:$D$253,0)),\"TRUE 2\",\nIF(INDEX(Inputs!$E$86:$E$253,MATCH(F29,Inputs!$D$86:$D$253,0)),\"TRUE 1\",\nFALSE))))","v":false},null,{"$f":"'Volume Import'!C20*'Volume Import'!$H$14*(1+'Volume Import'!$H$15)*(1-'Volume Import'!$H$16)","v":4233},{"$f":"IF(AND('Volume Import'!D20=0,'Volume Import'!C20=0),0,\nIF('Volume Import'!D20=0,INDEX('Volume Import'!$K$2:$Q$5,MATCH(E29,'Volume Import'!$R$2:$R$5,0),MATCH(C29,'Volume Import'!$K$1:$Q$1,0)),\n'Volume Import'!D20/'Volume Import'!C20))","v":0.1},null,{"$f":"'Volume Import'!E20*'Volume Import'!$I$14*(1+'Volume Import'!$I$15)*(1-'Volume Import'!$I$16)","v":4865},{"$f":"IF('Volume Import'!F20=0,J29,'Volume Import'!F20/'Volume Import'!E20)","v":0.1},null,{"$f":"IF(G29=\"TRUE 1\",IF(E29=\"NT\",Inputs!$C$35,Inputs!$C$34),\nIF(G29=\"TRUE 2\",IF(E29=\"NT\",Inputs!$D$35,Inputs!$D$34),\nIF(G29=\"TRUE 3\",IF(E29=\"NT\",Inputs!$E$35,Inputs!$E$34),\nIF(G29=\"TRUE 4\",IF(E29=\"NT\",Inputs!$F$35,Inputs!$F$34),\nO28))))","v":65.476687896673383},{"$f":"IF(G29=\"TRUE 1\",IF(E29=\"NT\",MROUND(Inputs!$C$32*$P$3*(1/(1+J29*(2-1))),1),MROUND(Inputs!$C$30*$P$3*(1/(1+J29*(2-1))),1)),\nIF(G29=\"TRUE 2\",IF(E29=\"NT\",MROUND(Inputs!$D$32*$Q$3*(1/(1+J29*(2-1))),1),MROUND(Inputs!$D$30*$Q$3*(1/(1+J29*(2-1))),1)),\nIF(G29=\"TRUE 3\",IF(E29=\"NT\",MROUND(Inputs!$E$32*$R$3*(1/(1+J29*(2-1))),1),MROUND(Inputs!$E$30*$R$3*(1/(1+J29*(2-1))),1)),\nIF(G29=\"TRUE 4\",IF(E29=\"NT\",MROUND(Inputs!$F$32*$S$3*(1/(1+J29*(2-1))),1),MROUND(Inputs!$F$30*$S$3*(1/(1+J29*(2-1))),1)),\nMROUND(Inputs!$C$15*(1/(1+J29*(2-1)))*($P$3+$P$4),1)))))","v":8727},-4494,0,{"$f":"(R29/(1/(1+J29*(2-1))))*O29/LEFT(Inputs!$C$18,1)/5280","v":0},0,{"$f":"(T29/60)*((Inputs!$C$13*Calculations!R29*(1-Calculations!J29))+(Inputs!$C$14*Calculations!R29*Calculations!J29))","v":0},{"$f":"IF(R29>0,($J$5/60)*(((I29*$J$3/(1-$J$3))*(1-J29)*Inputs!$C$13)+((I29*$J$3/(1-$J$3))*J29*Inputs!$C$14)),0)","v":0},0,null,"2019-08-01T18:00:00","","",{"$f":"IF(AND(Z29<>\"\",AA29<>\"\"),MAX(INDIRECT(Z29):INDIRECT(AA29)),\"\")","v":""},"","",null,{"$f":"IF(G29=\"TRUE 1\",IF(E29=\"NT\",MROUND(Inputs!$C$32*$AF$3*(1/(1+M29*(2-1))),1),MROUND(Inputs!$C$30*$AF$3*(1/(1+M29*(2-1))),1)),\nIF(G29=\"TRUE 2\",IF(E29=\"NT\",MROUND(Inputs!$D$32*$AG$3*(1/(1+M29*(2-1))),1),MROUND(Inputs!$D$30*$AG$3*(1/(1+M29*(2-1))),1)),\nIF(G29=\"TRUE 3\",IF(E29=\"NT\",MROUND(Inputs!$E$32*$AH$3*(1/(1+M29*(2-1))),1),MROUND(Inputs!$E$30*$AH$3*(1/(1+M29*(2-1))),1)),\nIF(G29=\"TRUE 4\",IF(E29=\"NT\",MROUND(Inputs!$F$32*$AI$3*(1/(1+M29*(2-1))),1),MROUND(Inputs!$F$30*$AI$3*(1/(1+M29*(2-1))),1)),\nMROUND(Inputs!$C$15*(1/(1+M29*(2-1)))*($AF$3+$AF$4),1)))))","v":8727},-3862,0,{"$f":"(AH29/(1/(1+M29*(2-1))))*O29/LEFT(Inputs!$C$18,1)/5280","v":0},0,{"$f":"(AJ29/60)*((Inputs!$C$13*Calculations!AH29*(1-Calculations!M29))+(Inputs!$C$14*Calculations!AH29*Calculations!M29))","v":0},{"$f":"IF(AH29>0,($M$5/60)*(((L29*$M$3/(1-$M$3))*(1-M29)*Inputs!$C$13)+((L29*$M$3/(1-$M$3))*M29*Inputs!$C$14)),0)","v":0},0,null,"2019-08-01T18:00:00","","",{"$f":"IF(AND(AP29<>\"\",AQ29<>\"\"),MAX(INDIRECT(AP29):INDIRECT(AQ29)),\"\")","v":""},"",""]
["2019-08-01",5,"Thursday","19:00:00",{"$f":"INDEX(Lists!$M$3:$M$26,MATCH(Calculations!D30,Lists!$L$3:$L$26,0))","v":"NT"},115,{"$f":"IF(INDEX(Inputs!$H$86:$H$253,MATCH(F30,Inputs!$D$86:$D$253,0)),\"TRUE 4\",\nIF(INDEX(Inputs!$G$86:$G$253,MATCH(F30,Inputs!$D$86:$D$253,0)),\"TRUE 3\",\nIF(INDEX(Inputs!$F$86:$F$253,MATCH(F30,Inputs!$D$86:$D$253,0)),\"TRUE 2\",\nIF(INDEX(Inputs!$E$86:$E$253,MATCH(F30,Inputs!$D$86:$D$253,0)),\"TRUE 1\",\nFALSE))))","v":false},null,{"$f":"'Volume Import'!C21*'Volume Import'!$H$14*(1+'Volume Import'!$H$15)*(1-'Volume Import'!$H$16)","v":3177},{"$f":"IF(AND('Volume Import'!D21=0,'Volume Import'!C21=0),0,\nIF('Volume Import'!D21=0,INDEX('Volume Import'!$K$2:$Q$5,MATCH(E30,'Volume Import'!$R$2:$R$5,0),MATCH(C30,'Volume Import'!$K$1:$Q$1,0)),\n'Volume Import'!D21/'Volume Import'!C21))","v":0.1},null,{"$f":"'Volume Import'!E21*'Volume Import'!$I$14*(1+'Volume Import'!$I$15)*(1-'Volume Import'!$I$16)","v":3681},{"$f":"IF('Volume Import'!F21=0,J30,'Volume Import'!F21/'Volume Import'!E21)","v":0.1},null,{"$f":"IF(G30=\"TRUE 1\",IF(E30=\"NT\",Inputs!$C$35,Inputs!$C$34),\nIF(G30=\"TRUE 2\",IF(E30=\"NT\",Inputs!$D$35,Inputs!$D$34),\nIF(G30=\"TRUE 3\",IF(E30=\"NT\",Inputs!$E$35,Inputs!$E$34),\nIF(G30=\"TRUE 4\",IF(E30=\"NT\",Inputs!$F$35,Inputs!$F$34),\nO29))))","v":65.476687896673383},{"$f":"IF(G30=\"TRUE 1\",IF(E30=\"NT\",MROUND(Inputs!$C$32*$P$3*(1/(1+J30*(2-1))),1),MROUND(Inputs!$C$30*$P$3*(1/(1+J30*(2-1))),1)),\nIF(G30=\"TRUE 2\",IF(E30=\"NT\",MROUND(Inputs!$D$32*$Q$3*(1/(1+J30*(2-1))),1),MROUND(Inputs!$D$30*$Q$3*(1/(1+J30*(2-1))),1)),\nIF(G30=\"TRUE 3\",IF(E30=\"NT\",MROUND(Inputs!$E$32*$R$3*(1/(1+J30*(2-1))),1),MROUND(Inputs!$E$30*$R$3*(1/(1+J30*(2-1))),1)),\nIF(G30=\"TRUE 4\",IF(E30=\"NT\",MROUND(Inputs!$F$32*$S$3*(1/(1+J30*(2-1))),1),MROUND(Inputs!$F$30*$S$3*(1/(1+J30*(2-1))),1)),\nMROUND(Inputs!$C$15*(1/(1+J30*(2-1)))*($P$3+$P$4),1)))))","v":8727},-5550,0,{"$f":"(R30/(1/(1+J30*(2-1))))*O30/LEFT(Inputs!$C$18,1)/5280","v":0},0,{"$f":"(T30/60)*((Inputs!$C$13*Calculations!R30*(1-Calculations!J30))+(Inputs!$C$14*Calculations!R30*Calculations!J30))","v":0},{"$f":"IF(R30>0,($J$5/60)*(((I30*$J$3/(1-$J$3))*(1-J30)*Inputs!$C$13)+((I30*$J$3/(1-$J$3))*J30*Inputs!$C$14)),0)","v":0},0,null,"2019-08-01T19:00:00","","",{"$f":"IF(AND(Z30<>\"\",AA30<>\"\"),MAX(INDIRECT(Z30):INDIRECT(AA30)),\"\")","v":""},"","",null,{"$f":"IF(G30=\"TRUE 1\",IF(E30=\"NT\",MROUND(Inputs!$C$32*$AF$3*(1/(1+M30*(2-1))),1),MROUND(Inputs!$C$30*$AF$3*(1/(1+M30*(2-1))),1)),\nIF(G30=\"TRUE 2\",IF(E30=\"NT\",MROUND(Inputs!$D$32*$AG$3*(1/(1+M30*(2-1))),1),MROUND(Inputs!$D$30*$AG$3*(1/(1+M30*(2-1))),1)),\nIF(G30=\"TRUE 3\",IF(E30=\"NT\",MROUND(Inputs!$E$32*$AH$3*(1/(1+M30*(2-1))),1),MROUND(Inputs!$E$30*$AH$3*(1/(1+M30*(2-1))),1)),\nIF(G30=\"TRUE 4\",IF(E30=\"NT\",MROUND(Inputs!$F$32*$AI$3*(1/(1+M30*(2-1))),1),MROUND(Inputs!$F$30*$AI$3*(1/(1+M30*(2-1))),1)),\nMROUND(Inputs!$C$15*(1/(1+M30*(2-1)))*($AF$3+$AF$4),1)))))","v":8727},-5046,0,{"$f":"(AH30/(1/(1+M30*(2-1))))*O30/LEFT(Inputs!$C$18,1)/5280","v":0},0,{"$f":"(AJ30/60)*((Inputs!$C$13*Calculations!AH30*(1-Calculations!M30))+(Inputs!$C$14*Calculations!AH30*Calculations!M30))","v":0},{"$f":"IF(AH30>0,($M$5/60)*(((L30*$M$3/(1-$M$3))*(1-M30)*Inputs!$C$13)+((L30*$M$3/(1-$M$3))*M30*Inputs!$C$14)),0)","v":0},0,null,"2019-08-01T19:00:00","","",{"$f":"IF(AND(AP30<>\"\",AQ30<>\"\"),MAX(INDIRECT(AP30):INDIRECT(AQ30)),\"\")","v":""},"",""]
["2019-08-01",5,"Thursday","20:00:00",{"$f":"INDEX(Lists!$M$3:$M$26,MATCH(Calculations!D31,Lists!$L$3:$L$26,0))","v":"NT"},116,{"$f":"IF(INDEX(Inputs!$H$86:$H$253,MATCH(F31,Inputs!$D$86:$D$253,0)),\"TRUE 4\",\nIF(INDEX(Inputs!$G$86:$G$253,MATCH(F31,Inputs!$D$86:$D$253,0)),\"TRUE 3\",\nIF(INDEX(Inputs!$F$86:$F$253,MATCH(F31,Inputs!$D$86:$D$253,0)),\"TRUE 2\",\nIF(INDEX(Inputs!$E$86:$E$253,MATCH(F31,Inputs!$D$86:$D$253,0)),\"TRUE 1\",\nFALSE))))","v":false},null,{"$f":"'Volume Import'!C22*'Volume Import'!$H$14*(1+'Volume Import'!$H$15)*(1-'Volume Import'!$H$16)","v":2740},{"$f":"IF(AND('Volume Import'!D22=0,'Volume Import'!C22=0),0,\nIF('Volume Import'!D22=0,INDEX('Volume Import'!$K$2:$Q$5,MATCH(E31,'Volume Import'!$R$2:$R$5,0),MATCH(C31,'Volume Import'!$K$1:$Q$1,0)),\n'Volume Import'!D22/'Volume Import'!C22))","v":0.1},null,{"$f":"'Volume Import'!E22*'Volume Import'!$I$14*(1+'Volume Import'!$I$15)*(1-'Volume Import'!$I$16)","v":3127},{"$f":"IF('Volume Import'!F22=0,J31,'Volume Import'!F22/'Volume Import'!E22)","v":0.1},null,{"$f":"IF(G31=\"TRUE 1\",IF(E31=\"NT\",Inputs!$C$35,Inputs!$C$34),\nIF(G31=\"TRUE 2\",IF(E31=\"NT\",Inputs!$D$35,Inputs!$D$34),\nIF(G31=\"TRUE 3\",IF(E31=\"NT\",Inputs!$E$35,Inputs!$E$34),\nIF(G31=\"TRUE 4\",IF(E31=\"NT\",Inputs!$F$35,Inputs!$F$34),\nO30))))","v":65.476687896673383},{"$f":"IF(G31=\"TRUE 1\",IF(E31=\"NT\",MROUND(Inputs!$C$32*$P$3*(1/(1+J31*(2-1))),1),MROUND(Inputs!$C$30*$P$3*(1/(1+J31*(2-1))),1)),\nIF(G31=\"TRUE 2\",IF(E31=\"NT\",MROUND(Inputs!$D$32*$Q$3*(1/(1+J31*(2-1))),1),MROUND(Inputs!$D$30*$Q$3*(1/(1+J31*(2-1))),1)),\nIF(G31=\"TRUE 3\",IF(E31=\"NT\",MROUND(Inputs!$E$32*$R$3*(1/(1+J31*(2-1))),1),MROUND(Inputs!$E$30*$R$3*(1/(1+J31*(2-1))),1)),\nIF(G31=\"TRUE 4\",IF(E31=\"NT\",MROUND(Inputs!$F$32*$S$3*(1/(1+J31*(2-1))),1),MROUND(Inputs!$F$30*$S$3*(1/(1+J31*(2-1))),1)),\nMROUND(Inputs!$C$15*(1/(1+J31*(2-1)))*($P$3+$P$4),1)))))","v":8727},-5987,0,{"$f":"(R31/(1/(1+J31*(2-1))))*O31/LEFT(Inputs!$C$18,1)/5280","v":0},{"$f":"R31/P31*60","v":0},{"$f":"(T31/60)*((Inputs!$C$13*Calculations!R31*(1-Calculations!J31))+(Inputs!$C$14*Calculations!R31*Calculations!J31))","v":0},{"$f":"IF(R31>0,($J$5/60)*(((I31*$J$3/(1-$J$3))*(1-J31)*Inputs!$C$13)+((I31*$J$3/(1-$J$3))*J31*Inputs!$C$14)),0)","v":0},0,null,"2019-08-01T20:00:00","","",{"$f":"IF(AND(Z31<>\"\",AA31<>\"\"),MAX(INDIRECT(Z31):INDIRECT(AA31)),\"\")","v":""},"","",null,{"$f":"IF(G31=\"TRUE 1\",IF(E31=\"NT\",MROUND(Inputs!$C$32*$AF$3*(1/(1+M31*(2-1))),1),MROUND(Inputs!$C$30*$AF$3*(1/(1+M31*(2-1))),1)),\nIF(G31=\"TRUE 2\",IF(E31=\"NT\",MROUND(Inputs!$D$32*$AG$3*(1/(1+M31*(2-1))),1),MROUND(Inputs!$D$30*$AG$3*(1/(1+M31*(2-1))),1)),\nIF(G31=\"TRUE 3\",IF(E31=\"NT\",MROUND(Inputs!$E$32*$AH$3*(1/(1+M31*(2-1))),1),MROUND(Inputs!$E$30*$AH$3*(1/(1+M31*(2-1))),1)),\nIF(G31=\"TRUE 4\",IF(E31=\"NT\",MROUND(Inputs!$F$32*$AI$3*(1/(1+M31*(2-1))),1),MROUND(Inputs!$F$30*$AI$3*(1/(1+M31*(2-1))),1)),\nMROUND(Inputs!$C$15*(1/(1+M31*(2-1)))*($AF$3+$AF$4),1)))))","v":8727},-5600,0,{"$f":"(AH31/(1/(1+M31*(2-1))))*O31/LEFT(Inputs!$C$18,1)/5280","v":0},0,{"$f":"(AJ31/60)*((Inputs!$C$13*Calculations!AH31*(1-Calculations!M31))+(Inputs!$C$14*Calculations!AH31*Calculations!M31))","v":0},{"$f":"IF(AH31>0,($M$5/60)*(((L31*$M$3/(1-$M$3))*(1-M31)*Inputs!$C$13)+((L31*$M$3/(1-$M$3))*M31*Inputs!$C$14)),0)","v":0},0,null,"2019-08-01T20:00:00","","",{"$f":"IF(AND(AP31<>\"\",AQ31<>\"\"),MAX(INDIRECT(AP31):INDIRECT(AQ31)),\"\")","v":""},"",""]
["2019-08-01",5,"Thursday","21:00:00",{"$f":"INDEX(Lists!$M$3:$M$26,MATCH(Calculations!D32,Lists!$L$3:$L$26,0))","v":"NT"},117,{"$f":"IF(INDEX(Inputs!$H$86:$H$253,MATCH(F32,Inputs!$D$86:$D$253,0)),\"TRUE 4\",\nIF(INDEX(Inputs!$G$86:$G$253,MATCH(F32,Inputs!$D$86:$D$253,0)),\"TRUE 3\",\nIF(INDEX(Inputs!$F$86:$F$253,MATCH(F32,Inputs!$D$86:$D$253,0)),\"TRUE 2\",\nIF(INDEX(Inputs!$E$86:$E$253,MATCH(F32,Inputs!$D$86:$D$253,0)),\"TRUE 1\",\nFALSE))))","v":false},null,{"$f":"'Volume Import'!C23*'Volume Import'!$H$14*(1+'Volume Import'!$H$15)*(1-'Volume Import'!$H$16)","v":2331},{"$f":"IF(AND('Volume Import'!D23=0,'Volume Import'!C23=0),0,\nIF('Volume Import'!D23=0,INDEX('Volume Import'!$K$2:$Q$5,MATCH(E32,'Volume Import'!$R$2:$R$5,0),MATCH(C32,'Volume Import'!$K$1:$Q$1,0)),\n'Volume Import'!D23/'Volume Import'!C23))","v":0.1},null,{"$f":"'Volume Import'!E23*'Volume Import'!$I$14*(1+'Volume Import'!$I$15)*(1-'Volume Import'!$I$16)","v":2517},{"$f":"IF('Volume Import'!F23=0,J32,'Volume Import'!F23/'Volume Import'!E23)","v":0.1},null,{"$f":"IF(G32=\"TRUE 1\",IF(E32=\"NT\",Inputs!$C$35,Inputs!$C$34),\nIF(G32=\"TRUE 2\",IF(E32=\"NT\",Inputs!$D$35,Inputs!$D$34),\nIF(G32=\"TRUE 3\",IF(E32=\"NT\",Inputs!$E$35,Inputs!$E$34),\nIF(G32=\"TRUE 4\",IF(E32=\"NT\",Inputs!$F$35,Inputs!$F$34),\nO31))))","v":65.476687896673383},{"$f":"IF(G32=\"TRUE 1\",IF(E32=\"NT\",MROUND(Inputs!$C$32*$P$3*(1/(1+J32*(2-1))),1),MROUND(Inputs!$C$30*$P$3*(1/(1+J32*(2-1))),1)),\nIF(G32=\"TRUE 2\",IF(E32=\"NT\",MROUND(Inputs!$D$32*$Q$3*(1/(1+J32*(2-1))),1),MROUND(Inputs!$D$30*$Q$3*(1/(1+J32*(2-1))),1)),\nIF(G32=\"TRUE 3\",IF(E32=\"NT\",MROUND(Inputs!$E$32*$R$3*(1/(1+J32*(2-1))),1),MROUND(Inputs!$E$30*$R$3*(1/(1+J32*(2-1))),1)),\nIF(G32=\"TRUE 4\",IF(E32=\"NT\",MROUND(Inputs!$F$32*$S$3*(1/(1+J32*(2-1))),1),MROUND(Inputs!$F$30*$S$3*(1/(1+J32*(2-1))),1)),\nMROUND(Inputs!$C$15*(1/(1+J32*(2-1)))*($P$3+$P$4),1)))))","v":8727},-6396,0,{"$f":"(R32/(1/(1+J32*(2-1))))*O32/LEFT(Inputs!$C$18,1)/5280","v":0},{"$f":"R32/P32*60","v":0},{"$f":"(T32/60)*((Inputs!$C$13*Calculations!R32*(1-Calculations!J32))+(Inputs!$C$14*Calculations!R32*Calculations!J32))","v":0},{"$f":"IF(R32>0,($J$5/60)*(((I32*$J$3/(1-$J$3))*(1-J32)*Inputs!$C$13)+((I32*$J$3/(1-$J$3))*J32*Inputs!$C$14)),0)","v":0},0,null,"2019-08-01T21:00:00","","",{"$f":"IF(AND(Z32<>\"\",AA32<>\"\"),MAX(INDIRECT(Z32):INDIRECT(AA32)),\"\")","v":""},"","",null,{"$f":"IF(G32=\"TRUE 1\",IF(E32=\"NT\",MROUND(Inputs!$C$32*$AF$3*(1/(1+M32*(2-1))),1),MROUND(Inputs!$C$30*$AF$3*(1/(1+M32*(2-1))),1)),\nIF(G32=\"TRUE 2\",IF(E32=\"NT\",MROUND(Inputs!$D$32*$AG$3*(1/(1+M32*(2-1))),1),MROUND(Inputs!$D$30*$AG$3*(1/(1+M32*(2-1))),1)),\nIF(G32=\"TRUE 3\",IF(E32=\"NT\",MROUND(Inputs!$E$32*$AH$3*(1/(1+M32*(2-1))),1),MROUND(Inputs!$E$30*$AH$3*(1/(1+M32*(2-1))),1)),\nIF(G32=\"TRUE 4\",IF(E32=\"NT\",MROUND(Inputs!$F$32*$AI$3*(1/(1+M32*(2-1))),1),MROUND(Inputs!$F$30*$AI$3*(1/(1+M32*(2-1))),1)),\nMROUND(Inputs!$C$15*(1/(1+M32*(2-1)))*($AF$3+$AF$4),1)))))","v":8727},-6210,0,{"$f":"(AH32/(1/(1+M32*(2-1))))*O32/LEFT(Inputs!$C$18,1)/5280","v":0},0,{"$f":"(AJ32/60)*((Inputs!$C$13*Calculations!AH32*(1-Calculations!M32))+(Inputs!$C$14*Calculations!AH32*Calculations!M32))","v":0},{"$f":"IF(AH32>0,($M$5/60)*(((L32*$M$3/(1-$M$3))*(1-M32)*Inputs!$C$13)+((L32*$M$3/(1-$M$3))*M32*Inputs!$C$14)),0)","v":0},0,null,"2019-08-01T21:00:00","","",{"$f":"IF(AND(AP32<>\"\",AQ32<>\"\"),MAX(INDIRECT(AP32):INDIRECT(AQ32)),\"\")","v":""},"",""]
["2019-08-01",5,"Thursday","22:00:00",{"$f":"INDEX(Lists!$M$3:$M$26,MATCH(Calculations!D33,Lists!$L$3:$L$26,0))","v":"NT"},118,{"$f":"IF(INDEX(Inputs!$H$86:$H$253,MATCH(F33,Inputs!$D$86:$D$253,0)),\"TRUE 4\",\nIF(INDEX(Inputs!$G$86:$G$253,MATCH(F33,Inputs!$D$86:$D$253,0)),\"TRUE 3\",\nIF(INDEX(Inputs!$F$86:$F$253,MATCH(F33,Inputs!$D$86:$D$253,0)),\"TRUE 2\",\nIF(INDEX(Inputs!$E$86:$E$253,MATCH(F33,Inputs!$D$86:$D$253,0)),\"TRUE 1\",\nFALSE))))","v":false},null,{"$f":"'Volume Import'!C24*'Volume Import'!$H$14*(1+'Volume Import'!$H$15)*(1-'Volume Import'!$H$16)","v":1585},{"$f":"IF(AND('Volume Import'!D24=0,'Volume Import'!C24=0),0,\nIF('Volume Import'!D24=0,INDEX('Volume Import'!$K$2:$Q$5,MATCH(E33,'Volume Import'!$R$2:$R$5,0),MATCH(C33,'Volume Import'!$K$1:$Q$1,0)),\n'Volume Import'!D24/'Volume Import'!C24))","v":0.1},null,{"$f":"'Volume Import'!E24*'Volume Import'!$I$14*(1+'Volume Import'!$I$15)*(1-'Volume Import'!$I$16)","v":1992},{"$f":"IF('Volume Import'!F24=0,J33,'Volume Import'!F24/'Volume Import'!E24)","v":0.1},null,{"$f":"IF(G33=\"TRUE 1\",IF(E33=\"NT\",Inputs!$C$35,Inputs!$C$34),\nIF(G33=\"TRUE 2\",IF(E33=\"NT\",Inputs!$D$35,Inputs!$D$34),\nIF(G33=\"TRUE 3\",IF(E33=\"NT\",Inputs!$E$35,Inputs!$E$34),\nIF(G33=\"TRUE 4\",IF(E33=\"NT\",Inputs!$F$35,Inputs!$F$34),\nO32))))","v":65.476687896673383},{"$f":"IF(G33=\"TRUE 1\",IF(E33=\"NT\",MROUND(Inputs!$C$32*$P$3*(1/(1+J33*(2-1))),1),MROUND(Inputs!$C$30*$P$3*(1/(1+J33*(2-1))),1)),\nIF(G33=\"TRUE 2\",IF(E33=\"NT\",MROUND(Inputs!$D$32*$Q$3*(1/(1+J33*(2-1))),1),MROUND(Inputs!$D$30*$Q$3*(1/(1+J33*(2-1))),1)),\nIF(G33=\"TRUE 3\",IF(E33=\"NT\",MROUND(Inputs!$E$32*$R$3*(1/(1+J33*(2-1))),1),MROUND(Inputs!$E$30*$R$3*(1/(1+J33*(2-1))),1)),\nIF(G33=\"TRUE 4\",IF(E33=\"NT\",MROUND(Inputs!$F$32*$S$3*(1/(1+J33*(2-1))),1),MROUND(Inputs!$F$30*$S$3*(1/(1+J33*(2-1))),1)),\nMROUND(Inputs!$C$15*(1/(1+J33*(2-1)))*($P$3+$P$4),1)))))","v":8727},-7142,0,{"$f":"(R33/(1/(1+J33*(2-1))))*O33/LEFT(Inputs!$C$18,1)/5280","v":0},0,{"$f":"(T33/60)*((Inputs!$C$13*Calculations!R33*(1-Calculations!J33))+(Inputs!$C$14*Calculations!R33*Calculations!J33))","v":0},{"$f":"IF(R33>0,($J$5/60)*(((I33*$J$3/(1-$J$3))*(1-J33)*Inputs!$C$13)+((I33*$J$3/(1-$J$3))*J33*Inputs!$C$14)),0)","v":0},0,null,"2019-08-01T22:00:00","","",{"$f":"IF(AND(Z33<>\"\",AA33<>\"\"),MAX(INDIRECT(Z33):INDIRECT(AA33)),\"\")","v":""},"","",null,{"$f":"IF(G33=\"TRUE 1\",IF(E33=\"NT\",MROUND(Inputs!$C$32*$AF$3*(1/(1+M33*(2-1))),1),MROUND(Inputs!$C$30*$AF$3*(1/(1+M33*(2-1))),1)),\nIF(G33=\"TRUE 2\",IF(E33=\"NT\",MROUND(Inputs!$D$32*$AG$3*(1/(1+M33*(2-1))),1),MROUND(Inputs!$D$30*$AG$3*(1/(1+M33*(2-1))),1)),\nIF(G33=\"TRUE 3\",IF(E33=\"NT\",MROUND(Inputs!$E$32*$AH$3*(1/(1+M33*(2-1))),1),MROUND(Inputs!$E$30*$AH$3*(1/(1+M33*(2-1))),1)),\nIF(G33=\"TRUE 4\",IF(E33=\"NT\",MROUND(Inputs!$F$32*$AI$3*(1/(1+M33*(2-1))),1),MROUND(Inputs!$F$30*$AI$3*(1/(1+M33*(2-1))),1)),\nMROUND(Inputs!$C$15*(1/(1+M33*(2-1)))*($AF$3+$AF$4),1)))))","v":8727},-6735,0,{"$f":"(AH33/(1/(1+M33*(2-1))))*O33/LEFT(Inputs!$C$18,1)/5280","v":0},0,{"$f":"(AJ33/60)*((Inputs!$C$13*Calculations!AH33*(1-Calculations!M33))+(Inputs!$C$14*Calculations!AH33*Calculations!M33))","v":0},{"$f":"IF(AH33>0,($M$5/60)*(((L33*$M$3/(1-$M$3))*(1-M33)*Inputs!$C$13)+((L33*$M$3/(1-$M$3))*M33*Inputs!$C$14)),0)","v":0},0,null,"2019-08-01T22:00:00","","",{"$f":"IF(AND(AP33<>\"\",AQ33<>\"\"),MAX(INDIRECT(AP33):INDIRECT(AQ33)),\"\")","v":""},"",""]
["2019-08-01",5,"Thursday","23:00:00",{"$f":"INDEX(Lists!$M$3:$M$26,MATCH(Calculations!D34,Lists!$L$3:$L$26,0))","v":"NT"},119,{"$f":"IF(INDEX(Inputs!$H$86:$H$253,MATCH(F34,Inputs!$D$86:$D$253,0)),\"TRUE 4\",\nIF(INDEX(Inputs!$G$86:$G$253,MATCH(F34,Inputs!$D$86:$D$253,0)),\"TRUE 3\",\nIF(INDEX(Inputs!$F$86:$F$253,MATCH(F34,Inputs!$D$86:$D$253,0)),\"TRUE 2\",\nIF(INDEX(Inputs!$E$86:$E$253,MATCH(F34,Inputs!$D$86:$D$253,0)),\"TRUE 1\",\nFALSE))))","v":false},null,{"$f":"'Volume Import'!C25*'Volume Import'!$H$14*(1+'Volume Import'!$H$15)*(1-'Volume Import'!$H$16)","v":1051},{"$f":"IF(AND('Volume Import'!D25=0,'Volume Import'!C25=0),0,\nIF('Volume Import'!D25=0,INDEX('Volume Import'!$K$2:$Q$5,MATCH(E34,'Volume Import'!$R$2:$R$5,0),MATCH(C34,'Volume Import'!$K$1:$Q$1,0)),\n'Volume Import'!D25/'Volume Import'!C25))","v":0.1},null,{"$f":"'Volume Import'!E25*'Volume Import'!$I$14*(1+'Volume Import'!$I$15)*(1-'Volume Import'!$I$16)","v":1443},{"$f":"IF('Volume Import'!F25=0,J34,'Volume Import'!F25/'Volume Import'!E25)","v":0.1},null,{"$f":"IF(G34=\"TRUE 1\",IF(E34=\"NT\",Inputs!$C$35,Inputs!$C$34),\nIF(G34=\"TRUE 2\",IF(E34=\"NT\",Inputs!$D$35,Inputs!$D$34),\nIF(G34=\"TRUE 3\",IF(E34=\"NT\",Inputs!$E$35,Inputs!$E$34),\nIF(G34=\"TRUE 4\",IF(E34=\"NT\",Inputs!$F$35,Inputs!$F$34),\nO33))))","v":65.476687896673383},{"$f":"IF(G34=\"TRUE 1\",IF(E34=\"NT\",MROUND(Inputs!$C$32*$P$3*(1/(1+J34*(2-1))),1),MROUND(Inputs!$C$30*$P$3*(1/(1+J34*(2-1))),1)),\nIF(G34=\"TRUE 2\",IF(E34=\"NT\",MROUND(Inputs!$D$32*$Q$3*(1/(1+J34*(2-1))),1),MROUND(Inputs!$D$30*$Q$3*(1/(1+J34*(2-1))),1)),\nIF(G34=\"TRUE 3\",IF(E34=\"NT\",MROUND(Inputs!$E$32*$R$3*(1/(1+J34*(2-1))),1),MROUND(Inputs!$E$30*$R$3*(1/(1+J34*(2-1))),1)),\nIF(G34=\"TRUE 4\",IF(E34=\"NT\",MROUND(Inputs!$F$32*$S$3*(1/(1+J34*(2-1))),1),MROUND(Inputs!$F$30*$S$3*(1/(1+J34*(2-1))),1)),\nMROUND(Inputs!$C$15*(1/(1+J34*(2-1)))*($P$3+$P$4),1)))))","v":8727},-7676,0,{"$f":"(R34/(1/(1+J34*(2-1))))*O34/LEFT(Inputs!$C$18,1)/5280","v":0},0,{"$f":"(T34/60)*((Inputs!$C$13*Calculations!R34*(1-Calculations!J34))+(Inputs!$C$14*Calculations!R34*Calculations!J34))","v":0},{"$f":"IF(R34>0,($J$5/60)*(((I34*$J$3/(1-$J$3))*(1-J34)*Inputs!$C$13)+((I34*$J$3/(1-$J$3))*J34*Inputs!$C$14)),0)","v":0},0,null,"2019-08-01T23:00:00","","",{"$f":"IF(AND(Z34<>\"\",AA34<>\"\"),MAX(INDIRECT(Z34):INDIRECT(AA34)),\"\")","v":""},"","",null,{"$f":"IF(G34=\"TRUE 1\",IF(E34=\"NT\",MROUND(Inputs!$C$32*$AF$3*(1/(1+M34*(2-1))),1),MROUND(Inputs!$C$30*$AF$3*(1/(1+M34*(2-1))),1)),\nIF(G34=\"TRUE 2\",IF(E34=\"NT\",MROUND(Inputs!$D$32*$AG$3*(1/(1+M34*(2-1))),1),MROUND(Inputs!$D$30*$AG$3*(1/(1+M34*(2-1))),1)),\nIF(G34=\"TRUE 3\",IF(E34=\"NT\",MROUND(Inputs!$E$32*$AH$3*(1/(1+M34*(2-1))),1),MROUND(Inputs!$E$30*$AH$3*(1/(1+M34*(2-1))),1)),\nIF(G34=\"TRUE 4\",IF(E34=\"NT\",MROUND(Inputs!$F$32*$AI$3*(1/(1+M34*(2-1))),1),MROUND(Inputs!$F$30*$AI$3*(1/(1+M34*(2-1))),1)),\nMROUND(Inputs!$C$15*(1/(1+M34*(2-1)))*($AF$3+$AF$4),1)))))","v":8727},-7284,0,{"$f":"(AH34/(1/(1+M34*(2-1))))*O34/LEFT(Inputs!$C$18,1)/5280","v":0},0,{"$f":"(AJ34/60)*((Inputs!$C$13*Calculations!AH34*(1-Calculations!M34))+(Inputs!$C$14*Calculations!AH34*Calculations!M34))","v":0},{"$f":"IF(AH34>0,($M$5/60)*(((L34*$M$3/(1-$M$3))*(1-M34)*Inputs!$C$13)+((L34*$M$3/(1-$M$3))*M34*Inputs!$C$14)),0)","v":0},0,null,"2019-08-01T23:00:00","","",{"$f":"IF(AND(AP34<>\"\",AQ34<>\"\"),MAX(INDIRECT(AP34):INDIRECT(AQ34)),\"\")","v":""},"",""]
[{"$f":"A11+1","v":"2019-08-02"},6,"Friday","00:00:00",{"$f":"INDEX(Lists!$M$3:$M$26,MATCH(Calculations!D35,Lists!$L$3:$L$26,0))","v":"NT"},120,{"$f":"IF(INDEX(Inputs!$H$86:$H$253,MATCH(F35,Inputs!$D$86:$D$253,0)),\"TRUE 4\",\nIF(INDEX(Inputs!$G$86:$G$253,MATCH(F35,Inputs!$D$86:$D$253,0)),\"TRUE 3\",\nIF(INDEX(Inputs!$F$86:$F$253,MATCH(F35,Inputs!$D$86:$D$253,0)),\"TRUE 2\",\nIF(INDEX(Inputs!$E$86:$E$253,MATCH(F35,Inputs!$D$86:$D$253,0)),\"TRUE 1\",\nFALSE))))","v":false},null,{"$f":"'Volume Import'!C26*'Volume Import'!$H$14*(1+'Volume Import'!$H$15)*(1-'Volume Import'!$H$16)","v":665},{"$f":"IF(AND('Volume Import'!D26=0,'Volume Import'!C26=0),0,\nIF('Volume Import'!D26=0,INDEX('Volume Import'!$K$2:$Q$5,MATCH(E35,'Volume Import'!$R$2:$R$5,0),MATCH(C35,'Volume Import'!$K$1:$Q$1,0)),\n'Volume Import'!D26/'Volume Import'!C26))","v":0.1},null,{"$f":"'Volume Import'!E26*'Volume Import'!$I$14*(1+'Volume Import'!$I$15)*(1-'Volume Import'!$I$16)","v":740},{"$f":"IF('Volume Import'!F26=0,J35,'Volume Import'!F26/'Volume Import'!E26)","v":0.1},null,{"$f":"IF(G35=\"TRUE 1\",IF(E35=\"NT\",Inputs!$C$35,Inputs!$C$34),\nIF(G35=\"TRUE 2\",IF(E35=\"NT\",Inputs!$D$35,Inputs!$D$34),\nIF(G35=\"TRUE 3\",IF(E35=\"NT\",Inputs!$E$35,Inputs!$E$34),\nIF(G35=\"TRUE 4\",IF(E35=\"NT\",Inputs!$F$35,Inputs!$F$34),\nO34))))","v":65.476687896673383},{"$f":"IF(G35=\"TRUE 1\",IF(E35=\"NT\",MROUND(Inputs!$C$32*$P$3*(1/(1+J35*(2-1))),1),MROUND(Inputs!$C$30*$P$3*(1/(1+J35*(2-1))),1)),\nIF(G35=\"TRUE 2\",IF(E35=\"NT\",MROUND(Inputs!$D$32*$Q$3*(1/(1+J35*(2-1))),1),MROUND(Inputs!$D$30*$Q$3*(1/(1+J35*(2-1))),1)),\nIF(G35=\"TRUE 3\",IF(E35=\"NT\",MROUND(Inputs!$E$32*$R$3*(1/(1+J35*(2-1))),1),MROUND(Inputs!$E$30*$R$3*(1/(1+J35*(2-1))),1)),\nIF(G35=\"TRUE 4\",IF(E35=\"NT\",MROUND(Inputs!$F$32*$S$3*(1/(1+J35*(2-1))),1),MROUND(Inputs!$F$30*$S$3*(1/(1+J35*(2-1))),1)),\nMROUND(Inputs!$C$15*(1/(1+J35*(2-1)))*($P$3+$P$4),1)))))","v":8727},-8062,0,{"$f":"(R35/(1/(1+J35*(2-1))))*O35/LEFT(Inputs!$C$18,1)/5280","v":0},0,{"$f":"(T35/60)*((Inputs!$C$13*Calculations!R35*(1-Calculations!J35))+(Inputs!$C$14*Calculations!R35*Calculations!J35))","v":0},{"$f":"IF(R35>0,($J$5/60)*(((I35*$J$3/(1-$J$3))*(1-J35)*Inputs!$C$13)+((I35*$J$3/(1-$J$3))*J35*Inputs!$C$14)),0)","v":0},0,null,"2019-08-02","","",{"$f":"IF(AND(Z35<>\"\",AA35<>\"\"),MAX(INDIRECT(Z35):INDIRECT(AA35)),\"\")","v":""},"","",null,{"$f":"IF(G35=\"TRUE 1\",IF(E35=\"NT\",MROUND(Inputs!$C$32*$AF$3*(1/(1+M35*(2-1))),1),MROUND(Inputs!$C$30*$AF$3*(1/(1+M35*(2-1))),1)),\nIF(G35=\"TRUE 2\",IF(E35=\"NT\",MROUND(Inputs!$D$32*$AG$3*(1/(1+M35*(2-1))),1),MROUND(Inputs!$D$30*$AG$3*(1/(1+M35*(2-1))),1)),\nIF(G35=\"TRUE 3\",IF(E35=\"NT\",MROUND(Inputs!$E$32*$AH$3*(1/(1+M35*(2-1))),1),MROUND(Inputs!$E$30*$AH$3*(1/(1+M35*(2-1))),1)),\nIF(G35=\"TRUE 4\",IF(E35=\"NT\",MROUND(Inputs!$F$32*$AI$3*(1/(1+M35*(2-1))),1),MROUND(Inputs!$F$30*$AI$3*(1/(1+M35*(2-1))),1)),\nMROUND(Inputs!$C$15*(1/(1+M35*(2-1)))*($AF$3+$AF$4),1)))))","v":8727},-7987,0,{"$f":"(AH35/(1/(1+M35*(2-1))))*O35/LEFT(Inputs!$C$18,1)/5280","v":0},0,{"$f":"(AJ35/60)*((Inputs!$C$13*Calculations!AH35*(1-Calculations!M35))+(Inputs!$C$14*Calculations!AH35*Calculations!M35))","v":0},{"$f":"IF(AH35>0,($M$5/60)*(((L35*$M$3/(1-$M$3))*(1-M35)*Inputs!$C$13)+((L35*$M$3/(1-$M$3))*M35*Inputs!$C$14)),0)","v":0},0,null,"2019-08-02","","",{"$f":"IF(AND(AP35<>\"\",AQ35<>\"\"),MAX(INDIRECT(AP35):INDIRECT(AQ35)),\"\")","v":""},"",""]
[{"$f":"A12+1","v":"2019-08-02"},6,"Friday","01:00:00",{"$f":"INDEX(Lists!$M$3:$M$26,MATCH(Calculations!D36,Lists!$L$3:$L$26,0))","v":"NT"},121,{"$f":"IF(INDEX(Inputs!$H$86:$H$253,MATCH(F36,Inputs!$D$86:$D$253,0)),\"TRUE 4\",\nIF(INDEX(Inputs!$G$86:$G$253,MATCH(F36,Inputs!$D$86:$D$253,0)),\"TRUE 3\",\nIF(INDEX(Inputs!$F$86:$F$253,MATCH(F36,Inputs!$D$86:$D$253,0)),\"TRUE 2\",\nIF(INDEX(Inputs!$E$86:$E$253,MATCH(F36,Inputs!$D$86:$D$253,0)),\"TRUE 1\",\nFALSE))))","v":false},null,{"$f":"'Volume Import'!C27*'Volume Import'!$H$14*(1+'Volume Import'!$H$15)*(1-'Volume Import'!$H$16)","v":532},{"$f":"IF(AND('Volume Import'!D27=0,'Volume Import'!C27=0),0,\nIF('Volume Import'!D27=0,INDEX('Volume Import'!$K$2:$Q$5,MATCH(E36,'Volume Import'!$R$2:$R$5,0),MATCH(C36,'Volume Import'!$K$1:$Q$1,0)),\n'Volume Import'!D27/'Volume Import'!C27))","v":0.1},null,{"$f":"'Volume Import'!E27*'Volume Import'!$I$14*(1+'Volume Import'!$I$15)*(1-'Volume Import'!$I$16)","v":485},{"$f":"IF('Volume Import'!F27=0,J36,'Volume Import'!F27/'Volume Import'!E27)","v":0.1},null,{"$f":"IF(G36=\"TRUE 1\",IF(E36=\"NT\",Inputs!$C$35,Inputs!$C$34),\nIF(G36=\"TRUE 2\",IF(E36=\"NT\",Inputs!$D$35,Inputs!$D$34),\nIF(G36=\"TRUE 3\",IF(E36=\"NT\",Inputs!$E$35,Inputs!$E$34),\nIF(G36=\"TRUE 4\",IF(E36=\"NT\",Inputs!$F$35,Inputs!$F$34),\nO35))))","v":65.476687896673383},{"$f":"IF(G36=\"TRUE 1\",IF(E36=\"NT\",MROUND(Inputs!$C$32*$P$3*(1/(1+J36*(2-1))),1),MROUND(Inputs!$C$30*$P$3*(1/(1+J36*(2-1))),1)),\nIF(G36=\"TRUE 2\",IF(E36=\"NT\",MROUND(Inputs!$D$32*$Q$3*(1/(1+J36*(2-1))),1),MROUND(Inputs!$D$30*$Q$3*(1/(1+J36*(2-1))),1)),\nIF(G36=\"TRUE 3\",IF(E36=\"NT\",MROUND(Inputs!$E$32*$R$3*(1/(1+J36*(2-1))),1),MROUND(Inputs!$E$30*$R$3*(1/(1+J36*(2-1))),1)),\nIF(G36=\"TRUE 4\",IF(E36=\"NT\",MROUND(Inputs!$F$32*$S$3*(1/(1+J36*(2-1))),1),MROUND(Inputs!$F$30*$S$3*(1/(1+J36*(2-1))),1)),\nMROUND(Inputs!$C$15*(1/(1+J36*(2-1)))*($P$3+$P$4),1)))))","v":8727},-8195,0,{"$f":"(R36/(1/(1+J36*(2-1))))*O36/LEFT(Inputs!$C$18,1)/5280","v":0},0,{"$f":"(T36/60)*((Inputs!$C$13*Calculations!R36*(1-Calculations!J36))+(Inputs!$C$14*Calculations!R36*Calculations!J36))","v":0},{"$f":"IF(R36>0,($J$5/60)*(((I36*$J$3/(1-$J$3))*(1-J36)*Inputs!$C$13)+((I36*$J$3/(1-$J$3))*J36*Inputs!$C$14)),0)","v":0},0,null,"2019-08-02T01:00:00","","",{"$f":"IF(AND(Z36<>\"\",AA36<>\"\"),MAX(INDIRECT(Z36):INDIRECT(AA36)),\"\")","v":""},"","",null,{"$f":"IF(G36=\"TRUE 1\",IF(E36=\"NT\",MROUND(Inputs!$C$32*$AF$3*(1/(1+M36*(2-1))),1),MROUND(Inputs!$C$30*$AF$3*(1/(1+M36*(2-1))),1)),\nIF(G36=\"TRUE 2\",IF(E36=\"NT\",MROUND(Inputs!$D$32*$AG$3*(1/(1+M36*(2-1))),1),MROUND(Inputs!$D$30*$AG$3*(1/(1+M36*(2-1))),1)),\nIF(G36=\"TRUE 3\",IF(E36=\"NT\",MROUND(Inputs!$E$32*$AH$3*(1/(1+M36*(2-1))),1),MROUND(Inputs!$E$30*$AH$3*(1/(1+M36*(2-1))),1)),\nIF(G36=\"TRUE 4\",IF(E36=\"NT\",MROUND(Inputs!$F$32*$AI$3*(1/(1+M36*(2-1))),1),MROUND(Inputs!$F$30*$AI$3*(1/(1+M36*(2-1))),1)),\nMROUND(Inputs!$C$15*(1/(1+M36*(2-1)))*($AF$3+$AF$4),1)))))","v":8727},-8242,0,{"$f":"(AH36/(1/(1+M36*(2-1))))*O36/LEFT(Inputs!$C$18,1)/5280","v":0},0,{"$f":"(AJ36/60)*((Inputs!$C$13*Calculations!AH36*(1-Calculations!M36))+(Inputs!$C$14*Calculations!AH36*Calculations!M36))","v":0},{"$f":"IF(AH36>0,($M$5/60)*(((L36*$M$3/(1-$M$3))*(1-M36)*Inputs!$C$13)+((L36*$M$3/(1-$M$3))*M36*Inputs!$C$14)),0)","v":0},0,null,"2019-08-02T01:00:00","","",{"$f":"IF(AND(AP36<>\"\",AQ36<>\"\"),MAX(INDIRECT(AP36):INDIRECT(AQ36)),\"\")","v":""},"",""]
["2019-08-02",6,"Friday","02:00:00",{"$f":"INDEX(Lists!$M$3:$M$26,MATCH(Calculations!D37,Lists!$L$3:$L$26,0))","v":"NT"},122,{"$f":"IF(INDEX(Inputs!$H$86:$H$253,MATCH(F37,Inputs!$D$86:$D$253,0)),\"TRUE 4\",\nIF(INDEX(Inputs!$G$86:$G$253,MATCH(F37,Inputs!$D$86:$D$253,0)),\"TRUE 3\",\nIF(INDEX(Inputs!$F$86:$F$253,MATCH(F37,Inputs!$D$86:$D$253,0)),\"TRUE 2\",\nIF(INDEX(Inputs!$E$86:$E$253,MATCH(F37,Inputs!$D$86:$D$253,0)),\"TRUE 1\",\nFALSE))))","v":false},null,{"$f":"'Volume Import'!C28*'Volume Import'!$H$14*(1+'Volume Import'!$H$15)*(1-'Volume Import'!$H$16)","v":424},{"$f":"IF(AND('Volume Import'!D28=0,'Volume Import'!C28=0),0,\nIF('Volume Import'!D28=0,INDEX('Volume Import'!$K$2:$Q$5,MATCH(E37,'Volume Import'!$R$2:$R$5,0),MATCH(C37,'Volume Import'!$K$1:$Q$1,0)),\n'Volume Import'!D28/'Volume Import'!C28))","v":0.1},null,{"$f":"'Volume Import'!E28*'Volume Import'!$I$14*(1+'Volume Import'!$I$15)*(1-'Volume Import'!$I$16)","v":437},{"$f":"IF('Volume Import'!F28=0,J37,'Volume Import'!F28/'Volume Import'!E28)","v":0.1},null,{"$f":"IF(G37=\"TRUE 1\",IF(E37=\"NT\",Inputs!$C$35,Inputs!$C$34),\nIF(G37=\"TRUE 2\",IF(E37=\"NT\",Inputs!$D$35,Inputs!$D$34),\nIF(G37=\"TRUE 3\",IF(E37=\"NT\",Inputs!$E$35,Inputs!$E$34),\nIF(G37=\"TRUE 4\",IF(E37=\"NT\",Inputs!$F$35,Inputs!$F$34),\nO36))))","v":65.476687896673383},{"$f":"IF(G37=\"TRUE 1\",IF(E37=\"NT\",MROUND(Inputs!$C$32*$P$3*(1/(1+J37*(2-1))),1),MROUND(Inputs!$C$30*$P$3*(1/(1+J37*(2-1))),1)),\nIF(G37=\"TRUE 2\",IF(E37=\"NT\",MROUND(Inputs!$D$32*$Q$3*(1/(1+J37*(2-1))),1),MROUND(Inputs!$D$30*$Q$3*(1/(1+J37*(2-1))),1)),\nIF(G37=\"TRUE 3\",IF(E37=\"NT\",MROUND(Inputs!$E$32*$R$3*(1/(1+J37*(2-1))),1),MROUND(Inputs!$E$30*$R$3*(1/(1+J37*(2-1))),1)),\nIF(G37=\"TRUE 4\",IF(E37=\"NT\",MROUND(Inputs!$F$32*$S$3*(1/(1+J37*(2-1))),1),MROUND(Inputs!$F$30*$S$3*(1/(1+J37*(2-1))),1)),\nMROUND(Inputs!$C$15*(1/(1+J37*(2-1)))*($P$3+$P$4),1)))))","v":8727},-8303,0,{"$f":"(R37/(1/(1+J37*(2-1))))*O37/LEFT(Inputs!$C$18,1)/5280","v":0},0,{"$f":"(T37/60)*((Inputs!$C$13*Calculations!R37*(1-Calculations!J37))+(Inputs!$C$14*Calculations!R37*Calculations!J37))","v":0},{"$f":"IF(R37>0,($J$5/60)*(((I37*$J$3/(1-$J$3))*(1-J37)*Inputs!$C$13)+((I37*$J$3/(1-$J$3))*J37*Inputs!$C$14)),0)","v":0},0,null,"2019-08-02T02:00:00","","",{"$f":"IF(AND(Z37<>\"\",AA37<>\"\"),MAX(INDIRECT(Z37):INDIRECT(AA37)),\"\")","v":""},"","",null,{"$f":"IF(G37=\"TRUE 1\",IF(E37=\"NT\",MROUND(Inputs!$C$32*$AF$3*(1/(1+M37*(2-1))),1),MROUND(Inputs!$C$30*$AF$3*(1/(1+M37*(2-1))),1)),\nIF(G37=\"TRUE 2\",IF(E37=\"NT\",MROUND(Inputs!$D$32*$AG$3*(1/(1+M37*(2-1))),1),MROUND(Inputs!$D$30*$AG$3*(1/(1+M37*(2-1))),1)),\nIF(G37=\"TRUE 3\",IF(E37=\"NT\",MROUND(Inputs!$E$32*$AH$3*(1/(1+M37*(2-1))),1),MROUND(Inputs!$E$30*$AH$3*(1/(1+M37*(2-1))),1)),\nIF(G37=\"TRUE 4\",IF(E37=\"NT\",MROUND(Inputs!$F$32*$AI$3*(1/(1+M37*(2-1))),1),MROUND(Inputs!$F$30*$AI$3*(1/(1+M37*(2-1))),1)),\nMROUND(Inputs!$C$15*(1/(1+M37*(2-1)))*($AF$3+$AF$4),1)))))","v":8727},-8290,0,{"$f":"(AH37/(1/(1+M37*(2-1))))*O37/LEFT(Inputs!$C$18,1)/5280","v":0},0,{"$f":"(AJ37/60)*((Inputs!$C$13*Calculations!AH37*(1-Calculations!M37))+(Inputs!$C$14*Calculations!AH37*Calculations!M37))","v":0},{"$f":"IF(AH37>0,($M$5/60)*(((L37*$M$3/(1-$M$3))*(1-M37)*Inputs!$C$13)+((L37*$M$3/(1-$M$3))*M37*Inputs!$C$14)),0)","v":0},0,null,"2019-08-02T02:00:00","","",{"$f":"IF(AND(AP37<>\"\",AQ37<>\"\"),MAX(INDIRECT(AP37):INDIRECT(AQ37)),\"\")","v":""},"",""]
["2019-08-02",6,"Friday","03:00:00",{"$f":"INDEX(Lists!$M$3:$M$26,MATCH(Calculations!D38,Lists!$L$3:$L$26,0))","v":"NT"},123,{"$f":"IF(INDEX(Inputs!$H$86:$H$253,MATCH(F38,Inputs!$D$86:$D$253,0)),\"TRUE 4\",\nIF(INDEX(Inputs!$G$86:$G$253,MATCH(F38,Inputs!$D$86:$D$253,0)),\"TRUE 3\",\nIF(INDEX(Inputs!$F$86:$F$253,MATCH(F38,Inputs!$D$86:$D$253,0)),\"TRUE 2\",\nIF(INDEX(Inputs!$E$86:$E$253,MATCH(F38,Inputs!$D$86:$D$253,0)),\"TRUE 1\",\nFALSE))))","v":false},null,{"$f":"'Volume Import'!C29*'Volume Import'!$H$14*(1+'Volume Import'!$H$15)*(1-'Volume Import'!$H$16)","v":559},{"$f":"IF(AND('Volume Import'!D29=0,'Volume Import'!C29=0),0,\nIF('Volume Import'!D29=0,INDEX('Volume Import'!$K$2:$Q$5,MATCH(E38,'Volume Import'!$R$2:$R$5,0),MATCH(C38,'Volume Import'!$K$1:$Q$1,0)),\n'Volume Import'!D29/'Volume Import'!C29))","v":0.1},null,{"$f":"'Volume Import'!E29*'Volume Import'!$I$14*(1+'Volume Import'!$I$15)*(1-'Volume Import'!$I$16)","v":545},{"$f":"IF('Volume Import'!F29=0,J38,'Volume Import'!F29/'Volume Import'!E29)","v":0.1},null,{"$f":"IF(G38=\"TRUE 1\",IF(E38=\"NT\",Inputs!$C$35,Inputs!$C$34),\nIF(G38=\"TRUE 2\",IF(E38=\"NT\",Inputs!$D$35,Inputs!$D$34),\nIF(G38=\"TRUE 3\",IF(E38=\"NT\",Inputs!$E$35,Inputs!$E$34),\nIF(G38=\"TRUE 4\",IF(E38=\"NT\",Inputs!$F$35,Inputs!$F$34),\nO37))))","v":65.476687896673383},{"$f":"IF(G38=\"TRUE 1\",IF(E38=\"NT\",MROUND(Inputs!$C$32*$P$3*(1/(1+J38*(2-1))),1),MROUND(Inputs!$C$30*$P$3*(1/(1+J38*(2-1))),1)),\nIF(G38=\"TRUE 2\",IF(E38=\"NT\",MROUND(Inputs!$D$32*$Q$3*(1/(1+J38*(2-1))),1),MROUND(Inputs!$D$30*$Q$3*(1/(1+J38*(2-1))),1)),\nIF(G38=\"TRUE 3\",IF(E38=\"NT\",MROUND(Inputs!$E$32*$R$3*(1/(1+J38*(2-1))),1),MROUND(Inputs!$E$30*$R$3*(1/(1+J38*(2-1))),1)),\nIF(G38=\"TRUE 4\",IF(E38=\"NT\",MROUND(Inputs!$F$32*$S$3*(1/(1+J38*(2-1))),1),MROUND(Inputs!$F$30*$S$3*(1/(1+J38*(2-1))),1)),\nMROUND(Inputs!$C$15*(1/(1+J38*(2-1)))*($P$3+$P$4),1)))))","v":8727},-8168,0,{"$f":"(R38/(1/(1+J38*(2-1))))*O38/LEFT(Inputs!$C$18,1)/5280","v":0},0,{"$f":"(T38/60)*((Inputs!$C$13*Calculations!R38*(1-Calculations!J38))+(Inputs!$C$14*Calculations!R38*Calculations!J38))","v":0},{"$f":"IF(R38>0,($J$5/60)*(((I38*$J$3/(1-$J$3))*(1-J38)*Inputs!$C$13)+((I38*$J$3/(1-$J$3))*J38*Inputs!$C$14)),0)","v":0},0,null,"2019-08-02T03:00:00","","",{"$f":"IF(AND(Z38<>\"\",AA38<>\"\"),MAX(INDIRECT(Z38):INDIRECT(AA38)),\"\")","v":""},"","",null,{"$f":"IF(G38=\"TRUE 1\",IF(E38=\"NT\",MROUND(Inputs!$C$32*$AF$3*(1/(1+M38*(2-1))),1),MROUND(Inputs!$C$30*$AF$3*(1/(1+M38*(2-1))),1)),\nIF(G38=\"TRUE 2\",IF(E38=\"NT\",MROUND(Inputs!$D$32*$AG$3*(1/(1+M38*(2-1))),1),MROUND(Inputs!$D$30*$AG$3*(1/(1+M38*(2-1))),1)),\nIF(G38=\"TRUE 3\",IF(E38=\"NT\",MROUND(Inputs!$E$32*$AH$3*(1/(1+M38*(2-1))),1),MROUND(Inputs!$E$30*$AH$3*(1/(1+M38*(2-1))),1)),\nIF(G38=\"TRUE 4\",IF(E38=\"NT\",MROUND(Inputs!$F$32*$AI$3*(1/(1+M38*(2-1))),1),MROUND(Inputs!$F$30*$AI$3*(1/(1+M38*(2-1))),1)),\nMROUND(Inputs!$C$15*(1/(1+M38*(2-1)))*($AF$3+$AF$4),1)))))","v":8727},-8182,0,{"$f":"(AH38/(1/(1+M38*(2-1))))*O38/LEFT(Inputs!$C$18,1)/5280","v":0},0,{"$f":"(AJ38/60)*((Inputs!$C$13*Calculations!AH38*(1-Calculations!M38))+(Inputs!$C$14*Calculations!AH38*Calculations!M38))","v":0},{"$f":"IF(AH38>0,($M$5/60)*(((L38*$M$3/(1-$M$3))*(1-M38)*Inputs!$C$13)+((L38*$M$3/(1-$M$3))*M38*Inputs!$C$14)),0)","v":0},0,null,"2019-08-02T03:00:00","","",{"$f":"IF(AND(AP38<>\"\",AQ38<>\"\"),MAX(INDIRECT(AP38):INDIRECT(AQ38)),\"\")","v":""},"",""]
["2019-08-02",6,"Friday","04:00:00",{"$f":"INDEX(Lists!$M$3:$M$26,MATCH(Calculations!D39,Lists!$L$3:$L$26,0))","v":"NT"},124,{"$f":"IF(INDEX(Inputs!$H$86:$H$253,MATCH(F39,Inputs!$D$86:$D$253,0)),\"TRUE 4\",\nIF(INDEX(Inputs!$G$86:$G$253,MATCH(F39,Inputs!$D$86:$D$253,0)),\"TRUE 3\",\nIF(INDEX(Inputs!$F$86:$F$253,MATCH(F39,Inputs!$D$86:$D$253,0)),\"TRUE 2\",\nIF(INDEX(Inputs!$E$86:$E$253,MATCH(F39,Inputs!$D$86:$D$253,0)),\"TRUE 1\",\nFALSE))))","v":false},null,{"$f":"'Volume Import'!C30*'Volume Import'!$H$14*(1+'Volume Import'!$H$15)*(1-'Volume Import'!$H$16)","v":1249},{"$f":"IF(AND('Volume Import'!D30=0,'Volume Import'!C30=0),0,\nIF('Volume Import'!D30=0,INDEX('Volume Import'!$K$2:$Q$5,MATCH(E39,'Volume Import'!$R$2:$R$5,0),MATCH(C39,'Volume Import'!$K$1:$Q$1,0)),\n'Volume Import'!D30/'Volume Import'!C30))","v":0.1},null,{"$f":"'Volume Import'!E30*'Volume Import'!$I$14*(1+'Volume Import'!$I$15)*(1-'Volume Import'!$I$16)","v":959},{"$f":"IF('Volume Import'!F30=0,J39,'Volume Import'!F30/'Volume Import'!E30)","v":0.1},null,{"$f":"IF(G39=\"TRUE 1\",IF(E39=\"NT\",Inputs!$C$35,Inputs!$C$34),\nIF(G39=\"TRUE 2\",IF(E39=\"NT\",Inputs!$D$35,Inputs!$D$34),\nIF(G39=\"TRUE 3\",IF(E39=\"NT\",Inputs!$E$35,Inputs!$E$34),\nIF(G39=\"TRUE 4\",IF(E39=\"NT\",Inputs!$F$35,Inputs!$F$34),\nO38))))","v":65.476687896673383},{"$f":"IF(G39=\"TRUE 1\",IF(E39=\"NT\",MROUND(Inputs!$C$32*$P$3*(1/(1+J39*(2-1))),1),MROUND(Inputs!$C$30*$P$3*(1/(1+J39*(2-1))),1)),\nIF(G39=\"TRUE 2\",IF(E39=\"NT\",MROUND(Inputs!$D$32*$Q$3*(1/(1+J39*(2-1))),1),MROUND(Inputs!$D$30*$Q$3*(1/(1+J39*(2-1))),1)),\nIF(G39=\"TRUE 3\",IF(E39=\"NT\",MROUND(Inputs!$E$32*$R$3*(1/(1+J39*(2-1))),1),MROUND(Inputs!$E$30*$R$3*(1/(1+J39*(2-1))),1)),\nIF(G39=\"TRUE 4\",IF(E39=\"NT\",MROUND(Inputs!$F$32*$S$3*(1/(1+J39*(2-1))),1),MROUND(Inputs!$F$30*$S$3*(1/(1+J39*(2-1))),1)),\nMROUND(Inputs!$C$15*(1/(1+J39*(2-1)))*($P$3+$P$4),1)))))","v":8727},-7478,0,{"$f":"(R39/(1/(1+J39*(2-1))))*O39/LEFT(Inputs!$C$18,1)/5280","v":0},0,{"$f":"(T39/60)*((Inputs!$C$13*Calculations!R39*(1-Calculations!J39))+(Inputs!$C$14*Calculations!R39*Calculations!J39))","v":0},{"$f":"IF(R39>0,($J$5/60)*(((I39*$J$3/(1-$J$3))*(1-J39)*Inputs!$C$13)+((I39*$J$3/(1-$J$3))*J39*Inputs!$C$14)),0)","v":0},0,null,"2019-08-02T04:00:00","","",{"$f":"IF(AND(Z39<>\"\",AA39<>\"\"),MAX(INDIRECT(Z39):INDIRECT(AA39)),\"\")","v":""},"","",null,{"$f":"IF(G39=\"TRUE 1\",IF(E39=\"NT\",MROUND(Inputs!$C$32*$AF$3*(1/(1+M39*(2-1))),1),MROUND(Inputs!$C$30*$AF$3*(1/(1+M39*(2-1))),1)),\nIF(G39=\"TRUE 2\",IF(E39=\"NT\",MROUND(Inputs!$D$32*$AG$3*(1/(1+M39*(2-1))),1),MROUND(Inputs!$D$30*$AG$3*(1/(1+M39*(2-1))),1)),\nIF(G39=\"TRUE 3\",IF(E39=\"NT\",MROUND(Inputs!$E$32*$AH$3*(1/(1+M39*(2-1))),1),MROUND(Inputs!$E$30*$AH$3*(1/(1+M39*(2-1))),1)),\nIF(G39=\"TRUE 4\",IF(E39=\"NT\",MROUND(Inputs!$F$32*$AI$3*(1/(1+M39*(2-1))),1),MROUND(Inputs!$F$30*$AI$3*(1/(1+M39*(2-1))),1)),\nMROUND(Inputs!$C$15*(1/(1+M39*(2-1)))*($AF$3+$AF$4),1)))))","v":8727},-7768,0,{"$f":"(AH39/(1/(1+M39*(2-1))))*O39/LEFT(Inputs!$C$18,1)/5280","v":0},0,{"$f":"(AJ39/60)*((Inputs!$C$13*Calculations!AH39*(1-Calculations!M39))+(Inputs!$C$14*Calculations!AH39*Calculations!M39))","v":0},{"$f":"IF(AH39>0,($M$5/60)*(((L39*$M$3/(1-$M$3))*(1-M39)*Inputs!$C$13)+((L39*$M$3/(1-$M$3))*M39*Inputs!$C$14)),0)","v":0},0,null,"2019-08-02T04:00:00","","",{"$f":"IF(AND(AP39<>\"\",AQ39<>\"\"),MAX(INDIRECT(AP39):INDIRECT(AQ39)),\"\")","v":""},"",""]
["2019-08-02",6,"Friday","05:00:00",{"$f":"INDEX(Lists!$M$3:$M$26,MATCH(Calculations!D40,Lists!$L$3:$L$26,0))","v":"NT"},125,{"$f":"IF(INDEX(Inputs!$H$86:$H$253,MATCH(F40,Inputs!$D$86:$D$253,0)),\"TRUE 4\",\nIF(INDEX(Inputs!$G$86:$G$253,MATCH(F40,Inputs!$D$86:$D$253,0)),\"TRUE 3\",\nIF(INDEX(Inputs!$F$86:$F$253,MATCH(F40,Inputs!$D$86:$D$253,0)),\"TRUE 2\",\nIF(INDEX(Inputs!$E$86:$E$253,MATCH(F40,Inputs!$D$86:$D$253,0)),\"TRUE 1\",\nFALSE))))","v":false},null,{"$f":"'Volume Import'!C31*'Volume Import'!$H$14*(1+'Volume Import'!$H$15)*(1-'Volume Import'!$H$16)","v":3477},{"$f":"IF(AND('Volume Import'!D31=0,'Volume Import'!C31=0),0,\nIF('Volume Import'!D31=0,INDEX('Volume Import'!$K$2:$Q$5,MATCH(E40,'Volume Import'!$R$2:$R$5,0),MATCH(C40,'Volume Import'!$K$1:$Q$1,0)),\n'Volume Import'!D31/'Volume Import'!C31))","v":0.1},null,{"$f":"'Volume Import'!E31*'Volume Import'!$I$14*(1+'Volume Import'!$I$15)*(1-'Volume Import'!$I$16)","v":1968},{"$f":"IF('Volume Import'!F31=0,J40,'Volume Import'!F31/'Volume Import'!E31)","v":0.1},null,{"$f":"IF(G40=\"TRUE 1\",IF(E40=\"NT\",Inputs!$C$35,Inputs!$C$34),\nIF(G40=\"TRUE 2\",IF(E40=\"NT\",Inputs!$D$35,Inputs!$D$34),\nIF(G40=\"TRUE 3\",IF(E40=\"NT\",Inputs!$E$35,Inputs!$E$34),\nIF(G40=\"TRUE 4\",IF(E40=\"NT\",Inputs!$F$35,Inputs!$F$34),\nO39))))","v":65.476687896673383},{"$f":"IF(G40=\"TRUE 1\",IF(E40=\"NT\",MROUND(Inputs!$C$32*$P$3*(1/(1+J40*(2-1))),1),MROUND(Inputs!$C$30*$P$3*(1/(1+J40*(2-1))),1)),\nIF(G40=\"TRUE 2\",IF(E40=\"NT\",MROUND(Inputs!$D$32*$Q$3*(1/(1+J40*(2-1))),1),MROUND(Inputs!$D$30*$Q$3*(1/(1+J40*(2-1))),1)),\nIF(G40=\"TRUE 3\",IF(E40=\"NT\",MROUND(Inputs!$E$32*$R$3*(1/(1+J40*(2-1))),1),MROUND(Inputs!$E$30*$R$3*(1/(1+J40*(2-1))),1)),\nIF(G40=\"TRUE 4\",IF(E40=\"NT\",MROUND(Inputs!$F$32*$S$3*(1/(1+J40*(2-1))),1),MROUND(Inputs!$F$30*$S$3*(1/(1+J40*(2-1))),1)),\nMROUND(Inputs!$C$15*(1/(1+J40*(2-1)))*($P$3+$P$4),1)))))","v":8727},-5250,0,{"$f":"(R40/(1/(1+J40*(2-1))))*O40/LEFT(Inputs!$C$18,1)/5280","v":0},0,{"$f":"(T40/60)*((Inputs!$C$13*Calculations!R40*(1-Calculations!J40))+(Inputs!$C$14*Calculations!R40*Calculations!J40))","v":0},{"$f":"IF(R40>0,($J$5/60)*(((I40*$J$3/(1-$J$3))*(1-J40)*Inputs!$C$13)+((I40*$J$3/(1-$J$3))*J40*Inputs!$C$14)),0)","v":0},0,null,"2019-08-02T05:00:00","","",{"$f":"IF(AND(Z40<>\"\",AA40<>\"\"),MAX(INDIRECT(Z40):INDIRECT(AA40)),\"\")","v":""},"","",null,{"$f":"IF(G40=\"TRUE 1\",IF(E40=\"NT\",MROUND(Inputs!$C$32*$AF$3*(1/(1+M40*(2-1))),1),MROUND(Inputs!$C$30*$AF$3*(1/(1+M40*(2-1))),1)),\nIF(G40=\"TRUE 2\",IF(E40=\"NT\",MROUND(Inputs!$D$32*$AG$3*(1/(1+M40*(2-1))),1),MROUND(Inputs!$D$30*$AG$3*(1/(1+M40*(2-1))),1)),\nIF(G40=\"TRUE 3\",IF(E40=\"NT\",MROUND(Inputs!$E$32*$AH$3*(1/(1+M40*(2-1))),1),MROUND(Inputs!$E$30*$AH$3*(1/(1+M40*(2-1))),1)),\nIF(G40=\"TRUE 4\",IF(E40=\"NT\",MROUND(Inputs!$F$32*$AI$3*(1/(1+M40*(2-1))),1),MROUND(Inputs!$F$30*$AI$3*(1/(1+M40*(2-1))),1)),\nMROUND(Inputs!$C$15*(1/(1+M40*(2-1)))*($AF$3+$AF$4),1)))))","v":8727},-6759,0,{"$f":"(AH40/(1/(1+M40*(2-1))))*O40/LEFT(Inputs!$C$18,1)/5280","v":0},0,{"$f":"(AJ40/60)*((Inputs!$C$13*Calculations!AH40*(1-Calculations!M40))+(Inputs!$C$14*Calculations!AH40*Calculations!M40))","v":0},{"$f":"IF(AH40>0,($M$5/60)*(((L40*$M$3/(1-$M$3))*(1-M40)*Inputs!$C$13)+((L40*$M$3/(1-$M$3))*M40*Inputs!$C$14)),0)","v":0},0,null,"2019-08-02T05:00:00","","",{"$f":"IF(AND(AP40<>\"\",AQ40<>\"\"),MAX(INDIRECT(AP40):INDIRECT(AQ40)),\"\")","v":""},"",""]
["2019-08-02",6,"Friday","06:00:00",{"$f":"INDEX(Lists!$M$3:$M$26,MATCH(Calculations!D41,Lists!$L$3:$L$26,0))","v":"AM"},126,{"$f":"IF(INDEX(Inputs!$H$86:$H$253,MATCH(F41,Inputs!$D$86:$D$253,0)),\"TRUE 4\",\nIF(INDEX(Inputs!$G$86:$G$253,MATCH(F41,Inputs!$D$86:$D$253,0)),\"TRUE 3\",\nIF(INDEX(Inputs!$F$86:$F$253,MATCH(F41,Inputs!$D$86:$D$253,0)),\"TRUE 2\",\nIF(INDEX(Inputs!$E$86:$E$253,MATCH(F41,Inputs!$D$86:$D$253,0)),\"TRUE 1\",\nFALSE))))","v":false},null,{"$f":"'Volume Import'!C32*'Volume Import'!$H$14*(1+'Volume Import'!$H$15)*(1-'Volume Import'!$H$16)","v":5982},{"$f":"IF(AND('Volume Import'!D32=0,'Volume Import'!C32=0),0,\nIF('Volume Import'!D32=0,INDEX('Volume Import'!$K$2:$Q$5,MATCH(E41,'Volume Import'!$R$2:$R$5,0),MATCH(C41,'Volume Import'!$K$1:$Q$1,0)),\n'Volume Import'!D32/'Volume Import'!C32))","v":0.1},null,{"$f":"'Volume Import'!E32*'Volume Import'!$I$14*(1+'Volume Import'!$I$15)*(1-'Volume Import'!$I$16)","v":3307},{"$f":"IF('Volume Import'!F32=0,J41,'Volume Import'!F32/'Volume Import'!E32)","v":0.1},null,{"$f":"IF(G41=\"TRUE 1\",IF(E41=\"NT\",Inputs!$C$35,Inputs!$C$34),\nIF(G41=\"TRUE 2\",IF(E41=\"NT\",Inputs!$D$35,Inputs!$D$34),\nIF(G41=\"TRUE 3\",IF(E41=\"NT\",Inputs!$E$35,Inputs!$E$34),\nIF(G41=\"TRUE 4\",IF(E41=\"NT\",Inputs!$F$35,Inputs!$F$34),\nO40))))","v":65.476687896673383},{"$f":"IF(G41=\"TRUE 1\",IF(E41=\"NT\",MROUND(Inputs!$C$32*$P$3*(1/(1+J41*(2-1))),1),MROUND(Inputs!$C$30*$P$3*(1/(1+J41*(2-1))),1)),\nIF(G41=\"TRUE 2\",IF(E41=\"NT\",MROUND(Inputs!$D$32*$Q$3*(1/(1+J41*(2-1))),1),MROUND(Inputs!$D$30*$Q$3*(1/(1+J41*(2-1))),1)),\nIF(G41=\"TRUE 3\",IF(E41=\"NT\",MROUND(Inputs!$E$32*$R$3*(1/(1+J41*(2-1))),1),MROUND(Inputs!$E$30*$R$3*(1/(1+J41*(2-1))),1)),\nIF(G41=\"TRUE 4\",IF(E41=\"NT\",MROUND(Inputs!$F$32*$S$3*(1/(1+J41*(2-1))),1),MROUND(Inputs!$F$30*$S$3*(1/(1+J41*(2-1))),1)),\nMROUND(Inputs!$C$15*(1/(1+J41*(2-1)))*($P$3+$P$4),1)))))","v":8727},-2745,0,{"$f":"(R41/(1/(1+J41*(2-1))))*O41/LEFT(Inputs!$C$18,1)/5280","v":0},0,{"$f":"(T41/60)*((Inputs!$C$13*Calculations!R41*(1-Calculations!J41))+(Inputs!$C$14*Calculations!R41*Calculations!J41))","v":0},{"$f":"IF(R41>0,($J$5/60)*(((I41*$J$3/(1-$J$3))*(1-J41)*Inputs!$C$13)+((I41*$J$3/(1-$J$3))*J41*Inputs!$C$14)),0)","v":0},0,null,"2019-08-02T06:00:00","","",{"$f":"IF(AND(Z41<>\"\",AA41<>\"\"),MAX(INDIRECT(Z41):INDIRECT(AA41)),\"\")","v":""},"","",null,{"$f":"IF(G41=\"TRUE 1\",IF(E41=\"NT\",MROUND(Inputs!$C$32*$AF$3*(1/(1+M41*(2-1))),1),MROUND(Inputs!$C$30*$AF$3*(1/(1+M41*(2-1))),1)),\nIF(G41=\"TRUE 2\",IF(E41=\"NT\",MROUND(Inputs!$D$32*$AG$3*(1/(1+M41*(2-1))),1),MROUND(Inputs!$D$30*$AG$3*(1/(1+M41*(2-1))),1)),\nIF(G41=\"TRUE 3\",IF(E41=\"NT\",MROUND(Inputs!$E$32*$AH$3*(1/(1+M41*(2-1))),1),MROUND(Inputs!$E$30*$AH$3*(1/(1+M41*(2-1))),1)),\nIF(G41=\"TRUE 4\",IF(E41=\"NT\",MROUND(Inputs!$F$32*$AI$3*(1/(1+M41*(2-1))),1),MROUND(Inputs!$F$30*$AI$3*(1/(1+M41*(2-1))),1)),\nMROUND(Inputs!$C$15*(1/(1+M41*(2-1)))*($AF$3+$AF$4),1)))))","v":8727},-5420,0,{"$f":"(AH41/(1/(1+M41*(2-1))))*O41/LEFT(Inputs!$C$18,1)/5280","v":0},0,{"$f":"(AJ41/60)*((Inputs!$C$13*Calculations!AH41*(1-Calculations!M41))+(Inputs!$C$14*Calculations!AH41*Calculations!M41))","v":0},{"$f":"IF(AH41>0,($M$5/60)*(((L41*$M$3/(1-$M$3))*(1-M41)*Inputs!$C$13)+((L41*$M$3/(1-$M$3))*M41*Inputs!$C$14)),0)","v":0},0,null,"2019-08-02T06:00:00","","",{"$f":"IF(AND(AP41<>\"\",AQ41<>\"\"),MAX(INDIRECT(AP41):INDIRECT(AQ41)),\"\")","v":""},"",""]
["2019-08-02",6,"Friday","07:00:00",{"$f":"INDEX(Lists!$M$3:$M$26,MATCH(Calculations!D42,Lists!$L$3:$L$26,0))","v":"AM"},127,{"$f":"IF(INDEX(Inputs!$H$86:$H$253,MATCH(F42,Inputs!$D$86:$D$253,0)),\"TRUE 4\",\nIF(INDEX(Inputs!$G$86:$G$253,MATCH(F42,Inputs!$D$86:$D$253,0)),\"TRUE 3\",\nIF(INDEX(Inputs!$F$86:$F$253,MATCH(F42,Inputs!$D$86:$D$253,0)),\"TRUE 2\",\nIF(INDEX(Inputs!$E$86:$E$253,MATCH(F42,Inputs!$D$86:$D$253,0)),\"TRUE 1\",\nFALSE))))","v":false},null,{"$f":"'Volume Import'!C33*'Volume Import'!$H$14*(1+'Volume Import'!$H$15)*(1-'Volume Import'!$H$16)","v":6938},{"$f":"IF(AND('Volume Import'!D33=0,'Volume Import'!C33=0),0,\nIF('Volume Import'!D33=0,INDEX('Volume Import'!$K$2:$Q$5,MATCH(E42,'Volume Import'!$R$2:$R$5,0),MATCH(C42,'Volume Import'!$K$1:$Q$1,0)),\n'Volume Import'!D33/'Volume Import'!C33))","v":0.1},null,{"$f":"'Volume Import'!E33*'Volume Import'!$I$14*(1+'Volume Import'!$I$15)*(1-'Volume Import'!$I$16)","v":4300},{"$f":"IF('Volume Import'!F33=0,J42,'Volume Import'!F33/'Volume Import'!E33)","v":0.1},null,{"$f":"IF(G42=\"TRUE 1\",IF(E42=\"NT\",Inputs!$C$35,Inputs!$C$34),\nIF(G42=\"TRUE 2\",IF(E42=\"NT\",Inputs!$D$35,Inputs!$D$34),\nIF(G42=\"TRUE 3\",IF(E42=\"NT\",Inputs!$E$35,Inputs!$E$34),\nIF(G42=\"TRUE 4\",IF(E42=\"NT\",Inputs!$F$35,Inputs!$F$34),\nO41))))","v":65.476687896673383},{"$f":"IF(G42=\"TRUE 1\",IF(E42=\"NT\",MROUND(Inputs!$C$32*$P$3*(1/(1+J42*(2-1))),1),MROUND(Inputs!$C$30*$P$3*(1/(1+J42*(2-1))),1)),\nIF(G42=\"TRUE 2\",IF(E42=\"NT\",MROUND(Inputs!$D$32*$Q$3*(1/(1+J42*(2-1))),1),MROUND(Inputs!$D$30*$Q$3*(1/(1+J42*(2-1))),1)),\nIF(G42=\"TRUE 3\",IF(E42=\"NT\",MROUND(Inputs!$E$32*$R$3*(1/(1+J42*(2-1))),1),MROUND(Inputs!$E$30*$R$3*(1/(1+J42*(2-1))),1)),\nIF(G42=\"TRUE 4\",IF(E42=\"NT\",MROUND(Inputs!$F$32*$S$3*(1/(1+J42*(2-1))),1),MROUND(Inputs!$F$30*$S$3*(1/(1+J42*(2-1))),1)),\nMROUND(Inputs!$C$15*(1/(1+J42*(2-1)))*($P$3+$P$4),1)))))","v":8727},-1789,0,{"$f":"(R42/(1/(1+J42*(2-1))))*O42/LEFT(Inputs!$C$18,1)/5280","v":0},0,{"$f":"(T42/60)*((Inputs!$C$13*Calculations!R42*(1-Calculations!J42))+(Inputs!$C$14*Calculations!R42*Calculations!J42))","v":0},{"$f":"IF(R42>0,($J$5/60)*(((I42*$J$3/(1-$J$3))*(1-J42)*Inputs!$C$13)+((I42*$J$3/(1-$J$3))*J42*Inputs!$C$14)),0)","v":0},0,null,"2019-08-02T07:00:00","","",{"$f":"IF(AND(Z42<>\"\",AA42<>\"\"),MAX(INDIRECT(Z42):INDIRECT(AA42)),\"\")","v":""},"","",null,{"$f":"IF(G42=\"TRUE 1\",IF(E42=\"NT\",MROUND(Inputs!$C$32*$AF$3*(1/(1+M42*(2-1))),1),MROUND(Inputs!$C$30*$AF$3*(1/(1+M42*(2-1))),1)),\nIF(G42=\"TRUE 2\",IF(E42=\"NT\",MROUND(Inputs!$D$32*$AG$3*(1/(1+M42*(2-1))),1),MROUND(Inputs!$D$30*$AG$3*(1/(1+M42*(2-1))),1)),\nIF(G42=\"TRUE 3\",IF(E42=\"NT\",MROUND(Inputs!$E$32*$AH$3*(1/(1+M42*(2-1))),1),MROUND(Inputs!$E$30*$AH$3*(1/(1+M42*(2-1))),1)),\nIF(G42=\"TRUE 4\",IF(E42=\"NT\",MROUND(Inputs!$F$32*$AI$3*(1/(1+M42*(2-1))),1),MROUND(Inputs!$F$30*$AI$3*(1/(1+M42*(2-1))),1)),\nMROUND(Inputs!$C$15*(1/(1+M42*(2-1)))*($AF$3+$AF$4),1)))))","v":8727},-4427,0,{"$f":"(AH42/(1/(1+M42*(2-1))))*O42/LEFT(Inputs!$C$18,1)/5280","v":0},0,{"$f":"(AJ42/60)*((Inputs!$C$13*Calculations!AH42*(1-Calculations!M42))+(Inputs!$C$14*Calculations!AH42*Calculations!M42))","v":0},{"$f":"IF(AH42>0,($M$5/60)*(((L42*$M$3/(1-$M$3))*(1-M42)*Inputs!$C$13)+((L42*$M$3/(1-$M$3))*M42*Inputs!$C$14)),0)","v":0},0,null,"2019-08-02T07:00:00","","",{"$f":"IF(AND(AP42<>\"\",AQ42<>\"\"),MAX(INDIRECT(AP42):INDIRECT(AQ42)),\"\")","v":""},"",""]
["2019-08-02",6,"Friday","08:00:00",{"$f":"INDEX(Lists!$M$3:$M$26,MATCH(Calculations!D43,Lists!$L$3:$L$26,0))","v":"AM"},128,{"$f":"IF(INDEX(Inputs!$H$86:$H$253,MATCH(F43,Inputs!$D$86:$D$253,0)),\"TRUE 4\",\nIF(INDEX(Inputs!$G$86:$G$253,MATCH(F43,Inputs!$D$86:$D$253,0)),\"TRUE 3\",\nIF(INDEX(Inputs!$F$86:$F$253,MATCH(F43,Inputs!$D$86:$D$253,0)),\"TRUE 2\",\nIF(INDEX(Inputs!$E$86:$E$253,MATCH(F43,Inputs!$D$86:$D$253,0)),\"TRUE 1\",\nFALSE))))","v":false},null,{"$f":"'Volume Import'!C34*'Volume Import'!$H$14*(1+'Volume Import'!$H$15)*(1-'Volume Import'!$H$16)","v":5543},{"$f":"IF(AND('Volume Import'!D34=0,'Volume Import'!C34=0),0,\nIF('Volume Import'!D34=0,INDEX('Volume Import'!$K$2:$Q$5,MATCH(E43,'Volume Import'!$R$2:$R$5,0),MATCH(C43,'Volume Import'!$K$1:$Q$1,0)),\n'Volume Import'!D34/'Volume Import'!C34))","v":0.1},null,{"$f":"'Volume Import'!E34*'Volume Import'!$I$14*(1+'Volume Import'!$I$15)*(1-'Volume Import'!$I$16)","v":4022},{"$f":"IF('Volume Import'!F34=0,J43,'Volume Import'!F34/'Volume Import'!E34)","v":0.1},null,{"$f":"IF(G43=\"TRUE 1\",IF(E43=\"NT\",Inputs!$C$35,Inputs!$C$34),\nIF(G43=\"TRUE 2\",IF(E43=\"NT\",Inputs!$D$35,Inputs!$D$34),\nIF(G43=\"TRUE 3\",IF(E43=\"NT\",Inputs!$E$35,Inputs!$E$34),\nIF(G43=\"TRUE 4\",IF(E43=\"NT\",Inputs!$F$35,Inputs!$F$34),\nO42))))","v":65.476687896673383},{"$f":"IF(G43=\"TRUE 1\",IF(E43=\"NT\",MROUND(Inputs!$C$32*$P$3*(1/(1+J43*(2-1))),1),MROUND(Inputs!$C$30*$P$3*(1/(1+J43*(2-1))),1)),\nIF(G43=\"TRUE 2\",IF(E43=\"NT\",MROUND(Inputs!$D$32*$Q$3*(1/(1+J43*(2-1))),1),MROUND(Inputs!$D$30*$Q$3*(1/(1+J43*(2-1))),1)),\nIF(G43=\"TRUE 3\",IF(E43=\"NT\",MROUND(Inputs!$E$32*$R$3*(1/(1+J43*(2-1))),1),MROUND(Inputs!$E$30*$R$3*(1/(1+J43*(2-1))),1)),\nIF(G43=\"TRUE 4\",IF(E43=\"NT\",MROUND(Inputs!$F$32*$S$3*(1/(1+J43*(2-1))),1),MROUND(Inputs!$F$30*$S$3*(1/(1+J43*(2-1))),1)),\nMROUND(Inputs!$C$15*(1/(1+J43*(2-1)))*($P$3+$P$4),1)))))","v":8727},-3184,0,{"$f":"(R43/(1/(1+J43*(2-1))))*O43/LEFT(Inputs!$C$18,1)/5280","v":0},0,{"$f":"(T43/60)*((Inputs!$C$13*Calculations!R43*(1-Calculations!J43))+(Inputs!$C$14*Calculations!R43*Calculations!J43))","v":0},{"$f":"IF(R43>0,($J$5/60)*(((I43*$J$3/(1-$J$3))*(1-J43)*Inputs!$C$13)+((I43*$J$3/(1-$J$3))*J43*Inputs!$C$14)),0)","v":0},0,null,"2019-08-02T08:00:00","","",{"$f":"IF(AND(Z43<>\"\",AA43<>\"\"),MAX(INDIRECT(Z43):INDIRECT(AA43)),\"\")","v":""},"",{"$f":"IF(AND(S43>0,S44=0),$Y43,IF(AND(S43>0,S44>0),\"Q\",\"\"))","v":""},null,{"$f":"IF(G43=\"TRUE 1\",IF(E43=\"NT\",MROUND(Inputs!$C$32*$AF$3*(1/(1+M43*(2-1))),1),MROUND(Inputs!$C$30*$AF$3*(1/(1+M43*(2-1))),1)),\nIF(G43=\"TRUE 2\",IF(E43=\"NT\",MROUND(Inputs!$D$32*$AG$3*(1/(1+M43*(2-1))),1),MROUND(Inputs!$D$30*$AG$3*(1/(1+M43*(2-1))),1)),\nIF(G43=\"TRUE 3\",IF(E43=\"NT\",MROUND(Inputs!$E$32*$AH$3*(1/(1+M43*(2-1))),1),MROUND(Inputs!$E$30*$AH$3*(1/(1+M43*(2-1))),1)),\nIF(G43=\"TRUE 4\",IF(E43=\"NT\",MROUND(Inputs!$F$32*$AI$3*(1/(1+M43*(2-1))),1),MROUND(Inputs!$F$30*$AI$3*(1/(1+M43*(2-1))),1)),\nMROUND(Inputs!$C$15*(1/(1+M43*(2-1)))*($AF$3+$AF$4),1)))))","v":8727},-4705,0,{"$f":"(AH43/(1/(1+M43*(2-1))))*O43/LEFT(Inputs!$C$18,1)/5280","v":0},0,{"$f":"(AJ43/60)*((Inputs!$C$13*Calculations!AH43*(1-Calculations!M43))+(Inputs!$C$14*Calculations!AH43*Calculations!M43))","v":0},{"$f":"IF(AH43>0,($M$5/60)*(((L43*$M$3/(1-$M$3))*(1-M43)*Inputs!$C$13)+((L43*$M$3/(1-$M$3))*M43*Inputs!$C$14)),0)","v":0},0,null,"2019-08-02T08:00:00","","",{"$f":"IF(AND(AP43<>\"\",AQ43<>\"\"),MAX(INDIRECT(AP43):INDIRECT(AQ43)),\"\")","v":""},"",""]
["2019-08-02",6,"Friday","09:00:00",{"$f":"INDEX(Lists!$M$3:$M$26,MATCH(Calculations!D44,Lists!$L$3:$L$26,0))","v":"MD"},129,{"$f":"IF(INDEX(Inputs!$H$86:$H$253,MATCH(F44,Inputs!$D$86:$D$253,0)),\"TRUE 4\",\nIF(INDEX(Inputs!$G$86:$G$253,MATCH(F44,Inputs!$D$86:$D$253,0)),\"TRUE 3\",\nIF(INDEX(Inputs!$F$86:$F$253,MATCH(F44,Inputs!$D$86:$D$253,0)),\"TRUE 2\",\nIF(INDEX(Inputs!$E$86:$E$253,MATCH(F44,Inputs!$D$86:$D$253,0)),\"TRUE 1\",\nFALSE))))","v":"TRUE 1"},null,{"$f":"'Volume Import'!C35*'Volume Import'!$H$14*(1+'Volume Import'!$H$15)*(1-'Volume Import'!$H$16)","v":5137},{"$f":"IF(AND('Volume Import'!D35=0,'Volume Import'!C35=0),0,\nIF('Volume Import'!D35=0,INDEX('Volume Import'!$K$2:$Q$5,MATCH(E44,'Volume Import'!$R$2:$R$5,0),MATCH(C44,'Volume Import'!$K$1:$Q$1,0)),\n'Volume Import'!D35/'Volume Import'!C35))","v":0.1},null,{"$f":"'Volume Import'!E35*'Volume Import'!$I$14*(1+'Volume Import'!$I$15)*(1-'Volume Import'!$I$16)","v":3960},{"$f":"IF('Volume Import'!F35=0,J44,'Volume Import'!F35/'Volume Import'!E35)","v":0.1},null,{"$f":"IF(G44=\"TRUE 1\",IF(E44=\"NT\",Inputs!$C$35,Inputs!$C$34),\nIF(G44=\"TRUE 2\",IF(E44=\"NT\",Inputs!$D$35,Inputs!$D$34),\nIF(G44=\"TRUE 3\",IF(E44=\"NT\",Inputs!$E$35,Inputs!$E$34),\nIF(G44=\"TRUE 4\",IF(E44=\"NT\",Inputs!$F$35,Inputs!$F$34),\nO43))))","v":65.476687896673383},{"$f":"IF(G44=\"TRUE 1\",IF(E44=\"NT\",MROUND(Inputs!$C$32*$P$3*(1/(1+J44*(2-1))),1),MROUND(Inputs!$C$30*$P$3*(1/(1+J44*(2-1))),1)),\nIF(G44=\"TRUE 2\",IF(E44=\"NT\",MROUND(Inputs!$D$32*$Q$3*(1/(1+J44*(2-1))),1),MROUND(Inputs!$D$30*$Q$3*(1/(1+J44*(2-1))),1)),\nIF(G44=\"TRUE 3\",IF(E44=\"NT\",MROUND(Inputs!$E$32*$R$3*(1/(1+J44*(2-1))),1),MROUND(Inputs!$E$30*$R$3*(1/(1+J44*(2-1))),1)),\nIF(G44=\"TRUE 4\",IF(E44=\"NT\",MROUND(Inputs!$F$32*$S$3*(1/(1+J44*(2-1))),1),MROUND(Inputs!$F$30*$S$3*(1/(1+J44*(2-1))),1)),\nMROUND(Inputs!$C$15*(1/(1+J44*(2-1)))*($P$3+$P$4),1)))))","v":4681},456,456,{"$f":"(R44/(1/(1+J44*(2-1))))*O44/LEFT(Inputs!$C$18,1)/5280","v":1.5550713375459928},5.8449049348429831,{"$f":"(T44/60)*((Inputs!$C$13*Calculations!R44*(1-Calculations!J44))+(Inputs!$C$14*Calculations!R44*Calculations!J44))","v":1022.0447528305918},{"$f":"IF(R44>0,($J$5/60)*(((I44*$J$3/(1-$J$3))*(1-J44)*Inputs!$C$13)+((I44*$J$3/(1-$J$3))*J44*Inputs!$C$14)),0)","v":0},1022.0447528305918,null,"2019-08-02T09:00:00","S44","",{"$f":"IF(AND(Z44<>\"\",AA44<>\"\"),MAX(INDIRECT(Z44):INDIRECT(AA44)),\"\")","v":""},{"$f":"IF(AND(S44>0,S43=0),$Y44,IF(AND(S44>0,S43>0),\"Q\",\"\"))","v":"2019-08-02T09:00:00"},"Q",null,{"$f":"IF(G44=\"TRUE 1\",IF(E44=\"NT\",MROUND(Inputs!$C$32*$AF$3*(1/(1+M44*(2-1))),1),MROUND(Inputs!$C$30*$AF$3*(1/(1+M44*(2-1))),1)),\nIF(G44=\"TRUE 2\",IF(E44=\"NT\",MROUND(Inputs!$D$32*$AG$3*(1/(1+M44*(2-1))),1),MROUND(Inputs!$D$30*$AG$3*(1/(1+M44*(2-1))),1)),\nIF(G44=\"TRUE 3\",IF(E44=\"NT\",MROUND(Inputs!$E$32*$AH$3*(1/(1+M44*(2-1))),1),MROUND(Inputs!$E$30*$AH$3*(1/(1+M44*(2-1))),1)),\nIF(G44=\"TRUE 4\",IF(E44=\"NT\",MROUND(Inputs!$F$32*$AI$3*(1/(1+M44*(2-1))),1),MROUND(Inputs!$F$30*$AI$3*(1/(1+M44*(2-1))),1)),\nMROUND(Inputs!$C$15*(1/(1+M44*(2-1)))*($AF$3+$AF$4),1)))))","v":4681},-721,0,{"$f":"(AH44/(1/(1+M44*(2-1))))*O44/LEFT(Inputs!$C$18,1)/5280","v":0},0,{"$f":"(AJ44/60)*((Inputs!$C$13*Calculations!AH44*(1-Calculations!M44))+(Inputs!$C$14*Calculations!AH44*Calculations!M44))","v":0},{"$f":"IF(AH44>0,($M$5/60)*(((L44*$M$3/(1-$M$3))*(1-M44)*Inputs!$C$13)+((L44*$M$3/(1-$M$3))*M44*Inputs!$C$14)),0)","v":0},0,null,"2019-08-02T09:00:00","","",{"$f":"IF(AND(AP44<>\"\",AQ44<>\"\"),MAX(INDIRECT(AP44):INDIRECT(AQ44)),\"\")","v":""},"",""]
["2019-08-02",6,"Friday","10:00:00",{"$f":"INDEX(Lists!$M$3:$M$26,MATCH(Calculations!D45,Lists!$L$3:$L$26,0))","v":"MD"},130,{"$f":"IF(INDEX(Inputs!$H$86:$H$253,MATCH(F45,Inputs!$D$86:$D$253,0)),\"TRUE 4\",\nIF(INDEX(Inputs!$G$86:$G$253,MATCH(F45,Inputs!$D$86:$D$253,0)),\"TRUE 3\",\nIF(INDEX(Inputs!$F$86:$F$253,MATCH(F45,Inputs!$D$86:$D$253,0)),\"TRUE 2\",\nIF(INDEX(Inputs!$E$86:$E$253,MATCH(F45,Inputs!$D$86:$D$253,0)),\"TRUE 1\",\nFALSE))))","v":"TRUE 1"},null,{"$f":"'Volume Import'!C36*'Volume Import'!$H$14*(1+'Volume Import'!$H$15)*(1-'Volume Import'!$H$16)","v":5202},{"$f":"IF(AND('Volume Import'!D36=0,'Volume Import'!C36=0),0,\nIF('Volume Import'!D36=0,INDEX('Volume Import'!$K$2:$Q$5,MATCH(E45,'Volume Import'!$R$2:$R$5,0),MATCH(C45,'Volume Import'!$K$1:$Q$1,0)),\n'Volume Import'!D36/'Volume Import'!C36))","v":0.1},null,{"$f":"'Volume Import'!E36*'Volume Import'!$I$14*(1+'Volume Import'!$I$15)*(1-'Volume Import'!$I$16)","v":4159},{"$f":"IF('Volume Import'!F36=0,J45,'Volume Import'!F36/'Volume Import'!E36)","v":0.1},null,{"$f":"IF(G45=\"TRUE 1\",IF(E45=\"NT\",Inputs!$C$35,Inputs!$C$34),\nIF(G45=\"TRUE 2\",IF(E45=\"NT\",Inputs!$D$35,Inputs!$D$34),\nIF(G45=\"TRUE 3\",IF(E45=\"NT\",Inputs!$E$35,Inputs!$E$34),\nIF(G45=\"TRUE 4\",IF(E45=\"NT\",Inputs!$F$35,Inputs!$F$34),\nO44))))","v":65.476687896673383},{"$f":"IF(G45=\"TRUE 1\",IF(E45=\"NT\",MROUND(Inputs!$C$32*$P$3*(1/(1+J45*(2-1))),1),MROUND(Inputs!$C$30*$P$3*(1/(1+J45*(2-1))),1)),\nIF(G45=\"TRUE 2\",IF(E45=\"NT\",MROUND(Inputs!$D$32*$Q$3*(1/(1+J45*(2-1))),1),MROUND(Inputs!$D$30*$Q$3*(1/(1+J45*(2-1))),1)),\nIF(G45=\"TRUE 3\",IF(E45=\"NT\",MROUND(Inputs!$E$32*$R$3*(1/(1+J45*(2-1))),1),MROUND(Inputs!$E$30*$R$3*(1/(1+J45*(2-1))),1)),\nIF(G45=\"TRUE 4\",IF(E45=\"NT\",MROUND(Inputs!$F$32*$S$3*(1/(1+J45*(2-1))),1),MROUND(Inputs!$F$30*$S$3*(1/(1+J45*(2-1))),1)),\nMROUND(Inputs!$C$15*(1/(1+J45*(2-1)))*($P$3+$P$4),1)))))","v":4681},521,977,{"$f":"(R45/(1/(1+J45*(2-1))))*O45/LEFT(Inputs!$C$18,1)/5280","v":3.3318085455755155},12.522965178380689,{"$f":"(T45/60)*((Inputs!$C$13*Calculations!R45*(1-Calculations!J45))+(Inputs!$C$14*Calculations!R45*Calculations!J45))","v":4691.6905003204447},{"$f":"IF(R45>0,($J$5/60)*(((I45*$J$3/(1-$J$3))*(1-J45)*Inputs!$C$13)+((I45*$J$3/(1-$J$3))*J45*Inputs!$C$14)),0)","v":0},4691.6905003204447,null,"2019-08-02T10:00:00","S44","",{"$f":"IF(AND(Z45<>\"\",AA45<>\"\"),MAX(INDIRECT(Z45):INDIRECT(AA45)),\"\")","v":""},"Q","Q",null,{"$f":"IF(G45=\"TRUE 1\",IF(E45=\"NT\",MROUND(Inputs!$C$32*$AF$3*(1/(1+M45*(2-1))),1),MROUND(Inputs!$C$30*$AF$3*(1/(1+M45*(2-1))),1)),\nIF(G45=\"TRUE 2\",IF(E45=\"NT\",MROUND(Inputs!$D$32*$AG$3*(1/(1+M45*(2-1))),1),MROUND(Inputs!$D$30*$AG$3*(1/(1+M45*(2-1))),1)),\nIF(G45=\"TRUE 3\",IF(E45=\"NT\",MROUND(Inputs!$E$32*$AH$3*(1/(1+M45*(2-1))),1),MROUND(Inputs!$E$30*$AH$3*(1/(1+M45*(2-1))),1)),\nIF(G45=\"TRUE 4\",IF(E45=\"NT\",MROUND(Inputs!$F$32*$AI$3*(1/(1+M45*(2-1))),1),MROUND(Inputs!$F$30*$AI$3*(1/(1+M45*(2-1))),1)),\nMROUND(Inputs!$C$15*(1/(1+M45*(2-1)))*($AF$3+$AF$4),1)))))","v":4681},-522,0,{"$f":"(AH45/(1/(1+M45*(2-1))))*O45/LEFT(Inputs!$C$18,1)/5280","v":0},0,{"$f":"(AJ45/60)*((Inputs!$C$13*Calculations!AH45*(1-Calculations!M45))+(Inputs!$C$14*Calculations!AH45*Calculations!M45))","v":0},{"$f":"IF(AH45>0,($M$5/60)*(((L45*$M$3/(1-$M$3))*(1-M45)*Inputs!$C$13)+((L45*$M$3/(1-$M$3))*M45*Inputs!$C$14)),0)","v":0},0,null,"2019-08-02T10:00:00","","",{"$f":"IF(AND(AP45<>\"\",AQ45<>\"\"),MAX(INDIRECT(AP45):INDIRECT(AQ45)),\"\")","v":""},"",""]
["2019-08-02",6,"Friday","11:00:00",{"$f":"INDEX(Lists!$M$3:$M$26,MATCH(Calculations!D46,Lists!$L$3:$L$26,0))","v":"MD"},131,{"$f":"IF(INDEX(Inputs!$H$86:$H$253,MATCH(F46,Inputs!$D$86:$D$253,0)),\"TRUE 4\",\nIF(INDEX(Inputs!$G$86:$G$253,MATCH(F46,Inputs!$D$86:$D$253,0)),\"TRUE 3\",\nIF(INDEX(Inputs!$F$86:$F$253,MATCH(F46,Inputs!$D$86:$D$253,0)),\"TRUE 2\",\nIF(INDEX(Inputs!$E$86:$E$253,MATCH(F46,Inputs!$D$86:$D$253,0)),\"TRUE 1\",\nFALSE))))","v":"TRUE 1"},null,{"$f":"'Volume Import'!C37*'Volume Import'!$H$14*(1+'Volume Import'!$H$15)*(1-'Volume Import'!$H$16)","v":5217},{"$f":"IF(AND('Volume Import'!D37=0,'Volume Import'!C37=0),0,\nIF('Volume Import'!D37=0,INDEX('Volume Import'!$K$2:$Q$5,MATCH(E46,'Volume Import'!$R$2:$R$5,0),MATCH(C46,'Volume Import'!$K$1:$Q$1,0)),\n'Volume Import'!D37/'Volume Import'!C37))","v":0.1},null,{"$f":"'Volume Import'!E37*'Volume Import'!$I$14*(1+'Volume Import'!$I$15)*(1-'Volume Import'!$I$16)","v":4455},{"$f":"IF('Volume Import'!F37=0,J46,'Volume Import'!F37/'Volume Import'!E37)","v":0.1},null,{"$f":"IF(G46=\"TRUE 1\",IF(E46=\"NT\",Inputs!$C$35,Inputs!$C$34),\nIF(G46=\"TRUE 2\",IF(E46=\"NT\",Inputs!$D$35,Inputs!$D$34),\nIF(G46=\"TRUE 3\",IF(E46=\"NT\",Inputs!$E$35,Inputs!$E$34),\nIF(G46=\"TRUE 4\",IF(E46=\"NT\",Inputs!$F$35,Inputs!$F$34),\nO45))))","v":65.476687896673383},{"$f":"IF(G46=\"TRUE 1\",IF(E46=\"NT\",MROUND(Inputs!$C$32*$P$3*(1/(1+J46*(2-1))),1),MROUND(Inputs!$C$30*$P$3*(1/(1+J46*(2-1))),1)),\nIF(G46=\"TRUE 2\",IF(E46=\"NT\",MROUND(Inputs!$D$32*$Q$3*(1/(1+J46*(2-1))),1),MROUND(Inputs!$D$30*$Q$3*(1/(1+J46*(2-1))),1)),\nIF(G46=\"TRUE 3\",IF(E46=\"NT\",MROUND(Inputs!$E$32*$R$3*(1/(1+J46*(2-1))),1),MROUND(Inputs!$E$30*$R$3*(1/(1+J46*(2-1))),1)),\nIF(G46=\"TRUE 4\",IF(E46=\"NT\",MROUND(Inputs!$F$32*$S$3*(1/(1+J46*(2-1))),1),MROUND(Inputs!$F$30*$S$3*(1/(1+J46*(2-1))),1)),\nMROUND(Inputs!$C$15*(1/(1+J46*(2-1)))*($P$3+$P$4),1)))))","v":4681},536,1513,{"$f":"(R46/(1/(1+J46*(2-1))))*O46/LEFT(Inputs!$C$18,1)/5280","v":5.1596994160243135},19.393292031617175,{"$f":"(T46/60)*((Inputs!$C$13*Calculations!R46*(1-Calculations!J46))+(Inputs!$C$14*Calculations!R46*Calculations!J46))","v":11251.698430249946},{"$f":"IF(R46>0,($J$5/60)*(((I46*$J$3/(1-$J$3))*(1-J46)*Inputs!$C$13)+((I46*$J$3/(1-$J$3))*J46*Inputs!$C$14)),0)","v":0},11251.698430249946,null,"2019-08-02T11:00:00","S44","",{"$f":"IF(AND(Z46<>\"\",AA46<>\"\"),MAX(INDIRECT(Z46):INDIRECT(AA46)),\"\")","v":""},"Q","Q",null,{"$f":"IF(G46=\"TRUE 1\",IF(E46=\"NT\",MROUND(Inputs!$C$32*$AF$3*(1/(1+M46*(2-1))),1),MROUND(Inputs!$C$30*$AF$3*(1/(1+M46*(2-1))),1)),\nIF(G46=\"TRUE 2\",IF(E46=\"NT\",MROUND(Inputs!$D$32*$AG$3*(1/(1+M46*(2-1))),1),MROUND(Inputs!$D$30*$AG$3*(1/(1+M46*(2-1))),1)),\nIF(G46=\"TRUE 3\",IF(E46=\"NT\",MROUND(Inputs!$E$32*$AH$3*(1/(1+M46*(2-1))),1),MROUND(Inputs!$E$30*$AH$3*(1/(1+M46*(2-1))),1)),\nIF(G46=\"TRUE 4\",IF(E46=\"NT\",MROUND(Inputs!$F$32*$AI$3*(1/(1+M46*(2-1))),1),MROUND(Inputs!$F$30*$AI$3*(1/(1+M46*(2-1))),1)),\nMROUND(Inputs!$C$15*(1/(1+M46*(2-1)))*($AF$3+$AF$4),1)))))","v":4681},-226,0,{"$f":"(AH46/(1/(1+M46*(2-1))))*O46/LEFT(Inputs!$C$18,1)/5280","v":0},0,{"$f":"(AJ46/60)*((Inputs!$C$13*Calculations!AH46*(1-Calculations!M46))+(Inputs!$C$14*Calculations!AH46*Calculations!M46))","v":0},{"$f":"IF(AH46>0,($M$5/60)*(((L46*$M$3/(1-$M$3))*(1-M46)*Inputs!$C$13)+((L46*$M$3/(1-$M$3))*M46*Inputs!$C$14)),0)","v":0},0,null,"2019-08-02T11:00:00","","",{"$f":"IF(AND(AP46<>\"\",AQ46<>\"\"),MAX(INDIRECT(AP46):INDIRECT(AQ46)),\"\")","v":""},"",""]
["2019-08-02",6,"Friday","12:00:00",{"$f":"INDEX(Lists!$M$3:$M$26,MATCH(Calculations!D47,Lists!$L$3:$L$26,0))","v":"MD"},132,{"$f":"IF(INDEX(Inputs!$H$86:$H$253,MATCH(F47,Inputs!$D$86:$D$253,0)),\"TRUE 4\",\nIF(INDEX(Inputs!$G$86:$G$253,MATCH(F47,Inputs!$D$86:$D$253,0)),\"TRUE 3\",\nIF(INDEX(Inputs!$F$86:$F$253,MATCH(F47,Inputs!$D$86:$D$253,0)),\"TRUE 2\",\nIF(INDEX(Inputs!$E$86:$E$253,MATCH(F47,Inputs!$D$86:$D$253,0)),\"TRUE 1\",\nFALSE))))","v":"TRUE 1"},null,{"$f":"'Volume Import'!C38*'Volume Import'!$H$14*(1+'Volume Import'!$H$15)*(1-'Volume Import'!$H$16)","v":5253},{"$f":"IF(AND('Volume Import'!D38=0,'Volume Import'!C38=0),0,\nIF('Volume Import'!D38=0,INDEX('Volume Import'!$K$2:$Q$5,MATCH(E47,'Volume Import'!$R$2:$R$5,0),MATCH(C47,'Volume Import'!$K$1:$Q$1,0)),\n'Volume Import'!D38/'Volume Import'!C38))","v":0.1},null,{"$f":"'Volume Import'!E38*'Volume Import'!$I$14*(1+'Volume Import'!$I$15)*(1-'Volume Import'!$I$16)","v":5006},{"$f":"IF('Volume Import'!F38=0,J47,'Volume Import'!F38/'Volume Import'!E38)","v":0.1},null,{"$f":"IF(G47=\"TRUE 1\",IF(E47=\"NT\",Inputs!$C$35,Inputs!$C$34),\nIF(G47=\"TRUE 2\",IF(E47=\"NT\",Inputs!$D$35,Inputs!$D$34),\nIF(G47=\"TRUE 3\",IF(E47=\"NT\",Inputs!$E$35,Inputs!$E$34),\nIF(G47=\"TRUE 4\",IF(E47=\"NT\",Inputs!$F$35,Inputs!$F$34),\nO46))))","v":65.476687896673383},{"$f":"IF(G47=\"TRUE 1\",IF(E47=\"NT\",MROUND(Inputs!$C$32*$P$3*(1/(1+J47*(2-1))),1),MROUND(Inputs!$C$30*$P$3*(1/(1+J47*(2-1))),1)),\nIF(G47=\"TRUE 2\",IF(E47=\"NT\",MROUND(Inputs!$D$32*$Q$3*(1/(1+J47*(2-1))),1),MROUND(Inputs!$D$30*$Q$3*(1/(1+J47*(2-1))),1)),\nIF(G47=\"TRUE 3\",IF(E47=\"NT\",MROUND(Inputs!$E$32*$R$3*(1/(1+J47*(2-1))),1),MROUND(Inputs!$E$30*$R$3*(1/(1+J47*(2-1))),1)),\nIF(G47=\"TRUE 4\",IF(E47=\"NT\",MROUND(Inputs!$F$32*$S$3*(1/(1+J47*(2-1))),1),MROUND(Inputs!$F$30*$S$3*(1/(1+J47*(2-1))),1)),\nMROUND(Inputs!$C$15*(1/(1+J47*(2-1)))*($P$3+$P$4),1)))))","v":4681},572,2085,{"$f":"(R47/(1/(1+J47*(2-1))))*O47/LEFT(Inputs!$C$18,1)/5280","v":7.1103590762793747},26.725058748130742,{"$f":"(T47/60)*((Inputs!$C$13*Calculations!R47*(1-Calculations!J47))+(Inputs!$C$14*Calculations!R47*Calculations!J47))","v":21367.432770775471},{"$f":"IF(R47>0,($J$5/60)*(((I47*$J$3/(1-$J$3))*(1-J47)*Inputs!$C$13)+((I47*$J$3/(1-$J$3))*J47*Inputs!$C$14)),0)","v":0},21367.432770775471,null,"2019-08-02T12:00:00","S44","",{"$f":"IF(AND(Z47<>\"\",AA47<>\"\"),MAX(INDIRECT(Z47):INDIRECT(AA47)),\"\")","v":""},"Q","Q",null,{"$f":"IF(G47=\"TRUE 1\",IF(E47=\"NT\",MROUND(Inputs!$C$32*$AF$3*(1/(1+M47*(2-1))),1),MROUND(Inputs!$C$30*$AF$3*(1/(1+M47*(2-1))),1)),\nIF(G47=\"TRUE 2\",IF(E47=\"NT\",MROUND(Inputs!$D$32*$AG$3*(1/(1+M47*(2-1))),1),MROUND(Inputs!$D$30*$AG$3*(1/(1+M47*(2-1))),1)),\nIF(G47=\"TRUE 3\",IF(E47=\"NT\",MROUND(Inputs!$E$32*$AH$3*(1/(1+M47*(2-1))),1),MROUND(Inputs!$E$30*$AH$3*(1/(1+M47*(2-1))),1)),\nIF(G47=\"TRUE 4\",IF(E47=\"NT\",MROUND(Inputs!$F$32*$AI$3*(1/(1+M47*(2-1))),1),MROUND(Inputs!$F$30*$AI$3*(1/(1+M47*(2-1))),1)),\nMROUND(Inputs!$C$15*(1/(1+M47*(2-1)))*($AF$3+$AF$4),1)))))","v":4681},325,325,{"$f":"(AH47/(1/(1+M47*(2-1))))*O47/LEFT(Inputs!$C$18,1)/5280","v":1.1083293524176483},4.1657765434736165,{"$f":"(AJ47/60)*((Inputs!$C$13*Calculations!AH47*(1-Calculations!M47))+(Inputs!$C$14*Calculations!AH47*Calculations!M47))","v":519.1668446913053},{"$f":"IF(AH47>0,($M$5/60)*(((L47*$M$3/(1-$M$3))*(1-M47)*Inputs!$C$13)+((L47*$M$3/(1-$M$3))*M47*Inputs!$C$14)),0)","v":0},519.1668446913053,null,"2019-08-02T12:00:00","AI47","",{"$f":"IF(AND(AP47<>\"\",AQ47<>\"\"),MAX(INDIRECT(AP47):INDIRECT(AQ47)),\"\")","v":""},"2019-08-02T12:00:00","Q"]
["2019-08-02",6,"Friday","13:00:00",{"$f":"INDEX(Lists!$M$3:$M$26,MATCH(Calculations!D48,Lists!$L$3:$L$26,0))","v":"MD"},133,{"$f":"IF(INDEX(Inputs!$H$86:$H$253,MATCH(F48,Inputs!$D$86:$D$253,0)),\"TRUE 4\",\nIF(INDEX(Inputs!$G$86:$G$253,MATCH(F48,Inputs!$D$86:$D$253,0)),\"TRUE 3\",\nIF(INDEX(Inputs!$F$86:$F$253,MATCH(F48,Inputs!$D$86:$D$253,0)),\"TRUE 2\",\nIF(INDEX(Inputs!$E$86:$E$253,MATCH(F48,Inputs!$D$86:$D$253,0)),\"TRUE 1\",\nFALSE))))","v":"TRUE 1"},null,{"$f":"'Volume Import'!C39*'Volume Import'!$H$14*(1+'Volume Import'!$H$15)*(1-'Volume Import'!$H$16)","v":5384},{"$f":"IF(AND('Volume Import'!D39=0,'Volume Import'!C39=0),0,\nIF('Volume Import'!D39=0,INDEX('Volume Import'!$K$2:$Q$5,MATCH(E48,'Volume Import'!$R$2:$R$5,0),MATCH(C48,'Volume Import'!$K$1:$Q$1,0)),\n'Volume Import'!D39/'Volume Import'!C39))","v":0.1},null,{"$f":"'Volume Import'!E39*'Volume Import'!$I$14*(1+'Volume Import'!$I$15)*(1-'Volume Import'!$I$16)","v":5289},{"$f":"IF('Volume Import'!F39=0,J48,'Volume Import'!F39/'Volume Import'!E39)","v":0.1},null,{"$f":"IF(G48=\"TRUE 1\",IF(E48=\"NT\",Inputs!$C$35,Inputs!$C$34),\nIF(G48=\"TRUE 2\",IF(E48=\"NT\",Inputs!$D$35,Inputs!$D$34),\nIF(G48=\"TRUE 3\",IF(E48=\"NT\",Inputs!$E$35,Inputs!$E$34),\nIF(G48=\"TRUE 4\",IF(E48=\"NT\",Inputs!$F$35,Inputs!$F$34),\nO47))))","v":65.476687896673383},{"$f":"IF(G48=\"TRUE 1\",IF(E48=\"NT\",MROUND(Inputs!$C$32*$P$3*(1/(1+J48*(2-1))),1),MROUND(Inputs!$C$30*$P$3*(1/(1+J48*(2-1))),1)),\nIF(G48=\"TRUE 2\",IF(E48=\"NT\",MROUND(Inputs!$D$32*$Q$3*(1/(1+J48*(2-1))),1),MROUND(Inputs!$D$30*$Q$3*(1/(1+J48*(2-1))),1)),\nIF(G48=\"TRUE 3\",IF(E48=\"NT\",MROUND(Inputs!$E$32*$R$3*(1/(1+J48*(2-1))),1),MROUND(Inputs!$E$30*$R$3*(1/(1+J48*(2-1))),1)),\nIF(G48=\"TRUE 4\",IF(E48=\"NT\",MROUND(Inputs!$F$32*$S$3*(1/(1+J48*(2-1))),1),MROUND(Inputs!$F$30*$S$3*(1/(1+J48*(2-1))),1)),\nMROUND(Inputs!$C$15*(1/(1+J48*(2-1)))*($P$3+$P$4),1)))))","v":4681},703,2788,{"$f":"(R48/(1/(1+J48*(2-1))))*O48/LEFT(Inputs!$C$18,1)/5280","v":9.5077607216627804},35.735953856013666,{"$f":"(T48/60)*((Inputs!$C$13*Calculations!R48*(1-Calculations!J48))+(Inputs!$C$14*Calculations!R48*Calculations!J48))","v":38205.489329630414},{"$f":"IF(R48>0,($J$5/60)*(((I48*$J$3/(1-$J$3))*(1-J48)*Inputs!$C$13)+((I48*$J$3/(1-$J$3))*J48*Inputs!$C$14)),0)","v":0},38205.489329630414,null,"2019-08-02T13:00:00","S44","S48",{"$f":"IF(AND(Z48<>\"\",AA48<>\"\"),MAX(INDIRECT(Z48):INDIRECT(AA48)),\"\")","v":9.5077607216627804},"Q","2019-08-02T13:00:00",null,{"$f":"IF(G48=\"TRUE 1\",IF(E48=\"NT\",MROUND(Inputs!$C$32*$AF$3*(1/(1+M48*(2-1))),1),MROUND(Inputs!$C$30*$AF$3*(1/(1+M48*(2-1))),1)),\nIF(G48=\"TRUE 2\",IF(E48=\"NT\",MROUND(Inputs!$D$32*$AG$3*(1/(1+M48*(2-1))),1),MROUND(Inputs!$D$30*$AG$3*(1/(1+M48*(2-1))),1)),\nIF(G48=\"TRUE 3\",IF(E48=\"NT\",MROUND(Inputs!$E$32*$AH$3*(1/(1+M48*(2-1))),1),MROUND(Inputs!$E$30*$AH$3*(1/(1+M48*(2-1))),1)),\nIF(G48=\"TRUE 4\",IF(E48=\"NT\",MROUND(Inputs!$F$32*$AI$3*(1/(1+M48*(2-1))),1),MROUND(Inputs!$F$30*$AI$3*(1/(1+M48*(2-1))),1)),\nMROUND(Inputs!$C$15*(1/(1+M48*(2-1)))*($AF$3+$AF$4),1)))))","v":4681},608,933,{"$f":"(AH48/(1/(1+M48*(2-1))))*O48/LEFT(Inputs!$C$18,1)/5280","v":3.1817578024789719},11.958983123264259,{"$f":"(AJ48/60)*((Inputs!$C$13*Calculations!AH48*(1-Calculations!M48))+(Inputs!$C$14*Calculations!AH48*Calculations!M48))","v":4278.6180115359975},{"$f":"IF(AH48>0,($M$5/60)*(((L48*$M$3/(1-$M$3))*(1-M48)*Inputs!$C$13)+((L48*$M$3/(1-$M$3))*M48*Inputs!$C$14)),0)","v":0},4278.6180115359975,null,"2019-08-02T13:00:00","AI47","AI48",{"$f":"IF(AND(AP48<>\"\",AQ48<>\"\"),MAX(INDIRECT(AP48):INDIRECT(AQ48)),\"\")","v":3.1817578024789719},"Q","2019-08-02T13:00:00"]
["2019-08-02",6,"Friday","14:00:00",{"$f":"INDEX(Lists!$M$3:$M$26,MATCH(Calculations!D49,Lists!$L$3:$L$26,0))","v":"MD"},134,{"$f":"IF(INDEX(Inputs!$H$86:$H$253,MATCH(F49,Inputs!$D$86:$D$253,0)),\"TRUE 4\",\nIF(INDEX(Inputs!$G$86:$G$253,MATCH(F49,Inputs!$D$86:$D$253,0)),\"TRUE 3\",\nIF(INDEX(Inputs!$F$86:$F$253,MATCH(F49,Inputs!$D$86:$D$253,0)),\"TRUE 2\",\nIF(INDEX(Inputs!$E$86:$E$253,MATCH(F49,Inputs!$D$86:$D$253,0)),\"TRUE 1\",\nFALSE))))","v":false},null,{"$f":"'Volume Import'!C40*'Volume Import'!$H$14*(1+'Volume Import'!$H$15)*(1-'Volume Import'!$H$16)","v":5656},{"$f":"IF(AND('Volume Import'!D40=0,'Volume Import'!C40=0),0,\nIF('Volume Import'!D40=0,INDEX('Volume Import'!$K$2:$Q$5,MATCH(E49,'Volume Import'!$R$2:$R$5,0),MATCH(C49,'Volume Import'!$K$1:$Q$1,0)),\n'Volume Import'!D40/'Volume Import'!C40))","v":0.1},null,{"$f":"'Volume Import'!E40*'Volume Import'!$I$14*(1+'Volume Import'!$I$15)*(1-'Volume Import'!$I$16)","v":6340},{"$f":"IF('Volume Import'!F40=0,J49,'Volume Import'!F40/'Volume Import'!E40)","v":0.1},null,{"$f":"IF(G49=\"TRUE 1\",IF(E49=\"NT\",Inputs!$C$35,Inputs!$C$34),\nIF(G49=\"TRUE 2\",IF(E49=\"NT\",Inputs!$D$35,Inputs!$D$34),\nIF(G49=\"TRUE 3\",IF(E49=\"NT\",Inputs!$E$35,Inputs!$E$34),\nIF(G49=\"TRUE 4\",IF(E49=\"NT\",Inputs!$F$35,Inputs!$F$34),\nO48))))","v":65.476687896673383},{"$f":"IF(G49=\"TRUE 1\",IF(E49=\"NT\",MROUND(Inputs!$C$32*$P$3*(1/(1+J49*(2-1))),1),MROUND(Inputs!$C$30*$P$3*(1/(1+J49*(2-1))),1)),\nIF(G49=\"TRUE 2\",IF(E49=\"NT\",MROUND(Inputs!$D$32*$Q$3*(1/(1+J49*(2-1))),1),MROUND(Inputs!$D$30*$Q$3*(1/(1+J49*(2-1))),1)),\nIF(G49=\"TRUE 3\",IF(E49=\"NT\",MROUND(Inputs!$E$32*$R$3*(1/(1+J49*(2-1))),1),MROUND(Inputs!$E$30*$R$3*(1/(1+J49*(2-1))),1)),\nIF(G49=\"TRUE 4\",IF(E49=\"NT\",MROUND(Inputs!$F$32*$S$3*(1/(1+J49*(2-1))),1),MROUND(Inputs!$F$30*$S$3*(1/(1+J49*(2-1))),1)),\nMROUND(Inputs!$C$15*(1/(1+J49*(2-1)))*($P$3+$P$4),1)))))","v":8727},-3071,0,{"$f":"(R49/(1/(1+J49*(2-1))))*O49/LEFT(Inputs!$C$18,1)/5280","v":0},0,{"$f":"(T49/60)*((Inputs!$C$13*Calculations!R49*(1-Calculations!J49))+(Inputs!$C$14*Calculations!R49*Calculations!J49))","v":0},{"$f":"IF(R49>0,($J$5/60)*(((I49*$J$3/(1-$J$3))*(1-J49)*Inputs!$C$13)+((I49*$J$3/(1-$J$3))*J49*Inputs!$C$14)),0)","v":0},0,null,"2019-08-02T14:00:00","","",{"$f":"IF(AND(Z49<>\"\",AA49<>\"\"),MAX(INDIRECT(Z49):INDIRECT(AA49)),\"\")","v":""},"","",null,{"$f":"IF(G49=\"TRUE 1\",IF(E49=\"NT\",MROUND(Inputs!$C$32*$AF$3*(1/(1+M49*(2-1))),1),MROUND(Inputs!$C$30*$AF$3*(1/(1+M49*(2-1))),1)),\nIF(G49=\"TRUE 2\",IF(E49=\"NT\",MROUND(Inputs!$D$32*$AG$3*(1/(1+M49*(2-1))),1),MROUND(Inputs!$D$30*$AG$3*(1/(1+M49*(2-1))),1)),\nIF(G49=\"TRUE 3\",IF(E49=\"NT\",MROUND(Inputs!$E$32*$AH$3*(1/(1+M49*(2-1))),1),MROUND(Inputs!$E$30*$AH$3*(1/(1+M49*(2-1))),1)),\nIF(G49=\"TRUE 4\",IF(E49=\"NT\",MROUND(Inputs!$F$32*$AI$3*(1/(1+M49*(2-1))),1),MROUND(Inputs!$F$30*$AI$3*(1/(1+M49*(2-1))),1)),\nMROUND(Inputs!$C$15*(1/(1+M49*(2-1)))*($AF$3+$AF$4),1)))))","v":8727},-2387,0,{"$f":"(AH49/(1/(1+M49*(2-1))))*O49/LEFT(Inputs!$C$18,1)/5280","v":0},0,{"$f":"(AJ49/60)*((Inputs!$C$13*Calculations!AH49*(1-Calculations!M49))+(Inputs!$C$14*Calculations!AH49*Calculations!M49))","v":0},{"$f":"IF(AH49>0,($M$5/60)*(((L49*$M$3/(1-$M$3))*(1-M49)*Inputs!$C$13)+((L49*$M$3/(1-$M$3))*M49*Inputs!$C$14)),0)","v":0},0,null,"2019-08-02T14:00:00","","",{"$f":"IF(AND(AP49<>\"\",AQ49<>\"\"),MAX(INDIRECT(AP49):INDIRECT(AQ49)),\"\")","v":""},"",""]
["2019-08-02",6,"Friday","15:00:00",{"$f":"INDEX(Lists!$M$3:$M$26,MATCH(Calculations!D50,Lists!$L$3:$L$26,0))","v":"PM"},135,{"$f":"IF(INDEX(Inputs!$H$86:$H$253,MATCH(F50,Inputs!$D$86:$D$253,0)),\"TRUE 4\",\nIF(INDEX(Inputs!$G$86:$G$253,MATCH(F50,Inputs!$D$86:$D$253,0)),\"TRUE 3\",\nIF(INDEX(Inputs!$F$86:$F$253,MATCH(F50,Inputs!$D$86:$D$253,0)),\"TRUE 2\",\nIF(INDEX(Inputs!$E$86:$E$253,MATCH(F50,Inputs!$D$86:$D$253,0)),\"TRUE 1\",\nFALSE))))","v":false},null,{"$f":"'Volume Import'!C41*'Volume Import'!$H$14*(1+'Volume Import'!$H$15)*(1-'Volume Import'!$H$16)","v":5672},{"$f":"IF(AND('Volume Import'!D41=0,'Volume Import'!C41=0),0,\nIF('Volume Import'!D41=0,INDEX('Volume Import'!$K$2:$Q$5,MATCH(E50,'Volume Import'!$R$2:$R$5,0),MATCH(C50,'Volume Import'!$K$1:$Q$1,0)),\n'Volume Import'!D41/'Volume Import'!C41))","v":0.1},null,{"$f":"'Volume Import'!E41*'Volume Import'!$I$14*(1+'Volume Import'!$I$15)*(1-'Volume Import'!$I$16)","v":6921},{"$f":"IF('Volume Import'!F41=0,J50,'Volume Import'!F41/'Volume Import'!E41)","v":0.1},null,{"$f":"IF(G50=\"TRUE 1\",IF(E50=\"NT\",Inputs!$C$35,Inputs!$C$34),\nIF(G50=\"TRUE 2\",IF(E50=\"NT\",Inputs!$D$35,Inputs!$D$34),\nIF(G50=\"TRUE 3\",IF(E50=\"NT\",Inputs!$E$35,Inputs!$E$34),\nIF(G50=\"TRUE 4\",IF(E50=\"NT\",Inputs!$F$35,Inputs!$F$34),\nO49))))","v":65.476687896673383},{"$f":"IF(G50=\"TRUE 1\",IF(E50=\"NT\",MROUND(Inputs!$C$32*$P$3*(1/(1+J50*(2-1))),1),MROUND(Inputs!$C$30*$P$3*(1/(1+J50*(2-1))),1)),\nIF(G50=\"TRUE 2\",IF(E50=\"NT\",MROUND(Inputs!$D$32*$Q$3*(1/(1+J50*(2-1))),1),MROUND(Inputs!$D$30*$Q$3*(1/(1+J50*(2-1))),1)),\nIF(G50=\"TRUE 3\",IF(E50=\"NT\",MROUND(Inputs!$E$32*$R$3*(1/(1+J50*(2-1))),1),MROUND(Inputs!$E$30*$R$3*(1/(1+J50*(2-1))),1)),\nIF(G50=\"TRUE 4\",IF(E50=\"NT\",MROUND(Inputs!$F$32*$S$3*(1/(1+J50*(2-1))),1),MROUND(Inputs!$F$30*$S$3*(1/(1+J50*(2-1))),1)),\nMROUND(Inputs!$C$15*(1/(1+J50*(2-1)))*($P$3+$P$4),1)))))","v":8727},-3055,0,{"$f":"(R50/(1/(1+J50*(2-1))))*O50/LEFT(Inputs!$C$18,1)/5280","v":0},0,{"$f":"(T50/60)*((Inputs!$C$13*Calculations!R50*(1-Calculations!J50))+(Inputs!$C$14*Calculations!R50*Calculations!J50))","v":0},{"$f":"IF(R50>0,($J$5/60)*(((I50*$J$3/(1-$J$3))*(1-J50)*Inputs!$C$13)+((I50*$J$3/(1-$J$3))*J50*Inputs!$C$14)),0)","v":0},0,null,"2019-08-02T15:00:00","","",{"$f":"IF(AND(Z50<>\"\",AA50<>\"\"),MAX(INDIRECT(Z50):INDIRECT(AA50)),\"\")","v":""},"","",null,{"$f":"IF(G50=\"TRUE 1\",IF(E50=\"NT\",MROUND(Inputs!$C$32*$AF$3*(1/(1+M50*(2-1))),1),MROUND(Inputs!$C$30*$AF$3*(1/(1+M50*(2-1))),1)),\nIF(G50=\"TRUE 2\",IF(E50=\"NT\",MROUND(Inputs!$D$32*$AG$3*(1/(1+M50*(2-1))),1),MROUND(Inputs!$D$30*$AG$3*(1/(1+M50*(2-1))),1)),\nIF(G50=\"TRUE 3\",IF(E50=\"NT\",MROUND(Inputs!$E$32*$AH$3*(1/(1+M50*(2-1))),1),MROUND(Inputs!$E$30*$AH$3*(1/(1+M50*(2-1))),1)),\nIF(G50=\"TRUE 4\",IF(E50=\"NT\",MROUND(Inputs!$F$32*$AI$3*(1/(1+M50*(2-1))),1),MROUND(Inputs!$F$30*$AI$3*(1/(1+M50*(2-1))),1)),\nMROUND(Inputs!$C$15*(1/(1+M50*(2-1)))*($AF$3+$AF$4),1)))))","v":8727},-1806,0,{"$f":"(AH50/(1/(1+M50*(2-1))))*O50/LEFT(Inputs!$C$18,1)/5280","v":0},0,{"$f":"(AJ50/60)*((Inputs!$C$13*Calculations!AH50*(1-Calculations!M50))+(Inputs!$C$14*Calculations!AH50*Calculations!M50))","v":0},{"$f":"IF(AH50>0,($M$5/60)*(((L50*$M$3/(1-$M$3))*(1-M50)*Inputs!$C$13)+((L50*$M$3/(1-$M$3))*M50*Inputs!$C$14)),0)","v":0},{"$f":"AK50+AL50","v":0},null,"2019-08-02T15:00:00","","",{"$f":"IF(AND(AP50<>\"\",AQ50<>\"\"),MAX(INDIRECT(AP50):INDIRECT(AQ50)),\"\")","v":""},"",""]
["2019-08-02",6,"Friday","16:00:00",{"$f":"INDEX(Lists!$M$3:$M$26,MATCH(Calculations!D51,Lists!$L$3:$L$26,0))","v":"PM"},136,{"$f":"IF(INDEX(Inputs!$H$86:$H$253,MATCH(F51,Inputs!$D$86:$D$253,0)),\"TRUE 4\",\nIF(INDEX(Inputs!$G$86:$G$253,MATCH(F51,Inputs!$D$86:$D$253,0)),\"TRUE 3\",\nIF(INDEX(Inputs!$F$86:$F$253,MATCH(F51,Inputs!$D$86:$D$253,0)),\"TRUE 2\",\nIF(INDEX(Inputs!$E$86:$E$253,MATCH(F51,Inputs!$D$86:$D$253,0)),\"TRUE 1\",\nFALSE))))","v":false},null,{"$f":"'Volume Import'!C42*'Volume Import'!$H$14*(1+'Volume Import'!$H$15)*(1-'Volume Import'!$H$16)","v":5285},{"$f":"IF(AND('Volume Import'!D42=0,'Volume Import'!C42=0),0,\nIF('Volume Import'!D42=0,INDEX('Volume Import'!$K$2:$Q$5,MATCH(E51,'Volume Import'!$R$2:$R$5,0),MATCH(C51,'Volume Import'!$K$1:$Q$1,0)),\n'Volume Import'!D42/'Volume Import'!C42))","v":0.1},null,{"$f":"'Volume Import'!E42*'Volume Import'!$I$14*(1+'Volume Import'!$I$15)*(1-'Volume Import'!$I$16)","v":5354},{"$f":"IF('Volume Import'!F42=0,J51,'Volume Import'!F42/'Volume Import'!E42)","v":0.1},null,{"$f":"IF(G51=\"TRUE 1\",IF(E51=\"NT\",Inputs!$C$35,Inputs!$C$34),\nIF(G51=\"TRUE 2\",IF(E51=\"NT\",Inputs!$D$35,Inputs!$D$34),\nIF(G51=\"TRUE 3\",IF(E51=\"NT\",Inputs!$E$35,Inputs!$E$34),\nIF(G51=\"TRUE 4\",IF(E51=\"NT\",Inputs!$F$35,Inputs!$F$34),\nO50))))","v":65.476687896673383},{"$f":"IF(G51=\"TRUE 1\",IF(E51=\"NT\",MROUND(Inputs!$C$32*$P$3*(1/(1+J51*(2-1))),1),MROUND(Inputs!$C$30*$P$3*(1/(1+J51*(2-1))),1)),\nIF(G51=\"TRUE 2\",IF(E51=\"NT\",MROUND(Inputs!$D$32*$Q$3*(1/(1+J51*(2-1))),1),MROUND(Inputs!$D$30*$Q$3*(1/(1+J51*(2-1))),1)),\nIF(G51=\"TRUE 3\",IF(E51=\"NT\",MROUND(Inputs!$E$32*$R$3*(1/(1+J51*(2-1))),1),MROUND(Inputs!$E$30*$R$3*(1/(1+J51*(2-1))),1)),\nIF(G51=\"TRUE 4\",IF(E51=\"NT\",MROUND(Inputs!$F$32*$S$3*(1/(1+J51*(2-1))),1),MROUND(Inputs!$F$30*$S$3*(1/(1+J51*(2-1))),1)),\nMROUND(Inputs!$C$15*(1/(1+J51*(2-1)))*($P$3+$P$4),1)))))","v":8727},-3442,0,{"$f":"(R51/(1/(1+J51*(2-1))))*O51/LEFT(Inputs!$C$18,1)/5280","v":0},0,{"$f":"(T51/60)*((Inputs!$C$13*Calculations!R51*(1-Calculations!J51))+(Inputs!$C$14*Calculations!R51*Calculations!J51))","v":0},{"$f":"IF(R51>0,($J$5/60)*(((I51*$J$3/(1-$J$3))*(1-J51)*Inputs!$C$13)+((I51*$J$3/(1-$J$3))*J51*Inputs!$C$14)),0)","v":0},0,null,"2019-08-02T16:00:00","","",{"$f":"IF(AND(Z51<>\"\",AA51<>\"\"),MAX(INDIRECT(Z51):INDIRECT(AA51)),\"\")","v":""},"","",null,{"$f":"IF(G51=\"TRUE 1\",IF(E51=\"NT\",MROUND(Inputs!$C$32*$AF$3*(1/(1+M51*(2-1))),1),MROUND(Inputs!$C$30*$AF$3*(1/(1+M51*(2-1))),1)),\nIF(G51=\"TRUE 2\",IF(E51=\"NT\",MROUND(Inputs!$D$32*$AG$3*(1/(1+M51*(2-1))),1),MROUND(Inputs!$D$30*$AG$3*(1/(1+M51*(2-1))),1)),\nIF(G51=\"TRUE 3\",IF(E51=\"NT\",MROUND(Inputs!$E$32*$AH$3*(1/(1+M51*(2-1))),1),MROUND(Inputs!$E$30*$AH$3*(1/(1+M51*(2-1))),1)),\nIF(G51=\"TRUE 4\",IF(E51=\"NT\",MROUND(Inputs!$F$32*$AI$3*(1/(1+M51*(2-1))),1),MROUND(Inputs!$F$30*$AI$3*(1/(1+M51*(2-1))),1)),\nMROUND(Inputs!$C$15*(1/(1+M51*(2-1)))*($AF$3+$AF$4),1)))))","v":8727},-3373,0,{"$f":"(AH51/(1/(1+M51*(2-1))))*O51/LEFT(Inputs!$C$18,1)/5280","v":0},0,{"$f":"(AJ51/60)*((Inputs!$C$13*Calculations!AH51*(1-Calculations!M51))+(Inputs!$C$14*Calculations!AH51*Calculations!M51))","v":0},{"$f":"IF(AH51>0,($M$5/60)*(((L51*$M$3/(1-$M$3))*(1-M51)*Inputs!$C$13)+((L51*$M$3/(1-$M$3))*M51*Inputs!$C$14)),0)","v":0},0,null,"2019-08-02T16:00:00","","",{"$f":"IF(AND(AP51<>\"\",AQ51<>\"\"),MAX(INDIRECT(AP51):INDIRECT(AQ51)),\"\")","v":""},"",""]
["2019-08-02",6,"Friday","17:00:00",{"$f":"INDEX(Lists!$M$3:$M$26,MATCH(Calculations!D52,Lists!$L$3:$L$26,0))","v":"PM"},137,{"$f":"IF(INDEX(Inputs!$H$86:$H$253,MATCH(F52,Inputs!$D$86:$D$253,0)),\"TRUE 4\",\nIF(INDEX(Inputs!$G$86:$G$253,MATCH(F52,Inputs!$D$86:$D$253,0)),\"TRUE 3\",\nIF(INDEX(Inputs!$F$86:$F$253,MATCH(F52,Inputs!$D$86:$D$253,0)),\"TRUE 2\",\nIF(INDEX(Inputs!$E$86:$E$253,MATCH(F52,Inputs!$D$86:$D$253,0)),\"TRUE 1\",\nFALSE))))","v":false},null,{"$f":"'Volume Import'!C43*'Volume Import'!$H$14*(1+'Volume Import'!$H$15)*(1-'Volume Import'!$H$16)","v":4991},{"$f":"IF(AND('Volume Import'!D43=0,'Volume Import'!C43=0),0,\nIF('Volume Import'!D43=0,INDEX('Volume Import'!$K$2:$Q$5,MATCH(E52,'Volume Import'!$R$2:$R$5,0),MATCH(C52,'Volume Import'!$K$1:$Q$1,0)),\n'Volume Import'!D43/'Volume Import'!C43))","v":0.1},null,{"$f":"'Volume Import'!E43*'Volume Import'!$I$14*(1+'Volume Import'!$I$15)*(1-'Volume Import'!$I$16)","v":5180},{"$f":"IF('Volume Import'!F43=0,J52,'Volume Import'!F43/'Volume Import'!E43)","v":0.1},null,{"$f":"IF(G52=\"TRUE 1\",IF(E52=\"NT\",Inputs!$C$35,Inputs!$C$34),\nIF(G52=\"TRUE 2\",IF(E52=\"NT\",Inputs!$D$35,Inputs!$D$34),\nIF(G52=\"TRUE 3\",IF(E52=\"NT\",Inputs!$E$35,Inputs!$E$34),\nIF(G52=\"TRUE 4\",IF(E52=\"NT\",Inputs!$F$35,Inputs!$F$34),\nO51))))","v":65.476687896673383},{"$f":"IF(G52=\"TRUE 1\",IF(E52=\"NT\",MROUND(Inputs!$C$32*$P$3*(1/(1+J52*(2-1))),1),MROUND(Inputs!$C$30*$P$3*(1/(1+J52*(2-1))),1)),\nIF(G52=\"TRUE 2\",IF(E52=\"NT\",MROUND(Inputs!$D$32*$Q$3*(1/(1+J52*(2-1))),1),MROUND(Inputs!$D$30*$Q$3*(1/(1+J52*(2-1))),1)),\nIF(G52=\"TRUE 3\",IF(E52=\"NT\",MROUND(Inputs!$E$32*$R$3*(1/(1+J52*(2-1))),1),MROUND(Inputs!$E$30*$R$3*(1/(1+J52*(2-1))),1)),\nIF(G52=\"TRUE 4\",IF(E52=\"NT\",MROUND(Inputs!$F$32*$S$3*(1/(1+J52*(2-1))),1),MROUND(Inputs!$F$30*$S$3*(1/(1+J52*(2-1))),1)),\nMROUND(Inputs!$C$15*(1/(1+J52*(2-1)))*($P$3+$P$4),1)))))","v":8727},-3736,0,{"$f":"(R52/(1/(1+J52*(2-1))))*O52/LEFT(Inputs!$C$18,1)/5280","v":0},0,{"$f":"(T52/60)*((Inputs!$C$13*Calculations!R52*(1-Calculations!J52))+(Inputs!$C$14*Calculations!R52*Calculations!J52))","v":0},{"$f":"IF(R52>0,($J$5/60)*(((I52*$J$3/(1-$J$3))*(1-J52)*Inputs!$C$13)+((I52*$J$3/(1-$J$3))*J52*Inputs!$C$14)),0)","v":0},0,null,"2019-08-02T17:00:00","","",{"$f":"IF(AND(Z52<>\"\",AA52<>\"\"),MAX(INDIRECT(Z52):INDIRECT(AA52)),\"\")","v":""},"","",null,{"$f":"IF(G52=\"TRUE 1\",IF(E52=\"NT\",MROUND(Inputs!$C$32*$AF$3*(1/(1+M52*(2-1))),1),MROUND(Inputs!$C$30*$AF$3*(1/(1+M52*(2-1))),1)),\nIF(G52=\"TRUE 2\",IF(E52=\"NT\",MROUND(Inputs!$D$32*$AG$3*(1/(1+M52*(2-1))),1),MROUND(Inputs!$D$30*$AG$3*(1/(1+M52*(2-1))),1)),\nIF(G52=\"TRUE 3\",IF(E52=\"NT\",MROUND(Inputs!$E$32*$AH$3*(1/(1+M52*(2-1))),1),MROUND(Inputs!$E$30*$AH$3*(1/(1+M52*(2-1))),1)),\nIF(G52=\"TRUE 4\",IF(E52=\"NT\",MROUND(Inputs!$F$32*$AI$3*(1/(1+M52*(2-1))),1),MROUND(Inputs!$F$30*$AI$3*(1/(1+M52*(2-1))),1)),\nMROUND(Inputs!$C$15*(1/(1+M52*(2-1)))*($AF$3+$AF$4),1)))))","v":8727},-3547,0,{"$f":"(AH52/(1/(1+M52*(2-1))))*O52/LEFT(Inputs!$C$18,1)/5280","v":0},0,{"$f":"(AJ52/60)*((Inputs!$C$13*Calculations!AH52*(1-Calculations!M52))+(Inputs!$C$14*Calculations!AH52*Calculations!M52))","v":0},{"$f":"IF(AH52>0,($M$5/60)*(((L52*$M$3/(1-$M$3))*(1-M52)*Inputs!$C$13)+((L52*$M$3/(1-$M$3))*M52*Inputs!$C$14)),0)","v":0},0,null,"2019-08-02T17:00:00","","",{"$f":"IF(AND(AP52<>\"\",AQ52<>\"\"),MAX(INDIRECT(AP52):INDIRECT(AQ52)),\"\")","v":""},"",""]
["2019-08-02",6,"Friday","18:00:00",{"$f":"INDEX(Lists!$M$3:$M$26,MATCH(Calculations!D53,Lists!$L$3:$L$26,0))","v":"NT"},138,{"$f":"IF(INDEX(Inputs!$H$86:$H$253,MATCH(F53,Inputs!$D$86:$D$253,0)),\"TRUE 4\",\nIF(INDEX(Inputs!$G$86:$G$253,MATCH(F53,Inputs!$D$86:$D$253,0)),\"TRUE 3\",\nIF(INDEX(Inputs!$F$86:$F$253,MATCH(F53,Inputs!$D$86:$D$253,0)),\"TRUE 2\",\nIF(INDEX(Inputs!$E$86:$E$253,MATCH(F53,Inputs!$D$86:$D$253,0)),\"TRUE 1\",\nFALSE))))","v":false},null,{"$f":"'Volume Import'!C44*'Volume Import'!$H$14*(1+'Volume Import'!$H$15)*(1-'Volume Import'!$H$16)","v":4666},{"$f":"IF(AND('Volume Import'!D44=0,'Volume Import'!C44=0),0,\nIF('Volume Import'!D44=0,INDEX('Volume Import'!$K$2:$Q$5,MATCH(E53,'Volume Import'!$R$2:$R$5,0),MATCH(C53,'Volume Import'!$K$1:$Q$1,0)),\n'Volume Import'!D44/'Volume Import'!C44))","v":0.1},null,{"$f":"'Volume Import'!E44*'Volume Import'!$I$14*(1+'Volume Import'!$I$15)*(1-'Volume Import'!$I$16)","v":4239},{"$f":"IF('Volume Import'!F44=0,J53,'Volume Import'!F44/'Volume Import'!E44)","v":0.1},null,{"$f":"IF(G53=\"TRUE 1\",IF(E53=\"NT\",Inputs!$C$35,Inputs!$C$34),\nIF(G53=\"TRUE 2\",IF(E53=\"NT\",Inputs!$D$35,Inputs!$D$34),\nIF(G53=\"TRUE 3\",IF(E53=\"NT\",Inputs!$E$35,Inputs!$E$34),\nIF(G53=\"TRUE 4\",IF(E53=\"NT\",Inputs!$F$35,Inputs!$F$34),\nO52))))","v":65.476687896673383},{"$f":"IF(G53=\"TRUE 1\",IF(E53=\"NT\",MROUND(Inputs!$C$32*$P$3*(1/(1+J53*(2-1))),1),MROUND(Inputs!$C$30*$P$3*(1/(1+J53*(2-1))),1)),\nIF(G53=\"TRUE 2\",IF(E53=\"NT\",MROUND(Inputs!$D$32*$Q$3*(1/(1+J53*(2-1))),1),MROUND(Inputs!$D$30*$Q$3*(1/(1+J53*(2-1))),1)),\nIF(G53=\"TRUE 3\",IF(E53=\"NT\",MROUND(Inputs!$E$32*$R$3*(1/(1+J53*(2-1))),1),MROUND(Inputs!$E$30*$R$3*(1/(1+J53*(2-1))),1)),\nIF(G53=\"TRUE 4\",IF(E53=\"NT\",MROUND(Inputs!$F$32*$S$3*(1/(1+J53*(2-1))),1),MROUND(Inputs!$F$30*$S$3*(1/(1+J53*(2-1))),1)),\nMROUND(Inputs!$C$15*(1/(1+J53*(2-1)))*($P$3+$P$4),1)))))","v":8727},-4061,0,{"$f":"(R53/(1/(1+J53*(2-1))))*O53/LEFT(Inputs!$C$18,1)/5280","v":0},0,{"$f":"(T53/60)*((Inputs!$C$13*Calculations!R53*(1-Calculations!J53))+(Inputs!$C$14*Calculations!R53*Calculations!J53))","v":0},{"$f":"IF(R53>0,($J$5/60)*(((I53*$J$3/(1-$J$3))*(1-J53)*Inputs!$C$13)+((I53*$J$3/(1-$J$3))*J53*Inputs!$C$14)),0)","v":0},0,null,"2019-08-02T18:00:00","","",{"$f":"IF(AND(Z53<>\"\",AA53<>\"\"),MAX(INDIRECT(Z53):INDIRECT(AA53)),\"\")","v":""},"","",null,{"$f":"IF(G53=\"TRUE 1\",IF(E53=\"NT\",MROUND(Inputs!$C$32*$AF$3*(1/(1+M53*(2-1))),1),MROUND(Inputs!$C$30*$AF$3*(1/(1+M53*(2-1))),1)),\nIF(G53=\"TRUE 2\",IF(E53=\"NT\",MROUND(Inputs!$D$32*$AG$3*(1/(1+M53*(2-1))),1),MROUND(Inputs!$D$30*$AG$3*(1/(1+M53*(2-1))),1)),\nIF(G53=\"TRUE 3\",IF(E53=\"NT\",MROUND(Inputs!$E$32*$AH$3*(1/(1+M53*(2-1))),1),MROUND(Inputs!$E$30*$AH$3*(1/(1+M53*(2-1))),1)),\nIF(G53=\"TRUE 4\",IF(E53=\"NT\",MROUND(Inputs!$F$32*$AI$3*(1/(1+M53*(2-1))),1),MROUND(Inputs!$F$30*$AI$3*(1/(1+M53*(2-1))),1)),\nMROUND(Inputs!$C$15*(1/(1+M53*(2-1)))*($AF$3+$AF$4),1)))))","v":8727},-4488,0,{"$f":"(AH53/(1/(1+M53*(2-1))))*O53/LEFT(Inputs!$C$18,1)/5280","v":0},0,{"$f":"(AJ53/60)*((Inputs!$C$13*Calculations!AH53*(1-Calculations!M53))+(Inputs!$C$14*Calculations!AH53*Calculations!M53))","v":0},{"$f":"IF(AH53>0,($M$5/60)*(((L53*$M$3/(1-$M$3))*(1-M53)*Inputs!$C$13)+((L53*$M$3/(1-$M$3))*M53*Inputs!$C$14)),0)","v":0},0,null,"2019-08-02T18:00:00","","",{"$f":"IF(AND(AP53<>\"\",AQ53<>\"\"),MAX(INDIRECT(AP53):INDIRECT(AQ53)),\"\")","v":""},"",""]
["2019-08-02",6,"Friday","19:00:00",{"$f":"INDEX(Lists!$M$3:$M$26,MATCH(Calculations!D54,Lists!$L$3:$L$26,0))","v":"NT"},139,{"$f":"IF(INDEX(Inputs!$H$86:$H$253,MATCH(F54,Inputs!$D$86:$D$253,0)),\"TRUE 4\",\nIF(INDEX(Inputs!$G$86:$G$253,MATCH(F54,Inputs!$D$86:$D$253,0)),\"TRUE 3\",\nIF(INDEX(Inputs!$F$86:$F$253,MATCH(F54,Inputs!$D$86:$D$253,0)),\"TRUE 2\",\nIF(INDEX(Inputs!$E$86:$E$253,MATCH(F54,Inputs!$D$86:$D$253,0)),\"TRUE 1\",\nFALSE))))","v":false},null,{"$f":"'Volume Import'!C45*'Volume Import'!$H$14*(1+'Volume Import'!$H$15)*(1-'Volume Import'!$H$16)","v":3610},{"$f":"IF(AND('Volume Import'!D45=0,'Volume Import'!C45=0),0,\nIF('Volume Import'!D45=0,INDEX('Volume Import'!$K$2:$Q$5,MATCH(E54,'Volume Import'!$R$2:$R$5,0),MATCH(C54,'Volume Import'!$K$1:$Q$1,0)),\n'Volume Import'!D45/'Volume Import'!C45))","v":0.1},null,{"$f":"'Volume Import'!E45*'Volume Import'!$I$14*(1+'Volume Import'!$I$15)*(1-'Volume Import'!$I$16)","v":3591},{"$f":"IF('Volume Import'!F45=0,J54,'Volume Import'!F45/'Volume Import'!E45)","v":0.1},null,{"$f":"IF(G54=\"TRUE 1\",IF(E54=\"NT\",Inputs!$C$35,Inputs!$C$34),\nIF(G54=\"TRUE 2\",IF(E54=\"NT\",Inputs!$D$35,Inputs!$D$34),\nIF(G54=\"TRUE 3\",IF(E54=\"NT\",Inputs!$E$35,Inputs!$E$34),\nIF(G54=\"TRUE 4\",IF(E54=\"NT\",Inputs!$F$35,Inputs!$F$34),\nO53))))","v":65.476687896673383},{"$f":"IF(G54=\"TRUE 1\",IF(E54=\"NT\",MROUND(Inputs!$C$32*$P$3*(1/(1+J54*(2-1))),1),MROUND(Inputs!$C$30*$P$3*(1/(1+J54*(2-1))),1)),\nIF(G54=\"TRUE 2\",IF(E54=\"NT\",MROUND(Inputs!$D$32*$Q$3*(1/(1+J54*(2-1))),1),MROUND(Inputs!$D$30*$Q$3*(1/(1+J54*(2-1))),1)),\nIF(G54=\"TRUE 3\",IF(E54=\"NT\",MROUND(Inputs!$E$32*$R$3*(1/(1+J54*(2-1))),1),MROUND(Inputs!$E$30*$R$3*(1/(1+J54*(2-1))),1)),\nIF(G54=\"TRUE 4\",IF(E54=\"NT\",MROUND(Inputs!$F$32*$S$3*(1/(1+J54*(2-1))),1),MROUND(Inputs!$F$30*$S$3*(1/(1+J54*(2-1))),1)),\nMROUND(Inputs!$C$15*(1/(1+J54*(2-1)))*($P$3+$P$4),1)))))","v":8727},-5117,0,{"$f":"(R54/(1/(1+J54*(2-1))))*O54/LEFT(Inputs!$C$18,1)/5280","v":0},0,{"$f":"(T54/60)*((Inputs!$C$13*Calculations!R54*(1-Calculations!J54))+(Inputs!$C$14*Calculations!R54*Calculations!J54))","v":0},{"$f":"IF(R54>0,($J$5/60)*(((I54*$J$3/(1-$J$3))*(1-J54)*Inputs!$C$13)+((I54*$J$3/(1-$J$3))*J54*Inputs!$C$14)),0)","v":0},0,null,"2019-08-02T19:00:00",{"$f":"IF(AND(AC54=\"\",AD54=\"\"),\"\",IF(ISNUMBER(AC54),SUBSTITUTE(ADDRESS(1,COLUMN($S$10),4),\"1\",\"\")&ROW(Z54),Z53))","v":""},"",{"$f":"IF(AND(Z54<>\"\",AA54<>\"\"),MAX(INDIRECT(Z54):INDIRECT(AA54)),\"\")","v":""},"","",null,{"$f":"IF(G54=\"TRUE 1\",IF(E54=\"NT\",MROUND(Inputs!$C$32*$AF$3*(1/(1+M54*(2-1))),1),MROUND(Inputs!$C$30*$AF$3*(1/(1+M54*(2-1))),1)),\nIF(G54=\"TRUE 2\",IF(E54=\"NT\",MROUND(Inputs!$D$32*$AG$3*(1/(1+M54*(2-1))),1),MROUND(Inputs!$D$30*$AG$3*(1/(1+M54*(2-1))),1)),\nIF(G54=\"TRUE 3\",IF(E54=\"NT\",MROUND(Inputs!$E$32*$AH$3*(1/(1+M54*(2-1))),1),MROUND(Inputs!$E$30*$AH$3*(1/(1+M54*(2-1))),1)),\nIF(G54=\"TRUE 4\",IF(E54=\"NT\",MROUND(Inputs!$F$32*$AI$3*(1/(1+M54*(2-1))),1),MROUND(Inputs!$F$30*$AI$3*(1/(1+M54*(2-1))),1)),\nMROUND(Inputs!$C$15*(1/(1+M54*(2-1)))*($AF$3+$AF$4),1)))))","v":8727},-5136,{"$f":"IF(AH53+AG54<0,0,AH53+AG54)","v":0},{"$f":"(AH54/(1/(1+M54*(2-1))))*O54/LEFT(Inputs!$C$18,1)/5280","v":0},0,{"$f":"(AJ54/60)*((Inputs!$C$13*Calculations!AH54*(1-Calculations!M54))+(Inputs!$C$14*Calculations!AH54*Calculations!M54))","v":0},{"$f":"IF(AH54>0,($M$5/60)*(((L54*$M$3/(1-$M$3))*(1-M54)*Inputs!$C$13)+((L54*$M$3/(1-$M$3))*M54*Inputs!$C$14)),0)","v":0},0,null,"2019-08-02T19:00:00","","",{"$f":"IF(AND(AP54<>\"\",AQ54<>\"\"),MAX(INDIRECT(AP54):INDIRECT(AQ54)),\"\")","v":""},{"$f":"IF(AND(AI54>0,AI53=0),$Y54,IF(AND(AI54>0,AI53>0),\"Q\",\"\"))","v":""},""]
["2019-08-02",6,"Friday","20:00:00",{"$f":"INDEX(Lists!$M$3:$M$26,MATCH(Calculations!D55,Lists!$L$3:$L$26,0))","v":"NT"},140,{"$f":"IF(INDEX(Inputs!$H$86:$H$253,MATCH(F55,Inputs!$D$86:$D$253,0)),\"TRUE 4\",\nIF(INDEX(Inputs!$G$86:$G$253,MATCH(F55,Inputs!$D$86:$D$253,0)),\"TRUE 3\",\nIF(INDEX(Inputs!$F$86:$F$253,MATCH(F55,Inputs!$D$86:$D$253,0)),\"TRUE 2\",\nIF(INDEX(Inputs!$E$86:$E$253,MATCH(F55,Inputs!$D$86:$D$253,0)),\"TRUE 1\",\nFALSE))))","v":false},null,{"$f":"'Volume Import'!C46*'Volume Import'!$H$14*(1+'Volume Import'!$H$15)*(1-'Volume Import'!$H$16)","v":2883},{"$f":"IF(AND('Volume Import'!D46=0,'Volume Import'!C46=0),0,\nIF('Volume Import'!D46=0,INDEX('Volume Import'!$K$2:$Q$5,MATCH(E55,'Volume Import'!$R$2:$R$5,0),MATCH(C55,'Volume Import'!$K$1:$Q$1,0)),\n'Volume Import'!D46/'Volume Import'!C46))","v":0.1},null,{"$f":"'Volume Import'!E46*'Volume Import'!$I$14*(1+'Volume Import'!$I$15)*(1-'Volume Import'!$I$16)","v":3067},{"$f":"IF('Volume Import'!F46=0,J55,'Volume Import'!F46/'Volume Import'!E46)","v":0.1},null,{"$f":"IF(G55=\"TRUE 1\",IF(E55=\"NT\",Inputs!$C$35,Inputs!$C$34),\nIF(G55=\"TRUE 2\",IF(E55=\"NT\",Inputs!$D$35,Inputs!$D$34),\nIF(G55=\"TRUE 3\",IF(E55=\"NT\",Inputs!$E$35,Inputs!$E$34),\nIF(G55=\"TRUE 4\",IF(E55=\"NT\",Inputs!$F$35,Inputs!$F$34),\nO54))))","v":65.476687896673383},{"$f":"IF(G55=\"TRUE 1\",IF(E55=\"NT\",MROUND(Inputs!$C$32*$P$3*(1/(1+J55*(2-1))),1),MROUND(Inputs!$C$30*$P$3*(1/(1+J55*(2-1))),1)),\nIF(G55=\"TRUE 2\",IF(E55=\"NT\",MROUND(Inputs!$D$32*$Q$3*(1/(1+J55*(2-1))),1),MROUND(Inputs!$D$30*$Q$3*(1/(1+J55*(2-1))),1)),\nIF(G55=\"TRUE 3\",IF(E55=\"NT\",MROUND(Inputs!$E$32*$R$3*(1/(1+J55*(2-1))),1),MROUND(Inputs!$E$30*$R$3*(1/(1+J55*(2-1))),1)),\nIF(G55=\"TRUE 4\",IF(E55=\"NT\",MROUND(Inputs!$F$32*$S$3*(1/(1+J55*(2-1))),1),MROUND(Inputs!$F$30*$S$3*(1/(1+J55*(2-1))),1)),\nMROUND(Inputs!$C$15*(1/(1+J55*(2-1)))*($P$3+$P$4),1)))))","v":8727},-5844,0,{"$f":"(R55/(1/(1+J55*(2-1))))*O55/LEFT(Inputs!$C$18,1)/5280","v":0},0,{"$f":"(T55/60)*((Inputs!$C$13*Calculations!R55*(1-Calculations!J55))+(Inputs!$C$14*Calculations!R55*Calculations!J55))","v":0},{"$f":"IF(R55>0,($J$5/60)*(((I55*$J$3/(1-$J$3))*(1-J55)*Inputs!$C$13)+((I55*$J$3/(1-$J$3))*J55*Inputs!$C$14)),0)","v":0},0,null,"2019-08-02T20:00:00","","",{"$f":"IF(AND(Z55<>\"\",AA55<>\"\"),MAX(INDIRECT(Z55):INDIRECT(AA55)),\"\")","v":""},"","",null,{"$f":"IF(G55=\"TRUE 1\",IF(E55=\"NT\",MROUND(Inputs!$C$32*$AF$3*(1/(1+M55*(2-1))),1),MROUND(Inputs!$C$30*$AF$3*(1/(1+M55*(2-1))),1)),\nIF(G55=\"TRUE 2\",IF(E55=\"NT\",MROUND(Inputs!$D$32*$AG$3*(1/(1+M55*(2-1))),1),MROUND(Inputs!$D$30*$AG$3*(1/(1+M55*(2-1))),1)),\nIF(G55=\"TRUE 3\",IF(E55=\"NT\",MROUND(Inputs!$E$32*$AH$3*(1/(1+M55*(2-1))),1),MROUND(Inputs!$E$30*$AH$3*(1/(1+M55*(2-1))),1)),\nIF(G55=\"TRUE 4\",IF(E55=\"NT\",MROUND(Inputs!$F$32*$AI$3*(1/(1+M55*(2-1))),1),MROUND(Inputs!$F$30*$AI$3*(1/(1+M55*(2-1))),1)),\nMROUND(Inputs!$C$15*(1/(1+M55*(2-1)))*($AF$3+$AF$4),1)))))","v":8727},-5660,0,{"$f":"(AH55/(1/(1+M55*(2-1))))*O55/LEFT(Inputs!$C$18,1)/5280","v":0},0,{"$f":"(AJ55/60)*((Inputs!$C$13*Calculations!AH55*(1-Calculations!M55))+(Inputs!$C$14*Calculations!AH55*Calculations!M55))","v":0},{"$f":"IF(AH55>0,($M$5/60)*(((L55*$M$3/(1-$M$3))*(1-M55)*Inputs!$C$13)+((L55*$M$3/(1-$M$3))*M55*Inputs!$C$14)),0)","v":0},0,null,"2019-08-02T20:00:00","","",{"$f":"IF(AND(AP55<>\"\",AQ55<>\"\"),MAX(INDIRECT(AP55):INDIRECT(AQ55)),\"\")","v":""},"",""]
["2019-08-02",6,"Friday","21:00:00",{"$f":"INDEX(Lists!$M$3:$M$26,MATCH(Calculations!D56,Lists!$L$3:$L$26,0))","v":"NT"},141,{"$f":"IF(INDEX(Inputs!$H$86:$H$253,MATCH(F56,Inputs!$D$86:$D$253,0)),\"TRUE 4\",\nIF(INDEX(Inputs!$G$86:$G$253,MATCH(F56,Inputs!$D$86:$D$253,0)),\"TRUE 3\",\nIF(INDEX(Inputs!$F$86:$F$253,MATCH(F56,Inputs!$D$86:$D$253,0)),\"TRUE 2\",\nIF(INDEX(Inputs!$E$86:$E$253,MATCH(F56,Inputs!$D$86:$D$253,0)),\"TRUE 1\",\nFALSE))))","v":false},null,{"$f":"'Volume Import'!C47*'Volume Import'!$H$14*(1+'Volume Import'!$H$15)*(1-'Volume Import'!$H$16)","v":2514},{"$f":"IF(AND('Volume Import'!D47=0,'Volume Import'!C47=0),0,\nIF('Volume Import'!D47=0,INDEX('Volume Import'!$K$2:$Q$5,MATCH(E56,'Volume Import'!$R$2:$R$5,0),MATCH(C56,'Volume Import'!$K$1:$Q$1,0)),\n'Volume Import'!D47/'Volume Import'!C47))","v":0.1},null,{"$f":"'Volume Import'!E47*'Volume Import'!$I$14*(1+'Volume Import'!$I$15)*(1-'Volume Import'!$I$16)","v":2802},{"$f":"IF('Volume Import'!F47=0,J56,'Volume Import'!F47/'Volume Import'!E47)","v":0.1},null,{"$f":"IF(G56=\"TRUE 1\",IF(E56=\"NT\",Inputs!$C$35,Inputs!$C$34),\nIF(G56=\"TRUE 2\",IF(E56=\"NT\",Inputs!$D$35,Inputs!$D$34),\nIF(G56=\"TRUE 3\",IF(E56=\"NT\",Inputs!$E$35,Inputs!$E$34),\nIF(G56=\"TRUE 4\",IF(E56=\"NT\",Inputs!$F$35,Inputs!$F$34),\nO55))))","v":65.476687896673383},{"$f":"IF(G56=\"TRUE 1\",IF(E56=\"NT\",MROUND(Inputs!$C$32*$P$3*(1/(1+J56*(2-1))),1),MROUND(Inputs!$C$30*$P$3*(1/(1+J56*(2-1))),1)),\nIF(G56=\"TRUE 2\",IF(E56=\"NT\",MROUND(Inputs!$D$32*$Q$3*(1/(1+J56*(2-1))),1),MROUND(Inputs!$D$30*$Q$3*(1/(1+J56*(2-1))),1)),\nIF(G56=\"TRUE 3\",IF(E56=\"NT\",MROUND(Inputs!$E$32*$R$3*(1/(1+J56*(2-1))),1),MROUND(Inputs!$E$30*$R$3*(1/(1+J56*(2-1))),1)),\nIF(G56=\"TRUE 4\",IF(E56=\"NT\",MROUND(Inputs!$F$32*$S$3*(1/(1+J56*(2-1))),1),MROUND(Inputs!$F$30*$S$3*(1/(1+J56*(2-1))),1)),\nMROUND(Inputs!$C$15*(1/(1+J56*(2-1)))*($P$3+$P$4),1)))))","v":8727},-6213,0,{"$f":"(R56/(1/(1+J56*(2-1))))*O56/LEFT(Inputs!$C$18,1)/5280","v":0},0,{"$f":"(T56/60)*((Inputs!$C$13*Calculations!R56*(1-Calculations!J56))+(Inputs!$C$14*Calculations!R56*Calculations!J56))","v":0},{"$f":"IF(R56>0,($J$5/60)*(((I56*$J$3/(1-$J$3))*(1-J56)*Inputs!$C$13)+((I56*$J$3/(1-$J$3))*J56*Inputs!$C$14)),0)","v":0},0,null,"2019-08-02T21:00:00","","",{"$f":"IF(AND(Z56<>\"\",AA56<>\"\"),MAX(INDIRECT(Z56):INDIRECT(AA56)),\"\")","v":""},"","",null,{"$f":"IF(G56=\"TRUE 1\",IF(E56=\"NT\",MROUND(Inputs!$C$32*$AF$3*(1/(1+M56*(2-1))),1),MROUND(Inputs!$C$30*$AF$3*(1/(1+M56*(2-1))),1)),\nIF(G56=\"TRUE 2\",IF(E56=\"NT\",MROUND(Inputs!$D$32*$AG$3*(1/(1+M56*(2-1))),1),MROUND(Inputs!$D$30*$AG$3*(1/(1+M56*(2-1))),1)),\nIF(G56=\"TRUE 3\",IF(E56=\"NT\",MROUND(Inputs!$E$32*$AH$3*(1/(1+M56*(2-1))),1),MROUND(Inputs!$E$30*$AH$3*(1/(1+M56*(2-1))),1)),\nIF(G56=\"TRUE 4\",IF(E56=\"NT\",MROUND(Inputs!$F$32*$AI$3*(1/(1+M56*(2-1))),1),MROUND(Inputs!$F$30*$AI$3*(1/(1+M56*(2-1))),1)),\nMROUND(Inputs!$C$15*(1/(1+M56*(2-1)))*($AF$3+$AF$4),1)))))","v":8727},-5925,0,{"$f":"(AH56/(1/(1+M56*(2-1))))*O56/LEFT(Inputs!$C$18,1)/5280","v":0},0,{"$f":"(AJ56/60)*((Inputs!$C$13*Calculations!AH56*(1-Calculations!M56))+(Inputs!$C$14*Calculations!AH56*Calculations!M56))","v":0},{"$f":"IF(AH56>0,($M$5/60)*(((L56*$M$3/(1-$M$3))*(1-M56)*Inputs!$C$13)+((L56*$M$3/(1-$M$3))*M56*Inputs!$C$14)),0)","v":0},0,null,"2019-08-02T21:00:00","","",{"$f":"IF(AND(AP56<>\"\",AQ56<>\"\"),MAX(INDIRECT(AP56):INDIRECT(AQ56)),\"\")","v":""},"",""]
["2019-08-02",6,"Friday","22:00:00",{"$f":"INDEX(Lists!$M$3:$M$26,MATCH(Calculations!D57,Lists!$L$3:$L$26,0))","v":"NT"},142,{"$f":"IF(INDEX(Inputs!$H$86:$H$253,MATCH(F57,Inputs!$D$86:$D$253,0)),\"TRUE 4\",\nIF(INDEX(Inputs!$G$86:$G$253,MATCH(F57,Inputs!$D$86:$D$253,0)),\"TRUE 3\",\nIF(INDEX(Inputs!$F$86:$F$253,MATCH(F57,Inputs!$D$86:$D$253,0)),\"TRUE 2\",\nIF(INDEX(Inputs!$E$86:$E$253,MATCH(F57,Inputs!$D$86:$D$253,0)),\"TRUE 1\",\nFALSE))))","v":false},null,{"$f":"'Volume Import'!C48*'Volume Import'!$H$14*(1+'Volume Import'!$H$15)*(1-'Volume Import'!$H$16)","v":1923},{"$f":"IF(AND('Volume Import'!D48=0,'Volume Import'!C48=0),0,\nIF('Volume Import'!D48=0,INDEX('Volume Import'!$K$2:$Q$5,MATCH(E57,'Volume Import'!$R$2:$R$5,0),MATCH(C57,'Volume Import'!$K$1:$Q$1,0)),\n'Volume Import'!D48/'Volume Import'!C48))","v":0.1},null,{"$f":"'Volume Import'!E48*'Volume Import'!$I$14*(1+'Volume Import'!$I$15)*(1-'Volume Import'!$I$16)","v":2444},{"$f":"IF('Volume Import'!F48=0,J57,'Volume Import'!F48/'Volume Import'!E48)","v":0.1},null,{"$f":"IF(G57=\"TRUE 1\",IF(E57=\"NT\",Inputs!$C$35,Inputs!$C$34),\nIF(G57=\"TRUE 2\",IF(E57=\"NT\",Inputs!$D$35,Inputs!$D$34),\nIF(G57=\"TRUE 3\",IF(E57=\"NT\",Inputs!$E$35,Inputs!$E$34),\nIF(G57=\"TRUE 4\",IF(E57=\"NT\",Inputs!$F$35,Inputs!$F$34),\nO56))))","v":65.476687896673383},{"$f":"IF(G57=\"TRUE 1\",IF(E57=\"NT\",MROUND(Inputs!$C$32*$P$3*(1/(1+J57*(2-1))),1),MROUND(Inputs!$C$30*$P$3*(1/(1+J57*(2-1))),1)),\nIF(G57=\"TRUE 2\",IF(E57=\"NT\",MROUND(Inputs!$D$32*$Q$3*(1/(1+J57*(2-1))),1),MROUND(Inputs!$D$30*$Q$3*(1/(1+J57*(2-1))),1)),\nIF(G57=\"TRUE 3\",IF(E57=\"NT\",MROUND(Inputs!$E$32*$R$3*(1/(1+J57*(2-1))),1),MROUND(Inputs!$E$30*$R$3*(1/(1+J57*(2-1))),1)),\nIF(G57=\"TRUE 4\",IF(E57=\"NT\",MROUND(Inputs!$F$32*$S$3*(1/(1+J57*(2-1))),1),MROUND(Inputs!$F$30*$S$3*(1/(1+J57*(2-1))),1)),\nMROUND(Inputs!$C$15*(1/(1+J57*(2-1)))*($P$3+$P$4),1)))))","v":8727},-6804,0,{"$f":"(R57/(1/(1+J57*(2-1))))*O57/LEFT(Inputs!$C$18,1)/5280","v":0},0,{"$f":"(T57/60)*((Inputs!$C$13*Calculations!R57*(1-Calculations!J57))+(Inputs!$C$14*Calculations!R57*Calculations!J57))","v":0},{"$f":"IF(R57>0,($J$5/60)*(((I57*$J$3/(1-$J$3))*(1-J57)*Inputs!$C$13)+((I57*$J$3/(1-$J$3))*J57*Inputs!$C$14)),0)","v":0},0,null,"2019-08-02T22:00:00","","",{"$f":"IF(AND(Z57<>\"\",AA57<>\"\"),MAX(INDIRECT(Z57):INDIRECT(AA57)),\"\")","v":""},"","",null,{"$f":"IF(G57=\"TRUE 1\",IF(E57=\"NT\",MROUND(Inputs!$C$32*$AF$3*(1/(1+M57*(2-1))),1),MROUND(Inputs!$C$30*$AF$3*(1/(1+M57*(2-1))),1)),\nIF(G57=\"TRUE 2\",IF(E57=\"NT\",MROUND(Inputs!$D$32*$AG$3*(1/(1+M57*(2-1))),1),MROUND(Inputs!$D$30*$AG$3*(1/(1+M57*(2-1))),1)),\nIF(G57=\"TRUE 3\",IF(E57=\"NT\",MROUND(Inputs!$E$32*$AH$3*(1/(1+M57*(2-1))),1),MROUND(Inputs!$E$30*$AH$3*(1/(1+M57*(2-1))),1)),\nIF(G57=\"TRUE 4\",IF(E57=\"NT\",MROUND(Inputs!$F$32*$AI$3*(1/(1+M57*(2-1))),1),MROUND(Inputs!$F$30*$AI$3*(1/(1+M57*(2-1))),1)),\nMROUND(Inputs!$C$15*(1/(1+M57*(2-1)))*($AF$3+$AF$4),1)))))","v":8727},-6283,0,{"$f":"(AH57/(1/(1+M57*(2-1))))*O57/LEFT(Inputs!$C$18,1)/5280","v":0},0,{"$f":"(AJ57/60)*((Inputs!$C$13*Calculations!AH57*(1-Calculations!M57))+(Inputs!$C$14*Calculations!AH57*Calculations!M57))","v":0},{"$f":"IF(AH57>0,($M$5/60)*(((L57*$M$3/(1-$M$3))*(1-M57)*Inputs!$C$13)+((L57*$M$3/(1-$M$3))*M57*Inputs!$C$14)),0)","v":0},0,null,"2019-08-02T22:00:00","","",{"$f":"IF(AND(AP57<>\"\",AQ57<>\"\"),MAX(INDIRECT(AP57):INDIRECT(AQ57)),\"\")","v":""},"",""]
["2019-08-02",6,"Friday","23:00:00",{"$f":"INDEX(Lists!$M$3:$M$26,MATCH(Calculations!D58,Lists!$L$3:$L$26,0))","v":"NT"},143,{"$f":"IF(INDEX(Inputs!$H$86:$H$253,MATCH(F58,Inputs!$D$86:$D$253,0)),\"TRUE 4\",\nIF(INDEX(Inputs!$G$86:$G$253,MATCH(F58,Inputs!$D$86:$D$253,0)),\"TRUE 3\",\nIF(INDEX(Inputs!$F$86:$F$253,MATCH(F58,Inputs!$D$86:$D$253,0)),\"TRUE 2\",\nIF(INDEX(Inputs!$E$86:$E$253,MATCH(F58,Inputs!$D$86:$D$253,0)),\"TRUE 1\",\nFALSE))))","v":false},null,{"$f":"'Volume Import'!C49*'Volume Import'!$H$14*(1+'Volume Import'!$H$15)*(1-'Volume Import'!$H$16)","v":1433},{"$f":"IF(AND('Volume Import'!D49=0,'Volume Import'!C49=0),0,\nIF('Volume Import'!D49=0,INDEX('Volume Import'!$K$2:$Q$5,MATCH(E58,'Volume Import'!$R$2:$R$5,0),MATCH(C58,'Volume Import'!$K$1:$Q$1,0)),\n'Volume Import'!D49/'Volume Import'!C49))","v":0.1},null,{"$f":"'Volume Import'!E49*'Volume Import'!$I$14*(1+'Volume Import'!$I$15)*(1-'Volume Import'!$I$16)","v":1836},{"$f":"IF('Volume Import'!F49=0,J58,'Volume Import'!F49/'Volume Import'!E49)","v":0.1},null,{"$f":"IF(G58=\"TRUE 1\",IF(E58=\"NT\",Inputs!$C$35,Inputs!$C$34),\nIF(G58=\"TRUE 2\",IF(E58=\"NT\",Inputs!$D$35,Inputs!$D$34),\nIF(G58=\"TRUE 3\",IF(E58=\"NT\",Inputs!$E$35,Inputs!$E$34),\nIF(G58=\"TRUE 4\",IF(E58=\"NT\",Inputs!$F$35,Inputs!$F$34),\nO57))))","v":65.476687896673383},{"$f":"IF(G58=\"TRUE 1\",IF(E58=\"NT\",MROUND(Inputs!$C$32*$P$3*(1/(1+J58*(2-1))),1),MROUND(Inputs!$C$30*$P$3*(1/(1+J58*(2-1))),1)),\nIF(G58=\"TRUE 2\",IF(E58=\"NT\",MROUND(Inputs!$D$32*$Q$3*(1/(1+J58*(2-1))),1),MROUND(Inputs!$D$30*$Q$3*(1/(1+J58*(2-1))),1)),\nIF(G58=\"TRUE 3\",IF(E58=\"NT\",MROUND(Inputs!$E$32*$R$3*(1/(1+J58*(2-1))),1),MROUND(Inputs!$E$30*$R$3*(1/(1+J58*(2-1))),1)),\nIF(G58=\"TRUE 4\",IF(E58=\"NT\",MROUND(Inputs!$F$32*$S$3*(1/(1+J58*(2-1))),1),MROUND(Inputs!$F$30*$S$3*(1/(1+J58*(2-1))),1)),\nMROUND(Inputs!$C$15*(1/(1+J58*(2-1)))*($P$3+$P$4),1)))))","v":8727},-7294,0,{"$f":"(R58/(1/(1+J58*(2-1))))*O58/LEFT(Inputs!$C$18,1)/5280","v":0},0,{"$f":"(T58/60)*((Inputs!$C$13*Calculations!R58*(1-Calculations!J58))+(Inputs!$C$14*Calculations!R58*Calculations!J58))","v":0},{"$f":"IF(R58>0,($J$5/60)*(((I58*$J$3/(1-$J$3))*(1-J58)*Inputs!$C$13)+((I58*$J$3/(1-$J$3))*J58*Inputs!$C$14)),0)","v":0},0,null,"2019-08-02T23:00:00","","",{"$f":"IF(AND(Z58<>\"\",AA58<>\"\"),MAX(INDIRECT(Z58):INDIRECT(AA58)),\"\")","v":""},"","",null,{"$f":"IF(G58=\"TRUE 1\",IF(E58=\"NT\",MROUND(Inputs!$C$32*$AF$3*(1/(1+M58*(2-1))),1),MROUND(Inputs!$C$30*$AF$3*(1/(1+M58*(2-1))),1)),\nIF(G58=\"TRUE 2\",IF(E58=\"NT\",MROUND(Inputs!$D$32*$AG$3*(1/(1+M58*(2-1))),1),MROUND(Inputs!$D$30*$AG$3*(1/(1+M58*(2-1))),1)),\nIF(G58=\"TRUE 3\",IF(E58=\"NT\",MROUND(Inputs!$E$32*$AH$3*(1/(1+M58*(2-1))),1),MROUND(Inputs!$E$30*$AH$3*(1/(1+M58*(2-1))),1)),\nIF(G58=\"TRUE 4\",IF(E58=\"NT\",MROUND(Inputs!$F$32*$AI$3*(1/(1+M58*(2-1))),1),MROUND(Inputs!$F$30*$AI$3*(1/(1+M58*(2-1))),1)),\nMROUND(Inputs!$C$15*(1/(1+M58*(2-1)))*($AF$3+$AF$4),1)))))","v":8727},-6891,0,{"$f":"(AH58/(1/(1+M58*(2-1))))*O58/LEFT(Inputs!$C$18,1)/5280","v":0},0,{"$f":"(AJ58/60)*((Inputs!$C$13*Calculations!AH58*(1-Calculations!M58))+(Inputs!$C$14*Calculations!AH58*Calculations!M58))","v":0},{"$f":"IF(AH58>0,($M$5/60)*(((L58*$M$3/(1-$M$3))*(1-M58)*Inputs!$C$13)+((L58*$M$3/(1-$M$3))*M58*Inputs!$C$14)),0)","v":0},0,null,"2019-08-02T23:00:00","","",{"$f":"IF(AND(AP58<>\"\",AQ58<>\"\"),MAX(INDIRECT(AP58):INDIRECT(AQ58)),\"\")","v":""},"",""]
["2019-08-03",7,"Saturday","00:00:00",{"$f":"INDEX(Lists!$M$3:$M$26,MATCH(Calculations!D59,Lists!$L$3:$L$26,0))","v":"NT"},144,{"$f":"IF(INDEX(Inputs!$H$86:$H$253,MATCH(F59,Inputs!$D$86:$D$253,0)),\"TRUE 4\",\nIF(INDEX(Inputs!$G$86:$G$253,MATCH(F59,Inputs!$D$86:$D$253,0)),\"TRUE 3\",\nIF(INDEX(Inputs!$F$86:$F$253,MATCH(F59,Inputs!$D$86:$D$253,0)),\"TRUE 2\",\nIF(INDEX(Inputs!$E$86:$E$253,MATCH(F59,Inputs!$D$86:$D$253,0)),\"TRUE 1\",\nFALSE))))","v":false},null,{"$f":"'Volume Import'!C50*'Volume Import'!$H$14*(1+'Volume Import'!$H$15)*(1-'Volume Import'!$H$16)","v":1041},{"$f":"IF(AND('Volume Import'!D50=0,'Volume Import'!C50=0),0,\nIF('Volume Import'!D50=0,INDEX('Volume Import'!$K$2:$Q$5,MATCH(E59,'Volume Import'!$R$2:$R$5,0),MATCH(C59,'Volume Import'!$K$1:$Q$1,0)),\n'Volume Import'!D50/'Volume Import'!C50))","v":0.1},null,{"$f":"'Volume Import'!E50*'Volume Import'!$I$14*(1+'Volume Import'!$I$15)*(1-'Volume Import'!$I$16)","v":1030},{"$f":"IF('Volume Import'!F50=0,J59,'Volume Import'!F50/'Volume Import'!E50)","v":0.1},null,{"$f":"IF(G59=\"TRUE 1\",IF(E59=\"NT\",Inputs!$C$35,Inputs!$C$34),\nIF(G59=\"TRUE 2\",IF(E59=\"NT\",Inputs!$D$35,Inputs!$D$34),\nIF(G59=\"TRUE 3\",IF(E59=\"NT\",Inputs!$E$35,Inputs!$E$34),\nIF(G59=\"TRUE 4\",IF(E59=\"NT\",Inputs!$F$35,Inputs!$F$34),\nO58))))","v":65.476687896673383},{"$f":"IF(G59=\"TRUE 1\",IF(E59=\"NT\",MROUND(Inputs!$C$32*$P$3*(1/(1+J59*(2-1))),1),MROUND(Inputs!$C$30*$P$3*(1/(1+J59*(2-1))),1)),\nIF(G59=\"TRUE 2\",IF(E59=\"NT\",MROUND(Inputs!$D$32*$Q$3*(1/(1+J59*(2-1))),1),MROUND(Inputs!$D$30*$Q$3*(1/(1+J59*(2-1))),1)),\nIF(G59=\"TRUE 3\",IF(E59=\"NT\",MROUND(Inputs!$E$32*$R$3*(1/(1+J59*(2-1))),1),MROUND(Inputs!$E$30*$R$3*(1/(1+J59*(2-1))),1)),\nIF(G59=\"TRUE 4\",IF(E59=\"NT\",MROUND(Inputs!$F$32*$S$3*(1/(1+J59*(2-1))),1),MROUND(Inputs!$F$30*$S$3*(1/(1+J59*(2-1))),1)),\nMROUND(Inputs!$C$15*(1/(1+J59*(2-1)))*($P$3+$P$4),1)))))","v":8727},-7686,0,{"$f":"(R59/(1/(1+J59*(2-1))))*O59/LEFT(Inputs!$C$18,1)/5280","v":0},0,{"$f":"(T59/60)*((Inputs!$C$13*Calculations!R59*(1-Calculations!J59))+(Inputs!$C$14*Calculations!R59*Calculations!J59))","v":0},{"$f":"IF(R59>0,($J$5/60)*(((I59*$J$3/(1-$J$3))*(1-J59)*Inputs!$C$13)+((I59*$J$3/(1-$J$3))*J59*Inputs!$C$14)),0)","v":0},0,null,"2019-08-03","","",{"$f":"IF(AND(Z59<>\"\",AA59<>\"\"),MAX(INDIRECT(Z59):INDIRECT(AA59)),\"\")","v":""},"","",null,{"$f":"IF(G59=\"TRUE 1\",IF(E59=\"NT\",MROUND(Inputs!$C$32*$AF$3*(1/(1+M59*(2-1))),1),MROUND(Inputs!$C$30*$AF$3*(1/(1+M59*(2-1))),1)),\nIF(G59=\"TRUE 2\",IF(E59=\"NT\",MROUND(Inputs!$D$32*$AG$3*(1/(1+M59*(2-1))),1),MROUND(Inputs!$D$30*$AG$3*(1/(1+M59*(2-1))),1)),\nIF(G59=\"TRUE 3\",IF(E59=\"NT\",MROUND(Inputs!$E$32*$AH$3*(1/(1+M59*(2-1))),1),MROUND(Inputs!$E$30*$AH$3*(1/(1+M59*(2-1))),1)),\nIF(G59=\"TRUE 4\",IF(E59=\"NT\",MROUND(Inputs!$F$32*$AI$3*(1/(1+M59*(2-1))),1),MROUND(Inputs!$F$30*$AI$3*(1/(1+M59*(2-1))),1)),\nMROUND(Inputs!$C$15*(1/(1+M59*(2-1)))*($AF$3+$AF$4),1)))))","v":8727},-7697,0,{"$f":"(AH59/(1/(1+M59*(2-1))))*O59/LEFT(Inputs!$C$18,1)/5280","v":0},0,{"$f":"(AJ59/60)*((Inputs!$C$13*Calculations!AH59*(1-Calculations!M59))+(Inputs!$C$14*Calculations!AH59*Calculations!M59))","v":0},{"$f":"IF(AH59>0,($M$5/60)*(((L59*$M$3/(1-$M$3))*(1-M59)*Inputs!$C$13)+((L59*$M$3/(1-$M$3))*M59*Inputs!$C$14)),0)","v":0},0,null,"2019-08-03","","",{"$f":"IF(AND(AP59<>\"\",AQ59<>\"\"),MAX(INDIRECT(AP59):INDIRECT(AQ59)),\"\")","v":""},"",""]
["2019-08-03",7,"Saturday","01:00:00",{"$f":"INDEX(Lists!$M$3:$M$26,MATCH(Calculations!D60,Lists!$L$3:$L$26,0))","v":"NT"},145,{"$f":"IF(INDEX(Inputs!$H$86:$H$253,MATCH(F60,Inputs!$D$86:$D$253,0)),\"TRUE 4\",\nIF(INDEX(Inputs!$G$86:$G$253,MATCH(F60,Inputs!$D$86:$D$253,0)),\"TRUE 3\",\nIF(INDEX(Inputs!$F$86:$F$253,MATCH(F60,Inputs!$D$86:$D$253,0)),\"TRUE 2\",\nIF(INDEX(Inputs!$E$86:$E$253,MATCH(F60,Inputs!$D$86:$D$253,0)),\"TRUE 1\",\nFALSE))))","v":false},null,{"$f":"'Volume Import'!C51*'Volume Import'!$H$14*(1+'Volume Import'!$H$15)*(1-'Volume Import'!$H$16)","v":574},{"$f":"IF(AND('Volume Import'!D51=0,'Volume Import'!C51=0),0,\nIF('Volume Import'!D51=0,INDEX('Volume Import'!$K$2:$Q$5,MATCH(E60,'Volume Import'!$R$2:$R$5,0),MATCH(C60,'Volume Import'!$K$1:$Q$1,0)),\n'Volume Import'!D51/'Volume Import'!C51))","v":0.1},null,{"$f":"'Volume Import'!E51*'Volume Import'!$I$14*(1+'Volume Import'!$I$15)*(1-'Volume Import'!$I$16)","v":554},{"$f":"IF('Volume Import'!F51=0,J60,'Volume Import'!F51/'Volume Import'!E51)","v":0.1},null,{"$f":"IF(G60=\"TRUE 1\",IF(E60=\"NT\",Inputs!$C$35,Inputs!$C$34),\nIF(G60=\"TRUE 2\",IF(E60=\"NT\",Inputs!$D$35,Inputs!$D$34),\nIF(G60=\"TRUE 3\",IF(E60=\"NT\",Inputs!$E$35,Inputs!$E$34),\nIF(G60=\"TRUE 4\",IF(E60=\"NT\",Inputs!$F$35,Inputs!$F$34),\nO59))))","v":65.476687896673383},{"$f":"IF(G60=\"TRUE 1\",IF(E60=\"NT\",MROUND(Inputs!$C$32*$P$3*(1/(1+J60*(2-1))),1),MROUND(Inputs!$C$30*$P$3*(1/(1+J60*(2-1))),1)),\nIF(G60=\"TRUE 2\",IF(E60=\"NT\",MROUND(Inputs!$D$32*$Q$3*(1/(1+J60*(2-1))),1),MROUND(Inputs!$D$30*$Q$3*(1/(1+J60*(2-1))),1)),\nIF(G60=\"TRUE 3\",IF(E60=\"NT\",MROUND(Inputs!$E$32*$R$3*(1/(1+J60*(2-1))),1),MROUND(Inputs!$E$30*$R$3*(1/(1+J60*(2-1))),1)),\nIF(G60=\"TRUE 4\",IF(E60=\"NT\",MROUND(Inputs!$F$32*$S$3*(1/(1+J60*(2-1))),1),MROUND(Inputs!$F$30*$S$3*(1/(1+J60*(2-1))),1)),\nMROUND(Inputs!$C$15*(1/(1+J60*(2-1)))*($P$3+$P$4),1)))))","v":8727},-8153,0,{"$f":"(R60/(1/(1+J60*(2-1))))*O60/LEFT(Inputs!$C$18,1)/5280","v":0},0,{"$f":"(T60/60)*((Inputs!$C$13*Calculations!R60*(1-Calculations!J60))+(Inputs!$C$14*Calculations!R60*Calculations!J60))","v":0},{"$f":"IF(R60>0,($J$5/60)*(((I60*$J$3/(1-$J$3))*(1-J60)*Inputs!$C$13)+((I60*$J$3/(1-$J$3))*J60*Inputs!$C$14)),0)","v":0},0,null,"2019-08-03T01:00:00","","",{"$f":"IF(AND(Z60<>\"\",AA60<>\"\"),MAX(INDIRECT(Z60):INDIRECT(AA60)),\"\")","v":""},"","",null,{"$f":"IF(G60=\"TRUE 1\",IF(E60=\"NT\",MROUND(Inputs!$C$32*$AF$3*(1/(1+M60*(2-1))),1),MROUND(Inputs!$C$30*$AF$3*(1/(1+M60*(2-1))),1)),\nIF(G60=\"TRUE 2\",IF(E60=\"NT\",MROUND(Inputs!$D$32*$AG$3*(1/(1+M60*(2-1))),1),MROUND(Inputs!$D$30*$AG$3*(1/(1+M60*(2-1))),1)),\nIF(G60=\"TRUE 3\",IF(E60=\"NT\",MROUND(Inputs!$E$32*$AH$3*(1/(1+M60*(2-1))),1),MROUND(Inputs!$E$30*$AH$3*(1/(1+M60*(2-1))),1)),\nIF(G60=\"TRUE 4\",IF(E60=\"NT\",MROUND(Inputs!$F$32*$AI$3*(1/(1+M60*(2-1))),1),MROUND(Inputs!$F$30*$AI$3*(1/(1+M60*(2-1))),1)),\nMROUND(Inputs!$C$15*(1/(1+M60*(2-1)))*($AF$3+$AF$4),1)))))","v":8727},-8173,0,{"$f":"(AH60/(1/(1+M60*(2-1))))*O60/LEFT(Inputs!$C$18,1)/5280","v":0},0,{"$f":"(AJ60/60)*((Inputs!$C$13*Calculations!AH60*(1-Calculations!M60))+(Inputs!$C$14*Calculations!AH60*Calculations!M60))","v":0},{"$f":"IF(AH60>0,($M$5/60)*(((L60*$M$3/(1-$M$3))*(1-M60)*Inputs!$C$13)+((L60*$M$3/(1-$M$3))*M60*Inputs!$C$14)),0)","v":0},0,null,"2019-08-03T01:00:00","","",{"$f":"IF(AND(AP60<>\"\",AQ60<>\"\"),MAX(INDIRECT(AP60):INDIRECT(AQ60)),\"\")","v":""},"",""]
["2019-08-03",7,"Saturday","02:00:00",{"$f":"INDEX(Lists!$M$3:$M$26,MATCH(Calculations!D61,Lists!$L$3:$L$26,0))","v":"NT"},146,{"$f":"IF(INDEX(Inputs!$H$86:$H$253,MATCH(F61,Inputs!$D$86:$D$253,0)),\"TRUE 4\",\nIF(INDEX(Inputs!$G$86:$G$253,MATCH(F61,Inputs!$D$86:$D$253,0)),\"TRUE 3\",\nIF(INDEX(Inputs!$F$86:$F$253,MATCH(F61,Inputs!$D$86:$D$253,0)),\"TRUE 2\",\nIF(INDEX(Inputs!$E$86:$E$253,MATCH(F61,Inputs!$D$86:$D$253,0)),\"TRUE 1\",\nFALSE))))","v":false},null,{"$f":"'Volume Import'!C52*'Volume Import'!$H$14*(1+'Volume Import'!$H$15)*(1-'Volume Import'!$H$16)","v":427},{"$f":"IF(AND('Volume Import'!D52=0,'Volume Import'!C52=0),0,\nIF('Volume Import'!D52=0,INDEX('Volume Import'!$K$2:$Q$5,MATCH(E61,'Volume Import'!$R$2:$R$5,0),MATCH(C61,'Volume Import'!$K$1:$Q$1,0)),\n'Volume Import'!D52/'Volume Import'!C52))","v":0.1},null,{"$f":"'Volume Import'!E52*'Volume Import'!$I$14*(1+'Volume Import'!$I$15)*(1-'Volume Import'!$I$16)","v":438},{"$f":"IF('Volume Import'!F52=0,J61,'Volume Import'!F52/'Volume Import'!E52)","v":0.1},null,{"$f":"IF(G61=\"TRUE 1\",IF(E61=\"NT\",Inputs!$C$35,Inputs!$C$34),\nIF(G61=\"TRUE 2\",IF(E61=\"NT\",Inputs!$D$35,Inputs!$D$34),\nIF(G61=\"TRUE 3\",IF(E61=\"NT\",Inputs!$E$35,Inputs!$E$34),\nIF(G61=\"TRUE 4\",IF(E61=\"NT\",Inputs!$F$35,Inputs!$F$34),\nO60))))","v":65.476687896673383},{"$f":"IF(G61=\"TRUE 1\",IF(E61=\"NT\",MROUND(Inputs!$C$32*$P$3*(1/(1+J61*(2-1))),1),MROUND(Inputs!$C$30*$P$3*(1/(1+J61*(2-1))),1)),\nIF(G61=\"TRUE 2\",IF(E61=\"NT\",MROUND(Inputs!$D$32*$Q$3*(1/(1+J61*(2-1))),1),MROUND(Inputs!$D$30*$Q$3*(1/(1+J61*(2-1))),1)),\nIF(G61=\"TRUE 3\",IF(E61=\"NT\",MROUND(Inputs!$E$32*$R$3*(1/(1+J61*(2-1))),1),MROUND(Inputs!$E$30*$R$3*(1/(1+J61*(2-1))),1)),\nIF(G61=\"TRUE 4\",IF(E61=\"NT\",MROUND(Inputs!$F$32*$S$3*(1/(1+J61*(2-1))),1),MROUND(Inputs!$F$30*$S$3*(1/(1+J61*(2-1))),1)),\nMROUND(Inputs!$C$15*(1/(1+J61*(2-1)))*($P$3+$P$4),1)))))","v":8727},-8300,0,{"$f":"(R61/(1/(1+J61*(2-1))))*O61/LEFT(Inputs!$C$18,1)/5280","v":0},0,{"$f":"(T61/60)*((Inputs!$C$13*Calculations!R61*(1-Calculations!J61))+(Inputs!$C$14*Calculations!R61*Calculations!J61))","v":0},{"$f":"IF(R61>0,($J$5/60)*(((I61*$J$3/(1-$J$3))*(1-J61)*Inputs!$C$13)+((I61*$J$3/(1-$J$3))*J61*Inputs!$C$14)),0)","v":0},0,null,"2019-08-03T02:00:00","","",{"$f":"IF(AND(Z61<>\"\",AA61<>\"\"),MAX(INDIRECT(Z61):INDIRECT(AA61)),\"\")","v":""},"","",null,{"$f":"IF(G61=\"TRUE 1\",IF(E61=\"NT\",MROUND(Inputs!$C$32*$AF$3*(1/(1+M61*(2-1))),1),MROUND(Inputs!$C$30*$AF$3*(1/(1+M61*(2-1))),1)),\nIF(G61=\"TRUE 2\",IF(E61=\"NT\",MROUND(Inputs!$D$32*$AG$3*(1/(1+M61*(2-1))),1),MROUND(Inputs!$D$30*$AG$3*(1/(1+M61*(2-1))),1)),\nIF(G61=\"TRUE 3\",IF(E61=\"NT\",MROUND(Inputs!$E$32*$AH$3*(1/(1+M61*(2-1))),1),MROUND(Inputs!$E$30*$AH$3*(1/(1+M61*(2-1))),1)),\nIF(G61=\"TRUE 4\",IF(E61=\"NT\",MROUND(Inputs!$F$32*$AI$3*(1/(1+M61*(2-1))),1),MROUND(Inputs!$F$30*$AI$3*(1/(1+M61*(2-1))),1)),\nMROUND(Inputs!$C$15*(1/(1+M61*(2-1)))*($AF$3+$AF$4),1)))))","v":8727},-8289,0,{"$f":"(AH61/(1/(1+M61*(2-1))))*O61/LEFT(Inputs!$C$18,1)/5280","v":0},0,{"$f":"(AJ61/60)*((Inputs!$C$13*Calculations!AH61*(1-Calculations!M61))+(Inputs!$C$14*Calculations!AH61*Calculations!M61))","v":0},{"$f":"IF(AH61>0,($M$5/60)*(((L61*$M$3/(1-$M$3))*(1-M61)*Inputs!$C$13)+((L61*$M$3/(1-$M$3))*M61*Inputs!$C$14)),0)","v":0},0,null,"2019-08-03T02:00:00","","",{"$f":"IF(AND(AP61<>\"\",AQ61<>\"\"),MAX(INDIRECT(AP61):INDIRECT(AQ61)),\"\")","v":""},"",""]
["2019-08-03",7,"Saturday","03:00:00",{"$f":"INDEX(Lists!$M$3:$M$26,MATCH(Calculations!D62,Lists!$L$3:$L$26,0))","v":"NT"},147,{"$f":"IF(INDEX(Inputs!$H$86:$H$253,MATCH(F62,Inputs!$D$86:$D$253,0)),\"TRUE 4\",\nIF(INDEX(Inputs!$G$86:$G$253,MATCH(F62,Inputs!$D$86:$D$253,0)),\"TRUE 3\",\nIF(INDEX(Inputs!$F$86:$F$253,MATCH(F62,Inputs!$D$86:$D$253,0)),\"TRUE 2\",\nIF(INDEX(Inputs!$E$86:$E$253,MATCH(F62,Inputs!$D$86:$D$253,0)),\"TRUE 1\",\nFALSE))))","v":false},null,{"$f":"'Volume Import'!C53*'Volume Import'!$H$14*(1+'Volume Import'!$H$15)*(1-'Volume Import'!$H$16)","v":426},{"$f":"IF(AND('Volume Import'!D53=0,'Volume Import'!C53=0),0,\nIF('Volume Import'!D53=0,INDEX('Volume Import'!$K$2:$Q$5,MATCH(E62,'Volume Import'!$R$2:$R$5,0),MATCH(C62,'Volume Import'!$K$1:$Q$1,0)),\n'Volume Import'!D53/'Volume Import'!C53))","v":0.1},null,{"$f":"'Volume Import'!E53*'Volume Import'!$I$14*(1+'Volume Import'!$I$15)*(1-'Volume Import'!$I$16)","v":446},{"$f":"IF('Volume Import'!F53=0,J62,'Volume Import'!F53/'Volume Import'!E53)","v":0.1},null,{"$f":"IF(G62=\"TRUE 1\",IF(E62=\"NT\",Inputs!$C$35,Inputs!$C$34),\nIF(G62=\"TRUE 2\",IF(E62=\"NT\",Inputs!$D$35,Inputs!$D$34),\nIF(G62=\"TRUE 3\",IF(E62=\"NT\",Inputs!$E$35,Inputs!$E$34),\nIF(G62=\"TRUE 4\",IF(E62=\"NT\",Inputs!$F$35,Inputs!$F$34),\nO61))))","v":65.476687896673383},{"$f":"IF(G62=\"TRUE 1\",IF(E62=\"NT\",MROUND(Inputs!$C$32*$P$3*(1/(1+J62*(2-1))),1),MROUND(Inputs!$C$30*$P$3*(1/(1+J62*(2-1))),1)),\nIF(G62=\"TRUE 2\",IF(E62=\"NT\",MROUND(Inputs!$D$32*$Q$3*(1/(1+J62*(2-1))),1),MROUND(Inputs!$D$30*$Q$3*(1/(1+J62*(2-1))),1)),\nIF(G62=\"TRUE 3\",IF(E62=\"NT\",MROUND(Inputs!$E$32*$R$3*(1/(1+J62*(2-1))),1),MROUND(Inputs!$E$30*$R$3*(1/(1+J62*(2-1))),1)),\nIF(G62=\"TRUE 4\",IF(E62=\"NT\",MROUND(Inputs!$F$32*$S$3*(1/(1+J62*(2-1))),1),MROUND(Inputs!$F$30*$S$3*(1/(1+J62*(2-1))),1)),\nMROUND(Inputs!$C$15*(1/(1+J62*(2-1)))*($P$3+$P$4),1)))))","v":8727},-8301,0,{"$f":"(R62/(1/(1+J62*(2-1))))*O62/LEFT(Inputs!$C$18,1)/5280","v":0},0,{"$f":"(T62/60)*((Inputs!$C$13*Calculations!R62*(1-Calculations!J62))+(Inputs!$C$14*Calculations!R62*Calculations!J62))","v":0},{"$f":"IF(R62>0,($J$5/60)*(((I62*$J$3/(1-$J$3))*(1-J62)*Inputs!$C$13)+((I62*$J$3/(1-$J$3))*J62*Inputs!$C$14)),0)","v":0},0,null,"2019-08-03T03:00:00","","",{"$f":"IF(AND(Z62<>\"\",AA62<>\"\"),MAX(INDIRECT(Z62):INDIRECT(AA62)),\"\")","v":""},"","",null,{"$f":"IF(G62=\"TRUE 1\",IF(E62=\"NT\",MROUND(Inputs!$C$32*$AF$3*(1/(1+M62*(2-1))),1),MROUND(Inputs!$C$30*$AF$3*(1/(1+M62*(2-1))),1)),\nIF(G62=\"TRUE 2\",IF(E62=\"NT\",MROUND(Inputs!$D$32*$AG$3*(1/(1+M62*(2-1))),1),MROUND(Inputs!$D$30*$AG$3*(1/(1+M62*(2-1))),1)),\nIF(G62=\"TRUE 3\",IF(E62=\"NT\",MROUND(Inputs!$E$32*$AH$3*(1/(1+M62*(2-1))),1),MROUND(Inputs!$E$30*$AH$3*(1/(1+M62*(2-1))),1)),\nIF(G62=\"TRUE 4\",IF(E62=\"NT\",MROUND(Inputs!$F$32*$AI$3*(1/(1+M62*(2-1))),1),MROUND(Inputs!$F$30*$AI$3*(1/(1+M62*(2-1))),1)),\nMROUND(Inputs!$C$15*(1/(1+M62*(2-1)))*($AF$3+$AF$4),1)))))","v":8727},-8281,0,{"$f":"(AH62/(1/(1+M62*(2-1))))*O62/LEFT(Inputs!$C$18,1)/5280","v":0},0,{"$f":"(AJ62/60)*((Inputs!$C$13*Calculations!AH62*(1-Calculations!M62))+(Inputs!$C$14*Calculations!AH62*Calculations!M62))","v":0},{"$f":"IF(AH62>0,($M$5/60)*(((L62*$M$3/(1-$M$3))*(1-M62)*Inputs!$C$13)+((L62*$M$3/(1-$M$3))*M62*Inputs!$C$14)),0)","v":0},0,null,"2019-08-03T03:00:00","","",{"$f":"IF(AND(AP62<>\"\",AQ62<>\"\"),MAX(INDIRECT(AP62):INDIRECT(AQ62)),\"\")","v":""},"",""]
["2019-08-03",7,"Saturday","04:00:00",{"$f":"INDEX(Lists!$M$3:$M$26,MATCH(Calculations!D63,Lists!$L$3:$L$26,0))","v":"NT"},148,{"$f":"IF(INDEX(Inputs!$H$86:$H$253,MATCH(F63,Inputs!$D$86:$D$253,0)),\"TRUE 4\",\nIF(INDEX(Inputs!$G$86:$G$253,MATCH(F63,Inputs!$D$86:$D$253,0)),\"TRUE 3\",\nIF(INDEX(Inputs!$F$86:$F$253,MATCH(F63,Inputs!$D$86:$D$253,0)),\"TRUE 2\",\nIF(INDEX(Inputs!$E$86:$E$253,MATCH(F63,Inputs!$D$86:$D$253,0)),\"TRUE 1\",\nFALSE))))","v":false},null,{"$f":"'Volume Import'!C54*'Volume Import'!$H$14*(1+'Volume Import'!$H$15)*(1-'Volume Import'!$H$16)","v":597},{"$f":"IF(AND('Volume Import'!D54=0,'Volume Import'!C54=0),0,\nIF('Volume Import'!D54=0,INDEX('Volume Import'!$K$2:$Q$5,MATCH(E63,'Volume Import'!$R$2:$R$5,0),MATCH(C63,'Volume Import'!$K$1:$Q$1,0)),\n'Volume Import'!D54/'Volume Import'!C54))","v":0.1},null,{"$f":"'Volume Import'!E54*'Volume Import'!$I$14*(1+'Volume Import'!$I$15)*(1-'Volume Import'!$I$16)","v":564},{"$f":"IF('Volume Import'!F54=0,J63,'Volume Import'!F54/'Volume Import'!E54)","v":0.1},null,{"$f":"IF(G63=\"TRUE 1\",IF(E63=\"NT\",Inputs!$C$35,Inputs!$C$34),\nIF(G63=\"TRUE 2\",IF(E63=\"NT\",Inputs!$D$35,Inputs!$D$34),\nIF(G63=\"TRUE 3\",IF(E63=\"NT\",Inputs!$E$35,Inputs!$E$34),\nIF(G63=\"TRUE 4\",IF(E63=\"NT\",Inputs!$F$35,Inputs!$F$34),\nO62))))","v":65.476687896673383},{"$f":"IF(G63=\"TRUE 1\",IF(E63=\"NT\",MROUND(Inputs!$C$32*$P$3*(1/(1+J63*(2-1))),1),MROUND(Inputs!$C$30*$P$3*(1/(1+J63*(2-1))),1)),\nIF(G63=\"TRUE 2\",IF(E63=\"NT\",MROUND(Inputs!$D$32*$Q$3*(1/(1+J63*(2-1))),1),MROUND(Inputs!$D$30*$Q$3*(1/(1+J63*(2-1))),1)),\nIF(G63=\"TRUE 3\",IF(E63=\"NT\",MROUND(Inputs!$E$32*$R$3*(1/(1+J63*(2-1))),1),MROUND(Inputs!$E$30*$R$3*(1/(1+J63*(2-1))),1)),\nIF(G63=\"TRUE 4\",IF(E63=\"NT\",MROUND(Inputs!$F$32*$S$3*(1/(1+J63*(2-1))),1),MROUND(Inputs!$F$30*$S$3*(1/(1+J63*(2-1))),1)),\nMROUND(Inputs!$C$15*(1/(1+J63*(2-1)))*($P$3+$P$4),1)))))","v":8727},-8130,0,{"$f":"(R63/(1/(1+J63*(2-1))))*O63/LEFT(Inputs!$C$18,1)/5280","v":0},0,{"$f":"(T63/60)*((Inputs!$C$13*Calculations!R63*(1-Calculations!J63))+(Inputs!$C$14*Calculations!R63*Calculations!J63))","v":0},{"$f":"IF(R63>0,($J$5/60)*(((I63*$J$3/(1-$J$3))*(1-J63)*Inputs!$C$13)+((I63*$J$3/(1-$J$3))*J63*Inputs!$C$14)),0)","v":0},0,null,"2019-08-03T04:00:00","","",{"$f":"IF(AND(Z63<>\"\",AA63<>\"\"),MAX(INDIRECT(Z63):INDIRECT(AA63)),\"\")","v":""},"","",null,{"$f":"IF(G63=\"TRUE 1\",IF(E63=\"NT\",MROUND(Inputs!$C$32*$AF$3*(1/(1+M63*(2-1))),1),MROUND(Inputs!$C$30*$AF$3*(1/(1+M63*(2-1))),1)),\nIF(G63=\"TRUE 2\",IF(E63=\"NT\",MROUND(Inputs!$D$32*$AG$3*(1/(1+M63*(2-1))),1),MROUND(Inputs!$D$30*$AG$3*(1/(1+M63*(2-1))),1)),\nIF(G63=\"TRUE 3\",IF(E63=\"NT\",MROUND(Inputs!$E$32*$AH$3*(1/(1+M63*(2-1))),1),MROUND(Inputs!$E$30*$AH$3*(1/(1+M63*(2-1))),1)),\nIF(G63=\"TRUE 4\",IF(E63=\"NT\",MROUND(Inputs!$F$32*$AI$3*(1/(1+M63*(2-1))),1),MROUND(Inputs!$F$30*$AI$3*(1/(1+M63*(2-1))),1)),\nMROUND(Inputs!$C$15*(1/(1+M63*(2-1)))*($AF$3+$AF$4),1)))))","v":8727},-8163,0,{"$f":"(AH63/(1/(1+M63*(2-1))))*O63/LEFT(Inputs!$C$18,1)/5280","v":0},0,{"$f":"(AJ63/60)*((Inputs!$C$13*Calculations!AH63*(1-Calculations!M63))+(Inputs!$C$14*Calculations!AH63*Calculations!M63))","v":0},{"$f":"IF(AH63>0,($M$5/60)*(((L63*$M$3/(1-$M$3))*(1-M63)*Inputs!$C$13)+((L63*$M$3/(1-$M$3))*M63*Inputs!$C$14)),0)","v":0},0,null,"2019-08-03T04:00:00","","",{"$f":"IF(AND(AP63<>\"\",AQ63<>\"\"),MAX(INDIRECT(AP63):INDIRECT(AQ63)),\"\")","v":""},"",""]
["2019-08-03",7,"Saturday","05:00:00",{"$f":"INDEX(Lists!$M$3:$M$26,MATCH(Calculations!D64,Lists!$L$3:$L$26,0))","v":"NT"},149,{"$f":"IF(INDEX(Inputs!$H$86:$H$253,MATCH(F64,Inputs!$D$86:$D$253,0)),\"TRUE 4\",\nIF(INDEX(Inputs!$G$86:$G$253,MATCH(F64,Inputs!$D$86:$D$253,0)),\"TRUE 3\",\nIF(INDEX(Inputs!$F$86:$F$253,MATCH(F64,Inputs!$D$86:$D$253,0)),\"TRUE 2\",\nIF(INDEX(Inputs!$E$86:$E$253,MATCH(F64,Inputs!$D$86:$D$253,0)),\"TRUE 1\",\nFALSE))))","v":false},null,{"$f":"'Volume Import'!C55*'Volume Import'!$H$14*(1+'Volume Import'!$H$15)*(1-'Volume Import'!$H$16)","v":1223},{"$f":"IF(AND('Volume Import'!D55=0,'Volume Import'!C55=0),0,\nIF('Volume Import'!D55=0,INDEX('Volume Import'!$K$2:$Q$5,MATCH(E64,'Volume Import'!$R$2:$R$5,0),MATCH(C64,'Volume Import'!$K$1:$Q$1,0)),\n'Volume Import'!D55/'Volume Import'!C55))","v":0.1},null,{"$f":"'Volume Import'!E55*'Volume Import'!$I$14*(1+'Volume Import'!$I$15)*(1-'Volume Import'!$I$16)","v":915},{"$f":"IF('Volume Import'!F55=0,J64,'Volume Import'!F55/'Volume Import'!E55)","v":0.1},null,{"$f":"IF(G64=\"TRUE 1\",IF(E64=\"NT\",Inputs!$C$35,Inputs!$C$34),\nIF(G64=\"TRUE 2\",IF(E64=\"NT\",Inputs!$D$35,Inputs!$D$34),\nIF(G64=\"TRUE 3\",IF(E64=\"NT\",Inputs!$E$35,Inputs!$E$34),\nIF(G64=\"TRUE 4\",IF(E64=\"NT\",Inputs!$F$35,Inputs!$F$34),\nO63))))","v":65.476687896673383},{"$f":"IF(G64=\"TRUE 1\",IF(E64=\"NT\",MROUND(Inputs!$C$32*$P$3*(1/(1+J64*(2-1))),1),MROUND(Inputs!$C$30*$P$3*(1/(1+J64*(2-1))),1)),\nIF(G64=\"TRUE 2\",IF(E64=\"NT\",MROUND(Inputs!$D$32*$Q$3*(1/(1+J64*(2-1))),1),MROUND(Inputs!$D$30*$Q$3*(1/(1+J64*(2-1))),1)),\nIF(G64=\"TRUE 3\",IF(E64=\"NT\",MROUND(Inputs!$E$32*$R$3*(1/(1+J64*(2-1))),1),MROUND(Inputs!$E$30*$R$3*(1/(1+J64*(2-1))),1)),\nIF(G64=\"TRUE 4\",IF(E64=\"NT\",MROUND(Inputs!$F$32*$S$3*(1/(1+J64*(2-1))),1),MROUND(Inputs!$F$30*$S$3*(1/(1+J64*(2-1))),1)),\nMROUND(Inputs!$C$15*(1/(1+J64*(2-1)))*($P$3+$P$4),1)))))","v":8727},-7504,0,{"$f":"(R64/(1/(1+J64*(2-1))))*O64/LEFT(Inputs!$C$18,1)/5280","v":0},0,{"$f":"(T64/60)*((Inputs!$C$13*Calculations!R64*(1-Calculations!J64))+(Inputs!$C$14*Calculations!R64*Calculations!J64))","v":0},{"$f":"IF(R64>0,($J$5/60)*(((I64*$J$3/(1-$J$3))*(1-J64)*Inputs!$C$13)+((I64*$J$3/(1-$J$3))*J64*Inputs!$C$14)),0)","v":0},0,null,"2019-08-03T05:00:00","","",{"$f":"IF(AND(Z64<>\"\",AA64<>\"\"),MAX(INDIRECT(Z64):INDIRECT(AA64)),\"\")","v":""},"","",null,{"$f":"IF(G64=\"TRUE 1\",IF(E64=\"NT\",MROUND(Inputs!$C$32*$AF$3*(1/(1+M64*(2-1))),1),MROUND(Inputs!$C$30*$AF$3*(1/(1+M64*(2-1))),1)),\nIF(G64=\"TRUE 2\",IF(E64=\"NT\",MROUND(Inputs!$D$32*$AG$3*(1/(1+M64*(2-1))),1),MROUND(Inputs!$D$30*$AG$3*(1/(1+M64*(2-1))),1)),\nIF(G64=\"TRUE 3\",IF(E64=\"NT\",MROUND(Inputs!$E$32*$AH$3*(1/(1+M64*(2-1))),1),MROUND(Inputs!$E$30*$AH$3*(1/(1+M64*(2-1))),1)),\nIF(G64=\"TRUE 4\",IF(E64=\"NT\",MROUND(Inputs!$F$32*$AI$3*(1/(1+M64*(2-1))),1),MROUND(Inputs!$F$30*$AI$3*(1/(1+M64*(2-1))),1)),\nMROUND(Inputs!$C$15*(1/(1+M64*(2-1)))*($AF$3+$AF$4),1)))))","v":8727},-7812,0,{"$f":"(AH64/(1/(1+M64*(2-1))))*O64/LEFT(Inputs!$C$18,1)/5280","v":0},0,{"$f":"(AJ64/60)*((Inputs!$C$13*Calculations!AH64*(1-Calculations!M64))+(Inputs!$C$14*Calculations!AH64*Calculations!M64))","v":0},{"$f":"IF(AH64>0,($M$5/60)*(((L64*$M$3/(1-$M$3))*(1-M64)*Inputs!$C$13)+((L64*$M$3/(1-$M$3))*M64*Inputs!$C$14)),0)","v":0},0,null,"2019-08-03T05:00:00","","",{"$f":"IF(AND(AP64<>\"\",AQ64<>\"\"),MAX(INDIRECT(AP64):INDIRECT(AQ64)),\"\")","v":""},"",""]
["2019-08-03",7,"Saturday","06:00:00",{"$f":"INDEX(Lists!$M$3:$M$26,MATCH(Calculations!D65,Lists!$L$3:$L$26,0))","v":"AM"},150,{"$f":"IF(INDEX(Inputs!$H$86:$H$253,MATCH(F65,Inputs!$D$86:$D$253,0)),\"TRUE 4\",\nIF(INDEX(Inputs!$G$86:$G$253,MATCH(F65,Inputs!$D$86:$D$253,0)),\"TRUE 3\",\nIF(INDEX(Inputs!$F$86:$F$253,MATCH(F65,Inputs!$D$86:$D$253,0)),\"TRUE 2\",\nIF(INDEX(Inputs!$E$86:$E$253,MATCH(F65,Inputs!$D$86:$D$253,0)),\"TRUE 1\",\nFALSE))))","v":false},null,{"$f":"'Volume Import'!C56*'Volume Import'!$H$14*(1+'Volume Import'!$H$15)*(1-'Volume Import'!$H$16)","v":2056},{"$f":"IF(AND('Volume Import'!D56=0,'Volume Import'!C56=0),0,\nIF('Volume Import'!D56=0,INDEX('Volume Import'!$K$2:$Q$5,MATCH(E65,'Volume Import'!$R$2:$R$5,0),MATCH(C65,'Volume Import'!$K$1:$Q$1,0)),\n'Volume Import'!D56/'Volume Import'!C56))","v":0.1},null,{"$f":"'Volume Import'!E56*'Volume Import'!$I$14*(1+'Volume Import'!$I$15)*(1-'Volume Import'!$I$16)","v":1449},{"$f":"IF('Volume Import'!F56=0,J65,'Volume Import'!F56/'Volume Import'!E56)","v":0.1},null,{"$f":"IF(G65=\"TRUE 1\",IF(E65=\"NT\",Inputs!$C$35,Inputs!$C$34),\nIF(G65=\"TRUE 2\",IF(E65=\"NT\",Inputs!$D$35,Inputs!$D$34),\nIF(G65=\"TRUE 3\",IF(E65=\"NT\",Inputs!$E$35,Inputs!$E$34),\nIF(G65=\"TRUE 4\",IF(E65=\"NT\",Inputs!$F$35,Inputs!$F$34),\nO64))))","v":65.476687896673383},{"$f":"IF(G65=\"TRUE 1\",IF(E65=\"NT\",MROUND(Inputs!$C$32*$P$3*(1/(1+J65*(2-1))),1),MROUND(Inputs!$C$30*$P$3*(1/(1+J65*(2-1))),1)),\nIF(G65=\"TRUE 2\",IF(E65=\"NT\",MROUND(Inputs!$D$32*$Q$3*(1/(1+J65*(2-1))),1),MROUND(Inputs!$D$30*$Q$3*(1/(1+J65*(2-1))),1)),\nIF(G65=\"TRUE 3\",IF(E65=\"NT\",MROUND(Inputs!$E$32*$R$3*(1/(1+J65*(2-1))),1),MROUND(Inputs!$E$30*$R$3*(1/(1+J65*(2-1))),1)),\nIF(G65=\"TRUE 4\",IF(E65=\"NT\",MROUND(Inputs!$F$32*$S$3*(1/(1+J65*(2-1))),1),MROUND(Inputs!$F$30*$S$3*(1/(1+J65*(2-1))),1)),\nMROUND(Inputs!$C$15*(1/(1+J65*(2-1)))*($P$3+$P$4),1)))))","v":8727},-6671,0,{"$f":"(R65/(1/(1+J65*(2-1))))*O65/LEFT(Inputs!$C$18,1)/5280","v":0},0,{"$f":"(T65/60)*((Inputs!$C$13*Calculations!R65*(1-Calculations!J65))+(Inputs!$C$14*Calculations!R65*Calculations!J65))","v":0},{"$f":"IF(R65>0,($J$5/60)*(((I65*$J$3/(1-$J$3))*(1-J65)*Inputs!$C$13)+((I65*$J$3/(1-$J$3))*J65*Inputs!$C$14)),0)","v":0},0,null,"2019-08-03T06:00:00","","",{"$f":"IF(AND(Z65<>\"\",AA65<>\"\"),MAX(INDIRECT(Z65):INDIRECT(AA65)),\"\")","v":""},"","",null,{"$f":"IF(G65=\"TRUE 1\",IF(E65=\"NT\",MROUND(Inputs!$C$32*$AF$3*(1/(1+M65*(2-1))),1),MROUND(Inputs!$C$30*$AF$3*(1/(1+M65*(2-1))),1)),\nIF(G65=\"TRUE 2\",IF(E65=\"NT\",MROUND(Inputs!$D$32*$AG$3*(1/(1+M65*(2-1))),1),MROUND(Inputs!$D$30*$AG$3*(1/(1+M65*(2-1))),1)),\nIF(G65=\"TRUE 3\",IF(E65=\"NT\",MROUND(Inputs!$E$32*$AH$3*(1/(1+M65*(2-1))),1),MROUND(Inputs!$E$30*$AH$3*(1/(1+M65*(2-1))),1)),\nIF(G65=\"TRUE 4\",IF(E65=\"NT\",MROUND(Inputs!$F$32*$AI$3*(1/(1+M65*(2-1))),1),MROUND(Inputs!$F$30*$AI$3*(1/(1+M65*(2-1))),1)),\nMROUND(Inputs!$C$15*(1/(1+M65*(2-1)))*($AF$3+$AF$4),1)))))","v":8727},-7278,0,{"$f":"(AH65/(1/(1+M65*(2-1))))*O65/LEFT(Inputs!$C$18,1)/5280","v":0},0,{"$f":"(AJ65/60)*((Inputs!$C$13*Calculations!AH65*(1-Calculations!M65))+(Inputs!$C$14*Calculations!AH65*Calculations!M65))","v":0},{"$f":"IF(AH65>0,($M$5/60)*(((L65*$M$3/(1-$M$3))*(1-M65)*Inputs!$C$13)+((L65*$M$3/(1-$M$3))*M65*Inputs!$C$14)),0)","v":0},0,null,"2019-08-03T06:00:00","","",{"$f":"IF(AND(AP65<>\"\",AQ65<>\"\"),MAX(INDIRECT(AP65):INDIRECT(AQ65)),\"\")","v":""},"",""]
["2019-08-03",7,"Saturday","07:00:00",{"$f":"INDEX(Lists!$M$3:$M$26,MATCH(Calculations!D66,Lists!$L$3:$L$26,0))","v":"AM"},151,{"$f":"IF(INDEX(Inputs!$H$86:$H$253,MATCH(F66,Inputs!$D$86:$D$253,0)),\"TRUE 4\",\nIF(INDEX(Inputs!$G$86:$G$253,MATCH(F66,Inputs!$D$86:$D$253,0)),\"TRUE 3\",\nIF(INDEX(Inputs!$F$86:$F$253,MATCH(F66,Inputs!$D$86:$D$253,0)),\"TRUE 2\",\nIF(INDEX(Inputs!$E$86:$E$253,MATCH(F66,Inputs!$D$86:$D$253,0)),\"TRUE 1\",\nFALSE))))","v":false},null,{"$f":"'Volume Import'!C57*'Volume Import'!$H$14*(1+'Volume Import'!$H$15)*(1-'Volume Import'!$H$16)","v":2712},{"$f":"IF(AND('Volume Import'!D57=0,'Volume Import'!C57=0),0,\nIF('Volume Import'!D57=0,INDEX('Volume Import'!$K$2:$Q$5,MATCH(E66,'Volume Import'!$R$2:$R$5,0),MATCH(C66,'Volume Import'!$K$1:$Q$1,0)),\n'Volume Import'!D57/'Volume Import'!C57))","v":0.1},null,{"$f":"'Volume Import'!E57*'Volume Import'!$I$14*(1+'Volume Import'!$I$15)*(1-'Volume Import'!$I$16)","v":2118},{"$f":"IF('Volume Import'!F57=0,J66,'Volume Import'!F57/'Volume Import'!E57)","v":0.1},null,{"$f":"IF(G66=\"TRUE 1\",IF(E66=\"NT\",Inputs!$C$35,Inputs!$C$34),\nIF(G66=\"TRUE 2\",IF(E66=\"NT\",Inputs!$D$35,Inputs!$D$34),\nIF(G66=\"TRUE 3\",IF(E66=\"NT\",Inputs!$E$35,Inputs!$E$34),\nIF(G66=\"TRUE 4\",IF(E66=\"NT\",Inputs!$F$35,Inputs!$F$34),\nO65))))","v":65.476687896673383},{"$f":"IF(G66=\"TRUE 1\",IF(E66=\"NT\",MROUND(Inputs!$C$32*$P$3*(1/(1+J66*(2-1))),1),MROUND(Inputs!$C$30*$P$3*(1/(1+J66*(2-1))),1)),\nIF(G66=\"TRUE 2\",IF(E66=\"NT\",MROUND(Inputs!$D$32*$Q$3*(1/(1+J66*(2-1))),1),MROUND(Inputs!$D$30*$Q$3*(1/(1+J66*(2-1))),1)),\nIF(G66=\"TRUE 3\",IF(E66=\"NT\",MROUND(Inputs!$E$32*$R$3*(1/(1+J66*(2-1))),1),MROUND(Inputs!$E$30*$R$3*(1/(1+J66*(2-1))),1)),\nIF(G66=\"TRUE 4\",IF(E66=\"NT\",MROUND(Inputs!$F$32*$S$3*(1/(1+J66*(2-1))),1),MROUND(Inputs!$F$30*$S$3*(1/(1+J66*(2-1))),1)),\nMROUND(Inputs!$C$15*(1/(1+J66*(2-1)))*($P$3+$P$4),1)))))","v":8727},-6015,0,{"$f":"(R66/(1/(1+J66*(2-1))))*O66/LEFT(Inputs!$C$18,1)/5280","v":0},0,{"$f":"(T66/60)*((Inputs!$C$13*Calculations!R66*(1-Calculations!J66))+(Inputs!$C$14*Calculations!R66*Calculations!J66))","v":0},{"$f":"IF(R66>0,($J$5/60)*(((I66*$J$3/(1-$J$3))*(1-J66)*Inputs!$C$13)+((I66*$J$3/(1-$J$3))*J66*Inputs!$C$14)),0)","v":0},0,null,"2019-08-03T07:00:00","","",{"$f":"IF(AND(Z66<>\"\",AA66<>\"\"),MAX(INDIRECT(Z66):INDIRECT(AA66)),\"\")","v":""},"","",null,{"$f":"IF(G66=\"TRUE 1\",IF(E66=\"NT\",MROUND(Inputs!$C$32*$AF$3*(1/(1+M66*(2-1))),1),MROUND(Inputs!$C$30*$AF$3*(1/(1+M66*(2-1))),1)),\nIF(G66=\"TRUE 2\",IF(E66=\"NT\",MROUND(Inputs!$D$32*$AG$3*(1/(1+M66*(2-1))),1),MROUND(Inputs!$D$30*$AG$3*(1/(1+M66*(2-1))),1)),\nIF(G66=\"TRUE 3\",IF(E66=\"NT\",MROUND(Inputs!$E$32*$AH$3*(1/(1+M66*(2-1))),1),MROUND(Inputs!$E$30*$AH$3*(1/(1+M66*(2-1))),1)),\nIF(G66=\"TRUE 4\",IF(E66=\"NT\",MROUND(Inputs!$F$32*$AI$3*(1/(1+M66*(2-1))),1),MROUND(Inputs!$F$30*$AI$3*(1/(1+M66*(2-1))),1)),\nMROUND(Inputs!$C$15*(1/(1+M66*(2-1)))*($AF$3+$AF$4),1)))))","v":8727},-6609,0,{"$f":"(AH66/(1/(1+M66*(2-1))))*O66/LEFT(Inputs!$C$18,1)/5280","v":0},{"$f":"AH66/AF66*60","v":0},{"$f":"(AJ66/60)*((Inputs!$C$13*Calculations!AH66*(1-Calculations!M66))+(Inputs!$C$14*Calculations!AH66*Calculations!M66))","v":0},{"$f":"IF(AH66>0,($M$5/60)*(((L66*$M$3/(1-$M$3))*(1-M66)*Inputs!$C$13)+((L66*$M$3/(1-$M$3))*M66*Inputs!$C$14)),0)","v":0},0,null,"2019-08-03T07:00:00","","",{"$f":"IF(AND(AP66<>\"\",AQ66<>\"\"),MAX(INDIRECT(AP66):INDIRECT(AQ66)),\"\")","v":""},"",""]
["2019-08-03",7,"Saturday","08:00:00",{"$f":"INDEX(Lists!$M$3:$M$26,MATCH(Calculations!D67,Lists!$L$3:$L$26,0))","v":"AM"},152,{"$f":"IF(INDEX(Inputs!$H$86:$H$253,MATCH(F67,Inputs!$D$86:$D$253,0)),\"TRUE 4\",\nIF(INDEX(Inputs!$G$86:$G$253,MATCH(F67,Inputs!$D$86:$D$253,0)),\"TRUE 3\",\nIF(INDEX(Inputs!$F$86:$F$253,MATCH(F67,Inputs!$D$86:$D$253,0)),\"TRUE 2\",\nIF(INDEX(Inputs!$E$86:$E$253,MATCH(F67,Inputs!$D$86:$D$253,0)),\"TRUE 1\",\nFALSE))))","v":false},null,{"$f":"'Volume Import'!C58*'Volume Import'!$H$14*(1+'Volume Import'!$H$15)*(1-'Volume Import'!$H$16)","v":3781},{"$f":"IF(AND('Volume Import'!D58=0,'Volume Import'!C58=0),0,\nIF('Volume Import'!D58=0,INDEX('Volume Import'!$K$2:$Q$5,MATCH(E67,'Volume Import'!$R$2:$R$5,0),MATCH(C67,'Volume Import'!$K$1:$Q$1,0)),\n'Volume Import'!D58/'Volume Import'!C58))","v":0.1},null,{"$f":"'Volume Import'!E58*'Volume Import'!$I$14*(1+'Volume Import'!$I$15)*(1-'Volume Import'!$I$16)","v":2878},{"$f":"IF('Volume Import'!F58=0,J67,'Volume Import'!F58/'Volume Import'!E58)","v":0.1},null,{"$f":"IF(G67=\"TRUE 1\",IF(E67=\"NT\",Inputs!$C$35,Inputs!$C$34),\nIF(G67=\"TRUE 2\",IF(E67=\"NT\",Inputs!$D$35,Inputs!$D$34),\nIF(G67=\"TRUE 3\",IF(E67=\"NT\",Inputs!$E$35,Inputs!$E$34),\nIF(G67=\"TRUE 4\",IF(E67=\"NT\",Inputs!$F$35,Inputs!$F$34),\nO66))))","v":65.476687896673383},{"$f":"IF(G67=\"TRUE 1\",IF(E67=\"NT\",MROUND(Inputs!$C$32*$P$3*(1/(1+J67*(2-1))),1),MROUND(Inputs!$C$30*$P$3*(1/(1+J67*(2-1))),1)),\nIF(G67=\"TRUE 2\",IF(E67=\"NT\",MROUND(Inputs!$D$32*$Q$3*(1/(1+J67*(2-1))),1),MROUND(Inputs!$D$30*$Q$3*(1/(1+J67*(2-1))),1)),\nIF(G67=\"TRUE 3\",IF(E67=\"NT\",MROUND(Inputs!$E$32*$R$3*(1/(1+J67*(2-1))),1),MROUND(Inputs!$E$30*$R$3*(1/(1+J67*(2-1))),1)),\nIF(G67=\"TRUE 4\",IF(E67=\"NT\",MROUND(Inputs!$F$32*$S$3*(1/(1+J67*(2-1))),1),MROUND(Inputs!$F$30*$S$3*(1/(1+J67*(2-1))),1)),\nMROUND(Inputs!$C$15*(1/(1+J67*(2-1)))*($P$3+$P$4),1)))))","v":8727},-4946,0,{"$f":"(R67/(1/(1+J67*(2-1))))*O67/LEFT(Inputs!$C$18,1)/5280","v":0},0,{"$f":"(T67/60)*((Inputs!$C$13*Calculations!R67*(1-Calculations!J67))+(Inputs!$C$14*Calculations!R67*Calculations!J67))","v":0},{"$f":"IF(R67>0,($J$5/60)*(((I67*$J$3/(1-$J$3))*(1-J67)*Inputs!$C$13)+((I67*$J$3/(1-$J$3))*J67*Inputs!$C$14)),0)","v":0},0,null,"2019-08-03T08:00:00","","",{"$f":"IF(AND(Z67<>\"\",AA67<>\"\"),MAX(INDIRECT(Z67):INDIRECT(AA67)),\"\")","v":""},"","",null,{"$f":"IF(G67=\"TRUE 1\",IF(E67=\"NT\",MROUND(Inputs!$C$32*$AF$3*(1/(1+M67*(2-1))),1),MROUND(Inputs!$C$30*$AF$3*(1/(1+M67*(2-1))),1)),\nIF(G67=\"TRUE 2\",IF(E67=\"NT\",MROUND(Inputs!$D$32*$AG$3*(1/(1+M67*(2-1))),1),MROUND(Inputs!$D$30*$AG$3*(1/(1+M67*(2-1))),1)),\nIF(G67=\"TRUE 3\",IF(E67=\"NT\",MROUND(Inputs!$E$32*$AH$3*(1/(1+M67*(2-1))),1),MROUND(Inputs!$E$30*$AH$3*(1/(1+M67*(2-1))),1)),\nIF(G67=\"TRUE 4\",IF(E67=\"NT\",MROUND(Inputs!$F$32*$AI$3*(1/(1+M67*(2-1))),1),MROUND(Inputs!$F$30*$AI$3*(1/(1+M67*(2-1))),1)),\nMROUND(Inputs!$C$15*(1/(1+M67*(2-1)))*($AF$3+$AF$4),1)))))","v":8727},-5849,0,{"$f":"(AH67/(1/(1+M67*(2-1))))*O67/LEFT(Inputs!$C$18,1)/5280","v":0},0,{"$f":"(AJ67/60)*((Inputs!$C$13*Calculations!AH67*(1-Calculations!M67))+(Inputs!$C$14*Calculations!AH67*Calculations!M67))","v":0},{"$f":"IF(AH67>0,($M$5/60)*(((L67*$M$3/(1-$M$3))*(1-M67)*Inputs!$C$13)+((L67*$M$3/(1-$M$3))*M67*Inputs!$C$14)),0)","v":0},0,null,"2019-08-03T08:00:00","","",{"$f":"IF(AND(AP67<>\"\",AQ67<>\"\"),MAX(INDIRECT(AP67):INDIRECT(AQ67)),\"\")","v":""},"",""]
["2019-08-03",7,"Saturday","09:00:00",{"$f":"INDEX(Lists!$M$3:$M$26,MATCH(Calculations!D68,Lists!$L$3:$L$26,0))","v":"MD"},153,{"$f":"IF(INDEX(Inputs!$H$86:$H$253,MATCH(F68,Inputs!$D$86:$D$253,0)),\"TRUE 4\",\nIF(INDEX(Inputs!$G$86:$G$253,MATCH(F68,Inputs!$D$86:$D$253,0)),\"TRUE 3\",\nIF(INDEX(Inputs!$F$86:$F$253,MATCH(F68,Inputs!$D$86:$D$253,0)),\"TRUE 2\",\nIF(INDEX(Inputs!$E$86:$E$253,MATCH(F68,Inputs!$D$86:$D$253,0)),\"TRUE 1\",\nFALSE))))","v":false},null,{"$f":"'Volume Import'!C59*'Volume Import'!$H$14*(1+'Volume Import'!$H$15)*(1-'Volume Import'!$H$16)","v":4645},{"$f":"IF(AND('Volume Import'!D59=0,'Volume Import'!C59=0),0,\nIF('Volume Import'!D59=0,INDEX('Volume Import'!$K$2:$Q$5,MATCH(E68,'Volume Import'!$R$2:$R$5,0),MATCH(C68,'Volume Import'!$K$1:$Q$1,0)),\n'Volume Import'!D59/'Volume Import'!C59))","v":0.1},null,{"$f":"'Volume Import'!E59*'Volume Import'!$I$14*(1+'Volume Import'!$I$15)*(1-'Volume Import'!$I$16)","v":3716},{"$f":"IF('Volume Import'!F59=0,J68,'Volume Import'!F59/'Volume Import'!E59)","v":0.1},null,{"$f":"IF(G68=\"TRUE 1\",IF(E68=\"NT\",Inputs!$C$35,Inputs!$C$34),\nIF(G68=\"TRUE 2\",IF(E68=\"NT\",Inputs!$D$35,Inputs!$D$34),\nIF(G68=\"TRUE 3\",IF(E68=\"NT\",Inputs!$E$35,Inputs!$E$34),\nIF(G68=\"TRUE 4\",IF(E68=\"NT\",Inputs!$F$35,Inputs!$F$34),\nO67))))","v":65.476687896673383},{"$f":"IF(G68=\"TRUE 1\",IF(E68=\"NT\",MROUND(Inputs!$C$32*$P$3*(1/(1+J68*(2-1))),1),MROUND(Inputs!$C$30*$P$3*(1/(1+J68*(2-1))),1)),\nIF(G68=\"TRUE 2\",IF(E68=\"NT\",MROUND(Inputs!$D$32*$Q$3*(1/(1+J68*(2-1))),1),MROUND(Inputs!$D$30*$Q$3*(1/(1+J68*(2-1))),1)),\nIF(G68=\"TRUE 3\",IF(E68=\"NT\",MROUND(Inputs!$E$32*$R$3*(1/(1+J68*(2-1))),1),MROUND(Inputs!$E$30*$R$3*(1/(1+J68*(2-1))),1)),\nIF(G68=\"TRUE 4\",IF(E68=\"NT\",MROUND(Inputs!$F$32*$S$3*(1/(1+J68*(2-1))),1),MROUND(Inputs!$F$30*$S$3*(1/(1+J68*(2-1))),1)),\nMROUND(Inputs!$C$15*(1/(1+J68*(2-1)))*($P$3+$P$4),1)))))","v":8727},-4082,0,{"$f":"(R68/(1/(1+J68*(2-1))))*O68/LEFT(Inputs!$C$18,1)/5280","v":0},0,{"$f":"(T68/60)*((Inputs!$C$13*Calculations!R68*(1-Calculations!J68))+(Inputs!$C$14*Calculations!R68*Calculations!J68))","v":0},{"$f":"IF(R68>0,($J$5/60)*(((I68*$J$3/(1-$J$3))*(1-J68)*Inputs!$C$13)+((I68*$J$3/(1-$J$3))*J68*Inputs!$C$14)),0)","v":0},0,null,"2019-08-03T09:00:00","","",{"$f":"IF(AND(Z68<>\"\",AA68<>\"\"),MAX(INDIRECT(Z68):INDIRECT(AA68)),\"\")","v":""},"","",null,{"$f":"IF(G68=\"TRUE 1\",IF(E68=\"NT\",MROUND(Inputs!$C$32*$AF$3*(1/(1+M68*(2-1))),1),MROUND(Inputs!$C$30*$AF$3*(1/(1+M68*(2-1))),1)),\nIF(G68=\"TRUE 2\",IF(E68=\"NT\",MROUND(Inputs!$D$32*$AG$3*(1/(1+M68*(2-1))),1),MROUND(Inputs!$D$30*$AG$3*(1/(1+M68*(2-1))),1)),\nIF(G68=\"TRUE 3\",IF(E68=\"NT\",MROUND(Inputs!$E$32*$AH$3*(1/(1+M68*(2-1))),1),MROUND(Inputs!$E$30*$AH$3*(1/(1+M68*(2-1))),1)),\nIF(G68=\"TRUE 4\",IF(E68=\"NT\",MROUND(Inputs!$F$32*$AI$3*(1/(1+M68*(2-1))),1),MROUND(Inputs!$F$30*$AI$3*(1/(1+M68*(2-1))),1)),\nMROUND(Inputs!$C$15*(1/(1+M68*(2-1)))*($AF$3+$AF$4),1)))))","v":8727},-5011,0,{"$f":"(AH68/(1/(1+M68*(2-1))))*O68/LEFT(Inputs!$C$18,1)/5280","v":0},0,{"$f":"(AJ68/60)*((Inputs!$C$13*Calculations!AH68*(1-Calculations!M68))+(Inputs!$C$14*Calculations!AH68*Calculations!M68))","v":0},{"$f":"IF(AH68>0,($M$5/60)*(((L68*$M$3/(1-$M$3))*(1-M68)*Inputs!$C$13)+((L68*$M$3/(1-$M$3))*M68*Inputs!$C$14)),0)","v":0},0,null,"2019-08-03T09:00:00","","",{"$f":"IF(AND(AP68<>\"\",AQ68<>\"\"),MAX(INDIRECT(AP68):INDIRECT(AQ68)),\"\")","v":""},"",""]
["2019-08-03",7,"Saturday","10:00:00",{"$f":"INDEX(Lists!$M$3:$M$26,MATCH(Calculations!D69,Lists!$L$3:$L$26,0))","v":"MD"},154,{"$f":"IF(INDEX(Inputs!$H$86:$H$253,MATCH(F69,Inputs!$D$86:$D$253,0)),\"TRUE 4\",\nIF(INDEX(Inputs!$G$86:$G$253,MATCH(F69,Inputs!$D$86:$D$253,0)),\"TRUE 3\",\nIF(INDEX(Inputs!$F$86:$F$253,MATCH(F69,Inputs!$D$86:$D$253,0)),\"TRUE 2\",\nIF(INDEX(Inputs!$E$86:$E$253,MATCH(F69,Inputs!$D$86:$D$253,0)),\"TRUE 1\",\nFALSE))))","v":false},null,{"$f":"'Volume Import'!C60*'Volume Import'!$H$14*(1+'Volume Import'!$H$15)*(1-'Volume Import'!$H$16)","v":5156},{"$f":"IF(AND('Volume Import'!D60=0,'Volume Import'!C60=0),0,\nIF('Volume Import'!D60=0,INDEX('Volume Import'!$K$2:$Q$5,MATCH(E69,'Volume Import'!$R$2:$R$5,0),MATCH(C69,'Volume Import'!$K$1:$Q$1,0)),\n'Volume Import'!D60/'Volume Import'!C60))","v":0.1},null,{"$f":"'Volume Import'!E60*'Volume Import'!$I$14*(1+'Volume Import'!$I$15)*(1-'Volume Import'!$I$16)","v":4380},{"$f":"IF('Volume Import'!F60=0,J69,'Volume Import'!F60/'Volume Import'!E60)","v":0.1},null,{"$f":"IF(G69=\"TRUE 1\",IF(E69=\"NT\",Inputs!$C$35,Inputs!$C$34),\nIF(G69=\"TRUE 2\",IF(E69=\"NT\",Inputs!$D$35,Inputs!$D$34),\nIF(G69=\"TRUE 3\",IF(E69=\"NT\",Inputs!$E$35,Inputs!$E$34),\nIF(G69=\"TRUE 4\",IF(E69=\"NT\",Inputs!$F$35,Inputs!$F$34),\nO68))))","v":65.476687896673383},{"$f":"IF(G69=\"TRUE 1\",IF(E69=\"NT\",MROUND(Inputs!$C$32*$P$3*(1/(1+J69*(2-1))),1),MROUND(Inputs!$C$30*$P$3*(1/(1+J69*(2-1))),1)),\nIF(G69=\"TRUE 2\",IF(E69=\"NT\",MROUND(Inputs!$D$32*$Q$3*(1/(1+J69*(2-1))),1),MROUND(Inputs!$D$30*$Q$3*(1/(1+J69*(2-1))),1)),\nIF(G69=\"TRUE 3\",IF(E69=\"NT\",MROUND(Inputs!$E$32*$R$3*(1/(1+J69*(2-1))),1),MROUND(Inputs!$E$30*$R$3*(1/(1+J69*(2-1))),1)),\nIF(G69=\"TRUE 4\",IF(E69=\"NT\",MROUND(Inputs!$F$32*$S$3*(1/(1+J69*(2-1))),1),MROUND(Inputs!$F$30*$S$3*(1/(1+J69*(2-1))),1)),\nMROUND(Inputs!$C$15*(1/(1+J69*(2-1)))*($P$3+$P$4),1)))))","v":8727},-3571,0,{"$f":"(R69/(1/(1+J69*(2-1))))*O69/LEFT(Inputs!$C$18,1)/5280","v":0},0,{"$f":"(T69/60)*((Inputs!$C$13*Calculations!R69*(1-Calculations!J69))+(Inputs!$C$14*Calculations!R69*Calculations!J69))","v":0},{"$f":"IF(R69>0,($J$5/60)*(((I69*$J$3/(1-$J$3))*(1-J69)*Inputs!$C$13)+((I69*$J$3/(1-$J$3))*J69*Inputs!$C$14)),0)","v":0},0,null,"2019-08-03T10:00:00","","",{"$f":"IF(AND(Z69<>\"\",AA69<>\"\"),MAX(INDIRECT(Z69):INDIRECT(AA69)),\"\")","v":""},"","",null,{"$f":"IF(G69=\"TRUE 1\",IF(E69=\"NT\",MROUND(Inputs!$C$32*$AF$3*(1/(1+M69*(2-1))),1),MROUND(Inputs!$C$30*$AF$3*(1/(1+M69*(2-1))),1)),\nIF(G69=\"TRUE 2\",IF(E69=\"NT\",MROUND(Inputs!$D$32*$AG$3*(1/(1+M69*(2-1))),1),MROUND(Inputs!$D$30*$AG$3*(1/(1+M69*(2-1))),1)),\nIF(G69=\"TRUE 3\",IF(E69=\"NT\",MROUND(Inputs!$E$32*$AH$3*(1/(1+M69*(2-1))),1),MROUND(Inputs!$E$30*$AH$3*(1/(1+M69*(2-1))),1)),\nIF(G69=\"TRUE 4\",IF(E69=\"NT\",MROUND(Inputs!$F$32*$AI$3*(1/(1+M69*(2-1))),1),MROUND(Inputs!$F$30*$AI$3*(1/(1+M69*(2-1))),1)),\nMROUND(Inputs!$C$15*(1/(1+M69*(2-1)))*($AF$3+$AF$4),1)))))","v":8727},-4347,0,{"$f":"(AH69/(1/(1+M69*(2-1))))*O69/LEFT(Inputs!$C$18,1)/5280","v":0},0,{"$f":"(AJ69/60)*((Inputs!$C$13*Calculations!AH69*(1-Calculations!M69))+(Inputs!$C$14*Calculations!AH69*Calculations!M69))","v":0},{"$f":"IF(AH69>0,($M$5/60)*(((L69*$M$3/(1-$M$3))*(1-M69)*Inputs!$C$13)+((L69*$M$3/(1-$M$3))*M69*Inputs!$C$14)),0)","v":0},0,null,"2019-08-03T10:00:00","","",{"$f":"IF(AND(AP69<>\"\",AQ69<>\"\"),MAX(INDIRECT(AP69):INDIRECT(AQ69)),\"\")","v":""},"",""]
["2019-08-03",7,"Saturday","11:00:00",{"$f":"INDEX(Lists!$M$3:$M$26,MATCH(Calculations!D70,Lists!$L$3:$L$26,0))","v":"MD"},155,{"$f":"IF(INDEX(Inputs!$H$86:$H$253,MATCH(F70,Inputs!$D$86:$D$253,0)),\"TRUE 4\",\nIF(INDEX(Inputs!$G$86:$G$253,MATCH(F70,Inputs!$D$86:$D$253,0)),\"TRUE 3\",\nIF(INDEX(Inputs!$F$86:$F$253,MATCH(F70,Inputs!$D$86:$D$253,0)),\"TRUE 2\",\nIF(INDEX(Inputs!$E$86:$E$253,MATCH(F70,Inputs!$D$86:$D$253,0)),\"TRUE 1\",\nFALSE))))","v":false},null,{"$f":"'Volume Import'!C61*'Volume Import'!$H$14*(1+'Volume Import'!$H$15)*(1-'Volume Import'!$H$16)","v":5199},{"$f":"IF(AND('Volume Import'!D61=0,'Volume Import'!C61=0),0,\nIF('Volume Import'!D61=0,INDEX('Volume Import'!$K$2:$Q$5,MATCH(E70,'Volume Import'!$R$2:$R$5,0),MATCH(C70,'Volume Import'!$K$1:$Q$1,0)),\n'Volume Import'!D61/'Volume Import'!C61))","v":0.1},null,{"$f":"'Volume Import'!E61*'Volume Import'!$I$14*(1+'Volume Import'!$I$15)*(1-'Volume Import'!$I$16)","v":4677},{"$f":"IF('Volume Import'!F61=0,J70,'Volume Import'!F61/'Volume Import'!E61)","v":0.1},null,{"$f":"IF(G70=\"TRUE 1\",IF(E70=\"NT\",Inputs!$C$35,Inputs!$C$34),\nIF(G70=\"TRUE 2\",IF(E70=\"NT\",Inputs!$D$35,Inputs!$D$34),\nIF(G70=\"TRUE 3\",IF(E70=\"NT\",Inputs!$E$35,Inputs!$E$34),\nIF(G70=\"TRUE 4\",IF(E70=\"NT\",Inputs!$F$35,Inputs!$F$34),\nO69))))","v":65.476687896673383},{"$f":"IF(G70=\"TRUE 1\",IF(E70=\"NT\",MROUND(Inputs!$C$32*$P$3*(1/(1+J70*(2-1))),1),MROUND(Inputs!$C$30*$P$3*(1/(1+J70*(2-1))),1)),\nIF(G70=\"TRUE 2\",IF(E70=\"NT\",MROUND(Inputs!$D$32*$Q$3*(1/(1+J70*(2-1))),1),MROUND(Inputs!$D$30*$Q$3*(1/(1+J70*(2-1))),1)),\nIF(G70=\"TRUE 3\",IF(E70=\"NT\",MROUND(Inputs!$E$32*$R$3*(1/(1+J70*(2-1))),1),MROUND(Inputs!$E$30*$R$3*(1/(1+J70*(2-1))),1)),\nIF(G70=\"TRUE 4\",IF(E70=\"NT\",MROUND(Inputs!$F$32*$S$3*(1/(1+J70*(2-1))),1),MROUND(Inputs!$F$30*$S$3*(1/(1+J70*(2-1))),1)),\nMROUND(Inputs!$C$15*(1/(1+J70*(2-1)))*($P$3+$P$4),1)))))","v":8727},-3528,0,{"$f":"(R70/(1/(1+J70*(2-1))))*O70/LEFT(Inputs!$C$18,1)/5280","v":0},0,{"$f":"(T70/60)*((Inputs!$C$13*Calculations!R70*(1-Calculations!J70))+(Inputs!$C$14*Calculations!R70*Calculations!J70))","v":0},{"$f":"IF(R70>0,($J$5/60)*(((I70*$J$3/(1-$J$3))*(1-J70)*Inputs!$C$13)+((I70*$J$3/(1-$J$3))*J70*Inputs!$C$14)),0)","v":0},0,null,"2019-08-03T11:00:00","","",{"$f":"IF(AND(Z70<>\"\",AA70<>\"\"),MAX(INDIRECT(Z70):INDIRECT(AA70)),\"\")","v":""},"","",null,{"$f":"IF(G70=\"TRUE 1\",IF(E70=\"NT\",MROUND(Inputs!$C$32*$AF$3*(1/(1+M70*(2-1))),1),MROUND(Inputs!$C$30*$AF$3*(1/(1+M70*(2-1))),1)),\nIF(G70=\"TRUE 2\",IF(E70=\"NT\",MROUND(Inputs!$D$32*$AG$3*(1/(1+M70*(2-1))),1),MROUND(Inputs!$D$30*$AG$3*(1/(1+M70*(2-1))),1)),\nIF(G70=\"TRUE 3\",IF(E70=\"NT\",MROUND(Inputs!$E$32*$AH$3*(1/(1+M70*(2-1))),1),MROUND(Inputs!$E$30*$AH$3*(1/(1+M70*(2-1))),1)),\nIF(G70=\"TRUE 4\",IF(E70=\"NT\",MROUND(Inputs!$F$32*$AI$3*(1/(1+M70*(2-1))),1),MROUND(Inputs!$F$30*$AI$3*(1/(1+M70*(2-1))),1)),\nMROUND(Inputs!$C$15*(1/(1+M70*(2-1)))*($AF$3+$AF$4),1)))))","v":8727},-4050,0,{"$f":"(AH70/(1/(1+M70*(2-1))))*O70/LEFT(Inputs!$C$18,1)/5280","v":0},0,{"$f":"(AJ70/60)*((Inputs!$C$13*Calculations!AH70*(1-Calculations!M70))+(Inputs!$C$14*Calculations!AH70*Calculations!M70))","v":0},{"$f":"IF(AH70>0,($M$5/60)*(((L70*$M$3/(1-$M$3))*(1-M70)*Inputs!$C$13)+((L70*$M$3/(1-$M$3))*M70*Inputs!$C$14)),0)","v":0},0,null,"2019-08-03T11:00:00","","",{"$f":"IF(AND(AP70<>\"\",AQ70<>\"\"),MAX(INDIRECT(AP70):INDIRECT(AQ70)),\"\")","v":""},"",""]
["2019-08-03",7,"Saturday","12:00:00",{"$f":"INDEX(Lists!$M$3:$M$26,MATCH(Calculations!D71,Lists!$L$3:$L$26,0))","v":"MD"},156,{"$f":"IF(INDEX(Inputs!$H$86:$H$253,MATCH(F71,Inputs!$D$86:$D$253,0)),\"TRUE 4\",\nIF(INDEX(Inputs!$G$86:$G$253,MATCH(F71,Inputs!$D$86:$D$253,0)),\"TRUE 3\",\nIF(INDEX(Inputs!$F$86:$F$253,MATCH(F71,Inputs!$D$86:$D$253,0)),\"TRUE 2\",\nIF(INDEX(Inputs!$E$86:$E$253,MATCH(F71,Inputs!$D$86:$D$253,0)),\"TRUE 1\",\nFALSE))))","v":false},null,{"$f":"'Volume Import'!C62*'Volume Import'!$H$14*(1+'Volume Import'!$H$15)*(1-'Volume Import'!$H$16)","v":5117},{"$f":"IF(AND('Volume Import'!D62=0,'Volume Import'!C62=0),0,\nIF('Volume Import'!D62=0,INDEX('Volume Import'!$K$2:$Q$5,MATCH(E71,'Volume Import'!$R$2:$R$5,0),MATCH(C71,'Volume Import'!$K$1:$Q$1,0)),\n'Volume Import'!D62/'Volume Import'!C62))","v":0.1},null,{"$f":"'Volume Import'!E62*'Volume Import'!$I$14*(1+'Volume Import'!$I$15)*(1-'Volume Import'!$I$16)","v":4956},{"$f":"IF('Volume Import'!F62=0,J71,'Volume Import'!F62/'Volume Import'!E62)","v":0.1},null,{"$f":"IF(G71=\"TRUE 1\",IF(E71=\"NT\",Inputs!$C$35,Inputs!$C$34),\nIF(G71=\"TRUE 2\",IF(E71=\"NT\",Inputs!$D$35,Inputs!$D$34),\nIF(G71=\"TRUE 3\",IF(E71=\"NT\",Inputs!$E$35,Inputs!$E$34),\nIF(G71=\"TRUE 4\",IF(E71=\"NT\",Inputs!$F$35,Inputs!$F$34),\nO70))))","v":65.476687896673383},{"$f":"IF(G71=\"TRUE 1\",IF(E71=\"NT\",MROUND(Inputs!$C$32*$P$3*(1/(1+J71*(2-1))),1),MROUND(Inputs!$C$30*$P$3*(1/(1+J71*(2-1))),1)),\nIF(G71=\"TRUE 2\",IF(E71=\"NT\",MROUND(Inputs!$D$32*$Q$3*(1/(1+J71*(2-1))),1),MROUND(Inputs!$D$30*$Q$3*(1/(1+J71*(2-1))),1)),\nIF(G71=\"TRUE 3\",IF(E71=\"NT\",MROUND(Inputs!$E$32*$R$3*(1/(1+J71*(2-1))),1),MROUND(Inputs!$E$30*$R$3*(1/(1+J71*(2-1))),1)),\nIF(G71=\"TRUE 4\",IF(E71=\"NT\",MROUND(Inputs!$F$32*$S$3*(1/(1+J71*(2-1))),1),MROUND(Inputs!$F$30*$S$3*(1/(1+J71*(2-1))),1)),\nMROUND(Inputs!$C$15*(1/(1+J71*(2-1)))*($P$3+$P$4),1)))))","v":8727},-3610,0,{"$f":"(R71/(1/(1+J71*(2-1))))*O71/LEFT(Inputs!$C$18,1)/5280","v":0},0,{"$f":"(T71/60)*((Inputs!$C$13*Calculations!R71*(1-Calculations!J71))+(Inputs!$C$14*Calculations!R71*Calculations!J71))","v":0},{"$f":"IF(R71>0,($J$5/60)*(((I71*$J$3/(1-$J$3))*(1-J71)*Inputs!$C$13)+((I71*$J$3/(1-$J$3))*J71*Inputs!$C$14)),0)","v":0},0,null,"2019-08-03T12:00:00","","",{"$f":"IF(AND(Z71<>\"\",AA71<>\"\"),MAX(INDIRECT(Z71):INDIRECT(AA71)),\"\")","v":""},"","",null,{"$f":"IF(G71=\"TRUE 1\",IF(E71=\"NT\",MROUND(Inputs!$C$32*$AF$3*(1/(1+M71*(2-1))),1),MROUND(Inputs!$C$30*$AF$3*(1/(1+M71*(2-1))),1)),\nIF(G71=\"TRUE 2\",IF(E71=\"NT\",MROUND(Inputs!$D$32*$AG$3*(1/(1+M71*(2-1))),1),MROUND(Inputs!$D$30*$AG$3*(1/(1+M71*(2-1))),1)),\nIF(G71=\"TRUE 3\",IF(E71=\"NT\",MROUND(Inputs!$E$32*$AH$3*(1/(1+M71*(2-1))),1),MROUND(Inputs!$E$30*$AH$3*(1/(1+M71*(2-1))),1)),\nIF(G71=\"TRUE 4\",IF(E71=\"NT\",MROUND(Inputs!$F$32*$AI$3*(1/(1+M71*(2-1))),1),MROUND(Inputs!$F$30*$AI$3*(1/(1+M71*(2-1))),1)),\nMROUND(Inputs!$C$15*(1/(1+M71*(2-1)))*($AF$3+$AF$4),1)))))","v":8727},-3771,0,{"$f":"(AH71/(1/(1+M71*(2-1))))*O71/LEFT(Inputs!$C$18,1)/5280","v":0},0,{"$f":"(AJ71/60)*((Inputs!$C$13*Calculations!AH71*(1-Calculations!M71))+(Inputs!$C$14*Calculations!AH71*Calculations!M71))","v":0},{"$f":"IF(AH71>0,($M$5/60)*(((L71*$M$3/(1-$M$3))*(1-M71)*Inputs!$C$13)+((L71*$M$3/(1-$M$3))*M71*Inputs!$C$14)),0)","v":0},0,null,"2019-08-03T12:00:00","","",{"$f":"IF(AND(AP71<>\"\",AQ71<>\"\"),MAX(INDIRECT(AP71):INDIRECT(AQ71)),\"\")","v":""},"",""]
["2019-08-03",7,"Saturday","13:00:00",{"$f":"INDEX(Lists!$M$3:$M$26,MATCH(Calculations!D72,Lists!$L$3:$L$26,0))","v":"MD"},157,{"$f":"IF(INDEX(Inputs!$H$86:$H$253,MATCH(F72,Inputs!$D$86:$D$253,0)),\"TRUE 4\",\nIF(INDEX(Inputs!$G$86:$G$253,MATCH(F72,Inputs!$D$86:$D$253,0)),\"TRUE 3\",\nIF(INDEX(Inputs!$F$86:$F$253,MATCH(F72,Inputs!$D$86:$D$253,0)),\"TRUE 2\",\nIF(INDEX(Inputs!$E$86:$E$253,MATCH(F72,Inputs!$D$86:$D$253,0)),\"TRUE 1\",\nFALSE))))","v":false},null,{"$f":"'Volume Import'!C63*'Volume Import'!$H$14*(1+'Volume Import'!$H$15)*(1-'Volume Import'!$H$16)","v":4780},{"$f":"IF(AND('Volume Import'!D63=0,'Volume Import'!C63=0),0,\nIF('Volume Import'!D63=0,INDEX('Volume Import'!$K$2:$Q$5,MATCH(E72,'Volume Import'!$R$2:$R$5,0),MATCH(C72,'Volume Import'!$K$1:$Q$1,0)),\n'Volume Import'!D63/'Volume Import'!C63))","v":0.1},null,{"$f":"'Volume Import'!E63*'Volume Import'!$I$14*(1+'Volume Import'!$I$15)*(1-'Volume Import'!$I$16)","v":4902},{"$f":"IF('Volume Import'!F63=0,J72,'Volume Import'!F63/'Volume Import'!E63)","v":0.1},null,{"$f":"IF(G72=\"TRUE 1\",IF(E72=\"NT\",Inputs!$C$35,Inputs!$C$34),\nIF(G72=\"TRUE 2\",IF(E72=\"NT\",Inputs!$D$35,Inputs!$D$34),\nIF(G72=\"TRUE 3\",IF(E72=\"NT\",Inputs!$E$35,Inputs!$E$34),\nIF(G72=\"TRUE 4\",IF(E72=\"NT\",Inputs!$F$35,Inputs!$F$34),\nO71))))","v":65.476687896673383},{"$f":"IF(G72=\"TRUE 1\",IF(E72=\"NT\",MROUND(Inputs!$C$32*$P$3*(1/(1+J72*(2-1))),1),MROUND(Inputs!$C$30*$P$3*(1/(1+J72*(2-1))),1)),\nIF(G72=\"TRUE 2\",IF(E72=\"NT\",MROUND(Inputs!$D$32*$Q$3*(1/(1+J72*(2-1))),1),MROUND(Inputs!$D$30*$Q$3*(1/(1+J72*(2-1))),1)),\nIF(G72=\"TRUE 3\",IF(E72=\"NT\",MROUND(Inputs!$E$32*$R$3*(1/(1+J72*(2-1))),1),MROUND(Inputs!$E$30*$R$3*(1/(1+J72*(2-1))),1)),\nIF(G72=\"TRUE 4\",IF(E72=\"NT\",MROUND(Inputs!$F$32*$S$3*(1/(1+J72*(2-1))),1),MROUND(Inputs!$F$30*$S$3*(1/(1+J72*(2-1))),1)),\nMROUND(Inputs!$C$15*(1/(1+J72*(2-1)))*($P$3+$P$4),1)))))","v":8727},-3947,0,{"$f":"(R72/(1/(1+J72*(2-1))))*O72/LEFT(Inputs!$C$18,1)/5280","v":0},0,{"$f":"(T72/60)*((Inputs!$C$13*Calculations!R72*(1-Calculations!J72))+(Inputs!$C$14*Calculations!R72*Calculations!J72))","v":0},{"$f":"IF(R72>0,($J$5/60)*(((I72*$J$3/(1-$J$3))*(1-J72)*Inputs!$C$13)+((I72*$J$3/(1-$J$3))*J72*Inputs!$C$14)),0)","v":0},0,null,"2019-08-03T13:00:00","","",{"$f":"IF(AND(Z72<>\"\",AA72<>\"\"),MAX(INDIRECT(Z72):INDIRECT(AA72)),\"\")","v":""},"","",null,{"$f":"IF(G72=\"TRUE 1\",IF(E72=\"NT\",MROUND(Inputs!$C$32*$AF$3*(1/(1+M72*(2-1))),1),MROUND(Inputs!$C$30*$AF$3*(1/(1+M72*(2-1))),1)),\nIF(G72=\"TRUE 2\",IF(E72=\"NT\",MROUND(Inputs!$D$32*$AG$3*(1/(1+M72*(2-1))),1),MROUND(Inputs!$D$30*$AG$3*(1/(1+M72*(2-1))),1)),\nIF(G72=\"TRUE 3\",IF(E72=\"NT\",MROUND(Inputs!$E$32*$AH$3*(1/(1+M72*(2-1))),1),MROUND(Inputs!$E$30*$AH$3*(1/(1+M72*(2-1))),1)),\nIF(G72=\"TRUE 4\",IF(E72=\"NT\",MROUND(Inputs!$F$32*$AI$3*(1/(1+M72*(2-1))),1),MROUND(Inputs!$F$30*$AI$3*(1/(1+M72*(2-1))),1)),\nMROUND(Inputs!$C$15*(1/(1+M72*(2-1)))*($AF$3+$AF$4),1)))))","v":8727},-3825,0,{"$f":"(AH72/(1/(1+M72*(2-1))))*O72/LEFT(Inputs!$C$18,1)/5280","v":0},0,{"$f":"(AJ72/60)*((Inputs!$C$13*Calculations!AH72*(1-Calculations!M72))+(Inputs!$C$14*Calculations!AH72*Calculations!M72))","v":0},{"$f":"IF(AH72>0,($M$5/60)*(((L72*$M$3/(1-$M$3))*(1-M72)*Inputs!$C$13)+((L72*$M$3/(1-$M$3))*M72*Inputs!$C$14)),0)","v":0},0,null,"2019-08-03T13:00:00","","",{"$f":"IF(AND(AP72<>\"\",AQ72<>\"\"),MAX(INDIRECT(AP72):INDIRECT(AQ72)),\"\")","v":""},"",""]
["2019-08-03",7,"Saturday","14:00:00",{"$f":"INDEX(Lists!$M$3:$M$26,MATCH(Calculations!D73,Lists!$L$3:$L$26,0))","v":"MD"},158,{"$f":"IF(INDEX(Inputs!$H$86:$H$253,MATCH(F73,Inputs!$D$86:$D$253,0)),\"TRUE 4\",\nIF(INDEX(Inputs!$G$86:$G$253,MATCH(F73,Inputs!$D$86:$D$253,0)),\"TRUE 3\",\nIF(INDEX(Inputs!$F$86:$F$253,MATCH(F73,Inputs!$D$86:$D$253,0)),\"TRUE 2\",\nIF(INDEX(Inputs!$E$86:$E$253,MATCH(F73,Inputs!$D$86:$D$253,0)),\"TRUE 1\",\nFALSE))))","v":false},null,{"$f":"'Volume Import'!C64*'Volume Import'!$H$14*(1+'Volume Import'!$H$15)*(1-'Volume Import'!$H$16)","v":4907},{"$f":"IF(AND('Volume Import'!D64=0,'Volume Import'!C64=0),0,\nIF('Volume Import'!D64=0,INDEX('Volume Import'!$K$2:$Q$5,MATCH(E73,'Volume Import'!$R$2:$R$5,0),MATCH(C73,'Volume Import'!$K$1:$Q$1,0)),\n'Volume Import'!D64/'Volume Import'!C64))","v":0.1},null,{"$f":"'Volume Import'!E64*'Volume Import'!$I$14*(1+'Volume Import'!$I$15)*(1-'Volume Import'!$I$16)","v":5023},{"$f":"IF('Volume Import'!F64=0,J73,'Volume Import'!F64/'Volume Import'!E64)","v":0.1},null,{"$f":"IF(G73=\"TRUE 1\",IF(E73=\"NT\",Inputs!$C$35,Inputs!$C$34),\nIF(G73=\"TRUE 2\",IF(E73=\"NT\",Inputs!$D$35,Inputs!$D$34),\nIF(G73=\"TRUE 3\",IF(E73=\"NT\",Inputs!$E$35,Inputs!$E$34),\nIF(G73=\"TRUE 4\",IF(E73=\"NT\",Inputs!$F$35,Inputs!$F$34),\nO72))))","v":65.476687896673383},{"$f":"IF(G73=\"TRUE 1\",IF(E73=\"NT\",MROUND(Inputs!$C$32*$P$3*(1/(1+J73*(2-1))),1),MROUND(Inputs!$C$30*$P$3*(1/(1+J73*(2-1))),1)),\nIF(G73=\"TRUE 2\",IF(E73=\"NT\",MROUND(Inputs!$D$32*$Q$3*(1/(1+J73*(2-1))),1),MROUND(Inputs!$D$30*$Q$3*(1/(1+J73*(2-1))),1)),\nIF(G73=\"TRUE 3\",IF(E73=\"NT\",MROUND(Inputs!$E$32*$R$3*(1/(1+J73*(2-1))),1),MROUND(Inputs!$E$30*$R$3*(1/(1+J73*(2-1))),1)),\nIF(G73=\"TRUE 4\",IF(E73=\"NT\",MROUND(Inputs!$F$32*$S$3*(1/(1+J73*(2-1))),1),MROUND(Inputs!$F$30*$S$3*(1/(1+J73*(2-1))),1)),\nMROUND(Inputs!$C$15*(1/(1+J73*(2-1)))*($P$3+$P$4),1)))))","v":8727},-3820,0,{"$f":"(R73/(1/(1+J73*(2-1))))*O73/LEFT(Inputs!$C$18,1)/5280","v":0},0,{"$f":"(T73/60)*((Inputs!$C$13*Calculations!R73*(1-Calculations!J73))+(Inputs!$C$14*Calculations!R73*Calculations!J73))","v":0},{"$f":"IF(R73>0,($J$5/60)*(((I73*$J$3/(1-$J$3))*(1-J73)*Inputs!$C$13)+((I73*$J$3/(1-$J$3))*J73*Inputs!$C$14)),0)","v":0},0,null,"2019-08-03T14:00:00","","",{"$f":"IF(AND(Z73<>\"\",AA73<>\"\"),MAX(INDIRECT(Z73):INDIRECT(AA73)),\"\")","v":""},"","",null,{"$f":"IF(G73=\"TRUE 1\",IF(E73=\"NT\",MROUND(Inputs!$C$32*$AF$3*(1/(1+M73*(2-1))),1),MROUND(Inputs!$C$30*$AF$3*(1/(1+M73*(2-1))),1)),\nIF(G73=\"TRUE 2\",IF(E73=\"NT\",MROUND(Inputs!$D$32*$AG$3*(1/(1+M73*(2-1))),1),MROUND(Inputs!$D$30*$AG$3*(1/(1+M73*(2-1))),1)),\nIF(G73=\"TRUE 3\",IF(E73=\"NT\",MROUND(Inputs!$E$32*$AH$3*(1/(1+M73*(2-1))),1),MROUND(Inputs!$E$30*$AH$3*(1/(1+M73*(2-1))),1)),\nIF(G73=\"TRUE 4\",IF(E73=\"NT\",MROUND(Inputs!$F$32*$AI$3*(1/(1+M73*(2-1))),1),MROUND(Inputs!$F$30*$AI$3*(1/(1+M73*(2-1))),1)),\nMROUND(Inputs!$C$15*(1/(1+M73*(2-1)))*($AF$3+$AF$4),1)))))","v":8727},-3704,0,{"$f":"(AH73/(1/(1+M73*(2-1))))*O73/LEFT(Inputs!$C$18,1)/5280","v":0},0,{"$f":"(AJ73/60)*((Inputs!$C$13*Calculations!AH73*(1-Calculations!M73))+(Inputs!$C$14*Calculations!AH73*Calculations!M73))","v":0},{"$f":"IF(AH73>0,($M$5/60)*(((L73*$M$3/(1-$M$3))*(1-M73)*Inputs!$C$13)+((L73*$M$3/(1-$M$3))*M73*Inputs!$C$14)),0)","v":0},0,null,"2019-08-03T14:00:00","","",{"$f":"IF(AND(AP73<>\"\",AQ73<>\"\"),MAX(INDIRECT(AP73):INDIRECT(AQ73)),\"\")","v":""},"",""]
["2019-08-03",7,"Saturday","15:00:00",{"$f":"INDEX(Lists!$M$3:$M$26,MATCH(Calculations!D74,Lists!$L$3:$L$26,0))","v":"PM"},159,{"$f":"IF(INDEX(Inputs!$H$86:$H$253,MATCH(F74,Inputs!$D$86:$D$253,0)),\"TRUE 4\",\nIF(INDEX(Inputs!$G$86:$G$253,MATCH(F74,Inputs!$D$86:$D$253,0)),\"TRUE 3\",\nIF(INDEX(Inputs!$F$86:$F$253,MATCH(F74,Inputs!$D$86:$D$253,0)),\"TRUE 2\",\nIF(INDEX(Inputs!$E$86:$E$253,MATCH(F74,Inputs!$D$86:$D$253,0)),\"TRUE 1\",\nFALSE))))","v":false},null,{"$f":"'Volume Import'!C65*'Volume Import'!$H$14*(1+'Volume Import'!$H$15)*(1-'Volume Import'!$H$16)","v":4841},{"$f":"IF(AND('Volume Import'!D65=0,'Volume Import'!C65=0),0,\nIF('Volume Import'!D65=0,INDEX('Volume Import'!$K$2:$Q$5,MATCH(E74,'Volume Import'!$R$2:$R$5,0),MATCH(C74,'Volume Import'!$K$1:$Q$1,0)),\n'Volume Import'!D65/'Volume Import'!C65))","v":0.1},null,{"$f":"'Volume Import'!E65*'Volume Import'!$I$14*(1+'Volume Import'!$I$15)*(1-'Volume Import'!$I$16)","v":4964},{"$f":"IF('Volume Import'!F65=0,J74,'Volume Import'!F65/'Volume Import'!E65)","v":0.1},null,{"$f":"IF(G74=\"TRUE 1\",IF(E74=\"NT\",Inputs!$C$35,Inputs!$C$34),\nIF(G74=\"TRUE 2\",IF(E74=\"NT\",Inputs!$D$35,Inputs!$D$34),\nIF(G74=\"TRUE 3\",IF(E74=\"NT\",Inputs!$E$35,Inputs!$E$34),\nIF(G74=\"TRUE 4\",IF(E74=\"NT\",Inputs!$F$35,Inputs!$F$34),\nO73))))","v":65.476687896673383},{"$f":"IF(G74=\"TRUE 1\",IF(E74=\"NT\",MROUND(Inputs!$C$32*$P$3*(1/(1+J74*(2-1))),1),MROUND(Inputs!$C$30*$P$3*(1/(1+J74*(2-1))),1)),\nIF(G74=\"TRUE 2\",IF(E74=\"NT\",MROUND(Inputs!$D$32*$Q$3*(1/(1+J74*(2-1))),1),MROUND(Inputs!$D$30*$Q$3*(1/(1+J74*(2-1))),1)),\nIF(G74=\"TRUE 3\",IF(E74=\"NT\",MROUND(Inputs!$E$32*$R$3*(1/(1+J74*(2-1))),1),MROUND(Inputs!$E$30*$R$3*(1/(1+J74*(2-1))),1)),\nIF(G74=\"TRUE 4\",IF(E74=\"NT\",MROUND(Inputs!$F$32*$S$3*(1/(1+J74*(2-1))),1),MROUND(Inputs!$F$30*$S$3*(1/(1+J74*(2-1))),1)),\nMROUND(Inputs!$C$15*(1/(1+J74*(2-1)))*($P$3+$P$4),1)))))","v":8727},-3886,0,{"$f":"(R74/(1/(1+J74*(2-1))))*O74/LEFT(Inputs!$C$18,1)/5280","v":0},0,{"$f":"(T74/60)*((Inputs!$C$13*Calculations!R74*(1-Calculations!J74))+(Inputs!$C$14*Calculations!R74*Calculations!J74))","v":0},{"$f":"IF(R74>0,($J$5/60)*(((I74*$J$3/(1-$J$3))*(1-J74)*Inputs!$C$13)+((I74*$J$3/(1-$J$3))*J74*Inputs!$C$14)),0)","v":0},0,null,"2019-08-03T15:00:00","","",{"$f":"IF(AND(Z74<>\"\",AA74<>\"\"),MAX(INDIRECT(Z74):INDIRECT(AA74)),\"\")","v":""},"","",null,{"$f":"IF(G74=\"TRUE 1\",IF(E74=\"NT\",MROUND(Inputs!$C$32*$AF$3*(1/(1+M74*(2-1))),1),MROUND(Inputs!$C$30*$AF$3*(1/(1+M74*(2-1))),1)),\nIF(G74=\"TRUE 2\",IF(E74=\"NT\",MROUND(Inputs!$D$32*$AG$3*(1/(1+M74*(2-1))),1),MROUND(Inputs!$D$30*$AG$3*(1/(1+M74*(2-1))),1)),\nIF(G74=\"TRUE 3\",IF(E74=\"NT\",MROUND(Inputs!$E$32*$AH$3*(1/(1+M74*(2-1))),1),MROUND(Inputs!$E$30*$AH$3*(1/(1+M74*(2-1))),1)),\nIF(G74=\"TRUE 4\",IF(E74=\"NT\",MROUND(Inputs!$F$32*$AI$3*(1/(1+M74*(2-1))),1),MROUND(Inputs!$F$30*$AI$3*(1/(1+M74*(2-1))),1)),\nMROUND(Inputs!$C$15*(1/(1+M74*(2-1)))*($AF$3+$AF$4),1)))))","v":8727},-3763,0,{"$f":"(AH74/(1/(1+M74*(2-1))))*O74/LEFT(Inputs!$C$18,1)/5280","v":0},0,{"$f":"(AJ74/60)*((Inputs!$C$13*Calculations!AH74*(1-Calculations!M74))+(Inputs!$C$14*Calculations!AH74*Calculations!M74))","v":0},{"$f":"IF(AH74>0,($M$5/60)*(((L74*$M$3/(1-$M$3))*(1-M74)*Inputs!$C$13)+((L74*$M$3/(1-$M$3))*M74*Inputs!$C$14)),0)","v":0},0,null,"2019-08-03T15:00:00","","",{"$f":"IF(AND(AP74<>\"\",AQ74<>\"\"),MAX(INDIRECT(AP74):INDIRECT(AQ74)),\"\")","v":""},"",""]
["2019-08-03",7,"Saturday","16:00:00",{"$f":"INDEX(Lists!$M$3:$M$26,MATCH(Calculations!D75,Lists!$L$3:$L$26,0))","v":"PM"},160,{"$f":"IF(INDEX(Inputs!$H$86:$H$253,MATCH(F75,Inputs!$D$86:$D$253,0)),\"TRUE 4\",\nIF(INDEX(Inputs!$G$86:$G$253,MATCH(F75,Inputs!$D$86:$D$253,0)),\"TRUE 3\",\nIF(INDEX(Inputs!$F$86:$F$253,MATCH(F75,Inputs!$D$86:$D$253,0)),\"TRUE 2\",\nIF(INDEX(Inputs!$E$86:$E$253,MATCH(F75,Inputs!$D$86:$D$253,0)),\"TRUE 1\",\nFALSE))))","v":false},null,{"$f":"'Volume Import'!C66*'Volume Import'!$H$14*(1+'Volume Import'!$H$15)*(1-'Volume Import'!$H$16)","v":4656},{"$f":"IF(AND('Volume Import'!D66=0,'Volume Import'!C66=0),0,\nIF('Volume Import'!D66=0,INDEX('Volume Import'!$K$2:$Q$5,MATCH(E75,'Volume Import'!$R$2:$R$5,0),MATCH(C75,'Volume Import'!$K$1:$Q$1,0)),\n'Volume Import'!D66/'Volume Import'!C66))","v":0.1},null,{"$f":"'Volume Import'!E66*'Volume Import'!$I$14*(1+'Volume Import'!$I$15)*(1-'Volume Import'!$I$16)","v":4670},{"$f":"IF('Volume Import'!F66=0,J75,'Volume Import'!F66/'Volume Import'!E66)","v":0.1},null,{"$f":"IF(G75=\"TRUE 1\",IF(E75=\"NT\",Inputs!$C$35,Inputs!$C$34),\nIF(G75=\"TRUE 2\",IF(E75=\"NT\",Inputs!$D$35,Inputs!$D$34),\nIF(G75=\"TRUE 3\",IF(E75=\"NT\",Inputs!$E$35,Inputs!$E$34),\nIF(G75=\"TRUE 4\",IF(E75=\"NT\",Inputs!$F$35,Inputs!$F$34),\nO74))))","v":65.476687896673383},{"$f":"IF(G75=\"TRUE 1\",IF(E75=\"NT\",MROUND(Inputs!$C$32*$P$3*(1/(1+J75*(2-1))),1),MROUND(Inputs!$C$30*$P$3*(1/(1+J75*(2-1))),1)),\nIF(G75=\"TRUE 2\",IF(E75=\"NT\",MROUND(Inputs!$D$32*$Q$3*(1/(1+J75*(2-1))),1),MROUND(Inputs!$D$30*$Q$3*(1/(1+J75*(2-1))),1)),\nIF(G75=\"TRUE 3\",IF(E75=\"NT\",MROUND(Inputs!$E$32*$R$3*(1/(1+J75*(2-1))),1),MROUND(Inputs!$E$30*$R$3*(1/(1+J75*(2-1))),1)),\nIF(G75=\"TRUE 4\",IF(E75=\"NT\",MROUND(Inputs!$F$32*$S$3*(1/(1+J75*(2-1))),1),MROUND(Inputs!$F$30*$S$3*(1/(1+J75*(2-1))),1)),\nMROUND(Inputs!$C$15*(1/(1+J75*(2-1)))*($P$3+$P$4),1)))))","v":8727},-4071,0,{"$f":"(R75/(1/(1+J75*(2-1))))*O75/LEFT(Inputs!$C$18,1)/5280","v":0},0,{"$f":"(T75/60)*((Inputs!$C$13*Calculations!R75*(1-Calculations!J75))+(Inputs!$C$14*Calculations!R75*Calculations!J75))","v":0},{"$f":"IF(R75>0,($J$5/60)*(((I75*$J$3/(1-$J$3))*(1-J75)*Inputs!$C$13)+((I75*$J$3/(1-$J$3))*J75*Inputs!$C$14)),0)","v":0},0,null,"2019-08-03T16:00:00","","",{"$f":"IF(AND(Z75<>\"\",AA75<>\"\"),MAX(INDIRECT(Z75):INDIRECT(AA75)),\"\")","v":""},"",{"$f":"IF(AND(S75>0,S76=0),$Y75,IF(AND(S75>0,S76>0),\"Q\",\"\"))","v":""},null,{"$f":"IF(G75=\"TRUE 1\",IF(E75=\"NT\",MROUND(Inputs!$C$32*$AF$3*(1/(1+M75*(2-1))),1),MROUND(Inputs!$C$30*$AF$3*(1/(1+M75*(2-1))),1)),\nIF(G75=\"TRUE 2\",IF(E75=\"NT\",MROUND(Inputs!$D$32*$AG$3*(1/(1+M75*(2-1))),1),MROUND(Inputs!$D$30*$AG$3*(1/(1+M75*(2-1))),1)),\nIF(G75=\"TRUE 3\",IF(E75=\"NT\",MROUND(Inputs!$E$32*$AH$3*(1/(1+M75*(2-1))),1),MROUND(Inputs!$E$30*$AH$3*(1/(1+M75*(2-1))),1)),\nIF(G75=\"TRUE 4\",IF(E75=\"NT\",MROUND(Inputs!$F$32*$AI$3*(1/(1+M75*(2-1))),1),MROUND(Inputs!$F$30*$AI$3*(1/(1+M75*(2-1))),1)),\nMROUND(Inputs!$C$15*(1/(1+M75*(2-1)))*($AF$3+$AF$4),1)))))","v":8727},-4057,0,{"$f":"(AH75/(1/(1+M75*(2-1))))*O75/LEFT(Inputs!$C$18,1)/5280","v":0},0,{"$f":"(AJ75/60)*((Inputs!$C$13*Calculations!AH75*(1-Calculations!M75))+(Inputs!$C$14*Calculations!AH75*Calculations!M75))","v":0},{"$f":"IF(AH75>0,($M$5/60)*(((L75*$M$3/(1-$M$3))*(1-M75)*Inputs!$C$13)+((L75*$M$3/(1-$M$3))*M75*Inputs!$C$14)),0)","v":0},0,null,"2019-08-03T16:00:00","","",{"$f":"IF(AND(AP75<>\"\",AQ75<>\"\"),MAX(INDIRECT(AP75):INDIRECT(AQ75)),\"\")","v":""},"",{"$f":"IF(AND(AI75>0,AI76=0),$Y75,IF(AND(AI75>0,AI76>0),\"Q\",\"\"))","v":""}]
["2019-08-03",{"$f":"WEEKDAY(A76)","v":7},{"$f":"CHOOSE(WEEKDAY(A76),\"Sunday\",\"Monday\",\"Tuesday\",\"Wednesday\",\"Thursday\",\"Friday\",\"Saturday\")","v":"Saturday"},"17:00:00",{"$f":"INDEX(Lists!$M$3:$M$26,MATCH(Calculations!D76,Lists!$L$3:$L$26,0))","v":"PM"},{"$f":"HOUR(D76)+(B76*24-24)","v":161},{"$f":"IF(INDEX(Inputs!$H$86:$H$253,MATCH(F76,Inputs!$D$86:$D$253,0)),\"TRUE 4\",\nIF(INDEX(Inputs!$G$86:$G$253,MATCH(F76,Inputs!$D$86:$D$253,0)),\"TRUE 3\",\nIF(INDEX(Inputs!$F$86:$F$253,MATCH(F76,Inputs!$D$86:$D$253,0)),\"TRUE 2\",\nIF(INDEX(Inputs!$E$86:$E$253,MATCH(F76,Inputs!$D$86:$D$253,0)),\"TRUE 1\",\nFALSE))))","v":false},null,{"$f":"'Volume Import'!C67*'Volume Import'!$H$14*(1+'Volume Import'!$H$15)*(1-'Volume Import'!$H$16)","v":4166},{"$f":"IF(AND('Volume Import'!D67=0,'Volume Import'!C67=0),0,\nIF('Volume Import'!D67=0,INDEX('Volume Import'!$K$2:$Q$5,MATCH(E76,'Volume Import'!$R$2:$R$5,0),MATCH(C76,'Volume Import'!$K$1:$Q$1,0)),\n'Volume Import'!D67/'Volume Import'!C67))","v":0.1},null,{"$f":"'Volume Import'!E67*'Volume Import'!$I$14*(1+'Volume Import'!$I$15)*(1-'Volume Import'!$I$16)","v":4255},{"$f":"IF('Volume Import'!F67=0,J76,'Volume Import'!F67/'Volume Import'!E67)","v":0.1},null,{"$f":"IF(G76=\"TRUE 1\",IF(E76=\"NT\",Inputs!$C$35,Inputs!$C$34),\nIF(G76=\"TRUE 2\",IF(E76=\"NT\",Inputs!$D$35,Inputs!$D$34),\nIF(G76=\"TRUE 3\",IF(E76=\"NT\",Inputs!$E$35,Inputs!$E$34),\nIF(G76=\"TRUE 4\",IF(E76=\"NT\",Inputs!$F$35,Inputs!$F$34),\nO75))))","v":65.476687896673383},{"$f":"IF(G76=\"TRUE 1\",IF(E76=\"NT\",MROUND(Inputs!$C$32*$P$3*(1/(1+J76*(2-1))),1),MROUND(Inputs!$C$30*$P$3*(1/(1+J76*(2-1))),1)),\nIF(G76=\"TRUE 2\",IF(E76=\"NT\",MROUND(Inputs!$D$32*$Q$3*(1/(1+J76*(2-1))),1),MROUND(Inputs!$D$30*$Q$3*(1/(1+J76*(2-1))),1)),\nIF(G76=\"TRUE 3\",IF(E76=\"NT\",MROUND(Inputs!$E$32*$R$3*(1/(1+J76*(2-1))),1),MROUND(Inputs!$E$30*$R$3*(1/(1+J76*(2-1))),1)),\nIF(G76=\"TRUE 4\",IF(E76=\"NT\",MROUND(Inputs!$F$32*$S$3*(1/(1+J76*(2-1))),1),MROUND(Inputs!$F$30*$S$3*(1/(1+J76*(2-1))),1)),\nMROUND(Inputs!$C$15*(1/(1+J76*(2-1)))*($P$3+$P$4),1)))))","v":8727},{"$f":"I76-P76","v":-4561},0,{"$f":"(R76/(1/(1+J76*(2-1))))*O76/LEFT(Inputs!$C$18,1)/5280","v":0},{"$f":"R76/P76*60","v":0},{"$f":"(T76/60)*((Inputs!$C$13*Calculations!R76*(1-Calculations!J76))+(Inputs!$C$14*Calculations!R76*Calculations!J76))","v":0},{"$f":"IF(R76>0,($J$5/60)*(((I76*$J$3/(1-$J$3))*(1-J76)*Inputs!$C$13)+((I76*$J$3/(1-$J$3))*J76*Inputs!$C$14)),0)","v":0},{"$f":"U76+V76","v":0},null,"2019-08-03T17:00:00","",{"$f":"IF(ISNUMBER(AD76),SUBSTITUTE(ADDRESS(1,COLUMN($S$10),4),\"1\",\"\")&ROW(AA76),\"\")","v":""},{"$f":"IF(AND(Z76<>\"\",AA76<>\"\"),MAX(INDIRECT(Z76):INDIRECT(AA76)),\"\")","v":""},{"$f":"IF(AND(S76>0,S75=0),$Y76,IF(AND(S76>0,S75>0),\"Q\",\"\"))","v":""},"",null,{"$f":"IF(G76=\"TRUE 1\",IF(E76=\"NT\",MROUND(Inputs!$C$32*$AF$3*(1/(1+M76*(2-1))),1),MROUND(Inputs!$C$30*$AF$3*(1/(1+M76*(2-1))),1)),\nIF(G76=\"TRUE 2\",IF(E76=\"NT\",MROUND(Inputs!$D$32*$AG$3*(1/(1+M76*(2-1))),1),MROUND(Inputs!$D$30*$AG$3*(1/(1+M76*(2-1))),1)),\nIF(G76=\"TRUE 3\",IF(E76=\"NT\",MROUND(Inputs!$E$32*$AH$3*(1/(1+M76*(2-1))),1),MROUND(Inputs!$E$30*$AH$3*(1/(1+M76*(2-1))),1)),\nIF(G76=\"TRUE 4\",IF(E76=\"NT\",MROUND(Inputs!$F$32*$AI$3*(1/(1+M76*(2-1))),1),MROUND(Inputs!$F$30*$AI$3*(1/(1+M76*(2-1))),1)),\nMROUND(Inputs!$C$15*(1/(1+M76*(2-1)))*($AF$3+$AF$4),1)))))","v":8727},{"$f":"L76-AF76","v":-4472},0,{"$f":"(AH76/(1/(1+M76*(2-1))))*O76/LEFT(Inputs!$C$18,1)/5280","v":0},{"$f":"AH76/AF76*60","v":0},{"$f":"(AJ76/60)*((Inputs!$C$13*Calculations!AH76*(1-Calculations!M76))+(Inputs!$C$14*Calculations!AH76*Calculations!M76))","v":0},{"$f":"IF(AH76>0,($M$5/60)*(((L76*$M$3/(1-$M$3))*(1-M76)*Inputs!$C$13)+((L76*$M$3/(1-$M$3))*M76*Inputs!$C$14)),0)","v":0},{"$f":"AK76+AL76","v":0},null,"2019-08-03T17:00:00","",{"$f":"IF(ISNUMBER(AT76),SUBSTITUTE(ADDRESS(1,COLUMN($AI$10),4),\"1\",\"\")&ROW(AQ76),\"\")","v":""},{"$f":"IF(AND(AP76<>\"\",AQ76<>\"\"),MAX(INDIRECT(AP76):INDIRECT(AQ76)),\"\")","v":""},{"$f":"IF(AND(AI76>0,AI75=0),$Y76,IF(AND(AI76>0,AI75>0),\"Q\",\"\"))","v":""},""]
["2019-08-03",7,"Saturday","18:00:00",{"$f":"INDEX(Lists!$M$3:$M$26,MATCH(Calculations!D77,Lists!$L$3:$L$26,0))","v":"NT"},162,{"$f":"IF(INDEX(Inputs!$H$86:$H$253,MATCH(F77,Inputs!$D$86:$D$253,0)),\"TRUE 4\",\nIF(INDEX(Inputs!$G$86:$G$253,MATCH(F77,Inputs!$D$86:$D$253,0)),\"TRUE 3\",\nIF(INDEX(Inputs!$F$86:$F$253,MATCH(F77,Inputs!$D$86:$D$253,0)),\"TRUE 2\",\nIF(INDEX(Inputs!$E$86:$E$253,MATCH(F77,Inputs!$D$86:$D$253,0)),\"TRUE 1\",\nFALSE))))","v":false},null,{"$f":"'Volume Import'!C68*'Volume Import'!$H$14*(1+'Volume Import'!$H$15)*(1-'Volume Import'!$H$16)","v":3647},{"$f":"IF(AND('Volume Import'!D68=0,'Volume Import'!C68=0),0,\nIF('Volume Import'!D68=0,INDEX('Volume Import'!$K$2:$Q$5,MATCH(E77,'Volume Import'!$R$2:$R$5,0),MATCH(C77,'Volume Import'!$K$1:$Q$1,0)),\n'Volume Import'!D68/'Volume Import'!C68))","v":0.1},null,{"$f":"'Volume Import'!E68*'Volume Import'!$I$14*(1+'Volume Import'!$I$15)*(1-'Volume Import'!$I$16)","v":3635},{"$f":"IF('Volume Import'!F68=0,J77,'Volume Import'!F68/'Volume Import'!E68)","v":0.1},null,{"$f":"IF(G77=\"TRUE 1\",IF(E77=\"NT\",Inputs!$C$35,Inputs!$C$34),\nIF(G77=\"TRUE 2\",IF(E77=\"NT\",Inputs!$D$35,Inputs!$D$34),\nIF(G77=\"TRUE 3\",IF(E77=\"NT\",Inputs!$E$35,Inputs!$E$34),\nIF(G77=\"TRUE 4\",IF(E77=\"NT\",Inputs!$F$35,Inputs!$F$34),\nO76))))","v":65.476687896673383},{"$f":"IF(G77=\"TRUE 1\",IF(E77=\"NT\",MROUND(Inputs!$C$32*$P$3*(1/(1+J77*(2-1))),1),MROUND(Inputs!$C$30*$P$3*(1/(1+J77*(2-1))),1)),\nIF(G77=\"TRUE 2\",IF(E77=\"NT\",MROUND(Inputs!$D$32*$Q$3*(1/(1+J77*(2-1))),1),MROUND(Inputs!$D$30*$Q$3*(1/(1+J77*(2-1))),1)),\nIF(G77=\"TRUE 3\",IF(E77=\"NT\",MROUND(Inputs!$E$32*$R$3*(1/(1+J77*(2-1))),1),MROUND(Inputs!$E$30*$R$3*(1/(1+J77*(2-1))),1)),\nIF(G77=\"TRUE 4\",IF(E77=\"NT\",MROUND(Inputs!$F$32*$S$3*(1/(1+J77*(2-1))),1),MROUND(Inputs!$F$30*$S$3*(1/(1+J77*(2-1))),1)),\nMROUND(Inputs!$C$15*(1/(1+J77*(2-1)))*($P$3+$P$4),1)))))","v":8727},-5080,{"$f":"IF(R76+Q77<0,0,R76+Q77)","v":0},{"$f":"(R77/(1/(1+J77*(2-1))))*O77/LEFT(Inputs!$C$18,1)/5280","v":0},0,{"$f":"(T77/60)*((Inputs!$C$13*Calculations!R77*(1-Calculations!J77))+(Inputs!$C$14*Calculations!R77*Calculations!J77))","v":0},{"$f":"IF(R77>0,($J$5/60)*(((I77*$J$3/(1-$J$3))*(1-J77)*Inputs!$C$13)+((I77*$J$3/(1-$J$3))*J77*Inputs!$C$14)),0)","v":0},0,null,{"$f":"Y76+1/24","v":"2019-08-03T18:00:00"},"","",{"$f":"IF(AND(Z77<>\"\",AA77<>\"\"),MAX(INDIRECT(Z77):INDIRECT(AA77)),\"\")","v":""},"","",null,{"$f":"IF(G77=\"TRUE 1\",IF(E77=\"NT\",MROUND(Inputs!$C$32*$AF$3*(1/(1+M77*(2-1))),1),MROUND(Inputs!$C$30*$AF$3*(1/(1+M77*(2-1))),1)),\nIF(G77=\"TRUE 2\",IF(E77=\"NT\",MROUND(Inputs!$D$32*$AG$3*(1/(1+M77*(2-1))),1),MROUND(Inputs!$D$30*$AG$3*(1/(1+M77*(2-1))),1)),\nIF(G77=\"TRUE 3\",IF(E77=\"NT\",MROUND(Inputs!$E$32*$AH$3*(1/(1+M77*(2-1))),1),MROUND(Inputs!$E$30*$AH$3*(1/(1+M77*(2-1))),1)),\nIF(G77=\"TRUE 4\",IF(E77=\"NT\",MROUND(Inputs!$F$32*$AI$3*(1/(1+M77*(2-1))),1),MROUND(Inputs!$F$30*$AI$3*(1/(1+M77*(2-1))),1)),\nMROUND(Inputs!$C$15*(1/(1+M77*(2-1)))*($AF$3+$AF$4),1)))))","v":8727},-5092,{"$f":"IF(AH76+AG77<0,0,AH76+AG77)","v":0},{"$f":"(AH77/(1/(1+M77*(2-1))))*O77/LEFT(Inputs!$C$18,1)/5280","v":0},0,{"$f":"(AJ77/60)*((Inputs!$C$13*Calculations!AH77*(1-Calculations!M77))+(Inputs!$C$14*Calculations!AH77*Calculations!M77))","v":0},{"$f":"IF(AH77>0,($M$5/60)*(((L77*$M$3/(1-$M$3))*(1-M77)*Inputs!$C$13)+((L77*$M$3/(1-$M$3))*M77*Inputs!$C$14)),0)","v":0},0,null,{"$f":"AO76+1/24","v":"2019-08-03T18:00:00"},{"$f":"IF(AND(AS77=\"\",AT77=\"\"),\"\",IF(ISNUMBER(AS77),SUBSTITUTE(ADDRESS(1,COLUMN($AI$10),4),\"1\",\"\")&ROW(AP77),AP76))","v":""},"",{"$f":"IF(AND(AP77<>\"\",AQ77<>\"\"),MAX(INDIRECT(AP77):INDIRECT(AQ77)),\"\")","v":""},"",""]
["2019-08-03",7,"Saturday","19:00:00",{"$f":"INDEX(Lists!$M$3:$M$26,MATCH(Calculations!D78,Lists!$L$3:$L$26,0))","v":"NT"},163,{"$f":"IF(INDEX(Inputs!$H$86:$H$253,MATCH(F78,Inputs!$D$86:$D$253,0)),\"TRUE 4\",\nIF(INDEX(Inputs!$G$86:$G$253,MATCH(F78,Inputs!$D$86:$D$253,0)),\"TRUE 3\",\nIF(INDEX(Inputs!$F$86:$F$253,MATCH(F78,Inputs!$D$86:$D$253,0)),\"TRUE 2\",\nIF(INDEX(Inputs!$E$86:$E$253,MATCH(F78,Inputs!$D$86:$D$253,0)),\"TRUE 1\",\nFALSE))))","v":false},null,{"$f":"'Volume Import'!C69*'Volume Import'!$H$14*(1+'Volume Import'!$H$15)*(1-'Volume Import'!$H$16)","v":3026},{"$f":"IF(AND('Volume Import'!D69=0,'Volume Import'!C69=0),0,\nIF('Volume Import'!D69=0,INDEX('Volume Import'!$K$2:$Q$5,MATCH(E78,'Volume Import'!$R$2:$R$5,0),MATCH(C78,'Volume Import'!$K$1:$Q$1,0)),\n'Volume Import'!D69/'Volume Import'!C69))","v":0.1},null,{"$f":"'Volume Import'!E69*'Volume Import'!$I$14*(1+'Volume Import'!$I$15)*(1-'Volume Import'!$I$16)","v":3360},{"$f":"IF('Volume Import'!F69=0,J78,'Volume Import'!F69/'Volume Import'!E69)","v":0.1},null,{"$f":"IF(G78=\"TRUE 1\",IF(E78=\"NT\",Inputs!$C$35,Inputs!$C$34),\nIF(G78=\"TRUE 2\",IF(E78=\"NT\",Inputs!$D$35,Inputs!$D$34),\nIF(G78=\"TRUE 3\",IF(E78=\"NT\",Inputs!$E$35,Inputs!$E$34),\nIF(G78=\"TRUE 4\",IF(E78=\"NT\",Inputs!$F$35,Inputs!$F$34),\nO77))))","v":65.476687896673383},{"$f":"IF(G78=\"TRUE 1\",IF(E78=\"NT\",MROUND(Inputs!$C$32*$P$3*(1/(1+J78*(2-1))),1),MROUND(Inputs!$C$30*$P$3*(1/(1+J78*(2-1))),1)),\nIF(G78=\"TRUE 2\",IF(E78=\"NT\",MROUND(Inputs!$D$32*$Q$3*(1/(1+J78*(2-1))),1),MROUND(Inputs!$D$30*$Q$3*(1/(1+J78*(2-1))),1)),\nIF(G78=\"TRUE 3\",IF(E78=\"NT\",MROUND(Inputs!$E$32*$R$3*(1/(1+J78*(2-1))),1),MROUND(Inputs!$E$30*$R$3*(1/(1+J78*(2-1))),1)),\nIF(G78=\"TRUE 4\",IF(E78=\"NT\",MROUND(Inputs!$F$32*$S$3*(1/(1+J78*(2-1))),1),MROUND(Inputs!$F$30*$S$3*(1/(1+J78*(2-1))),1)),\nMROUND(Inputs!$C$15*(1/(1+J78*(2-1)))*($P$3+$P$4),1)))))","v":8727},-5701,0,{"$f":"(R78/(1/(1+J78*(2-1))))*O78/LEFT(Inputs!$C$18,1)/5280","v":0},0,{"$f":"(T78/60)*((Inputs!$C$13*Calculations!R78*(1-Calculations!J78))+(Inputs!$C$14*Calculations!R78*Calculations!J78))","v":0},{"$f":"IF(R78>0,($J$5/60)*(((I78*$J$3/(1-$J$3))*(1-J78)*Inputs!$C$13)+((I78*$J$3/(1-$J$3))*J78*Inputs!$C$14)),0)","v":0},0,null,"2019-08-03T19:00:00","","",{"$f":"IF(AND(Z78<>\"\",AA78<>\"\"),MAX(INDIRECT(Z78):INDIRECT(AA78)),\"\")","v":""},"","",null,{"$f":"IF(G78=\"TRUE 1\",IF(E78=\"NT\",MROUND(Inputs!$C$32*$AF$3*(1/(1+M78*(2-1))),1),MROUND(Inputs!$C$30*$AF$3*(1/(1+M78*(2-1))),1)),\nIF(G78=\"TRUE 2\",IF(E78=\"NT\",MROUND(Inputs!$D$32*$AG$3*(1/(1+M78*(2-1))),1),MROUND(Inputs!$D$30*$AG$3*(1/(1+M78*(2-1))),1)),\nIF(G78=\"TRUE 3\",IF(E78=\"NT\",MROUND(Inputs!$E$32*$AH$3*(1/(1+M78*(2-1))),1),MROUND(Inputs!$E$30*$AH$3*(1/(1+M78*(2-1))),1)),\nIF(G78=\"TRUE 4\",IF(E78=\"NT\",MROUND(Inputs!$F$32*$AI$3*(1/(1+M78*(2-1))),1),MROUND(Inputs!$F$30*$AI$3*(1/(1+M78*(2-1))),1)),\nMROUND(Inputs!$C$15*(1/(1+M78*(2-1)))*($AF$3+$AF$4),1)))))","v":8727},-5367,0,{"$f":"(AH78/(1/(1+M78*(2-1))))*O78/LEFT(Inputs!$C$18,1)/5280","v":0},0,{"$f":"(AJ78/60)*((Inputs!$C$13*Calculations!AH78*(1-Calculations!M78))+(Inputs!$C$14*Calculations!AH78*Calculations!M78))","v":0},{"$f":"IF(AH78>0,($M$5/60)*(((L78*$M$3/(1-$M$3))*(1-M78)*Inputs!$C$13)+((L78*$M$3/(1-$M$3))*M78*Inputs!$C$14)),0)","v":0},0,null,"2019-08-03T19:00:00","","",{"$f":"IF(AND(AP78<>\"\",AQ78<>\"\"),MAX(INDIRECT(AP78):INDIRECT(AQ78)),\"\")","v":""},"",""]
["2019-08-03",7,"Saturday","20:00:00",{"$f":"INDEX(Lists!$M$3:$M$26,MATCH(Calculations!D79,Lists!$L$3:$L$26,0))","v":"NT"},164,{"$f":"IF(INDEX(Inputs!$H$86:$H$253,MATCH(F79,Inputs!$D$86:$D$253,0)),\"TRUE 4\",\nIF(INDEX(Inputs!$G$86:$G$253,MATCH(F79,Inputs!$D$86:$D$253,0)),\"TRUE 3\",\nIF(INDEX(Inputs!$F$86:$F$253,MATCH(F79,Inputs!$D$86:$D$253,0)),\"TRUE 2\",\nIF(INDEX(Inputs!$E$86:$E$253,MATCH(F79,Inputs!$D$86:$D$253,0)),\"TRUE 1\",\nFALSE))))","v":false},null,{"$f":"'Volume Import'!C70*'Volume Import'!$H$14*(1+'Volume Import'!$H$15)*(1-'Volume Import'!$H$16)","v":2809},{"$f":"IF(AND('Volume Import'!D70=0,'Volume Import'!C70=0),0,\nIF('Volume Import'!D70=0,INDEX('Volume Import'!$K$2:$Q$5,MATCH(E79,'Volume Import'!$R$2:$R$5,0),MATCH(C79,'Volume Import'!$K$1:$Q$1,0)),\n'Volume Import'!D70/'Volume Import'!C70))","v":0.1},null,{"$f":"'Volume Import'!E70*'Volume Import'!$I$14*(1+'Volume Import'!$I$15)*(1-'Volume Import'!$I$16)","v":3137},{"$f":"IF('Volume Import'!F70=0,J79,'Volume Import'!F70/'Volume Import'!E70)","v":0.1},null,{"$f":"IF(G79=\"TRUE 1\",IF(E79=\"NT\",Inputs!$C$35,Inputs!$C$34),\nIF(G79=\"TRUE 2\",IF(E79=\"NT\",Inputs!$D$35,Inputs!$D$34),\nIF(G79=\"TRUE 3\",IF(E79=\"NT\",Inputs!$E$35,Inputs!$E$34),\nIF(G79=\"TRUE 4\",IF(E79=\"NT\",Inputs!$F$35,Inputs!$F$34),\nO78))))","v":65.476687896673383},{"$f":"IF(G79=\"TRUE 1\",IF(E79=\"NT\",MROUND(Inputs!$C$32*$P$3*(1/(1+J79*(2-1))),1),MROUND(Inputs!$C$30*$P$3*(1/(1+J79*(2-1))),1)),\nIF(G79=\"TRUE 2\",IF(E79=\"NT\",MROUND(Inputs!$D$32*$Q$3*(1/(1+J79*(2-1))),1),MROUND(Inputs!$D$30*$Q$3*(1/(1+J79*(2-1))),1)),\nIF(G79=\"TRUE 3\",IF(E79=\"NT\",MROUND(Inputs!$E$32*$R$3*(1/(1+J79*(2-1))),1),MROUND(Inputs!$E$30*$R$3*(1/(1+J79*(2-1))),1)),\nIF(G79=\"TRUE 4\",IF(E79=\"NT\",MROUND(Inputs!$F$32*$S$3*(1/(1+J79*(2-1))),1),MROUND(Inputs!$F$30*$S$3*(1/(1+J79*(2-1))),1)),\nMROUND(Inputs!$C$15*(1/(1+J79*(2-1)))*($P$3+$P$4),1)))))","v":8727},-5918,0,{"$f":"(R79/(1/(1+J79*(2-1))))*O79/LEFT(Inputs!$C$18,1)/5280","v":0},0,{"$f":"(T79/60)*((Inputs!$C$13*Calculations!R79*(1-Calculations!J79))+(Inputs!$C$14*Calculations!R79*Calculations!J79))","v":0},{"$f":"IF(R79>0,($J$5/60)*(((I79*$J$3/(1-$J$3))*(1-J79)*Inputs!$C$13)+((I79*$J$3/(1-$J$3))*J79*Inputs!$C$14)),0)","v":0},0,null,"2019-08-03T20:00:00","","",{"$f":"IF(AND(Z79<>\"\",AA79<>\"\"),MAX(INDIRECT(Z79):INDIRECT(AA79)),\"\")","v":""},"","",null,{"$f":"IF(G79=\"TRUE 1\",IF(E79=\"NT\",MROUND(Inputs!$C$32*$AF$3*(1/(1+M79*(2-1))),1),MROUND(Inputs!$C$30*$AF$3*(1/(1+M79*(2-1))),1)),\nIF(G79=\"TRUE 2\",IF(E79=\"NT\",MROUND(Inputs!$D$32*$AG$3*(1/(1+M79*(2-1))),1),MROUND(Inputs!$D$30*$AG$3*(1/(1+M79*(2-1))),1)),\nIF(G79=\"TRUE 3\",IF(E79=\"NT\",MROUND(Inputs!$E$32*$AH$3*(1/(1+M79*(2-1))),1),MROUND(Inputs!$E$30*$AH$3*(1/(1+M79*(2-1))),1)),\nIF(G79=\"TRUE 4\",IF(E79=\"NT\",MROUND(Inputs!$F$32*$AI$3*(1/(1+M79*(2-1))),1),MROUND(Inputs!$F$30*$AI$3*(1/(1+M79*(2-1))),1)),\nMROUND(Inputs!$C$15*(1/(1+M79*(2-1)))*($AF$3+$AF$4),1)))))","v":8727},-5590,0,{"$f":"(AH79/(1/(1+M79*(2-1))))*O79/LEFT(Inputs!$C$18,1)/5280","v":0},0,{"$f":"(AJ79/60)*((Inputs!$C$13*Calculations!AH79*(1-Calculations!M79))+(Inputs!$C$14*Calculations!AH79*Calculations!M79))","v":0},{"$f":"IF(AH79>0,($M$5/60)*(((L79*$M$3/(1-$M$3))*(1-M79)*Inputs!$C$13)+((L79*$M$3/(1-$M$3))*M79*Inputs!$C$14)),0)","v":0},0,null,"2019-08-03T20:00:00","","",{"$f":"IF(AND(AP79<>\"\",AQ79<>\"\"),MAX(INDIRECT(AP79):INDIRECT(AQ79)),\"\")","v":""},"",""]
["2019-08-03",7,"Saturday","21:00:00",{"$f":"INDEX(Lists!$M$3:$M$26,MATCH(Calculations!D80,Lists!$L$3:$L$26,0))","v":"NT"},165,{"$f":"IF(INDEX(Inputs!$H$86:$H$253,MATCH(F80,Inputs!$D$86:$D$253,0)),\"TRUE 4\",\nIF(INDEX(Inputs!$G$86:$G$253,MATCH(F80,Inputs!$D$86:$D$253,0)),\"TRUE 3\",\nIF(INDEX(Inputs!$F$86:$F$253,MATCH(F80,Inputs!$D$86:$D$253,0)),\"TRUE 2\",\nIF(INDEX(Inputs!$E$86:$E$253,MATCH(F80,Inputs!$D$86:$D$253,0)),\"TRUE 1\",\nFALSE))))","v":false},null,{"$f":"'Volume Import'!C71*'Volume Import'!$H$14*(1+'Volume Import'!$H$15)*(1-'Volume Import'!$H$16)","v":2442},{"$f":"IF(AND('Volume Import'!D71=0,'Volume Import'!C71=0),0,\nIF('Volume Import'!D71=0,INDEX('Volume Import'!$K$2:$Q$5,MATCH(E80,'Volume Import'!$R$2:$R$5,0),MATCH(C80,'Volume Import'!$K$1:$Q$1,0)),\n'Volume Import'!D71/'Volume Import'!C71))","v":0.1},null,{"$f":"'Volume Import'!E71*'Volume Import'!$I$14*(1+'Volume Import'!$I$15)*(1-'Volume Import'!$I$16)","v":2810},{"$f":"IF('Volume Import'!F71=0,J80,'Volume Import'!F71/'Volume Import'!E71)","v":0.1},null,{"$f":"IF(G80=\"TRUE 1\",IF(E80=\"NT\",Inputs!$C$35,Inputs!$C$34),\nIF(G80=\"TRUE 2\",IF(E80=\"NT\",Inputs!$D$35,Inputs!$D$34),\nIF(G80=\"TRUE 3\",IF(E80=\"NT\",Inputs!$E$35,Inputs!$E$34),\nIF(G80=\"TRUE 4\",IF(E80=\"NT\",Inputs!$F$35,Inputs!$F$34),\nO79))))","v":65.476687896673383},{"$f":"IF(G80=\"TRUE 1\",IF(E80=\"NT\",MROUND(Inputs!$C$32*$P$3*(1/(1+J80*(2-1))),1),MROUND(Inputs!$C$30*$P$3*(1/(1+J80*(2-1))),1)),\nIF(G80=\"TRUE 2\",IF(E80=\"NT\",MROUND(Inputs!$D$32*$Q$3*(1/(1+J80*(2-1))),1),MROUND(Inputs!$D$30*$Q$3*(1/(1+J80*(2-1))),1)),\nIF(G80=\"TRUE 3\",IF(E80=\"NT\",MROUND(Inputs!$E$32*$R$3*(1/(1+J80*(2-1))),1),MROUND(Inputs!$E$30*$R$3*(1/(1+J80*(2-1))),1)),\nIF(G80=\"TRUE 4\",IF(E80=\"NT\",MROUND(Inputs!$F$32*$S$3*(1/(1+J80*(2-1))),1),MROUND(Inputs!$F$30*$S$3*(1/(1+J80*(2-1))),1)),\nMROUND(Inputs!$C$15*(1/(1+J80*(2-1)))*($P$3+$P$4),1)))))","v":8727},-6285,0,{"$f":"(R80/(1/(1+J80*(2-1))))*O80/LEFT(Inputs!$C$18,1)/5280","v":0},0,{"$f":"(T80/60)*((Inputs!$C$13*Calculations!R80*(1-Calculations!J80))+(Inputs!$C$14*Calculations!R80*Calculations!J80))","v":0},{"$f":"IF(R80>0,($J$5/60)*(((I80*$J$3/(1-$J$3))*(1-J80)*Inputs!$C$13)+((I80*$J$3/(1-$J$3))*J80*Inputs!$C$14)),0)","v":0},0,null,"2019-08-03T21:00:00","","",{"$f":"IF(AND(Z80<>\"\",AA80<>\"\"),MAX(INDIRECT(Z80):INDIRECT(AA80)),\"\")","v":""},"","",null,{"$f":"IF(G80=\"TRUE 1\",IF(E80=\"NT\",MROUND(Inputs!$C$32*$AF$3*(1/(1+M80*(2-1))),1),MROUND(Inputs!$C$30*$AF$3*(1/(1+M80*(2-1))),1)),\nIF(G80=\"TRUE 2\",IF(E80=\"NT\",MROUND(Inputs!$D$32*$AG$3*(1/(1+M80*(2-1))),1),MROUND(Inputs!$D$30*$AG$3*(1/(1+M80*(2-1))),1)),\nIF(G80=\"TRUE 3\",IF(E80=\"NT\",MROUND(Inputs!$E$32*$AH$3*(1/(1+M80*(2-1))),1),MROUND(Inputs!$E$30*$AH$3*(1/(1+M80*(2-1))),1)),\nIF(G80=\"TRUE 4\",IF(E80=\"NT\",MROUND(Inputs!$F$32*$AI$3*(1/(1+M80*(2-1))),1),MROUND(Inputs!$F$30*$AI$3*(1/(1+M80*(2-1))),1)),\nMROUND(Inputs!$C$15*(1/(1+M80*(2-1)))*($AF$3+$AF$4),1)))))","v":8727},-5917,0,{"$f":"(AH80/(1/(1+M80*(2-1))))*O80/LEFT(Inputs!$C$18,1)/5280","v":0},0,{"$f":"(AJ80/60)*((Inputs!$C$13*Calculations!AH80*(1-Calculations!M80))+(Inputs!$C$14*Calculations!AH80*Calculations!M80))","v":0},{"$f":"IF(AH80>0,($M$5/60)*(((L80*$M$3/(1-$M$3))*(1-M80)*Inputs!$C$13)+((L80*$M$3/(1-$M$3))*M80*Inputs!$C$14)),0)","v":0},0,null,"2019-08-03T21:00:00","","",{"$f":"IF(AND(AP80<>\"\",AQ80<>\"\"),MAX(INDIRECT(AP80):INDIRECT(AQ80)),\"\")","v":""},"",""]
["2019-08-03",7,"Saturday","22:00:00",{"$f":"INDEX(Lists!$M$3:$M$26,MATCH(Calculations!D81,Lists!$L$3:$L$26,0))","v":"NT"},166,{"$f":"IF(INDEX(Inputs!$H$86:$H$253,MATCH(F81,Inputs!$D$86:$D$253,0)),\"TRUE 4\",\nIF(INDEX(Inputs!$G$86:$G$253,MATCH(F81,Inputs!$D$86:$D$253,0)),\"TRUE 3\",\nIF(INDEX(Inputs!$F$86:$F$253,MATCH(F81,Inputs!$D$86:$D$253,0)),\"TRUE 2\",\nIF(INDEX(Inputs!$E$86:$E$253,MATCH(F81,Inputs!$D$86:$D$253,0)),\"TRUE 1\",\nFALSE))))","v":false},null,{"$f":"'Volume Import'!C72*'Volume Import'!$H$14*(1+'Volume Import'!$H$15)*(1-'Volume Import'!$H$16)","v":1856},{"$f":"IF(AND('Volume Import'!D72=0,'Volume Import'!C72=0),0,\nIF('Volume Import'!D72=0,INDEX('Volume Import'!$K$2:$Q$5,MATCH(E81,'Volume Import'!$R$2:$R$5,0),MATCH(C81,'Volume Import'!$K$1:$Q$1,0)),\n'Volume Import'!D72/'Volume Import'!C72))","v":0.1},null,{"$f":"'Volume Import'!E72*'Volume Import'!$I$14*(1+'Volume Import'!$I$15)*(1-'Volume Import'!$I$16)","v":2286},{"$f":"IF('Volume Import'!F72=0,J81,'Volume Import'!F72/'Volume Import'!E72)","v":0.1},null,{"$f":"IF(G81=\"TRUE 1\",IF(E81=\"NT\",Inputs!$C$35,Inputs!$C$34),\nIF(G81=\"TRUE 2\",IF(E81=\"NT\",Inputs!$D$35,Inputs!$D$34),\nIF(G81=\"TRUE 3\",IF(E81=\"NT\",Inputs!$E$35,Inputs!$E$34),\nIF(G81=\"TRUE 4\",IF(E81=\"NT\",Inputs!$F$35,Inputs!$F$34),\nO80))))","v":65.476687896673383},{"$f":"IF(G81=\"TRUE 1\",IF(E81=\"NT\",MROUND(Inputs!$C$32*$P$3*(1/(1+J81*(2-1))),1),MROUND(Inputs!$C$30*$P$3*(1/(1+J81*(2-1))),1)),\nIF(G81=\"TRUE 2\",IF(E81=\"NT\",MROUND(Inputs!$D$32*$Q$3*(1/(1+J81*(2-1))),1),MROUND(Inputs!$D$30*$Q$3*(1/(1+J81*(2-1))),1)),\nIF(G81=\"TRUE 3\",IF(E81=\"NT\",MROUND(Inputs!$E$32*$R$3*(1/(1+J81*(2-1))),1),MROUND(Inputs!$E$30*$R$3*(1/(1+J81*(2-1))),1)),\nIF(G81=\"TRUE 4\",IF(E81=\"NT\",MROUND(Inputs!$F$32*$S$3*(1/(1+J81*(2-1))),1),MROUND(Inputs!$F$30*$S$3*(1/(1+J81*(2-1))),1)),\nMROUND(Inputs!$C$15*(1/(1+J81*(2-1)))*($P$3+$P$4),1)))))","v":8727},-6871,0,{"$f":"(R81/(1/(1+J81*(2-1))))*O81/LEFT(Inputs!$C$18,1)/5280","v":0},0,{"$f":"(T81/60)*((Inputs!$C$13*Calculations!R81*(1-Calculations!J81))+(Inputs!$C$14*Calculations!R81*Calculations!J81))","v":0},{"$f":"IF(R81>0,($J$5/60)*(((I81*$J$3/(1-$J$3))*(1-J81)*Inputs!$C$13)+((I81*$J$3/(1-$J$3))*J81*Inputs!$C$14)),0)","v":0},0,null,"2019-08-03T22:00:00","","",{"$f":"IF(AND(Z81<>\"\",AA81<>\"\"),MAX(INDIRECT(Z81):INDIRECT(AA81)),\"\")","v":""},"","",null,{"$f":"IF(G81=\"TRUE 1\",IF(E81=\"NT\",MROUND(Inputs!$C$32*$AF$3*(1/(1+M81*(2-1))),1),MROUND(Inputs!$C$30*$AF$3*(1/(1+M81*(2-1))),1)),\nIF(G81=\"TRUE 2\",IF(E81=\"NT\",MROUND(Inputs!$D$32*$AG$3*(1/(1+M81*(2-1))),1),MROUND(Inputs!$D$30*$AG$3*(1/(1+M81*(2-1))),1)),\nIF(G81=\"TRUE 3\",IF(E81=\"NT\",MROUND(Inputs!$E$32*$AH$3*(1/(1+M81*(2-1))),1),MROUND(Inputs!$E$30*$AH$3*(1/(1+M81*(2-1))),1)),\nIF(G81=\"TRUE 4\",IF(E81=\"NT\",MROUND(Inputs!$F$32*$AI$3*(1/(1+M81*(2-1))),1),MROUND(Inputs!$F$30*$AI$3*(1/(1+M81*(2-1))),1)),\nMROUND(Inputs!$C$15*(1/(1+M81*(2-1)))*($AF$3+$AF$4),1)))))","v":8727},-6441,0,{"$f":"(AH81/(1/(1+M81*(2-1))))*O81/LEFT(Inputs!$C$18,1)/5280","v":0},0,{"$f":"(AJ81/60)*((Inputs!$C$13*Calculations!AH81*(1-Calculations!M81))+(Inputs!$C$14*Calculations!AH81*Calculations!M81))","v":0},{"$f":"IF(AH81>0,($M$5/60)*(((L81*$M$3/(1-$M$3))*(1-M81)*Inputs!$C$13)+((L81*$M$3/(1-$M$3))*M81*Inputs!$C$14)),0)","v":0},0,null,"2019-08-03T22:00:00","","",{"$f":"IF(AND(AP81<>\"\",AQ81<>\"\"),MAX(INDIRECT(AP81):INDIRECT(AQ81)),\"\")","v":""},"",""]
["2019-08-03",7,"Saturday","23:00:00",{"$f":"INDEX(Lists!$M$3:$M$26,MATCH(Calculations!D82,Lists!$L$3:$L$26,0))","v":"NT"},167,{"$f":"IF(INDEX(Inputs!$H$86:$H$253,MATCH(F82,Inputs!$D$86:$D$253,0)),\"TRUE 4\",\nIF(INDEX(Inputs!$G$86:$G$253,MATCH(F82,Inputs!$D$86:$D$253,0)),\"TRUE 3\",\nIF(INDEX(Inputs!$F$86:$F$253,MATCH(F82,Inputs!$D$86:$D$253,0)),\"TRUE 2\",\nIF(INDEX(Inputs!$E$86:$E$253,MATCH(F82,Inputs!$D$86:$D$253,0)),\"TRUE 1\",\nFALSE))))","v":false},null,{"$f":"'Volume Import'!C73*'Volume Import'!$H$14*(1+'Volume Import'!$H$15)*(1-'Volume Import'!$H$16)","v":1335},{"$f":"IF(AND('Volume Import'!D73=0,'Volume Import'!C73=0),0,\nIF('Volume Import'!D73=0,INDEX('Volume Import'!$K$2:$Q$5,MATCH(E82,'Volume Import'!$R$2:$R$5,0),MATCH(C82,'Volume Import'!$K$1:$Q$1,0)),\n'Volume Import'!D73/'Volume Import'!C73))","v":0.1},null,{"$f":"'Volume Import'!E73*'Volume Import'!$I$14*(1+'Volume Import'!$I$15)*(1-'Volume Import'!$I$16)","v":1674},{"$f":"IF('Volume Import'!F73=0,J82,'Volume Import'!F73/'Volume Import'!E73)","v":0.1},null,{"$f":"IF(G82=\"TRUE 1\",IF(E82=\"NT\",Inputs!$C$35,Inputs!$C$34),\nIF(G82=\"TRUE 2\",IF(E82=\"NT\",Inputs!$D$35,Inputs!$D$34),\nIF(G82=\"TRUE 3\",IF(E82=\"NT\",Inputs!$E$35,Inputs!$E$34),\nIF(G82=\"TRUE 4\",IF(E82=\"NT\",Inputs!$F$35,Inputs!$F$34),\nO81))))","v":65.476687896673383},{"$f":"IF(G82=\"TRUE 1\",IF(E82=\"NT\",MROUND(Inputs!$C$32*$P$3*(1/(1+J82*(2-1))),1),MROUND(Inputs!$C$30*$P$3*(1/(1+J82*(2-1))),1)),\nIF(G82=\"TRUE 2\",IF(E82=\"NT\",MROUND(Inputs!$D$32*$Q$3*(1/(1+J82*(2-1))),1),MROUND(Inputs!$D$30*$Q$3*(1/(1+J82*(2-1))),1)),\nIF(G82=\"TRUE 3\",IF(E82=\"NT\",MROUND(Inputs!$E$32*$R$3*(1/(1+J82*(2-1))),1),MROUND(Inputs!$E$30*$R$3*(1/(1+J82*(2-1))),1)),\nIF(G82=\"TRUE 4\",IF(E82=\"NT\",MROUND(Inputs!$F$32*$S$3*(1/(1+J82*(2-1))),1),MROUND(Inputs!$F$30*$S$3*(1/(1+J82*(2-1))),1)),\nMROUND(Inputs!$C$15*(1/(1+J82*(2-1)))*($P$3+$P$4),1)))))","v":8727},-7392,0,{"$f":"(R82/(1/(1+J82*(2-1))))*O82/LEFT(Inputs!$C$18,1)/5280","v":0},0,{"$f":"(T82/60)*((Inputs!$C$13*Calculations!R82*(1-Calculations!J82))+(Inputs!$C$14*Calculations!R82*Calculations!J82))","v":0},{"$f":"IF(R82>0,($J$5/60)*(((I82*$J$3/(1-$J$3))*(1-J82)*Inputs!$C$13)+((I82*$J$3/(1-$J$3))*J82*Inputs!$C$14)),0)","v":0},0,null,"2019-08-03T23:00:00","","",{"$f":"IF(AND(Z82<>\"\",AA82<>\"\"),MAX(INDIRECT(Z82):INDIRECT(AA82)),\"\")","v":""},"","",null,{"$f":"IF(G82=\"TRUE 1\",IF(E82=\"NT\",MROUND(Inputs!$C$32*$AF$3*(1/(1+M82*(2-1))),1),MROUND(Inputs!$C$30*$AF$3*(1/(1+M82*(2-1))),1)),\nIF(G82=\"TRUE 2\",IF(E82=\"NT\",MROUND(Inputs!$D$32*$AG$3*(1/(1+M82*(2-1))),1),MROUND(Inputs!$D$30*$AG$3*(1/(1+M82*(2-1))),1)),\nIF(G82=\"TRUE 3\",IF(E82=\"NT\",MROUND(Inputs!$E$32*$AH$3*(1/(1+M82*(2-1))),1),MROUND(Inputs!$E$30*$AH$3*(1/(1+M82*(2-1))),1)),\nIF(G82=\"TRUE 4\",IF(E82=\"NT\",MROUND(Inputs!$F$32*$AI$3*(1/(1+M82*(2-1))),1),MROUND(Inputs!$F$30*$AI$3*(1/(1+M82*(2-1))),1)),\nMROUND(Inputs!$C$15*(1/(1+M82*(2-1)))*($AF$3+$AF$4),1)))))","v":8727},-7053,0,{"$f":"(AH82/(1/(1+M82*(2-1))))*O82/LEFT(Inputs!$C$18,1)/5280","v":0},0,{"$f":"(AJ82/60)*((Inputs!$C$13*Calculations!AH82*(1-Calculations!M82))+(Inputs!$C$14*Calculations!AH82*Calculations!M82))","v":0},{"$f":"IF(AH82>0,($M$5/60)*(((L82*$M$3/(1-$M$3))*(1-M82)*Inputs!$C$13)+((L82*$M$3/(1-$M$3))*M82*Inputs!$C$14)),0)","v":0},0,null,"2019-08-03T23:00:00","","",{"$f":"IF(AND(AP82<>\"\",AQ82<>\"\"),MAX(INDIRECT(AP82):INDIRECT(AQ82)),\"\")","v":""},"",""]
["2019-08-04",1,"Sunday","00:00:00",{"$f":"INDEX(Lists!$M$3:$M$26,MATCH(Calculations!D83,Lists!$L$3:$L$26,0))","v":"NT"},0,{"$f":"IF(INDEX(Inputs!$H$86:$H$253,MATCH(F83,Inputs!$D$86:$D$253,0)),\"TRUE 4\",\nIF(INDEX(Inputs!$G$86:$G$253,MATCH(F83,Inputs!$D$86:$D$253,0)),\"TRUE 3\",\nIF(INDEX(Inputs!$F$86:$F$253,MATCH(F83,Inputs!$D$86:$D$253,0)),\"TRUE 2\",\nIF(INDEX(Inputs!$E$86:$E$253,MATCH(F83,Inputs!$D$86:$D$253,0)),\"TRUE 1\",\nFALSE))))","v":false},null,{"$f":"'Volume Import'!C74*'Volume Import'!$H$14*(1+'Volume Import'!$H$15)*(1-'Volume Import'!$H$16)","v":931},{"$f":"IF(AND('Volume Import'!D74=0,'Volume Import'!C74=0),0,\nIF('Volume Import'!D74=0,INDEX('Volume Import'!$K$2:$Q$5,MATCH(E83,'Volume Import'!$R$2:$R$5,0),MATCH(C83,'Volume Import'!$K$1:$Q$1,0)),\n'Volume Import'!D74/'Volume Import'!C74))","v":0.1},null,{"$f":"'Volume Import'!E74*'Volume Import'!$I$14*(1+'Volume Import'!$I$15)*(1-'Volume Import'!$I$16)","v":1133},{"$f":"IF('Volume Import'!F74=0,J83,'Volume Import'!F74/'Volume Import'!E74)","v":0.1},null,{"$f":"IF(G83=\"TRUE 1\",IF(E83=\"NT\",Inputs!$C$35,Inputs!$C$34),\nIF(G83=\"TRUE 2\",IF(E83=\"NT\",Inputs!$D$35,Inputs!$D$34),\nIF(G83=\"TRUE 3\",IF(E83=\"NT\",Inputs!$E$35,Inputs!$E$34),\nIF(G83=\"TRUE 4\",IF(E83=\"NT\",Inputs!$F$35,Inputs!$F$34),\nO82))))","v":65.476687896673383},{"$f":"IF(G83=\"TRUE 1\",IF(E83=\"NT\",MROUND(Inputs!$C$32*$P$3*(1/(1+J83*(2-1))),1),MROUND(Inputs!$C$30*$P$3*(1/(1+J83*(2-1))),1)),\nIF(G83=\"TRUE 2\",IF(E83=\"NT\",MROUND(Inputs!$D$32*$Q$3*(1/(1+J83*(2-1))),1),MROUND(Inputs!$D$30*$Q$3*(1/(1+J83*(2-1))),1)),\nIF(G83=\"TRUE 3\",IF(E83=\"NT\",MROUND(Inputs!$E$32*$R$3*(1/(1+J83*(2-1))),1),MROUND(Inputs!$E$30*$R$3*(1/(1+J83*(2-1))),1)),\nIF(G83=\"TRUE 4\",IF(E83=\"NT\",MROUND(Inputs!$F$32*$S$3*(1/(1+J83*(2-1))),1),MROUND(Inputs!$F$30*$S$3*(1/(1+J83*(2-1))),1)),\nMROUND(Inputs!$C$15*(1/(1+J83*(2-1)))*($P$3+$P$4),1)))))","v":8727},-7796,0,{"$f":"(R83/(1/(1+J83*(2-1))))*O83/LEFT(Inputs!$C$18,1)/5280","v":0},0,{"$f":"(T83/60)*((Inputs!$C$13*Calculations!R83*(1-Calculations!J83))+(Inputs!$C$14*Calculations!R83*Calculations!J83))","v":0},{"$f":"IF(R83>0,($J$5/60)*(((I83*$J$3/(1-$J$3))*(1-J83)*Inputs!$C$13)+((I83*$J$3/(1-$J$3))*J83*Inputs!$C$14)),0)","v":0},0,null,"2019-08-04","","",{"$f":"IF(AND(Z83<>\"\",AA83<>\"\"),MAX(INDIRECT(Z83):INDIRECT(AA83)),\"\")","v":""},"","",null,{"$f":"IF(G83=\"TRUE 1\",IF(E83=\"NT\",MROUND(Inputs!$C$32*$AF$3*(1/(1+M83*(2-1))),1),MROUND(Inputs!$C$30*$AF$3*(1/(1+M83*(2-1))),1)),\nIF(G83=\"TRUE 2\",IF(E83=\"NT\",MROUND(Inputs!$D$32*$AG$3*(1/(1+M83*(2-1))),1),MROUND(Inputs!$D$30*$AG$3*(1/(1+M83*(2-1))),1)),\nIF(G83=\"TRUE 3\",IF(E83=\"NT\",MROUND(Inputs!$E$32*$AH$3*(1/(1+M83*(2-1))),1),MROUND(Inputs!$E$30*$AH$3*(1/(1+M83*(2-1))),1)),\nIF(G83=\"TRUE 4\",IF(E83=\"NT\",MROUND(Inputs!$F$32*$AI$3*(1/(1+M83*(2-1))),1),MROUND(Inputs!$F$30*$AI$3*(1/(1+M83*(2-1))),1)),\nMROUND(Inputs!$C$15*(1/(1+M83*(2-1)))*($AF$3+$AF$4),1)))))","v":8727},-7594,0,{"$f":"(AH83/(1/(1+M83*(2-1))))*O83/LEFT(Inputs!$C$18,1)/5280","v":0},0,{"$f":"(AJ83/60)*((Inputs!$C$13*Calculations!AH83*(1-Calculations!M83))+(Inputs!$C$14*Calculations!AH83*Calculations!M83))","v":0},{"$f":"IF(AH83>0,($M$5/60)*(((L83*$M$3/(1-$M$3))*(1-M83)*Inputs!$C$13)+((L83*$M$3/(1-$M$3))*M83*Inputs!$C$14)),0)","v":0},0,null,"2019-08-04","","",{"$f":"IF(AND(AP83<>\"\",AQ83<>\"\"),MAX(INDIRECT(AP83):INDIRECT(AQ83)),\"\")","v":""},"",""]
["2019-08-04",1,"Sunday","01:00:00",{"$f":"INDEX(Lists!$M$3:$M$26,MATCH(Calculations!D84,Lists!$L$3:$L$26,0))","v":"NT"},1,{"$f":"IF(INDEX(Inputs!$H$86:$H$253,MATCH(F84,Inputs!$D$86:$D$253,0)),\"TRUE 4\",\nIF(INDEX(Inputs!$G$86:$G$253,MATCH(F84,Inputs!$D$86:$D$253,0)),\"TRUE 3\",\nIF(INDEX(Inputs!$F$86:$F$253,MATCH(F84,Inputs!$D$86:$D$253,0)),\"TRUE 2\",\nIF(INDEX(Inputs!$E$86:$E$253,MATCH(F84,Inputs!$D$86:$D$253,0)),\"TRUE 1\",\nFALSE))))","v":false},null,{"$f":"'Volume Import'!C75*'Volume Import'!$H$14*(1+'Volume Import'!$H$15)*(1-'Volume Import'!$H$16)","v":478},{"$f":"IF(AND('Volume Import'!D75=0,'Volume Import'!C75=0),0,\nIF('Volume Import'!D75=0,INDEX('Volume Import'!$K$2:$Q$5,MATCH(E84,'Volume Import'!$R$2:$R$5,0),MATCH(C84,'Volume Import'!$K$1:$Q$1,0)),\n'Volume Import'!D75/'Volume Import'!C75))","v":0.1},null,{"$f":"'Volume Import'!E75*'Volume Import'!$I$14*(1+'Volume Import'!$I$15)*(1-'Volume Import'!$I$16)","v":615},{"$f":"IF('Volume Import'!F75=0,J84,'Volume Import'!F75/'Volume Import'!E75)","v":0.1},null,{"$f":"IF(G84=\"TRUE 1\",IF(E84=\"NT\",Inputs!$C$35,Inputs!$C$34),\nIF(G84=\"TRUE 2\",IF(E84=\"NT\",Inputs!$D$35,Inputs!$D$34),\nIF(G84=\"TRUE 3\",IF(E84=\"NT\",Inputs!$E$35,Inputs!$E$34),\nIF(G84=\"TRUE 4\",IF(E84=\"NT\",Inputs!$F$35,Inputs!$F$34),\nO83))))","v":65.476687896673383},{"$f":"IF(G84=\"TRUE 1\",IF(E84=\"NT\",MROUND(Inputs!$C$32*$P$3*(1/(1+J84*(2-1))),1),MROUND(Inputs!$C$30*$P$3*(1/(1+J84*(2-1))),1)),\nIF(G84=\"TRUE 2\",IF(E84=\"NT\",MROUND(Inputs!$D$32*$Q$3*(1/(1+J84*(2-1))),1),MROUND(Inputs!$D$30*$Q$3*(1/(1+J84*(2-1))),1)),\nIF(G84=\"TRUE 3\",IF(E84=\"NT\",MROUND(Inputs!$E$32*$R$3*(1/(1+J84*(2-1))),1),MROUND(Inputs!$E$30*$R$3*(1/(1+J84*(2-1))),1)),\nIF(G84=\"TRUE 4\",IF(E84=\"NT\",MROUND(Inputs!$F$32*$S$3*(1/(1+J84*(2-1))),1),MROUND(Inputs!$F$30*$S$3*(1/(1+J84*(2-1))),1)),\nMROUND(Inputs!$C$15*(1/(1+J84*(2-1)))*($P$3+$P$4),1)))))","v":8727},-8249,0,{"$f":"(R84/(1/(1+J84*(2-1))))*O84/LEFT(Inputs!$C$18,1)/5280","v":0},0,{"$f":"(T84/60)*((Inputs!$C$13*Calculations!R84*(1-Calculations!J84))+(Inputs!$C$14*Calculations!R84*Calculations!J84))","v":0},{"$f":"IF(R84>0,($J$5/60)*(((I84*$J$3/(1-$J$3))*(1-J84)*Inputs!$C$13)+((I84*$J$3/(1-$J$3))*J84*Inputs!$C$14)),0)","v":0},0,null,"2019-08-04T01:00:00","","",{"$f":"IF(AND(Z84<>\"\",AA84<>\"\"),MAX(INDIRECT(Z84):INDIRECT(AA84)),\"\")","v":""},"","",null,{"$f":"IF(G84=\"TRUE 1\",IF(E84=\"NT\",MROUND(Inputs!$C$32*$AF$3*(1/(1+M84*(2-1))),1),MROUND(Inputs!$C$30*$AF$3*(1/(1+M84*(2-1))),1)),\nIF(G84=\"TRUE 2\",IF(E84=\"NT\",MROUND(Inputs!$D$32*$AG$3*(1/(1+M84*(2-1))),1),MROUND(Inputs!$D$30*$AG$3*(1/(1+M84*(2-1))),1)),\nIF(G84=\"TRUE 3\",IF(E84=\"NT\",MROUND(Inputs!$E$32*$AH$3*(1/(1+M84*(2-1))),1),MROUND(Inputs!$E$30*$AH$3*(1/(1+M84*(2-1))),1)),\nIF(G84=\"TRUE 4\",IF(E84=\"NT\",MROUND(Inputs!$F$32*$AI$3*(1/(1+M84*(2-1))),1),MROUND(Inputs!$F$30*$AI$3*(1/(1+M84*(2-1))),1)),\nMROUND(Inputs!$C$15*(1/(1+M84*(2-1)))*($AF$3+$AF$4),1)))))","v":8727},-8112,0,{"$f":"(AH84/(1/(1+M84*(2-1))))*O84/LEFT(Inputs!$C$18,1)/5280","v":0},0,{"$f":"(AJ84/60)*((Inputs!$C$13*Calculations!AH84*(1-Calculations!M84))+(Inputs!$C$14*Calculations!AH84*Calculations!M84))","v":0},{"$f":"IF(AH84>0,($M$5/60)*(((L84*$M$3/(1-$M$3))*(1-M84)*Inputs!$C$13)+((L84*$M$3/(1-$M$3))*M84*Inputs!$C$14)),0)","v":0},0,null,"2019-08-04T01:00:00","","",{"$f":"IF(AND(AP84<>\"\",AQ84<>\"\"),MAX(INDIRECT(AP84):INDIRECT(AQ84)),\"\")","v":""},"",""]
["2019-08-04",1,"Sunday","02:00:00",{"$f":"INDEX(Lists!$M$3:$M$26,MATCH(Calculations!D85,Lists!$L$3:$L$26,0))","v":"NT"},2,{"$f":"IF(INDEX(Inputs!$H$86:$H$253,MATCH(F85,Inputs!$D$86:$D$253,0)),\"TRUE 4\",\nIF(INDEX(Inputs!$G$86:$G$253,MATCH(F85,Inputs!$D$86:$D$253,0)),\"TRUE 3\",\nIF(INDEX(Inputs!$F$86:$F$253,MATCH(F85,Inputs!$D$86:$D$253,0)),\"TRUE 2\",\nIF(INDEX(Inputs!$E$86:$E$253,MATCH(F85,Inputs!$D$86:$D$253,0)),\"TRUE 1\",\nFALSE))))","v":false},null,{"$f":"'Volume Import'!C76*'Volume Import'!$H$14*(1+'Volume Import'!$H$15)*(1-'Volume Import'!$H$16)","v":352},{"$f":"IF(AND('Volume Import'!D76=0,'Volume Import'!C76=0),0,\nIF('Volume Import'!D76=0,INDEX('Volume Import'!$K$2:$Q$5,MATCH(E85,'Volume Import'!$R$2:$R$5,0),MATCH(C85,'Volume Import'!$K$1:$Q$1,0)),\n'Volume Import'!D76/'Volume Import'!C76))","v":0.1},null,{"$f":"'Volume Import'!E76*'Volume Import'!$I$14*(1+'Volume Import'!$I$15)*(1-'Volume Import'!$I$16)","v":439},{"$f":"IF('Volume Import'!F76=0,J85,'Volume Import'!F76/'Volume Import'!E76)","v":0.1},null,{"$f":"IF(G85=\"TRUE 1\",IF(E85=\"NT\",Inputs!$C$35,Inputs!$C$34),\nIF(G85=\"TRUE 2\",IF(E85=\"NT\",Inputs!$D$35,Inputs!$D$34),\nIF(G85=\"TRUE 3\",IF(E85=\"NT\",Inputs!$E$35,Inputs!$E$34),\nIF(G85=\"TRUE 4\",IF(E85=\"NT\",Inputs!$F$35,Inputs!$F$34),\nO84))))","v":65.476687896673383},{"$f":"IF(G85=\"TRUE 1\",IF(E85=\"NT\",MROUND(Inputs!$C$32*$P$3*(1/(1+J85*(2-1))),1),MROUND(Inputs!$C$30*$P$3*(1/(1+J85*(2-1))),1)),\nIF(G85=\"TRUE 2\",IF(E85=\"NT\",MROUND(Inputs!$D$32*$Q$3*(1/(1+J85*(2-1))),1),MROUND(Inputs!$D$30*$Q$3*(1/(1+J85*(2-1))),1)),\nIF(G85=\"TRUE 3\",IF(E85=\"NT\",MROUND(Inputs!$E$32*$R$3*(1/(1+J85*(2-1))),1),MROUND(Inputs!$E$30*$R$3*(1/(1+J85*(2-1))),1)),\nIF(G85=\"TRUE 4\",IF(E85=\"NT\",MROUND(Inputs!$F$32*$S$3*(1/(1+J85*(2-1))),1),MROUND(Inputs!$F$30*$S$3*(1/(1+J85*(2-1))),1)),\nMROUND(Inputs!$C$15*(1/(1+J85*(2-1)))*($P$3+$P$4),1)))))","v":8727},-8375,0,{"$f":"(R85/(1/(1+J85*(2-1))))*O85/LEFT(Inputs!$C$18,1)/5280","v":0},0,{"$f":"(T85/60)*((Inputs!$C$13*Calculations!R85*(1-Calculations!J85))+(Inputs!$C$14*Calculations!R85*Calculations!J85))","v":0},{"$f":"IF(R85>0,($J$5/60)*(((I85*$J$3/(1-$J$3))*(1-J85)*Inputs!$C$13)+((I85*$J$3/(1-$J$3))*J85*Inputs!$C$14)),0)","v":0},0,null,"2019-08-04T02:00:00","","",{"$f":"IF(AND(Z85<>\"\",AA85<>\"\"),MAX(INDIRECT(Z85):INDIRECT(AA85)),\"\")","v":""},"","",null,{"$f":"IF(G85=\"TRUE 1\",IF(E85=\"NT\",MROUND(Inputs!$C$32*$AF$3*(1/(1+M85*(2-1))),1),MROUND(Inputs!$C$30*$AF$3*(1/(1+M85*(2-1))),1)),\nIF(G85=\"TRUE 2\",IF(E85=\"NT\",MROUND(Inputs!$D$32*$AG$3*(1/(1+M85*(2-1))),1),MROUND(Inputs!$D$30*$AG$3*(1/(1+M85*(2-1))),1)),\nIF(G85=\"TRUE 3\",IF(E85=\"NT\",MROUND(Inputs!$E$32*$AH$3*(1/(1+M85*(2-1))),1),MROUND(Inputs!$E$30*$AH$3*(1/(1+M85*(2-1))),1)),\nIF(G85=\"TRUE 4\",IF(E85=\"NT\",MROUND(Inputs!$F$32*$AI$3*(1/(1+M85*(2-1))),1),MROUND(Inputs!$F$30*$AI$3*(1/(1+M85*(2-1))),1)),\nMROUND(Inputs!$C$15*(1/(1+M85*(2-1)))*($AF$3+$AF$4),1)))))","v":8727},-8288,0,{"$f":"(AH85/(1/(1+M85*(2-1))))*O85/LEFT(Inputs!$C$18,1)/5280","v":0},0,{"$f":"(AJ85/60)*((Inputs!$C$13*Calculations!AH85*(1-Calculations!M85))+(Inputs!$C$14*Calculations!AH85*Calculations!M85))","v":0},{"$f":"IF(AH85>0,($M$5/60)*(((L85*$M$3/(1-$M$3))*(1-M85)*Inputs!$C$13)+((L85*$M$3/(1-$M$3))*M85*Inputs!$C$14)),0)","v":0},0,null,"2019-08-04T02:00:00","","",{"$f":"IF(AND(AP85<>\"\",AQ85<>\"\"),MAX(INDIRECT(AP85):INDIRECT(AQ85)),\"\")","v":""},"",""]
["2019-08-04",1,"Sunday","03:00:00",{"$f":"INDEX(Lists!$M$3:$M$26,MATCH(Calculations!D86,Lists!$L$3:$L$26,0))","v":"NT"},3,{"$f":"IF(INDEX(Inputs!$H$86:$H$253,MATCH(F86,Inputs!$D$86:$D$253,0)),\"TRUE 4\",\nIF(INDEX(Inputs!$G$86:$G$253,MATCH(F86,Inputs!$D$86:$D$253,0)),\"TRUE 3\",\nIF(INDEX(Inputs!$F$86:$F$253,MATCH(F86,Inputs!$D$86:$D$253,0)),\"TRUE 2\",\nIF(INDEX(Inputs!$E$86:$E$253,MATCH(F86,Inputs!$D$86:$D$253,0)),\"TRUE 1\",\nFALSE))))","v":false},null,{"$f":"'Volume Import'!C77*'Volume Import'!$H$14*(1+'Volume Import'!$H$15)*(1-'Volume Import'!$H$16)","v":274},{"$f":"IF(AND('Volume Import'!D77=0,'Volume Import'!C77=0),0,\nIF('Volume Import'!D77=0,INDEX('Volume Import'!$K$2:$Q$5,MATCH(E86,'Volume Import'!$R$2:$R$5,0),MATCH(C86,'Volume Import'!$K$1:$Q$1,0)),\n'Volume Import'!D77/'Volume Import'!C77))","v":0.1},null,{"$f":"'Volume Import'!E77*'Volume Import'!$I$14*(1+'Volume Import'!$I$15)*(1-'Volume Import'!$I$16)","v":393},{"$f":"IF('Volume Import'!F77=0,J86,'Volume Import'!F77/'Volume Import'!E77)","v":0.1},null,{"$f":"IF(G86=\"TRUE 1\",IF(E86=\"NT\",Inputs!$C$35,Inputs!$C$34),\nIF(G86=\"TRUE 2\",IF(E86=\"NT\",Inputs!$D$35,Inputs!$D$34),\nIF(G86=\"TRUE 3\",IF(E86=\"NT\",Inputs!$E$35,Inputs!$E$34),\nIF(G86=\"TRUE 4\",IF(E86=\"NT\",Inputs!$F$35,Inputs!$F$34),\nO85))))","v":65.476687896673383},{"$f":"IF(G86=\"TRUE 1\",IF(E86=\"NT\",MROUND(Inputs!$C$32*$P$3*(1/(1+J86*(2-1))),1),MROUND(Inputs!$C$30*$P$3*(1/(1+J86*(2-1))),1)),\nIF(G86=\"TRUE 2\",IF(E86=\"NT\",MROUND(Inputs!$D$32*$Q$3*(1/(1+J86*(2-1))),1),MROUND(Inputs!$D$30*$Q$3*(1/(1+J86*(2-1))),1)),\nIF(G86=\"TRUE 3\",IF(E86=\"NT\",MROUND(Inputs!$E$32*$R$3*(1/(1+J86*(2-1))),1),MROUND(Inputs!$E$30*$R$3*(1/(1+J86*(2-1))),1)),\nIF(G86=\"TRUE 4\",IF(E86=\"NT\",MROUND(Inputs!$F$32*$S$3*(1/(1+J86*(2-1))),1),MROUND(Inputs!$F$30*$S$3*(1/(1+J86*(2-1))),1)),\nMROUND(Inputs!$C$15*(1/(1+J86*(2-1)))*($P$3+$P$4),1)))))","v":8727},-8453,0,{"$f":"(R86/(1/(1+J86*(2-1))))*O86/LEFT(Inputs!$C$18,1)/5280","v":0},0,{"$f":"(T86/60)*((Inputs!$C$13*Calculations!R86*(1-Calculations!J86))+(Inputs!$C$14*Calculations!R86*Calculations!J86))","v":0},{"$f":"IF(R86>0,($J$5/60)*(((I86*$J$3/(1-$J$3))*(1-J86)*Inputs!$C$13)+((I86*$J$3/(1-$J$3))*J86*Inputs!$C$14)),0)","v":0},0,null,"2019-08-04T03:00:00","","",{"$f":"IF(AND(Z86<>\"\",AA86<>\"\"),MAX(INDIRECT(Z86):INDIRECT(AA86)),\"\")","v":""},"","",null,{"$f":"IF(G86=\"TRUE 1\",IF(E86=\"NT\",MROUND(Inputs!$C$32*$AF$3*(1/(1+M86*(2-1))),1),MROUND(Inputs!$C$30*$AF$3*(1/(1+M86*(2-1))),1)),\nIF(G86=\"TRUE 2\",IF(E86=\"NT\",MROUND(Inputs!$D$32*$AG$3*(1/(1+M86*(2-1))),1),MROUND(Inputs!$D$30*$AG$3*(1/(1+M86*(2-1))),1)),\nIF(G86=\"TRUE 3\",IF(E86=\"NT\",MROUND(Inputs!$E$32*$AH$3*(1/(1+M86*(2-1))),1),MROUND(Inputs!$E$30*$AH$3*(1/(1+M86*(2-1))),1)),\nIF(G86=\"TRUE 4\",IF(E86=\"NT\",MROUND(Inputs!$F$32*$AI$3*(1/(1+M86*(2-1))),1),MROUND(Inputs!$F$30*$AI$3*(1/(1+M86*(2-1))),1)),\nMROUND(Inputs!$C$15*(1/(1+M86*(2-1)))*($AF$3+$AF$4),1)))))","v":8727},-8334,0,{"$f":"(AH86/(1/(1+M86*(2-1))))*O86/LEFT(Inputs!$C$18,1)/5280","v":0},0,{"$f":"(AJ86/60)*((Inputs!$C$13*Calculations!AH86*(1-Calculations!M86))+(Inputs!$C$14*Calculations!AH86*Calculations!M86))","v":0},{"$f":"IF(AH86>0,($M$5/60)*(((L86*$M$3/(1-$M$3))*(1-M86)*Inputs!$C$13)+((L86*$M$3/(1-$M$3))*M86*Inputs!$C$14)),0)","v":0},0,null,"2019-08-04T03:00:00","","",{"$f":"IF(AND(AP86<>\"\",AQ86<>\"\"),MAX(INDIRECT(AP86):INDIRECT(AQ86)),\"\")","v":""},"",""]
["2019-08-04",1,"Sunday","04:00:00",{"$f":"INDEX(Lists!$M$3:$M$26,MATCH(Calculations!D87,Lists!$L$3:$L$26,0))","v":"NT"},4,{"$f":"IF(INDEX(Inputs!$H$86:$H$253,MATCH(F87,Inputs!$D$86:$D$253,0)),\"TRUE 4\",\nIF(INDEX(Inputs!$G$86:$G$253,MATCH(F87,Inputs!$D$86:$D$253,0)),\"TRUE 3\",\nIF(INDEX(Inputs!$F$86:$F$253,MATCH(F87,Inputs!$D$86:$D$253,0)),\"TRUE 2\",\nIF(INDEX(Inputs!$E$86:$E$253,MATCH(F87,Inputs!$D$86:$D$253,0)),\"TRUE 1\",\nFALSE))))","v":false},null,{"$f":"'Volume Import'!C78*'Volume Import'!$H$14*(1+'Volume Import'!$H$15)*(1-'Volume Import'!$H$16)","v":338},{"$f":"IF(AND('Volume Import'!D78=0,'Volume Import'!C78=0),0,\nIF('Volume Import'!D78=0,INDEX('Volume Import'!$K$2:$Q$5,MATCH(E87,'Volume Import'!$R$2:$R$5,0),MATCH(C87,'Volume Import'!$K$1:$Q$1,0)),\n'Volume Import'!D78/'Volume Import'!C78))","v":0.1},null,{"$f":"'Volume Import'!E78*'Volume Import'!$I$14*(1+'Volume Import'!$I$15)*(1-'Volume Import'!$I$16)","v":445},{"$f":"IF('Volume Import'!F78=0,J87,'Volume Import'!F78/'Volume Import'!E78)","v":0.1},null,{"$f":"IF(G87=\"TRUE 1\",IF(E87=\"NT\",Inputs!$C$35,Inputs!$C$34),\nIF(G87=\"TRUE 2\",IF(E87=\"NT\",Inputs!$D$35,Inputs!$D$34),\nIF(G87=\"TRUE 3\",IF(E87=\"NT\",Inputs!$E$35,Inputs!$E$34),\nIF(G87=\"TRUE 4\",IF(E87=\"NT\",Inputs!$F$35,Inputs!$F$34),\nO86))))","v":65.476687896673383},{"$f":"IF(G87=\"TRUE 1\",IF(E87=\"NT\",MROUND(Inputs!$C$32*$P$3*(1/(1+J87*(2-1))),1),MROUND(Inputs!$C$30*$P$3*(1/(1+J87*(2-1))),1)),\nIF(G87=\"TRUE 2\",IF(E87=\"NT\",MROUND(Inputs!$D$32*$Q$3*(1/(1+J87*(2-1))),1),MROUND(Inputs!$D$30*$Q$3*(1/(1+J87*(2-1))),1)),\nIF(G87=\"TRUE 3\",IF(E87=\"NT\",MROUND(Inputs!$E$32*$R$3*(1/(1+J87*(2-1))),1),MROUND(Inputs!$E$30*$R$3*(1/(1+J87*(2-1))),1)),\nIF(G87=\"TRUE 4\",IF(E87=\"NT\",MROUND(Inputs!$F$32*$S$3*(1/(1+J87*(2-1))),1),MROUND(Inputs!$F$30*$S$3*(1/(1+J87*(2-1))),1)),\nMROUND(Inputs!$C$15*(1/(1+J87*(2-1)))*($P$3+$P$4),1)))))","v":8727},-8389,0,{"$f":"(R87/(1/(1+J87*(2-1))))*O87/LEFT(Inputs!$C$18,1)/5280","v":0},0,{"$f":"(T87/60)*((Inputs!$C$13*Calculations!R87*(1-Calculations!J87))+(Inputs!$C$14*Calculations!R87*Calculations!J87))","v":0},{"$f":"IF(R87>0,($J$5/60)*(((I87*$J$3/(1-$J$3))*(1-J87)*Inputs!$C$13)+((I87*$J$3/(1-$J$3))*J87*Inputs!$C$14)),0)","v":0},0,null,"2019-08-04T04:00:00","","",{"$f":"IF(AND(Z87<>\"\",AA87<>\"\"),MAX(INDIRECT(Z87):INDIRECT(AA87)),\"\")","v":""},"","",null,{"$f":"IF(G87=\"TRUE 1\",IF(E87=\"NT\",MROUND(Inputs!$C$32*$AF$3*(1/(1+M87*(2-1))),1),MROUND(Inputs!$C$30*$AF$3*(1/(1+M87*(2-1))),1)),\nIF(G87=\"TRUE 2\",IF(E87=\"NT\",MROUND(Inputs!$D$32*$AG$3*(1/(1+M87*(2-1))),1),MROUND(Inputs!$D$30*$AG$3*(1/(1+M87*(2-1))),1)),\nIF(G87=\"TRUE 3\",IF(E87=\"NT\",MROUND(Inputs!$E$32*$AH$3*(1/(1+M87*(2-1))),1),MROUND(Inputs!$E$30*$AH$3*(1/(1+M87*(2-1))),1)),\nIF(G87=\"TRUE 4\",IF(E87=\"NT\",MROUND(Inputs!$F$32*$AI$3*(1/(1+M87*(2-1))),1),MROUND(Inputs!$F$30*$AI$3*(1/(1+M87*(2-1))),1)),\nMROUND(Inputs!$C$15*(1/(1+M87*(2-1)))*($AF$3+$AF$4),1)))))","v":8727},-8282,0,{"$f":"(AH87/(1/(1+M87*(2-1))))*O87/LEFT(Inputs!$C$18,1)/5280","v":0},0,{"$f":"(AJ87/60)*((Inputs!$C$13*Calculations!AH87*(1-Calculations!M87))+(Inputs!$C$14*Calculations!AH87*Calculations!M87))","v":0},{"$f":"IF(AH87>0,($M$5/60)*(((L87*$M$3/(1-$M$3))*(1-M87)*Inputs!$C$13)+((L87*$M$3/(1-$M$3))*M87*Inputs!$C$14)),0)","v":0},0,null,"2019-08-04T04:00:00","","",{"$f":"IF(AND(AP87<>\"\",AQ87<>\"\"),MAX(INDIRECT(AP87):INDIRECT(AQ87)),\"\")","v":""},"",""]
["2019-08-04",1,"Sunday","05:00:00",{"$f":"INDEX(Lists!$M$3:$M$26,MATCH(Calculations!D88,Lists!$L$3:$L$26,0))","v":"NT"},5,{"$f":"IF(INDEX(Inputs!$H$86:$H$253,MATCH(F88,Inputs!$D$86:$D$253,0)),\"TRUE 4\",\nIF(INDEX(Inputs!$G$86:$G$253,MATCH(F88,Inputs!$D$86:$D$253,0)),\"TRUE 3\",\nIF(INDEX(Inputs!$F$86:$F$253,MATCH(F88,Inputs!$D$86:$D$253,0)),\"TRUE 2\",\nIF(INDEX(Inputs!$E$86:$E$253,MATCH(F88,Inputs!$D$86:$D$253,0)),\"TRUE 1\",\nFALSE))))","v":false},null,{"$f":"'Volume Import'!C79*'Volume Import'!$H$14*(1+'Volume Import'!$H$15)*(1-'Volume Import'!$H$16)","v":602},{"$f":"IF(AND('Volume Import'!D79=0,'Volume Import'!C79=0),0,\nIF('Volume Import'!D79=0,INDEX('Volume Import'!$K$2:$Q$5,MATCH(E88,'Volume Import'!$R$2:$R$5,0),MATCH(C88,'Volume Import'!$K$1:$Q$1,0)),\n'Volume Import'!D79/'Volume Import'!C79))","v":0.1},null,{"$f":"'Volume Import'!E79*'Volume Import'!$I$14*(1+'Volume Import'!$I$15)*(1-'Volume Import'!$I$16)","v":600},{"$f":"IF('Volume Import'!F79=0,J88,'Volume Import'!F79/'Volume Import'!E79)","v":0.1},null,{"$f":"IF(G88=\"TRUE 1\",IF(E88=\"NT\",Inputs!$C$35,Inputs!$C$34),\nIF(G88=\"TRUE 2\",IF(E88=\"NT\",Inputs!$D$35,Inputs!$D$34),\nIF(G88=\"TRUE 3\",IF(E88=\"NT\",Inputs!$E$35,Inputs!$E$34),\nIF(G88=\"TRUE 4\",IF(E88=\"NT\",Inputs!$F$35,Inputs!$F$34),\nO87))))","v":65.476687896673383},{"$f":"IF(G88=\"TRUE 1\",IF(E88=\"NT\",MROUND(Inputs!$C$32*$P$3*(1/(1+J88*(2-1))),1),MROUND(Inputs!$C$30*$P$3*(1/(1+J88*(2-1))),1)),\nIF(G88=\"TRUE 2\",IF(E88=\"NT\",MROUND(Inputs!$D$32*$Q$3*(1/(1+J88*(2-1))),1),MROUND(Inputs!$D$30*$Q$3*(1/(1+J88*(2-1))),1)),\nIF(G88=\"TRUE 3\",IF(E88=\"NT\",MROUND(Inputs!$E$32*$R$3*(1/(1+J88*(2-1))),1),MROUND(Inputs!$E$30*$R$3*(1/(1+J88*(2-1))),1)),\nIF(G88=\"TRUE 4\",IF(E88=\"NT\",MROUND(Inputs!$F$32*$S$3*(1/(1+J88*(2-1))),1),MROUND(Inputs!$F$30*$S$3*(1/(1+J88*(2-1))),1)),\nMROUND(Inputs!$C$15*(1/(1+J88*(2-1)))*($P$3+$P$4),1)))))","v":8727},-8125,0,{"$f":"(R88/(1/(1+J88*(2-1))))*O88/LEFT(Inputs!$C$18,1)/5280","v":0},0,{"$f":"(T88/60)*((Inputs!$C$13*Calculations!R88*(1-Calculations!J88))+(Inputs!$C$14*Calculations!R88*Calculations!J88))","v":0},{"$f":"IF(R88>0,($J$5/60)*(((I88*$J$3/(1-$J$3))*(1-J88)*Inputs!$C$13)+((I88*$J$3/(1-$J$3))*J88*Inputs!$C$14)),0)","v":0},0,null,"2019-08-04T05:00:00","","",{"$f":"IF(AND(Z88<>\"\",AA88<>\"\"),MAX(INDIRECT(Z88):INDIRECT(AA88)),\"\")","v":""},"","",null,{"$f":"IF(G88=\"TRUE 1\",IF(E88=\"NT\",MROUND(Inputs!$C$32*$AF$3*(1/(1+M88*(2-1))),1),MROUND(Inputs!$C$30*$AF$3*(1/(1+M88*(2-1))),1)),\nIF(G88=\"TRUE 2\",IF(E88=\"NT\",MROUND(Inputs!$D$32*$AG$3*(1/(1+M88*(2-1))),1),MROUND(Inputs!$D$30*$AG$3*(1/(1+M88*(2-1))),1)),\nIF(G88=\"TRUE 3\",IF(E88=\"NT\",MROUND(Inputs!$E$32*$AH$3*(1/(1+M88*(2-1))),1),MROUND(Inputs!$E$30*$AH$3*(1/(1+M88*(2-1))),1)),\nIF(G88=\"TRUE 4\",IF(E88=\"NT\",MROUND(Inputs!$F$32*$AI$3*(1/(1+M88*(2-1))),1),MROUND(Inputs!$F$30*$AI$3*(1/(1+M88*(2-1))),1)),\nMROUND(Inputs!$C$15*(1/(1+M88*(2-1)))*($AF$3+$AF$4),1)))))","v":8727},-8127,0,{"$f":"(AH88/(1/(1+M88*(2-1))))*O88/LEFT(Inputs!$C$18,1)/5280","v":0},0,{"$f":"(AJ88/60)*((Inputs!$C$13*Calculations!AH88*(1-Calculations!M88))+(Inputs!$C$14*Calculations!AH88*Calculations!M88))","v":0},{"$f":"IF(AH88>0,($M$5/60)*(((L88*$M$3/(1-$M$3))*(1-M88)*Inputs!$C$13)+((L88*$M$3/(1-$M$3))*M88*Inputs!$C$14)),0)","v":0},0,null,"2019-08-04T05:00:00","","",{"$f":"IF(AND(AP88<>\"\",AQ88<>\"\"),MAX(INDIRECT(AP88):INDIRECT(AQ88)),\"\")","v":""},"",""]
["2019-08-04",1,"Sunday","06:00:00",{"$f":"INDEX(Lists!$M$3:$M$26,MATCH(Calculations!D89,Lists!$L$3:$L$26,0))","v":"AM"},6,{"$f":"IF(INDEX(Inputs!$H$86:$H$253,MATCH(F89,Inputs!$D$86:$D$253,0)),\"TRUE 4\",\nIF(INDEX(Inputs!$G$86:$G$253,MATCH(F89,Inputs!$D$86:$D$253,0)),\"TRUE 3\",\nIF(INDEX(Inputs!$F$86:$F$253,MATCH(F89,Inputs!$D$86:$D$253,0)),\"TRUE 2\",\nIF(INDEX(Inputs!$E$86:$E$253,MATCH(F89,Inputs!$D$86:$D$253,0)),\"TRUE 1\",\nFALSE))))","v":false},null,{"$f":"'Volume Import'!C80*'Volume Import'!$H$14*(1+'Volume Import'!$H$15)*(1-'Volume Import'!$H$16)","v":1126},{"$f":"IF(AND('Volume Import'!D80=0,'Volume Import'!C80=0),0,\nIF('Volume Import'!D80=0,INDEX('Volume Import'!$K$2:$Q$5,MATCH(E89,'Volume Import'!$R$2:$R$5,0),MATCH(C89,'Volume Import'!$K$1:$Q$1,0)),\n'Volume Import'!D80/'Volume Import'!C80))","v":0.1},null,{"$f":"'Volume Import'!E80*'Volume Import'!$I$14*(1+'Volume Import'!$I$15)*(1-'Volume Import'!$I$16)","v":921},{"$f":"IF('Volume Import'!F80=0,J89,'Volume Import'!F80/'Volume Import'!E80)","v":0.1},null,{"$f":"IF(G89=\"TRUE 1\",IF(E89=\"NT\",Inputs!$C$35,Inputs!$C$34),\nIF(G89=\"TRUE 2\",IF(E89=\"NT\",Inputs!$D$35,Inputs!$D$34),\nIF(G89=\"TRUE 3\",IF(E89=\"NT\",Inputs!$E$35,Inputs!$E$34),\nIF(G89=\"TRUE 4\",IF(E89=\"NT\",Inputs!$F$35,Inputs!$F$34),\nO88))))","v":65.476687896673383},{"$f":"IF(G89=\"TRUE 1\",IF(E89=\"NT\",MROUND(Inputs!$C$32*$P$3*(1/(1+J89*(2-1))),1),MROUND(Inputs!$C$30*$P$3*(1/(1+J89*(2-1))),1)),\nIF(G89=\"TRUE 2\",IF(E89=\"NT\",MROUND(Inputs!$D$32*$Q$3*(1/(1+J89*(2-1))),1),MROUND(Inputs!$D$30*$Q$3*(1/(1+J89*(2-1))),1)),\nIF(G89=\"TRUE 3\",IF(E89=\"NT\",MROUND(Inputs!$E$32*$R$3*(1/(1+J89*(2-1))),1),MROUND(Inputs!$E$30*$R$3*(1/(1+J89*(2-1))),1)),\nIF(G89=\"TRUE 4\",IF(E89=\"NT\",MROUND(Inputs!$F$32*$S$3*(1/(1+J89*(2-1))),1),MROUND(Inputs!$F$30*$S$3*(1/(1+J89*(2-1))),1)),\nMROUND(Inputs!$C$15*(1/(1+J89*(2-1)))*($P$3+$P$4),1)))))","v":8727},-7601,0,{"$f":"(R89/(1/(1+J89*(2-1))))*O89/LEFT(Inputs!$C$18,1)/5280","v":0},0,{"$f":"(T89/60)*((Inputs!$C$13*Calculations!R89*(1-Calculations!J89))+(Inputs!$C$14*Calculations!R89*Calculations!J89))","v":0},{"$f":"IF(R89>0,($J$5/60)*(((I89*$J$3/(1-$J$3))*(1-J89)*Inputs!$C$13)+((I89*$J$3/(1-$J$3))*J89*Inputs!$C$14)),0)","v":0},0,null,"2019-08-04T06:00:00","","",{"$f":"IF(AND(Z89<>\"\",AA89<>\"\"),MAX(INDIRECT(Z89):INDIRECT(AA89)),\"\")","v":""},"","",null,{"$f":"IF(G89=\"TRUE 1\",IF(E89=\"NT\",MROUND(Inputs!$C$32*$AF$3*(1/(1+M89*(2-1))),1),MROUND(Inputs!$C$30*$AF$3*(1/(1+M89*(2-1))),1)),\nIF(G89=\"TRUE 2\",IF(E89=\"NT\",MROUND(Inputs!$D$32*$AG$3*(1/(1+M89*(2-1))),1),MROUND(Inputs!$D$30*$AG$3*(1/(1+M89*(2-1))),1)),\nIF(G89=\"TRUE 3\",IF(E89=\"NT\",MROUND(Inputs!$E$32*$AH$3*(1/(1+M89*(2-1))),1),MROUND(Inputs!$E$30*$AH$3*(1/(1+M89*(2-1))),1)),\nIF(G89=\"TRUE 4\",IF(E89=\"NT\",MROUND(Inputs!$F$32*$AI$3*(1/(1+M89*(2-1))),1),MROUND(Inputs!$F$30*$AI$3*(1/(1+M89*(2-1))),1)),\nMROUND(Inputs!$C$15*(1/(1+M89*(2-1)))*($AF$3+$AF$4),1)))))","v":8727},-7806,0,{"$f":"(AH89/(1/(1+M89*(2-1))))*O89/LEFT(Inputs!$C$18,1)/5280","v":0},0,{"$f":"(AJ89/60)*((Inputs!$C$13*Calculations!AH89*(1-Calculations!M89))+(Inputs!$C$14*Calculations!AH89*Calculations!M89))","v":0},{"$f":"IF(AH89>0,($M$5/60)*(((L89*$M$3/(1-$M$3))*(1-M89)*Inputs!$C$13)+((L89*$M$3/(1-$M$3))*M89*Inputs!$C$14)),0)","v":0},0,null,"2019-08-04T06:00:00","","",{"$f":"IF(AND(AP89<>\"\",AQ89<>\"\"),MAX(INDIRECT(AP89):INDIRECT(AQ89)),\"\")","v":""},"",""]
["2019-08-04",1,"Sunday","07:00:00",{"$f":"INDEX(Lists!$M$3:$M$26,MATCH(Calculations!D90,Lists!$L$3:$L$26,0))","v":"AM"},7,{"$f":"IF(INDEX(Inputs!$H$86:$H$253,MATCH(F90,Inputs!$D$86:$D$253,0)),\"TRUE 4\",\nIF(INDEX(Inputs!$G$86:$G$253,MATCH(F90,Inputs!$D$86:$D$253,0)),\"TRUE 3\",\nIF(INDEX(Inputs!$F$86:$F$253,MATCH(F90,Inputs!$D$86:$D$253,0)),\"TRUE 2\",\nIF(INDEX(Inputs!$E$86:$E$253,MATCH(F90,Inputs!$D$86:$D$253,0)),\"TRUE 1\",\nFALSE))))","v":false},null,{"$f":"'Volume Import'!C81*'Volume Import'!$H$14*(1+'Volume Import'!$H$15)*(1-'Volume Import'!$H$16)","v":1478},{"$f":"IF(AND('Volume Import'!D81=0,'Volume Import'!C81=0),0,\nIF('Volume Import'!D81=0,INDEX('Volume Import'!$K$2:$Q$5,MATCH(E90,'Volume Import'!$R$2:$R$5,0),MATCH(C90,'Volume Import'!$K$1:$Q$1,0)),\n'Volume Import'!D81/'Volume Import'!C81))","v":0.1},null,{"$f":"'Volume Import'!E81*'Volume Import'!$I$14*(1+'Volume Import'!$I$15)*(1-'Volume Import'!$I$16)","v":1515},{"$f":"IF('Volume Import'!F81=0,J90,'Volume Import'!F81/'Volume Import'!E81)","v":0.1},null,{"$f":"IF(G90=\"TRUE 1\",IF(E90=\"NT\",Inputs!$C$35,Inputs!$C$34),\nIF(G90=\"TRUE 2\",IF(E90=\"NT\",Inputs!$D$35,Inputs!$D$34),\nIF(G90=\"TRUE 3\",IF(E90=\"NT\",Inputs!$E$35,Inputs!$E$34),\nIF(G90=\"TRUE 4\",IF(E90=\"NT\",Inputs!$F$35,Inputs!$F$34),\nO89))))","v":65.476687896673383},{"$f":"IF(G90=\"TRUE 1\",IF(E90=\"NT\",MROUND(Inputs!$C$32*$P$3*(1/(1+J90*(2-1))),1),MROUND(Inputs!$C$30*$P$3*(1/(1+J90*(2-1))),1)),\nIF(G90=\"TRUE 2\",IF(E90=\"NT\",MROUND(Inputs!$D$32*$Q$3*(1/(1+J90*(2-1))),1),MROUND(Inputs!$D$30*$Q$3*(1/(1+J90*(2-1))),1)),\nIF(G90=\"TRUE 3\",IF(E90=\"NT\",MROUND(Inputs!$E$32*$R$3*(1/(1+J90*(2-1))),1),MROUND(Inputs!$E$30*$R$3*(1/(1+J90*(2-1))),1)),\nIF(G90=\"TRUE 4\",IF(E90=\"NT\",MROUND(Inputs!$F$32*$S$3*(1/(1+J90*(2-1))),1),MROUND(Inputs!$F$30*$S$3*(1/(1+J90*(2-1))),1)),\nMROUND(Inputs!$C$15*(1/(1+J90*(2-1)))*($P$3+$P$4),1)))))","v":8727},-7249,0,{"$f":"(R90/(1/(1+J90*(2-1))))*O90/LEFT(Inputs!$C$18,1)/5280","v":0},0,{"$f":"(T90/60)*((Inputs!$C$13*Calculations!R90*(1-Calculations!J90))+(Inputs!$C$14*Calculations!R90*Calculations!J90))","v":0},{"$f":"IF(R90>0,($J$5/60)*(((I90*$J$3/(1-$J$3))*(1-J90)*Inputs!$C$13)+((I90*$J$3/(1-$J$3))*J90*Inputs!$C$14)),0)","v":0},0,null,"2019-08-04T07:00:00","","",{"$f":"IF(AND(Z90<>\"\",AA90<>\"\"),MAX(INDIRECT(Z90):INDIRECT(AA90)),\"\")","v":""},"","",null,{"$f":"IF(G90=\"TRUE 1\",IF(E90=\"NT\",MROUND(Inputs!$C$32*$AF$3*(1/(1+M90*(2-1))),1),MROUND(Inputs!$C$30*$AF$3*(1/(1+M90*(2-1))),1)),\nIF(G90=\"TRUE 2\",IF(E90=\"NT\",MROUND(Inputs!$D$32*$AG$3*(1/(1+M90*(2-1))),1),MROUND(Inputs!$D$30*$AG$3*(1/(1+M90*(2-1))),1)),\nIF(G90=\"TRUE 3\",IF(E90=\"NT\",MROUND(Inputs!$E$32*$AH$3*(1/(1+M90*(2-1))),1),MROUND(Inputs!$E$30*$AH$3*(1/(1+M90*(2-1))),1)),\nIF(G90=\"TRUE 4\",IF(E90=\"NT\",MROUND(Inputs!$F$32*$AI$3*(1/(1+M90*(2-1))),1),MROUND(Inputs!$F$30*$AI$3*(1/(1+M90*(2-1))),1)),\nMROUND(Inputs!$C$15*(1/(1+M90*(2-1)))*($AF$3+$AF$4),1)))))","v":8727},-7212,0,{"$f":"(AH90/(1/(1+M90*(2-1))))*O90/LEFT(Inputs!$C$18,1)/5280","v":0},0,{"$f":"(AJ90/60)*((Inputs!$C$13*Calculations!AH90*(1-Calculations!M90))+(Inputs!$C$14*Calculations!AH90*Calculations!M90))","v":0},{"$f":"IF(AH90>0,($M$5/60)*(((L90*$M$3/(1-$M$3))*(1-M90)*Inputs!$C$13)+((L90*$M$3/(1-$M$3))*M90*Inputs!$C$14)),0)","v":0},0,null,"2019-08-04T07:00:00","","",{"$f":"IF(AND(AP90<>\"\",AQ90<>\"\"),MAX(INDIRECT(AP90):INDIRECT(AQ90)),\"\")","v":""},"",""]
["2019-08-04",1,"Sunday","08:00:00",{"$f":"INDEX(Lists!$M$3:$M$26,MATCH(Calculations!D91,Lists!$L$3:$L$26,0))","v":"AM"},8,{"$f":"IF(INDEX(Inputs!$H$86:$H$253,MATCH(F91,Inputs!$D$86:$D$253,0)),\"TRUE 4\",\nIF(INDEX(Inputs!$G$86:$G$253,MATCH(F91,Inputs!$D$86:$D$253,0)),\"TRUE 3\",\nIF(INDEX(Inputs!$F$86:$F$253,MATCH(F91,Inputs!$D$86:$D$253,0)),\"TRUE 2\",\nIF(INDEX(Inputs!$E$86:$E$253,MATCH(F91,Inputs!$D$86:$D$253,0)),\"TRUE 1\",\nFALSE))))","v":false},null,{"$f":"'Volume Import'!C82*'Volume Import'!$H$14*(1+'Volume Import'!$H$15)*(1-'Volume Import'!$H$16)","v":2413},{"$f":"IF(AND('Volume Import'!D82=0,'Volume Import'!C82=0),0,\nIF('Volume Import'!D82=0,INDEX('Volume Import'!$K$2:$Q$5,MATCH(E91,'Volume Import'!$R$2:$R$5,0),MATCH(C91,'Volume Import'!$K$1:$Q$1,0)),\n'Volume Import'!D82/'Volume Import'!C82))","v":0.1},null,{"$f":"'Volume Import'!E82*'Volume Import'!$I$14*(1+'Volume Import'!$I$15)*(1-'Volume Import'!$I$16)","v":2185},{"$f":"IF('Volume Import'!F82=0,J91,'Volume Import'!F82/'Volume Import'!E82)","v":0.1},null,{"$f":"IF(G91=\"TRUE 1\",IF(E91=\"NT\",Inputs!$C$35,Inputs!$C$34),\nIF(G91=\"TRUE 2\",IF(E91=\"NT\",Inputs!$D$35,Inputs!$D$34),\nIF(G91=\"TRUE 3\",IF(E91=\"NT\",Inputs!$E$35,Inputs!$E$34),\nIF(G91=\"TRUE 4\",IF(E91=\"NT\",Inputs!$F$35,Inputs!$F$34),\nO90))))","v":65.476687896673383},{"$f":"IF(G91=\"TRUE 1\",IF(E91=\"NT\",MROUND(Inputs!$C$32*$P$3*(1/(1+J91*(2-1))),1),MROUND(Inputs!$C$30*$P$3*(1/(1+J91*(2-1))),1)),\nIF(G91=\"TRUE 2\",IF(E91=\"NT\",MROUND(Inputs!$D$32*$Q$3*(1/(1+J91*(2-1))),1),MROUND(Inputs!$D$30*$Q$3*(1/(1+J91*(2-1))),1)),\nIF(G91=\"TRUE 3\",IF(E91=\"NT\",MROUND(Inputs!$E$32*$R$3*(1/(1+J91*(2-1))),1),MROUND(Inputs!$E$30*$R$3*(1/(1+J91*(2-1))),1)),\nIF(G91=\"TRUE 4\",IF(E91=\"NT\",MROUND(Inputs!$F$32*$S$3*(1/(1+J91*(2-1))),1),MROUND(Inputs!$F$30*$S$3*(1/(1+J91*(2-1))),1)),\nMROUND(Inputs!$C$15*(1/(1+J91*(2-1)))*($P$3+$P$4),1)))))","v":8727},-6314,0,{"$f":"(R91/(1/(1+J91*(2-1))))*O91/LEFT(Inputs!$C$18,1)/5280","v":0},0,{"$f":"(T91/60)*((Inputs!$C$13*Calculations!R91*(1-Calculations!J91))+(Inputs!$C$14*Calculations!R91*Calculations!J91))","v":0},{"$f":"IF(R91>0,($J$5/60)*(((I91*$J$3/(1-$J$3))*(1-J91)*Inputs!$C$13)+((I91*$J$3/(1-$J$3))*J91*Inputs!$C$14)),0)","v":0},0,null,"2019-08-04T08:00:00","","",{"$f":"IF(AND(Z91<>\"\",AA91<>\"\"),MAX(INDIRECT(Z91):INDIRECT(AA91)),\"\")","v":""},"","",null,{"$f":"IF(G91=\"TRUE 1\",IF(E91=\"NT\",MROUND(Inputs!$C$32*$AF$3*(1/(1+M91*(2-1))),1),MROUND(Inputs!$C$30*$AF$3*(1/(1+M91*(2-1))),1)),\nIF(G91=\"TRUE 2\",IF(E91=\"NT\",MROUND(Inputs!$D$32*$AG$3*(1/(1+M91*(2-1))),1),MROUND(Inputs!$D$30*$AG$3*(1/(1+M91*(2-1))),1)),\nIF(G91=\"TRUE 3\",IF(E91=\"NT\",MROUND(Inputs!$E$32*$AH$3*(1/(1+M91*(2-1))),1),MROUND(Inputs!$E$30*$AH$3*(1/(1+M91*(2-1))),1)),\nIF(G91=\"TRUE 4\",IF(E91=\"NT\",MROUND(Inputs!$F$32*$AI$3*(1/(1+M91*(2-1))),1),MROUND(Inputs!$F$30*$AI$3*(1/(1+M91*(2-1))),1)),\nMROUND(Inputs!$C$15*(1/(1+M91*(2-1)))*($AF$3+$AF$4),1)))))","v":8727},-6542,0,{"$f":"(AH91/(1/(1+M91*(2-1))))*O91/LEFT(Inputs!$C$18,1)/5280","v":0},0,{"$f":"(AJ91/60)*((Inputs!$C$13*Calculations!AH91*(1-Calculations!M91))+(Inputs!$C$14*Calculations!AH91*Calculations!M91))","v":0},{"$f":"IF(AH91>0,($M$5/60)*(((L91*$M$3/(1-$M$3))*(1-M91)*Inputs!$C$13)+((L91*$M$3/(1-$M$3))*M91*Inputs!$C$14)),0)","v":0},0,null,"2019-08-04T08:00:00","","",{"$f":"IF(AND(AP91<>\"\",AQ91<>\"\"),MAX(INDIRECT(AP91):INDIRECT(AQ91)),\"\")","v":""},"",""]
["2019-08-04",1,"Sunday","09:00:00",{"$f":"INDEX(Lists!$M$3:$M$26,MATCH(Calculations!D92,Lists!$L$3:$L$26,0))","v":"MD"},9,{"$f":"IF(INDEX(Inputs!$H$86:$H$253,MATCH(F92,Inputs!$D$86:$D$253,0)),\"TRUE 4\",\nIF(INDEX(Inputs!$G$86:$G$253,MATCH(F92,Inputs!$D$86:$D$253,0)),\"TRUE 3\",\nIF(INDEX(Inputs!$F$86:$F$253,MATCH(F92,Inputs!$D$86:$D$253,0)),\"TRUE 2\",\nIF(INDEX(Inputs!$E$86:$E$253,MATCH(F92,Inputs!$D$86:$D$253,0)),\"TRUE 1\",\nFALSE))))","v":false},null,{"$f":"'Volume Import'!C83*'Volume Import'!$H$14*(1+'Volume Import'!$H$15)*(1-'Volume Import'!$H$16)","v":3405},{"$f":"IF(AND('Volume Import'!D83=0,'Volume Import'!C83=0),0,\nIF('Volume Import'!D83=0,INDEX('Volume Import'!$K$2:$Q$5,MATCH(E92,'Volume Import'!$R$2:$R$5,0),MATCH(C92,'Volume Import'!$K$1:$Q$1,0)),\n'Volume Import'!D83/'Volume Import'!C83))","v":0.1},null,{"$f":"'Volume Import'!E83*'Volume Import'!$I$14*(1+'Volume Import'!$I$15)*(1-'Volume Import'!$I$16)","v":3153},{"$f":"IF('Volume Import'!F83=0,J92,'Volume Import'!F83/'Volume Import'!E83)","v":0.1},null,{"$f":"IF(G92=\"TRUE 1\",IF(E92=\"NT\",Inputs!$C$35,Inputs!$C$34),\nIF(G92=\"TRUE 2\",IF(E92=\"NT\",Inputs!$D$35,Inputs!$D$34),\nIF(G92=\"TRUE 3\",IF(E92=\"NT\",Inputs!$E$35,Inputs!$E$34),\nIF(G92=\"TRUE 4\",IF(E92=\"NT\",Inputs!$F$35,Inputs!$F$34),\nO91))))","v":65.476687896673383},{"$f":"IF(G92=\"TRUE 1\",IF(E92=\"NT\",MROUND(Inputs!$C$32*$P$3*(1/(1+J92*(2-1))),1),MROUND(Inputs!$C$30*$P$3*(1/(1+J92*(2-1))),1)),\nIF(G92=\"TRUE 2\",IF(E92=\"NT\",MROUND(Inputs!$D$32*$Q$3*(1/(1+J92*(2-1))),1),MROUND(Inputs!$D$30*$Q$3*(1/(1+J92*(2-1))),1)),\nIF(G92=\"TRUE 3\",IF(E92=\"NT\",MROUND(Inputs!$E$32*$R$3*(1/(1+J92*(2-1))),1),MROUND(Inputs!$E$30*$R$3*(1/(1+J92*(2-1))),1)),\nIF(G92=\"TRUE 4\",IF(E92=\"NT\",MROUND(Inputs!$F$32*$S$3*(1/(1+J92*(2-1))),1),MROUND(Inputs!$F$30*$S$3*(1/(1+J92*(2-1))),1)),\nMROUND(Inputs!$C$15*(1/(1+J92*(2-1)))*($P$3+$P$4),1)))))","v":8727},-5322,0,{"$f":"(R92/(1/(1+J92*(2-1))))*O92/LEFT(Inputs!$C$18,1)/5280","v":0},0,{"$f":"(T92/60)*((Inputs!$C$13*Calculations!R92*(1-Calculations!J92))+(Inputs!$C$14*Calculations!R92*Calculations!J92))","v":0},{"$f":"IF(R92>0,($J$5/60)*(((I92*$J$3/(1-$J$3))*(1-J92)*Inputs!$C$13)+((I92*$J$3/(1-$J$3))*J92*Inputs!$C$14)),0)","v":0},0,null,"2019-08-04T09:00:00","","",{"$f":"IF(AND(Z92<>\"\",AA92<>\"\"),MAX(INDIRECT(Z92):INDIRECT(AA92)),\"\")","v":""},"","",null,{"$f":"IF(G92=\"TRUE 1\",IF(E92=\"NT\",MROUND(Inputs!$C$32*$AF$3*(1/(1+M92*(2-1))),1),MROUND(Inputs!$C$30*$AF$3*(1/(1+M92*(2-1))),1)),\nIF(G92=\"TRUE 2\",IF(E92=\"NT\",MROUND(Inputs!$D$32*$AG$3*(1/(1+M92*(2-1))),1),MROUND(Inputs!$D$30*$AG$3*(1/(1+M92*(2-1))),1)),\nIF(G92=\"TRUE 3\",IF(E92=\"NT\",MROUND(Inputs!$E$32*$AH$3*(1/(1+M92*(2-1))),1),MROUND(Inputs!$E$30*$AH$3*(1/(1+M92*(2-1))),1)),\nIF(G92=\"TRUE 4\",IF(E92=\"NT\",MROUND(Inputs!$F$32*$AI$3*(1/(1+M92*(2-1))),1),MROUND(Inputs!$F$30*$AI$3*(1/(1+M92*(2-1))),1)),\nMROUND(Inputs!$C$15*(1/(1+M92*(2-1)))*($AF$3+$AF$4),1)))))","v":8727},-5574,0,{"$f":"(AH92/(1/(1+M92*(2-1))))*O92/LEFT(Inputs!$C$18,1)/5280","v":0},0,{"$f":"(AJ92/60)*((Inputs!$C$13*Calculations!AH92*(1-Calculations!M92))+(Inputs!$C$14*Calculations!AH92*Calculations!M92))","v":0},{"$f":"IF(AH92>0,($M$5/60)*(((L92*$M$3/(1-$M$3))*(1-M92)*Inputs!$C$13)+((L92*$M$3/(1-$M$3))*M92*Inputs!$C$14)),0)","v":0},0,null,"2019-08-04T09:00:00","","",{"$f":"IF(AND(AP92<>\"\",AQ92<>\"\"),MAX(INDIRECT(AP92):INDIRECT(AQ92)),\"\")","v":""},"",""]
["2019-08-04",1,"Sunday","10:00:00",{"$f":"INDEX(Lists!$M$3:$M$26,MATCH(Calculations!D93,Lists!$L$3:$L$26,0))","v":"MD"},10,{"$f":"IF(INDEX(Inputs!$H$86:$H$253,MATCH(F93,Inputs!$D$86:$D$253,0)),\"TRUE 4\",\nIF(INDEX(Inputs!$G$86:$G$253,MATCH(F93,Inputs!$D$86:$D$253,0)),\"TRUE 3\",\nIF(INDEX(Inputs!$F$86:$F$253,MATCH(F93,Inputs!$D$86:$D$253,0)),\"TRUE 2\",\nIF(INDEX(Inputs!$E$86:$E$253,MATCH(F93,Inputs!$D$86:$D$253,0)),\"TRUE 1\",\nFALSE))))","v":false},null,{"$f":"'Volume Import'!C84*'Volume Import'!$H$14*(1+'Volume Import'!$H$15)*(1-'Volume Import'!$H$16)","v":4576},{"$f":"IF(AND('Volume Import'!D84=0,'Volume Import'!C84=0),0,\nIF('Volume Import'!D84=0,INDEX('Volume Import'!$K$2:$Q$5,MATCH(E93,'Volume Import'!$R$2:$R$5,0),MATCH(C93,'Volume Import'!$K$1:$Q$1,0)),\n'Volume Import'!D84/'Volume Import'!C84))","v":0.1},null,{"$f":"'Volume Import'!E84*'Volume Import'!$I$14*(1+'Volume Import'!$I$15)*(1-'Volume Import'!$I$16)","v":4175},{"$f":"IF('Volume Import'!F84=0,J93,'Volume Import'!F84/'Volume Import'!E84)","v":0.1},null,{"$f":"IF(G93=\"TRUE 1\",IF(E93=\"NT\",Inputs!$C$35,Inputs!$C$34),\nIF(G93=\"TRUE 2\",IF(E93=\"NT\",Inputs!$D$35,Inputs!$D$34),\nIF(G93=\"TRUE 3\",IF(E93=\"NT\",Inputs!$E$35,Inputs!$E$34),\nIF(G93=\"TRUE 4\",IF(E93=\"NT\",Inputs!$F$35,Inputs!$F$34),\nO92))))","v":65.476687896673383},{"$f":"IF(G93=\"TRUE 1\",IF(E93=\"NT\",MROUND(Inputs!$C$32*$P$3*(1/(1+J93*(2-1))),1),MROUND(Inputs!$C$30*$P$3*(1/(1+J93*(2-1))),1)),\nIF(G93=\"TRUE 2\",IF(E93=\"NT\",MROUND(Inputs!$D$32*$Q$3*(1/(1+J93*(2-1))),1),MROUND(Inputs!$D$30*$Q$3*(1/(1+J93*(2-1))),1)),\nIF(G93=\"TRUE 3\",IF(E93=\"NT\",MROUND(Inputs!$E$32*$R$3*(1/(1+J93*(2-1))),1),MROUND(Inputs!$E$30*$R$3*(1/(1+J93*(2-1))),1)),\nIF(G93=\"TRUE 4\",IF(E93=\"NT\",MROUND(Inputs!$F$32*$S$3*(1/(1+J93*(2-1))),1),MROUND(Inputs!$F$30*$S$3*(1/(1+J93*(2-1))),1)),\nMROUND(Inputs!$C$15*(1/(1+J93*(2-1)))*($P$3+$P$4),1)))))","v":8727},-4151,0,{"$f":"(R93/(1/(1+J93*(2-1))))*O93/LEFT(Inputs!$C$18,1)/5280","v":0},0,{"$f":"(T93/60)*((Inputs!$C$13*Calculations!R93*(1-Calculations!J93))+(Inputs!$C$14*Calculations!R93*Calculations!J93))","v":0},{"$f":"IF(R93>0,($J$5/60)*(((I93*$J$3/(1-$J$3))*(1-J93)*Inputs!$C$13)+((I93*$J$3/(1-$J$3))*J93*Inputs!$C$14)),0)","v":0},0,null,"2019-08-04T10:00:00","","",{"$f":"IF(AND(Z93<>\"\",AA93<>\"\"),MAX(INDIRECT(Z93):INDIRECT(AA93)),\"\")","v":""},"","",null,{"$f":"IF(G93=\"TRUE 1\",IF(E93=\"NT\",MROUND(Inputs!$C$32*$AF$3*(1/(1+M93*(2-1))),1),MROUND(Inputs!$C$30*$AF$3*(1/(1+M93*(2-1))),1)),\nIF(G93=\"TRUE 2\",IF(E93=\"NT\",MROUND(Inputs!$D$32*$AG$3*(1/(1+M93*(2-1))),1),MROUND(Inputs!$D$30*$AG$3*(1/(1+M93*(2-1))),1)),\nIF(G93=\"TRUE 3\",IF(E93=\"NT\",MROUND(Inputs!$E$32*$AH$3*(1/(1+M93*(2-1))),1),MROUND(Inputs!$E$30*$AH$3*(1/(1+M93*(2-1))),1)),\nIF(G93=\"TRUE 4\",IF(E93=\"NT\",MROUND(Inputs!$F$32*$AI$3*(1/(1+M93*(2-1))),1),MROUND(Inputs!$F$30*$AI$3*(1/(1+M93*(2-1))),1)),\nMROUND(Inputs!$C$15*(1/(1+M93*(2-1)))*($AF$3+$AF$4),1)))))","v":8727},-4552,0,{"$f":"(AH93/(1/(1+M93*(2-1))))*O93/LEFT(Inputs!$C$18,1)/5280","v":0},0,{"$f":"(AJ93/60)*((Inputs!$C$13*Calculations!AH93*(1-Calculations!M93))+(Inputs!$C$14*Calculations!AH93*Calculations!M93))","v":0},{"$f":"IF(AH93>0,($M$5/60)*(((L93*$M$3/(1-$M$3))*(1-M93)*Inputs!$C$13)+((L93*$M$3/(1-$M$3))*M93*Inputs!$C$14)),0)","v":0},0,null,"2019-08-04T10:00:00","","",{"$f":"IF(AND(AP93<>\"\",AQ93<>\"\"),MAX(INDIRECT(AP93):INDIRECT(AQ93)),\"\")","v":""},"",""]
["2019-08-04",1,"Sunday","11:00:00",{"$f":"INDEX(Lists!$M$3:$M$26,MATCH(Calculations!D94,Lists!$L$3:$L$26,0))","v":"MD"},11,{"$f":"IF(INDEX(Inputs!$H$86:$H$253,MATCH(F94,Inputs!$D$86:$D$253,0)),\"TRUE 4\",\nIF(INDEX(Inputs!$G$86:$G$253,MATCH(F94,Inputs!$D$86:$D$253,0)),\"TRUE 3\",\nIF(INDEX(Inputs!$F$86:$F$253,MATCH(F94,Inputs!$D$86:$D$253,0)),\"TRUE 2\",\nIF(INDEX(Inputs!$E$86:$E$253,MATCH(F94,Inputs!$D$86:$D$253,0)),\"TRUE 1\",\nFALSE))))","v":false},null,{"$f":"'Volume Import'!C85*'Volume Import'!$H$14*(1+'Volume Import'!$H$15)*(1-'Volume Import'!$H$16)","v":4875},{"$f":"IF(AND('Volume Import'!D85=0,'Volume Import'!C85=0),0,\nIF('Volume Import'!D85=0,INDEX('Volume Import'!$K$2:$Q$5,MATCH(E94,'Volume Import'!$R$2:$R$5,0),MATCH(C94,'Volume Import'!$K$1:$Q$1,0)),\n'Volume Import'!D85/'Volume Import'!C85))","v":0.1},null,{"$f":"'Volume Import'!E85*'Volume Import'!$I$14*(1+'Volume Import'!$I$15)*(1-'Volume Import'!$I$16)","v":4780},{"$f":"IF('Volume Import'!F85=0,J94,'Volume Import'!F85/'Volume Import'!E85)","v":0.1},null,{"$f":"IF(G94=\"TRUE 1\",IF(E94=\"NT\",Inputs!$C$35,Inputs!$C$34),\nIF(G94=\"TRUE 2\",IF(E94=\"NT\",Inputs!$D$35,Inputs!$D$34),\nIF(G94=\"TRUE 3\",IF(E94=\"NT\",Inputs!$E$35,Inputs!$E$34),\nIF(G94=\"TRUE 4\",IF(E94=\"NT\",Inputs!$F$35,Inputs!$F$34),\nO93))))","v":65.476687896673383},{"$f":"IF(G94=\"TRUE 1\",IF(E94=\"NT\",MROUND(Inputs!$C$32*$P$3*(1/(1+J94*(2-1))),1),MROUND(Inputs!$C$30*$P$3*(1/(1+J94*(2-1))),1)),\nIF(G94=\"TRUE 2\",IF(E94=\"NT\",MROUND(Inputs!$D$32*$Q$3*(1/(1+J94*(2-1))),1),MROUND(Inputs!$D$30*$Q$3*(1/(1+J94*(2-1))),1)),\nIF(G94=\"TRUE 3\",IF(E94=\"NT\",MROUND(Inputs!$E$32*$R$3*(1/(1+J94*(2-1))),1),MROUND(Inputs!$E$30*$R$3*(1/(1+J94*(2-1))),1)),\nIF(G94=\"TRUE 4\",IF(E94=\"NT\",MROUND(Inputs!$F$32*$S$3*(1/(1+J94*(2-1))),1),MROUND(Inputs!$F$30*$S$3*(1/(1+J94*(2-1))),1)),\nMROUND(Inputs!$C$15*(1/(1+J94*(2-1)))*($P$3+$P$4),1)))))","v":8727},-3852,0,{"$f":"(R94/(1/(1+J94*(2-1))))*O94/LEFT(Inputs!$C$18,1)/5280","v":0},0,{"$f":"(T94/60)*((Inputs!$C$13*Calculations!R94*(1-Calculations!J94))+(Inputs!$C$14*Calculations!R94*Calculations!J94))","v":0},{"$f":"IF(R94>0,($J$5/60)*(((I94*$J$3/(1-$J$3))*(1-J94)*Inputs!$C$13)+((I94*$J$3/(1-$J$3))*J94*Inputs!$C$14)),0)","v":0},0,null,"2019-08-04T11:00:00","","",{"$f":"IF(AND(Z94<>\"\",AA94<>\"\"),MAX(INDIRECT(Z94):INDIRECT(AA94)),\"\")","v":""},"","",null,{"$f":"IF(G94=\"TRUE 1\",IF(E94=\"NT\",MROUND(Inputs!$C$32*$AF$3*(1/(1+M94*(2-1))),1),MROUND(Inputs!$C$30*$AF$3*(1/(1+M94*(2-1))),1)),\nIF(G94=\"TRUE 2\",IF(E94=\"NT\",MROUND(Inputs!$D$32*$AG$3*(1/(1+M94*(2-1))),1),MROUND(Inputs!$D$30*$AG$3*(1/(1+M94*(2-1))),1)),\nIF(G94=\"TRUE 3\",IF(E94=\"NT\",MROUND(Inputs!$E$32*$AH$3*(1/(1+M94*(2-1))),1),MROUND(Inputs!$E$30*$AH$3*(1/(1+M94*(2-1))),1)),\nIF(G94=\"TRUE 4\",IF(E94=\"NT\",MROUND(Inputs!$F$32*$AI$3*(1/(1+M94*(2-1))),1),MROUND(Inputs!$F$30*$AI$3*(1/(1+M94*(2-1))),1)),\nMROUND(Inputs!$C$15*(1/(1+M94*(2-1)))*($AF$3+$AF$4),1)))))","v":8727},-3947,0,{"$f":"(AH94/(1/(1+M94*(2-1))))*O94/LEFT(Inputs!$C$18,1)/5280","v":0},0,{"$f":"(AJ94/60)*((Inputs!$C$13*Calculations!AH94*(1-Calculations!M94))+(Inputs!$C$14*Calculations!AH94*Calculations!M94))","v":0},{"$f":"IF(AH94>0,($M$5/60)*(((L94*$M$3/(1-$M$3))*(1-M94)*Inputs!$C$13)+((L94*$M$3/(1-$M$3))*M94*Inputs!$C$14)),0)","v":0},0,null,"2019-08-04T11:00:00","","",{"$f":"IF(AND(AP94<>\"\",AQ94<>\"\"),MAX(INDIRECT(AP94):INDIRECT(AQ94)),\"\")","v":""},"",""]
["2019-08-04",1,"Sunday","12:00:00",{"$f":"INDEX(Lists!$M$3:$M$26,MATCH(Calculations!D95,Lists!$L$3:$L$26,0))","v":"MD"},12,{"$f":"IF(INDEX(Inputs!$H$86:$H$253,MATCH(F95,Inputs!$D$86:$D$253,0)),\"TRUE 4\",\nIF(INDEX(Inputs!$G$86:$G$253,MATCH(F95,Inputs!$D$86:$D$253,0)),\"TRUE 3\",\nIF(INDEX(Inputs!$F$86:$F$253,MATCH(F95,Inputs!$D$86:$D$253,0)),\"TRUE 2\",\nIF(INDEX(Inputs!$E$86:$E$253,MATCH(F95,Inputs!$D$86:$D$253,0)),\"TRUE 1\",\nFALSE))))","v":false},null,{"$f":"'Volume Import'!C86*'Volume Import'!$H$14*(1+'Volume Import'!$H$15)*(1-'Volume Import'!$H$16)","v":4916},{"$f":"IF(AND('Volume Import'!D86=0,'Volume Import'!C86=0),0,\nIF('Volume Import'!D86=0,INDEX('Volume Import'!$K$2:$Q$5,MATCH(E95,'Volume Import'!$R$2:$R$5,0),MATCH(C95,'Volume Import'!$K$1:$Q$1,0)),\n'Volume Import'!D86/'Volume Import'!C86))","v":0.1},null,{"$f":"'Volume Import'!E86*'Volume Import'!$I$14*(1+'Volume Import'!$I$15)*(1-'Volume Import'!$I$16)","v":5208},{"$f":"IF('Volume Import'!F86=0,J95,'Volume Import'!F86/'Volume Import'!E86)","v":0.1},null,{"$f":"IF(G95=\"TRUE 1\",IF(E95=\"NT\",Inputs!$C$35,Inputs!$C$34),\nIF(G95=\"TRUE 2\",IF(E95=\"NT\",Inputs!$D$35,Inputs!$D$34),\nIF(G95=\"TRUE 3\",IF(E95=\"NT\",Inputs!$E$35,Inputs!$E$34),\nIF(G95=\"TRUE 4\",IF(E95=\"NT\",Inputs!$F$35,Inputs!$F$34),\nO94))))","v":65.476687896673383},{"$f":"IF(G95=\"TRUE 1\",IF(E95=\"NT\",MROUND(Inputs!$C$32*$P$3*(1/(1+J95*(2-1))),1),MROUND(Inputs!$C$30*$P$3*(1/(1+J95*(2-1))),1)),\nIF(G95=\"TRUE 2\",IF(E95=\"NT\",MROUND(Inputs!$D$32*$Q$3*(1/(1+J95*(2-1))),1),MROUND(Inputs!$D$30*$Q$3*(1/(1+J95*(2-1))),1)),\nIF(G95=\"TRUE 3\",IF(E95=\"NT\",MROUND(Inputs!$E$32*$R$3*(1/(1+J95*(2-1))),1),MROUND(Inputs!$E$30*$R$3*(1/(1+J95*(2-1))),1)),\nIF(G95=\"TRUE 4\",IF(E95=\"NT\",MROUND(Inputs!$F$32*$S$3*(1/(1+J95*(2-1))),1),MROUND(Inputs!$F$30*$S$3*(1/(1+J95*(2-1))),1)),\nMROUND(Inputs!$C$15*(1/(1+J95*(2-1)))*($P$3+$P$4),1)))))","v":8727},-3811,0,{"$f":"(R95/(1/(1+J95*(2-1))))*O95/LEFT(Inputs!$C$18,1)/5280","v":0},0,{"$f":"(T95/60)*((Inputs!$C$13*Calculations!R95*(1-Calculations!J95))+(Inputs!$C$14*Calculations!R95*Calculations!J95))","v":0},{"$f":"IF(R95>0,($J$5/60)*(((I95*$J$3/(1-$J$3))*(1-J95)*Inputs!$C$13)+((I95*$J$3/(1-$J$3))*J95*Inputs!$C$14)),0)","v":0},0,null,"2019-08-04T12:00:00","","",{"$f":"IF(AND(Z95<>\"\",AA95<>\"\"),MAX(INDIRECT(Z95):INDIRECT(AA95)),\"\")","v":""},"","",null,{"$f":"IF(G95=\"TRUE 1\",IF(E95=\"NT\",MROUND(Inputs!$C$32*$AF$3*(1/(1+M95*(2-1))),1),MROUND(Inputs!$C$30*$AF$3*(1/(1+M95*(2-1))),1)),\nIF(G95=\"TRUE 2\",IF(E95=\"NT\",MROUND(Inputs!$D$32*$AG$3*(1/(1+M95*(2-1))),1),MROUND(Inputs!$D$30*$AG$3*(1/(1+M95*(2-1))),1)),\nIF(G95=\"TRUE 3\",IF(E95=\"NT\",MROUND(Inputs!$E$32*$AH$3*(1/(1+M95*(2-1))),1),MROUND(Inputs!$E$30*$AH$3*(1/(1+M95*(2-1))),1)),\nIF(G95=\"TRUE 4\",IF(E95=\"NT\",MROUND(Inputs!$F$32*$AI$3*(1/(1+M95*(2-1))),1),MROUND(Inputs!$F$30*$AI$3*(1/(1+M95*(2-1))),1)),\nMROUND(Inputs!$C$15*(1/(1+M95*(2-1)))*($AF$3+$AF$4),1)))))","v":8727},-3519,0,{"$f":"(AH95/(1/(1+M95*(2-1))))*O95/LEFT(Inputs!$C$18,1)/5280","v":0},0,{"$f":"(AJ95/60)*((Inputs!$C$13*Calculations!AH95*(1-Calculations!M95))+(Inputs!$C$14*Calculations!AH95*Calculations!M95))","v":0},{"$f":"IF(AH95>0,($M$5/60)*(((L95*$M$3/(1-$M$3))*(1-M95)*Inputs!$C$13)+((L95*$M$3/(1-$M$3))*M95*Inputs!$C$14)),0)","v":0},0,null,"2019-08-04T12:00:00","","",{"$f":"IF(AND(AP95<>\"\",AQ95<>\"\"),MAX(INDIRECT(AP95):INDIRECT(AQ95)),\"\")","v":""},"",""]
["2019-08-04",1,"Sunday","13:00:00",{"$f":"INDEX(Lists!$M$3:$M$26,MATCH(Calculations!D96,Lists!$L$3:$L$26,0))","v":"MD"},13,{"$f":"IF(INDEX(Inputs!$H$86:$H$253,MATCH(F96,Inputs!$D$86:$D$253,0)),\"TRUE 4\",\nIF(INDEX(Inputs!$G$86:$G$253,MATCH(F96,Inputs!$D$86:$D$253,0)),\"TRUE 3\",\nIF(INDEX(Inputs!$F$86:$F$253,MATCH(F96,Inputs!$D$86:$D$253,0)),\"TRUE 2\",\nIF(INDEX(Inputs!$E$86:$E$253,MATCH(F96,Inputs!$D$86:$D$253,0)),\"TRUE 1\",\nFALSE))))","v":false},null,{"$f":"'Volume Import'!C87*'Volume Import'!$H$14*(1+'Volume Import'!$H$15)*(1-'Volume Import'!$H$16)","v":4634},{"$f":"IF(AND('Volume Import'!D87=0,'Volume Import'!C87=0),0,\nIF('Volume Import'!D87=0,INDEX('Volume Import'!$K$2:$Q$5,MATCH(E96,'Volume Import'!$R$2:$R$5,0),MATCH(C96,'Volume Import'!$K$1:$Q$1,0)),\n'Volume Import'!D87/'Volume Import'!C87))","v":0.1},null,{"$f":"'Volume Import'!E87*'Volume Import'!$I$14*(1+'Volume Import'!$I$15)*(1-'Volume Import'!$I$16)","v":5264},{"$f":"IF('Volume Import'!F87=0,J96,'Volume Import'!F87/'Volume Import'!E87)","v":0.1},null,{"$f":"IF(G96=\"TRUE 1\",IF(E96=\"NT\",Inputs!$C$35,Inputs!$C$34),\nIF(G96=\"TRUE 2\",IF(E96=\"NT\",Inputs!$D$35,Inputs!$D$34),\nIF(G96=\"TRUE 3\",IF(E96=\"NT\",Inputs!$E$35,Inputs!$E$34),\nIF(G96=\"TRUE 4\",IF(E96=\"NT\",Inputs!$F$35,Inputs!$F$34),\nO95))))","v":65.476687896673383},{"$f":"IF(G96=\"TRUE 1\",IF(E96=\"NT\",MROUND(Inputs!$C$32*$P$3*(1/(1+J96*(2-1))),1),MROUND(Inputs!$C$30*$P$3*(1/(1+J96*(2-1))),1)),\nIF(G96=\"TRUE 2\",IF(E96=\"NT\",MROUND(Inputs!$D$32*$Q$3*(1/(1+J96*(2-1))),1),MROUND(Inputs!$D$30*$Q$3*(1/(1+J96*(2-1))),1)),\nIF(G96=\"TRUE 3\",IF(E96=\"NT\",MROUND(Inputs!$E$32*$R$3*(1/(1+J96*(2-1))),1),MROUND(Inputs!$E$30*$R$3*(1/(1+J96*(2-1))),1)),\nIF(G96=\"TRUE 4\",IF(E96=\"NT\",MROUND(Inputs!$F$32*$S$3*(1/(1+J96*(2-1))),1),MROUND(Inputs!$F$30*$S$3*(1/(1+J96*(2-1))),1)),\nMROUND(Inputs!$C$15*(1/(1+J96*(2-1)))*($P$3+$P$4),1)))))","v":8727},-4093,0,{"$f":"(R96/(1/(1+J96*(2-1))))*O96/LEFT(Inputs!$C$18,1)/5280","v":0},0,{"$f":"(T96/60)*((Inputs!$C$13*Calculations!R96*(1-Calculations!J96))+(Inputs!$C$14*Calculations!R96*Calculations!J96))","v":0},{"$f":"IF(R96>0,($J$5/60)*(((I96*$J$3/(1-$J$3))*(1-J96)*Inputs!$C$13)+((I96*$J$3/(1-$J$3))*J96*Inputs!$C$14)),0)","v":0},0,null,"2019-08-04T13:00:00","","",{"$f":"IF(AND(Z96<>\"\",AA96<>\"\"),MAX(INDIRECT(Z96):INDIRECT(AA96)),\"\")","v":""},"","",null,{"$f":"IF(G96=\"TRUE 1\",IF(E96=\"NT\",MROUND(Inputs!$C$32*$AF$3*(1/(1+M96*(2-1))),1),MROUND(Inputs!$C$30*$AF$3*(1/(1+M96*(2-1))),1)),\nIF(G96=\"TRUE 2\",IF(E96=\"NT\",MROUND(Inputs!$D$32*$AG$3*(1/(1+M96*(2-1))),1),MROUND(Inputs!$D$30*$AG$3*(1/(1+M96*(2-1))),1)),\nIF(G96=\"TRUE 3\",IF(E96=\"NT\",MROUND(Inputs!$E$32*$AH$3*(1/(1+M96*(2-1))),1),MROUND(Inputs!$E$30*$AH$3*(1/(1+M96*(2-1))),1)),\nIF(G96=\"TRUE 4\",IF(E96=\"NT\",MROUND(Inputs!$F$32*$AI$3*(1/(1+M96*(2-1))),1),MROUND(Inputs!$F$30*$AI$3*(1/(1+M96*(2-1))),1)),\nMROUND(Inputs!$C$15*(1/(1+M96*(2-1)))*($AF$3+$AF$4),1)))))","v":8727},-3463,0,{"$f":"(AH96/(1/(1+M96*(2-1))))*O96/LEFT(Inputs!$C$18,1)/5280","v":0},0,{"$f":"(AJ96/60)*((Inputs!$C$13*Calculations!AH96*(1-Calculations!M96))+(Inputs!$C$14*Calculations!AH96*Calculations!M96))","v":0},{"$f":"IF(AH96>0,($M$5/60)*(((L96*$M$3/(1-$M$3))*(1-M96)*Inputs!$C$13)+((L96*$M$3/(1-$M$3))*M96*Inputs!$C$14)),0)","v":0},0,null,"2019-08-04T13:00:00","","",{"$f":"IF(AND(AP96<>\"\",AQ96<>\"\"),MAX(INDIRECT(AP96):INDIRECT(AQ96)),\"\")","v":""},"",""]
["2019-08-04",1,"Sunday","14:00:00",{"$f":"INDEX(Lists!$M$3:$M$26,MATCH(Calculations!D97,Lists!$L$3:$L$26,0))","v":"MD"},14,{"$f":"IF(INDEX(Inputs!$H$86:$H$253,MATCH(F97,Inputs!$D$86:$D$253,0)),\"TRUE 4\",\nIF(INDEX(Inputs!$G$86:$G$253,MATCH(F97,Inputs!$D$86:$D$253,0)),\"TRUE 3\",\nIF(INDEX(Inputs!$F$86:$F$253,MATCH(F97,Inputs!$D$86:$D$253,0)),\"TRUE 2\",\nIF(INDEX(Inputs!$E$86:$E$253,MATCH(F97,Inputs!$D$86:$D$253,0)),\"TRUE 1\",\nFALSE))))","v":false},null,{"$f":"'Volume Import'!C88*'Volume Import'!$H$14*(1+'Volume Import'!$H$15)*(1-'Volume Import'!$H$16)","v":4526},{"$f":"IF(AND('Volume Import'!D88=0,'Volume Import'!C88=0),0,\nIF('Volume Import'!D88=0,INDEX('Volume Import'!$K$2:$Q$5,MATCH(E97,'Volume Import'!$R$2:$R$5,0),MATCH(C97,'Volume Import'!$K$1:$Q$1,0)),\n'Volume Import'!D88/'Volume Import'!C88))","v":0.1},null,{"$f":"'Volume Import'!E88*'Volume Import'!$I$14*(1+'Volume Import'!$I$15)*(1-'Volume Import'!$I$16)","v":5510},{"$f":"IF('Volume Import'!F88=0,J97,'Volume Import'!F88/'Volume Import'!E88)","v":0.1},null,{"$f":"IF(G97=\"TRUE 1\",IF(E97=\"NT\",Inputs!$C$35,Inputs!$C$34),\nIF(G97=\"TRUE 2\",IF(E97=\"NT\",Inputs!$D$35,Inputs!$D$34),\nIF(G97=\"TRUE 3\",IF(E97=\"NT\",Inputs!$E$35,Inputs!$E$34),\nIF(G97=\"TRUE 4\",IF(E97=\"NT\",Inputs!$F$35,Inputs!$F$34),\nO96))))","v":65.476687896673383},{"$f":"IF(G97=\"TRUE 1\",IF(E97=\"NT\",MROUND(Inputs!$C$32*$P$3*(1/(1+J97*(2-1))),1),MROUND(Inputs!$C$30*$P$3*(1/(1+J97*(2-1))),1)),\nIF(G97=\"TRUE 2\",IF(E97=\"NT\",MROUND(Inputs!$D$32*$Q$3*(1/(1+J97*(2-1))),1),MROUND(Inputs!$D$30*$Q$3*(1/(1+J97*(2-1))),1)),\nIF(G97=\"TRUE 3\",IF(E97=\"NT\",MROUND(Inputs!$E$32*$R$3*(1/(1+J97*(2-1))),1),MROUND(Inputs!$E$30*$R$3*(1/(1+J97*(2-1))),1)),\nIF(G97=\"TRUE 4\",IF(E97=\"NT\",MROUND(Inputs!$F$32*$S$3*(1/(1+J97*(2-1))),1),MROUND(Inputs!$F$30*$S$3*(1/(1+J97*(2-1))),1)),\nMROUND(Inputs!$C$15*(1/(1+J97*(2-1)))*($P$3+$P$4),1)))))","v":8727},-4201,0,{"$f":"(R97/(1/(1+J97*(2-1))))*O97/LEFT(Inputs!$C$18,1)/5280","v":0},0,{"$f":"(T97/60)*((Inputs!$C$13*Calculations!R97*(1-Calculations!J97))+(Inputs!$C$14*Calculations!R97*Calculations!J97))","v":0},{"$f":"IF(R97>0,($J$5/60)*(((I97*$J$3/(1-$J$3))*(1-J97)*Inputs!$C$13)+((I97*$J$3/(1-$J$3))*J97*Inputs!$C$14)),0)","v":0},0,null,"2019-08-04T14:00:00","","",{"$f":"IF(AND(Z97<>\"\",AA97<>\"\"),MAX(INDIRECT(Z97):INDIRECT(AA97)),\"\")","v":""},"","",null,{"$f":"IF(G97=\"TRUE 1\",IF(E97=\"NT\",MROUND(Inputs!$C$32*$AF$3*(1/(1+M97*(2-1))),1),MROUND(Inputs!$C$30*$AF$3*(1/(1+M97*(2-1))),1)),\nIF(G97=\"TRUE 2\",IF(E97=\"NT\",MROUND(Inputs!$D$32*$AG$3*(1/(1+M97*(2-1))),1),MROUND(Inputs!$D$30*$AG$3*(1/(1+M97*(2-1))),1)),\nIF(G97=\"TRUE 3\",IF(E97=\"NT\",MROUND(Inputs!$E$32*$AH$3*(1/(1+M97*(2-1))),1),MROUND(Inputs!$E$30*$AH$3*(1/(1+M97*(2-1))),1)),\nIF(G97=\"TRUE 4\",IF(E97=\"NT\",MROUND(Inputs!$F$32*$AI$3*(1/(1+M97*(2-1))),1),MROUND(Inputs!$F$30*$AI$3*(1/(1+M97*(2-1))),1)),\nMROUND(Inputs!$C$15*(1/(1+M97*(2-1)))*($AF$3+$AF$4),1)))))","v":8727},-3217,0,{"$f":"(AH97/(1/(1+M97*(2-1))))*O97/LEFT(Inputs!$C$18,1)/5280","v":0},0,{"$f":"(AJ97/60)*((Inputs!$C$13*Calculations!AH97*(1-Calculations!M97))+(Inputs!$C$14*Calculations!AH97*Calculations!M97))","v":0},{"$f":"IF(AH97>0,($M$5/60)*(((L97*$M$3/(1-$M$3))*(1-M97)*Inputs!$C$13)+((L97*$M$3/(1-$M$3))*M97*Inputs!$C$14)),0)","v":0},0,null,"2019-08-04T14:00:00","","",{"$f":"IF(AND(AP97<>\"\",AQ97<>\"\"),MAX(INDIRECT(AP97):INDIRECT(AQ97)),\"\")","v":""},"",""]
["2019-08-04",1,"Sunday","15:00:00",{"$f":"INDEX(Lists!$M$3:$M$26,MATCH(Calculations!D98,Lists!$L$3:$L$26,0))","v":"PM"},15,{"$f":"IF(INDEX(Inputs!$H$86:$H$253,MATCH(F98,Inputs!$D$86:$D$253,0)),\"TRUE 4\",\nIF(INDEX(Inputs!$G$86:$G$253,MATCH(F98,Inputs!$D$86:$D$253,0)),\"TRUE 3\",\nIF(INDEX(Inputs!$F$86:$F$253,MATCH(F98,Inputs!$D$86:$D$253,0)),\"TRUE 2\",\nIF(INDEX(Inputs!$E$86:$E$253,MATCH(F98,Inputs!$D$86:$D$253,0)),\"TRUE 1\",\nFALSE))))","v":false},null,{"$f":"'Volume Import'!C89*'Volume Import'!$H$14*(1+'Volume Import'!$H$15)*(1-'Volume Import'!$H$16)","v":4306},{"$f":"IF(AND('Volume Import'!D89=0,'Volume Import'!C89=0),0,\nIF('Volume Import'!D89=0,INDEX('Volume Import'!$K$2:$Q$5,MATCH(E98,'Volume Import'!$R$2:$R$5,0),MATCH(C98,'Volume Import'!$K$1:$Q$1,0)),\n'Volume Import'!D89/'Volume Import'!C89))","v":0.1},null,{"$f":"'Volume Import'!E89*'Volume Import'!$I$14*(1+'Volume Import'!$I$15)*(1-'Volume Import'!$I$16)","v":5553},{"$f":"IF('Volume Import'!F89=0,J98,'Volume Import'!F89/'Volume Import'!E89)","v":0.1},null,{"$f":"IF(G98=\"TRUE 1\",IF(E98=\"NT\",Inputs!$C$35,Inputs!$C$34),\nIF(G98=\"TRUE 2\",IF(E98=\"NT\",Inputs!$D$35,Inputs!$D$34),\nIF(G98=\"TRUE 3\",IF(E98=\"NT\",Inputs!$E$35,Inputs!$E$34),\nIF(G98=\"TRUE 4\",IF(E98=\"NT\",Inputs!$F$35,Inputs!$F$34),\nO97))))","v":65.476687896673383},{"$f":"IF(G98=\"TRUE 1\",IF(E98=\"NT\",MROUND(Inputs!$C$32*$P$3*(1/(1+J98*(2-1))),1),MROUND(Inputs!$C$30*$P$3*(1/(1+J98*(2-1))),1)),\nIF(G98=\"TRUE 2\",IF(E98=\"NT\",MROUND(Inputs!$D$32*$Q$3*(1/(1+J98*(2-1))),1),MROUND(Inputs!$D$30*$Q$3*(1/(1+J98*(2-1))),1)),\nIF(G98=\"TRUE 3\",IF(E98=\"NT\",MROUND(Inputs!$E$32*$R$3*(1/(1+J98*(2-1))),1),MROUND(Inputs!$E$30*$R$3*(1/(1+J98*(2-1))),1)),\nIF(G98=\"TRUE 4\",IF(E98=\"NT\",MROUND(Inputs!$F$32*$S$3*(1/(1+J98*(2-1))),1),MROUND(Inputs!$F$30*$S$3*(1/(1+J98*(2-1))),1)),\nMROUND(Inputs!$C$15*(1/(1+J98*(2-1)))*($P$3+$P$4),1)))))","v":8727},-4421,0,{"$f":"(R98/(1/(1+J98*(2-1))))*O98/LEFT(Inputs!$C$18,1)/5280","v":0},0,{"$f":"(T98/60)*((Inputs!$C$13*Calculations!R98*(1-Calculations!J98))+(Inputs!$C$14*Calculations!R98*Calculations!J98))","v":0},{"$f":"IF(R98>0,($J$5/60)*(((I98*$J$3/(1-$J$3))*(1-J98)*Inputs!$C$13)+((I98*$J$3/(1-$J$3))*J98*Inputs!$C$14)),0)","v":0},0,null,"2019-08-04T15:00:00","","",{"$f":"IF(AND(Z98<>\"\",AA98<>\"\"),MAX(INDIRECT(Z98):INDIRECT(AA98)),\"\")","v":""},"","",null,{"$f":"IF(G98=\"TRUE 1\",IF(E98=\"NT\",MROUND(Inputs!$C$32*$AF$3*(1/(1+M98*(2-1))),1),MROUND(Inputs!$C$30*$AF$3*(1/(1+M98*(2-1))),1)),\nIF(G98=\"TRUE 2\",IF(E98=\"NT\",MROUND(Inputs!$D$32*$AG$3*(1/(1+M98*(2-1))),1),MROUND(Inputs!$D$30*$AG$3*(1/(1+M98*(2-1))),1)),\nIF(G98=\"TRUE 3\",IF(E98=\"NT\",MROUND(Inputs!$E$32*$AH$3*(1/(1+M98*(2-1))),1),MROUND(Inputs!$E$30*$AH$3*(1/(1+M98*(2-1))),1)),\nIF(G98=\"TRUE 4\",IF(E98=\"NT\",MROUND(Inputs!$F$32*$AI$3*(1/(1+M98*(2-1))),1),MROUND(Inputs!$F$30*$AI$3*(1/(1+M98*(2-1))),1)),\nMROUND(Inputs!$C$15*(1/(1+M98*(2-1)))*($AF$3+$AF$4),1)))))","v":8727},-3174,0,{"$f":"(AH98/(1/(1+M98*(2-1))))*O98/LEFT(Inputs!$C$18,1)/5280","v":0},0,{"$f":"(AJ98/60)*((Inputs!$C$13*Calculations!AH98*(1-Calculations!M98))+(Inputs!$C$14*Calculations!AH98*Calculations!M98))","v":0},{"$f":"IF(AH98>0,($M$5/60)*(((L98*$M$3/(1-$M$3))*(1-M98)*Inputs!$C$13)+((L98*$M$3/(1-$M$3))*M98*Inputs!$C$14)),0)","v":0},0,null,"2019-08-04T15:00:00","","",{"$f":"IF(AND(AP98<>\"\",AQ98<>\"\"),MAX(INDIRECT(AP98):INDIRECT(AQ98)),\"\")","v":""},"",""]
["2019-08-04",1,"Sunday","16:00:00",{"$f":"INDEX(Lists!$M$3:$M$26,MATCH(Calculations!D99,Lists!$L$3:$L$26,0))","v":"PM"},16,{"$f":"IF(INDEX(Inputs!$H$86:$H$253,MATCH(F99,Inputs!$D$86:$D$253,0)),\"TRUE 4\",\nIF(INDEX(Inputs!$G$86:$G$253,MATCH(F99,Inputs!$D$86:$D$253,0)),\"TRUE 3\",\nIF(INDEX(Inputs!$F$86:$F$253,MATCH(F99,Inputs!$D$86:$D$253,0)),\"TRUE 2\",\nIF(INDEX(Inputs!$E$86:$E$253,MATCH(F99,Inputs!$D$86:$D$253,0)),\"TRUE 1\",\nFALSE))))","v":false},null,{"$f":"'Volume Import'!C90*'Volume Import'!$H$14*(1+'Volume Import'!$H$15)*(1-'Volume Import'!$H$16)","v":4439},{"$f":"IF(AND('Volume Import'!D90=0,'Volume Import'!C90=0),0,\nIF('Volume Import'!D90=0,INDEX('Volume Import'!$K$2:$Q$5,MATCH(E99,'Volume Import'!$R$2:$R$5,0),MATCH(C99,'Volume Import'!$K$1:$Q$1,0)),\n'Volume Import'!D90/'Volume Import'!C90))","v":0.1},null,{"$f":"'Volume Import'!E90*'Volume Import'!$I$14*(1+'Volume Import'!$I$15)*(1-'Volume Import'!$I$16)","v":5647},{"$f":"IF('Volume Import'!F90=0,J99,'Volume Import'!F90/'Volume Import'!E90)","v":0.1},null,{"$f":"IF(G99=\"TRUE 1\",IF(E99=\"NT\",Inputs!$C$35,Inputs!$C$34),\nIF(G99=\"TRUE 2\",IF(E99=\"NT\",Inputs!$D$35,Inputs!$D$34),\nIF(G99=\"TRUE 3\",IF(E99=\"NT\",Inputs!$E$35,Inputs!$E$34),\nIF(G99=\"TRUE 4\",IF(E99=\"NT\",Inputs!$F$35,Inputs!$F$34),\nO98))))","v":65.476687896673383},{"$f":"IF(G99=\"TRUE 1\",IF(E99=\"NT\",MROUND(Inputs!$C$32*$P$3*(1/(1+J99*(2-1))),1),MROUND(Inputs!$C$30*$P$3*(1/(1+J99*(2-1))),1)),\nIF(G99=\"TRUE 2\",IF(E99=\"NT\",MROUND(Inputs!$D$32*$Q$3*(1/(1+J99*(2-1))),1),MROUND(Inputs!$D$30*$Q$3*(1/(1+J99*(2-1))),1)),\nIF(G99=\"TRUE 3\",IF(E99=\"NT\",MROUND(Inputs!$E$32*$R$3*(1/(1+J99*(2-1))),1),MROUND(Inputs!$E$30*$R$3*(1/(1+J99*(2-1))),1)),\nIF(G99=\"TRUE 4\",IF(E99=\"NT\",MROUND(Inputs!$F$32*$S$3*(1/(1+J99*(2-1))),1),MROUND(Inputs!$F$30*$S$3*(1/(1+J99*(2-1))),1)),\nMROUND(Inputs!$C$15*(1/(1+J99*(2-1)))*($P$3+$P$4),1)))))","v":8727},-4288,0,{"$f":"(R99/(1/(1+J99*(2-1))))*O99/LEFT(Inputs!$C$18,1)/5280","v":0},0,{"$f":"(T99/60)*((Inputs!$C$13*Calculations!R99*(1-Calculations!J99))+(Inputs!$C$14*Calculations!R99*Calculations!J99))","v":0},{"$f":"IF(R99>0,($J$5/60)*(((I99*$J$3/(1-$J$3))*(1-J99)*Inputs!$C$13)+((I99*$J$3/(1-$J$3))*J99*Inputs!$C$14)),0)","v":0},0,null,"2019-08-04T16:00:00","","",{"$f":"IF(AND(Z99<>\"\",AA99<>\"\"),MAX(INDIRECT(Z99):INDIRECT(AA99)),\"\")","v":""},"","",null,{"$f":"IF(G99=\"TRUE 1\",IF(E99=\"NT\",MROUND(Inputs!$C$32*$AF$3*(1/(1+M99*(2-1))),1),MROUND(Inputs!$C$30*$AF$3*(1/(1+M99*(2-1))),1)),\nIF(G99=\"TRUE 2\",IF(E99=\"NT\",MROUND(Inputs!$D$32*$AG$3*(1/(1+M99*(2-1))),1),MROUND(Inputs!$D$30*$AG$3*(1/(1+M99*(2-1))),1)),\nIF(G99=\"TRUE 3\",IF(E99=\"NT\",MROUND(Inputs!$E$32*$AH$3*(1/(1+M99*(2-1))),1),MROUND(Inputs!$E$30*$AH$3*(1/(1+M99*(2-1))),1)),\nIF(G99=\"TRUE 4\",IF(E99=\"NT\",MROUND(Inputs!$F$32*$AI$3*(1/(1+M99*(2-1))),1),MROUND(Inputs!$F$30*$AI$3*(1/(1+M99*(2-1))),1)),\nMROUND(Inputs!$C$15*(1/(1+M99*(2-1)))*($AF$3+$AF$4),1)))))","v":8727},-3080,0,{"$f":"(AH99/(1/(1+M99*(2-1))))*O99/LEFT(Inputs!$C$18,1)/5280","v":0},0,{"$f":"(AJ99/60)*((Inputs!$C$13*Calculations!AH99*(1-Calculations!M99))+(Inputs!$C$14*Calculations!AH99*Calculations!M99))","v":0},{"$f":"IF(AH99>0,($M$5/60)*(((L99*$M$3/(1-$M$3))*(1-M99)*Inputs!$C$13)+((L99*$M$3/(1-$M$3))*M99*Inputs!$C$14)),0)","v":0},0,null,"2019-08-04T16:00:00","","",{"$f":"IF(AND(AP99<>\"\",AQ99<>\"\"),MAX(INDIRECT(AP99):INDIRECT(AQ99)),\"\")","v":""},"",""]
[{"$f":"A76+1","v":"2019-08-04"},1,"Sunday","17:00:00",{"$f":"INDEX(Lists!$M$3:$M$26,MATCH(Calculations!D100,Lists!$L$3:$L$26,0))","v":"PM"},17,{"$f":"IF(INDEX(Inputs!$H$86:$H$253,MATCH(F100,Inputs!$D$86:$D$253,0)),\"TRUE 4\",\nIF(INDEX(Inputs!$G$86:$G$253,MATCH(F100,Inputs!$D$86:$D$253,0)),\"TRUE 3\",\nIF(INDEX(Inputs!$F$86:$F$253,MATCH(F100,Inputs!$D$86:$D$253,0)),\"TRUE 2\",\nIF(INDEX(Inputs!$E$86:$E$253,MATCH(F100,Inputs!$D$86:$D$253,0)),\"TRUE 1\",\nFALSE))))","v":false},null,{"$f":"'Volume Import'!C91*'Volume Import'!$H$14*(1+'Volume Import'!$H$15)*(1-'Volume Import'!$H$16)","v":4208},{"$f":"IF(AND('Volume Import'!D91=0,'Volume Import'!C91=0),0,\nIF('Volume Import'!D91=0,INDEX('Volume Import'!$K$2:$Q$5,MATCH(E100,'Volume Import'!$R$2:$R$5,0),MATCH(C100,'Volume Import'!$K$1:$Q$1,0)),\n'Volume Import'!D91/'Volume Import'!C91))","v":0.1},null,{"$f":"'Volume Import'!E91*'Volume Import'!$I$14*(1+'Volume Import'!$I$15)*(1-'Volume Import'!$I$16)","v":5080},{"$f":"IF('Volume Import'!F91=0,J100,'Volume Import'!F91/'Volume Import'!E91)","v":0.1},null,{"$f":"IF(G100=\"TRUE 1\",IF(E100=\"NT\",Inputs!$C$35,Inputs!$C$34),\nIF(G100=\"TRUE 2\",IF(E100=\"NT\",Inputs!$D$35,Inputs!$D$34),\nIF(G100=\"TRUE 3\",IF(E100=\"NT\",Inputs!$E$35,Inputs!$E$34),\nIF(G100=\"TRUE 4\",IF(E100=\"NT\",Inputs!$F$35,Inputs!$F$34),\nO99))))","v":65.476687896673383},{"$f":"IF(G100=\"TRUE 1\",IF(E100=\"NT\",MROUND(Inputs!$C$32*$P$3*(1/(1+J100*(2-1))),1),MROUND(Inputs!$C$30*$P$3*(1/(1+J100*(2-1))),1)),\nIF(G100=\"TRUE 2\",IF(E100=\"NT\",MROUND(Inputs!$D$32*$Q$3*(1/(1+J100*(2-1))),1),MROUND(Inputs!$D$30*$Q$3*(1/(1+J100*(2-1))),1)),\nIF(G100=\"TRUE 3\",IF(E100=\"NT\",MROUND(Inputs!$E$32*$R$3*(1/(1+J100*(2-1))),1),MROUND(Inputs!$E$30*$R$3*(1/(1+J100*(2-1))),1)),\nIF(G100=\"TRUE 4\",IF(E100=\"NT\",MROUND(Inputs!$F$32*$S$3*(1/(1+J100*(2-1))),1),MROUND(Inputs!$F$30*$S$3*(1/(1+J100*(2-1))),1)),\nMROUND(Inputs!$C$15*(1/(1+J100*(2-1)))*($P$3+$P$4),1)))))","v":8727},-4519,0,{"$f":"(R100/(1/(1+J100*(2-1))))*O100/LEFT(Inputs!$C$18,1)/5280","v":0},0,{"$f":"(T100/60)*((Inputs!$C$13*Calculations!R100*(1-Calculations!J100))+(Inputs!$C$14*Calculations!R100*Calculations!J100))","v":0},{"$f":"IF(R100>0,($J$5/60)*(((I100*$J$3/(1-$J$3))*(1-J100)*Inputs!$C$13)+((I100*$J$3/(1-$J$3))*J100*Inputs!$C$14)),0)","v":0},0,null,"2019-08-04T17:00:00","","",{"$f":"IF(AND(Z100<>\"\",AA100<>\"\"),MAX(INDIRECT(Z100):INDIRECT(AA100)),\"\")","v":""},"","",null,{"$f":"IF(G100=\"TRUE 1\",IF(E100=\"NT\",MROUND(Inputs!$C$32*$AF$3*(1/(1+M100*(2-1))),1),MROUND(Inputs!$C$30*$AF$3*(1/(1+M100*(2-1))),1)),\nIF(G100=\"TRUE 2\",IF(E100=\"NT\",MROUND(Inputs!$D$32*$AG$3*(1/(1+M100*(2-1))),1),MROUND(Inputs!$D$30*$AG$3*(1/(1+M100*(2-1))),1)),\nIF(G100=\"TRUE 3\",IF(E100=\"NT\",MROUND(Inputs!$E$32*$AH$3*(1/(1+M100*(2-1))),1),MROUND(Inputs!$E$30*$AH$3*(1/(1+M100*(2-1))),1)),\nIF(G100=\"TRUE 4\",IF(E100=\"NT\",MROUND(Inputs!$F$32*$AI$3*(1/(1+M100*(2-1))),1),MROUND(Inputs!$F$30*$AI$3*(1/(1+M100*(2-1))),1)),\nMROUND(Inputs!$C$15*(1/(1+M100*(2-1)))*($AF$3+$AF$4),1)))))","v":8727},-3647,0,{"$f":"(AH100/(1/(1+M100*(2-1))))*O100/LEFT(Inputs!$C$18,1)/5280","v":0},0,{"$f":"(AJ100/60)*((Inputs!$C$13*Calculations!AH100*(1-Calculations!M100))+(Inputs!$C$14*Calculations!AH100*Calculations!M100))","v":0},{"$f":"IF(AH100>0,($M$5/60)*(((L100*$M$3/(1-$M$3))*(1-M100)*Inputs!$C$13)+((L100*$M$3/(1-$M$3))*M100*Inputs!$C$14)),0)","v":0},0,null,"2019-08-04T17:00:00","","",{"$f":"IF(AND(AP100<>\"\",AQ100<>\"\"),MAX(INDIRECT(AP100):INDIRECT(AQ100)),\"\")","v":""},"",""]
["2019-08-04",1,"Sunday","18:00:00",{"$f":"INDEX(Lists!$M$3:$M$26,MATCH(Calculations!D101,Lists!$L$3:$L$26,0))","v":"NT"},18,{"$f":"IF(INDEX(Inputs!$H$86:$H$253,MATCH(F101,Inputs!$D$86:$D$253,0)),\"TRUE 4\",\nIF(INDEX(Inputs!$G$86:$G$253,MATCH(F101,Inputs!$D$86:$D$253,0)),\"TRUE 3\",\nIF(INDEX(Inputs!$F$86:$F$253,MATCH(F101,Inputs!$D$86:$D$253,0)),\"TRUE 2\",\nIF(INDEX(Inputs!$E$86:$E$253,MATCH(F101,Inputs!$D$86:$D$253,0)),\"TRUE 1\",\nFALSE))))","v":false},null,{"$f":"'Volume Import'!C92*'Volume Import'!$H$14*(1+'Volume Import'!$H$15)*(1-'Volume Import'!$H$16)","v":3779},{"$f":"IF(AND('Volume Import'!D92=0,'Volume Import'!C92=0),0,\nIF('Volume Import'!D92=0,INDEX('Volume Import'!$K$2:$Q$5,MATCH(E101,'Volume Import'!$R$2:$R$5,0),MATCH(C101,'Volume Import'!$K$1:$Q$1,0)),\n'Volume Import'!D92/'Volume Import'!C92))","v":0.1},null,{"$f":"'Volume Import'!E92*'Volume Import'!$I$14*(1+'Volume Import'!$I$15)*(1-'Volume Import'!$I$16)","v":4245},{"$f":"IF('Volume Import'!F92=0,J101,'Volume Import'!F92/'Volume Import'!E92)","v":0.1},null,{"$f":"IF(G101=\"TRUE 1\",IF(E101=\"NT\",Inputs!$C$35,Inputs!$C$34),\nIF(G101=\"TRUE 2\",IF(E101=\"NT\",Inputs!$D$35,Inputs!$D$34),\nIF(G101=\"TRUE 3\",IF(E101=\"NT\",Inputs!$E$35,Inputs!$E$34),\nIF(G101=\"TRUE 4\",IF(E101=\"NT\",Inputs!$F$35,Inputs!$F$34),\nO100))))","v":65.476687896673383},{"$f":"IF(G101=\"TRUE 1\",IF(E101=\"NT\",MROUND(Inputs!$C$32*$P$3*(1/(1+J101*(2-1))),1),MROUND(Inputs!$C$30*$P$3*(1/(1+J101*(2-1))),1)),\nIF(G101=\"TRUE 2\",IF(E101=\"NT\",MROUND(Inputs!$D$32*$Q$3*(1/(1+J101*(2-1))),1),MROUND(Inputs!$D$30*$Q$3*(1/(1+J101*(2-1))),1)),\nIF(G101=\"TRUE 3\",IF(E101=\"NT\",MROUND(Inputs!$E$32*$R$3*(1/(1+J101*(2-1))),1),MROUND(Inputs!$E$30*$R$3*(1/(1+J101*(2-1))),1)),\nIF(G101=\"TRUE 4\",IF(E101=\"NT\",MROUND(Inputs!$F$32*$S$3*(1/(1+J101*(2-1))),1),MROUND(Inputs!$F$30*$S$3*(1/(1+J101*(2-1))),1)),\nMROUND(Inputs!$C$15*(1/(1+J101*(2-1)))*($P$3+$P$4),1)))))","v":8727},-4948,0,{"$f":"(R101/(1/(1+J101*(2-1))))*O101/LEFT(Inputs!$C$18,1)/5280","v":0},0,{"$f":"(T101/60)*((Inputs!$C$13*Calculations!R101*(1-Calculations!J101))+(Inputs!$C$14*Calculations!R101*Calculations!J101))","v":0},{"$f":"IF(R101>0,($J$5/60)*(((I101*$J$3/(1-$J$3))*(1-J101)*Inputs!$C$13)+((I101*$J$3/(1-$J$3))*J101*Inputs!$C$14)),0)","v":0},0,null,"2019-08-04T18:00:00","","",{"$f":"IF(AND(Z101<>\"\",AA101<>\"\"),MAX(INDIRECT(Z101):INDIRECT(AA101)),\"\")","v":""},"","",null,{"$f":"IF(G101=\"TRUE 1\",IF(E101=\"NT\",MROUND(Inputs!$C$32*$AF$3*(1/(1+M101*(2-1))),1),MROUND(Inputs!$C$30*$AF$3*(1/(1+M101*(2-1))),1)),\nIF(G101=\"TRUE 2\",IF(E101=\"NT\",MROUND(Inputs!$D$32*$AG$3*(1/(1+M101*(2-1))),1),MROUND(Inputs!$D$30*$AG$3*(1/(1+M101*(2-1))),1)),\nIF(G101=\"TRUE 3\",IF(E101=\"NT\",MROUND(Inputs!$E$32*$AH$3*(1/(1+M101*(2-1))),1),MROUND(Inputs!$E$30*$AH$3*(1/(1+M101*(2-1))),1)),\nIF(G101=\"TRUE 4\",IF(E101=\"NT\",MROUND(Inputs!$F$32*$AI$3*(1/(1+M101*(2-1))),1),MROUND(Inputs!$F$30*$AI$3*(1/(1+M101*(2-1))),1)),\nMROUND(Inputs!$C$15*(1/(1+M101*(2-1)))*($AF$3+$AF$4),1)))))","v":8727},-4482,0,{"$f":"(AH101/(1/(1+M101*(2-1))))*O101/LEFT(Inputs!$C$18,1)/5280","v":0},0,{"$f":"(AJ101/60)*((Inputs!$C$13*Calculations!AH101*(1-Calculations!M101))+(Inputs!$C$14*Calculations!AH101*Calculations!M101))","v":0},{"$f":"IF(AH101>0,($M$5/60)*(((L101*$M$3/(1-$M$3))*(1-M101)*Inputs!$C$13)+((L101*$M$3/(1-$M$3))*M101*Inputs!$C$14)),0)","v":0},0,null,"2019-08-04T18:00:00","","",{"$f":"IF(AND(AP101<>\"\",AQ101<>\"\"),MAX(INDIRECT(AP101):INDIRECT(AQ101)),\"\")","v":""},"",""]
["2019-08-04",1,"Sunday","19:00:00",{"$f":"INDEX(Lists!$M$3:$M$26,MATCH(Calculations!D102,Lists!$L$3:$L$26,0))","v":"NT"},19,{"$f":"IF(INDEX(Inputs!$H$86:$H$253,MATCH(F102,Inputs!$D$86:$D$253,0)),\"TRUE 4\",\nIF(INDEX(Inputs!$G$86:$G$253,MATCH(F102,Inputs!$D$86:$D$253,0)),\"TRUE 3\",\nIF(INDEX(Inputs!$F$86:$F$253,MATCH(F102,Inputs!$D$86:$D$253,0)),\"TRUE 2\",\nIF(INDEX(Inputs!$E$86:$E$253,MATCH(F102,Inputs!$D$86:$D$253,0)),\"TRUE 1\",\nFALSE))))","v":false},null,{"$f":"'Volume Import'!C93*'Volume Import'!$H$14*(1+'Volume Import'!$H$15)*(1-'Volume Import'!$H$16)","v":3103},{"$f":"IF(AND('Volume Import'!D93=0,'Volume Import'!C93=0),0,\nIF('Volume Import'!D93=0,INDEX('Volume Import'!$K$2:$Q$5,MATCH(E102,'Volume Import'!$R$2:$R$5,0),MATCH(C102,'Volume Import'!$K$1:$Q$1,0)),\n'Volume Import'!D93/'Volume Import'!C93))","v":0.1},null,{"$f":"'Volume Import'!E93*'Volume Import'!$I$14*(1+'Volume Import'!$I$15)*(1-'Volume Import'!$I$16)","v":3538},{"$f":"IF('Volume Import'!F93=0,J102,'Volume Import'!F93/'Volume Import'!E93)","v":0.1},null,{"$f":"IF(G102=\"TRUE 1\",IF(E102=\"NT\",Inputs!$C$35,Inputs!$C$34),\nIF(G102=\"TRUE 2\",IF(E102=\"NT\",Inputs!$D$35,Inputs!$D$34),\nIF(G102=\"TRUE 3\",IF(E102=\"NT\",Inputs!$E$35,Inputs!$E$34),\nIF(G102=\"TRUE 4\",IF(E102=\"NT\",Inputs!$F$35,Inputs!$F$34),\nO101))))","v":65.476687896673383},{"$f":"IF(G102=\"TRUE 1\",IF(E102=\"NT\",MROUND(Inputs!$C$32*$P$3*(1/(1+J102*(2-1))),1),MROUND(Inputs!$C$30*$P$3*(1/(1+J102*(2-1))),1)),\nIF(G102=\"TRUE 2\",IF(E102=\"NT\",MROUND(Inputs!$D$32*$Q$3*(1/(1+J102*(2-1))),1),MROUND(Inputs!$D$30*$Q$3*(1/(1+J102*(2-1))),1)),\nIF(G102=\"TRUE 3\",IF(E102=\"NT\",MROUND(Inputs!$E$32*$R$3*(1/(1+J102*(2-1))),1),MROUND(Inputs!$E$30*$R$3*(1/(1+J102*(2-1))),1)),\nIF(G102=\"TRUE 4\",IF(E102=\"NT\",MROUND(Inputs!$F$32*$S$3*(1/(1+J102*(2-1))),1),MROUND(Inputs!$F$30*$S$3*(1/(1+J102*(2-1))),1)),\nMROUND(Inputs!$C$15*(1/(1+J102*(2-1)))*($P$3+$P$4),1)))))","v":8727},-5624,0,{"$f":"(R102/(1/(1+J102*(2-1))))*O102/LEFT(Inputs!$C$18,1)/5280","v":0},0,{"$f":"(T102/60)*((Inputs!$C$13*Calculations!R102*(1-Calculations!J102))+(Inputs!$C$14*Calculations!R102*Calculations!J102))","v":0},{"$f":"IF(R102>0,($J$5/60)*(((I102*$J$3/(1-$J$3))*(1-J102)*Inputs!$C$13)+((I102*$J$3/(1-$J$3))*J102*Inputs!$C$14)),0)","v":0},0,null,"2019-08-04T19:00:00","","",{"$f":"IF(AND(Z102<>\"\",AA102<>\"\"),MAX(INDIRECT(Z102):INDIRECT(AA102)),\"\")","v":""},"","",null,{"$f":"IF(G102=\"TRUE 1\",IF(E102=\"NT\",MROUND(Inputs!$C$32*$AF$3*(1/(1+M102*(2-1))),1),MROUND(Inputs!$C$30*$AF$3*(1/(1+M102*(2-1))),1)),\nIF(G102=\"TRUE 2\",IF(E102=\"NT\",MROUND(Inputs!$D$32*$AG$3*(1/(1+M102*(2-1))),1),MROUND(Inputs!$D$30*$AG$3*(1/(1+M102*(2-1))),1)),\nIF(G102=\"TRUE 3\",IF(E102=\"NT\",MROUND(Inputs!$E$32*$AH$3*(1/(1+M102*(2-1))),1),MROUND(Inputs!$E$30*$AH$3*(1/(1+M102*(2-1))),1)),\nIF(G102=\"TRUE 4\",IF(E102=\"NT\",MROUND(Inputs!$F$32*$AI$3*(1/(1+M102*(2-1))),1),MROUND(Inputs!$F$30*$AI$3*(1/(1+M102*(2-1))),1)),\nMROUND(Inputs!$C$15*(1/(1+M102*(2-1)))*($AF$3+$AF$4),1)))))","v":8727},-5189,0,{"$f":"(AH102/(1/(1+M102*(2-1))))*O102/LEFT(Inputs!$C$18,1)/5280","v":0},0,{"$f":"(AJ102/60)*((Inputs!$C$13*Calculations!AH102*(1-Calculations!M102))+(Inputs!$C$14*Calculations!AH102*Calculations!M102))","v":0},{"$f":"IF(AH102>0,($M$5/60)*(((L102*$M$3/(1-$M$3))*(1-M102)*Inputs!$C$13)+((L102*$M$3/(1-$M$3))*M102*Inputs!$C$14)),0)","v":0},0,null,"2019-08-04T19:00:00","","",{"$f":"IF(AND(AP102<>\"\",AQ102<>\"\"),MAX(INDIRECT(AP102):INDIRECT(AQ102)),\"\")","v":""},"",""]
["2019-08-04",1,"Sunday","20:00:00",{"$f":"INDEX(Lists!$M$3:$M$26,MATCH(Calculations!D103,Lists!$L$3:$L$26,0))","v":"NT"},20,{"$f":"IF(INDEX(Inputs!$H$86:$H$253,MATCH(F103,Inputs!$D$86:$D$253,0)),\"TRUE 4\",\nIF(INDEX(Inputs!$G$86:$G$253,MATCH(F103,Inputs!$D$86:$D$253,0)),\"TRUE 3\",\nIF(INDEX(Inputs!$F$86:$F$253,MATCH(F103,Inputs!$D$86:$D$253,0)),\"TRUE 2\",\nIF(INDEX(Inputs!$E$86:$E$253,MATCH(F103,Inputs!$D$86:$D$253,0)),\"TRUE 1\",\nFALSE))))","v":false},null,{"$f":"'Volume Import'!C94*'Volume Import'!$H$14*(1+'Volume Import'!$H$15)*(1-'Volume Import'!$H$16)","v":2633},{"$f":"IF(AND('Volume Import'!D94=0,'Volume Import'!C94=0),0,\nIF('Volume Import'!D94=0,INDEX('Volume Import'!$K$2:$Q$5,MATCH(E103,'Volume Import'!$R$2:$R$5,0),MATCH(C103,'Volume Import'!$K$1:$Q$1,0)),\n'Volume Import'!D94/'Volume Import'!C94))","v":0.1},null,{"$f":"'Volume Import'!E94*'Volume Import'!$I$14*(1+'Volume Import'!$I$15)*(1-'Volume Import'!$I$16)","v":2822},{"$f":"IF('Volume Import'!F94=0,J103,'Volume Import'!F94/'Volume Import'!E94)","v":0.1},null,{"$f":"IF(G103=\"TRUE 1\",IF(E103=\"NT\",Inputs!$C$35,Inputs!$C$34),\nIF(G103=\"TRUE 2\",IF(E103=\"NT\",Inputs!$D$35,Inputs!$D$34),\nIF(G103=\"TRUE 3\",IF(E103=\"NT\",Inputs!$E$35,Inputs!$E$34),\nIF(G103=\"TRUE 4\",IF(E103=\"NT\",Inputs!$F$35,Inputs!$F$34),\nO102))))","v":65.476687896673383},{"$f":"IF(G103=\"TRUE 1\",IF(E103=\"NT\",MROUND(Inputs!$C$32*$P$3*(1/(1+J103*(2-1))),1),MROUND(Inputs!$C$30*$P$3*(1/(1+J103*(2-1))),1)),\nIF(G103=\"TRUE 2\",IF(E103=\"NT\",MROUND(Inputs!$D$32*$Q$3*(1/(1+J103*(2-1))),1),MROUND(Inputs!$D$30*$Q$3*(1/(1+J103*(2-1))),1)),\nIF(G103=\"TRUE 3\",IF(E103=\"NT\",MROUND(Inputs!$E$32*$R$3*(1/(1+J103*(2-1))),1),MROUND(Inputs!$E$30*$R$3*(1/(1+J103*(2-1))),1)),\nIF(G103=\"TRUE 4\",IF(E103=\"NT\",MROUND(Inputs!$F$32*$S$3*(1/(1+J103*(2-1))),1),MROUND(Inputs!$F$30*$S$3*(1/(1+J103*(2-1))),1)),\nMROUND(Inputs!$C$15*(1/(1+J103*(2-1)))*($P$3+$P$4),1)))))","v":8727},-6094,0,{"$f":"(R103/(1/(1+J103*(2-1))))*O103/LEFT(Inputs!$C$18,1)/5280","v":0},0,{"$f":"(T103/60)*((Inputs!$C$13*Calculations!R103*(1-Calculations!J103))+(Inputs!$C$14*Calculations!R103*Calculations!J103))","v":0},{"$f":"IF(R103>0,($J$5/60)*(((I103*$J$3/(1-$J$3))*(1-J103)*Inputs!$C$13)+((I103*$J$3/(1-$J$3))*J103*Inputs!$C$14)),0)","v":0},0,null,"2019-08-04T20:00:00","","",{"$f":"IF(AND(Z103<>\"\",AA103<>\"\"),MAX(INDIRECT(Z103):INDIRECT(AA103)),\"\")","v":""},"","",null,{"$f":"IF(G103=\"TRUE 1\",IF(E103=\"NT\",MROUND(Inputs!$C$32*$AF$3*(1/(1+M103*(2-1))),1),MROUND(Inputs!$C$30*$AF$3*(1/(1+M103*(2-1))),1)),\nIF(G103=\"TRUE 2\",IF(E103=\"NT\",MROUND(Inputs!$D$32*$AG$3*(1/(1+M103*(2-1))),1),MROUND(Inputs!$D$30*$AG$3*(1/(1+M103*(2-1))),1)),\nIF(G103=\"TRUE 3\",IF(E103=\"NT\",MROUND(Inputs!$E$32*$AH$3*(1/(1+M103*(2-1))),1),MROUND(Inputs!$E$30*$AH$3*(1/(1+M103*(2-1))),1)),\nIF(G103=\"TRUE 4\",IF(E103=\"NT\",MROUND(Inputs!$F$32*$AI$3*(1/(1+M103*(2-1))),1),MROUND(Inputs!$F$30*$AI$3*(1/(1+M103*(2-1))),1)),\nMROUND(Inputs!$C$15*(1/(1+M103*(2-1)))*($AF$3+$AF$4),1)))))","v":8727},-5905,0,{"$f":"(AH103/(1/(1+M103*(2-1))))*O103/LEFT(Inputs!$C$18,1)/5280","v":0},0,{"$f":"(AJ103/60)*((Inputs!$C$13*Calculations!AH103*(1-Calculations!M103))+(Inputs!$C$14*Calculations!AH103*Calculations!M103))","v":0},{"$f":"IF(AH103>0,($M$5/60)*(((L103*$M$3/(1-$M$3))*(1-M103)*Inputs!$C$13)+((L103*$M$3/(1-$M$3))*M103*Inputs!$C$14)),0)","v":0},0,null,"2019-08-04T20:00:00","","",{"$f":"IF(AND(AP103<>\"\",AQ103<>\"\"),MAX(INDIRECT(AP103):INDIRECT(AQ103)),\"\")","v":""},"",""]
["2019-08-04",1,"Sunday","21:00:00",{"$f":"INDEX(Lists!$M$3:$M$26,MATCH(Calculations!D104,Lists!$L$3:$L$26,0))","v":"NT"},21,{"$f":"IF(INDEX(Inputs!$H$86:$H$253,MATCH(F104,Inputs!$D$86:$D$253,0)),\"TRUE 4\",\nIF(INDEX(Inputs!$G$86:$G$253,MATCH(F104,Inputs!$D$86:$D$253,0)),\"TRUE 3\",\nIF(INDEX(Inputs!$F$86:$F$253,MATCH(F104,Inputs!$D$86:$D$253,0)),\"TRUE 2\",\nIF(INDEX(Inputs!$E$86:$E$253,MATCH(F104,Inputs!$D$86:$D$253,0)),\"TRUE 1\",\nFALSE))))","v":false},null,{"$f":"'Volume Import'!C95*'Volume Import'!$H$14*(1+'Volume Import'!$H$15)*(1-'Volume Import'!$H$16)","v":2045},{"$f":"IF(AND('Volume Import'!D95=0,'Volume Import'!C95=0),0,\nIF('Volume Import'!D95=0,INDEX('Volume Import'!$K$2:$Q$5,MATCH(E104,'Volume Import'!$R$2:$R$5,0),MATCH(C104,'Volume Import'!$K$1:$Q$1,0)),\n'Volume Import'!D95/'Volume Import'!C95))","v":0.1},null,{"$f":"'Volume Import'!E95*'Volume Import'!$I$14*(1+'Volume Import'!$I$15)*(1-'Volume Import'!$I$16)","v":2086},{"$f":"IF('Volume Import'!F95=0,J104,'Volume Import'!F95/'Volume Import'!E95)","v":0.1},null,{"$f":"IF(G104=\"TRUE 1\",IF(E104=\"NT\",Inputs!$C$35,Inputs!$C$34),\nIF(G104=\"TRUE 2\",IF(E104=\"NT\",Inputs!$D$35,Inputs!$D$34),\nIF(G104=\"TRUE 3\",IF(E104=\"NT\",Inputs!$E$35,Inputs!$E$34),\nIF(G104=\"TRUE 4\",IF(E104=\"NT\",Inputs!$F$35,Inputs!$F$34),\nO103))))","v":65.476687896673383},{"$f":"IF(G104=\"TRUE 1\",IF(E104=\"NT\",MROUND(Inputs!$C$32*$P$3*(1/(1+J104*(2-1))),1),MROUND(Inputs!$C$30*$P$3*(1/(1+J104*(2-1))),1)),\nIF(G104=\"TRUE 2\",IF(E104=\"NT\",MROUND(Inputs!$D$32*$Q$3*(1/(1+J104*(2-1))),1),MROUND(Inputs!$D$30*$Q$3*(1/(1+J104*(2-1))),1)),\nIF(G104=\"TRUE 3\",IF(E104=\"NT\",MROUND(Inputs!$E$32*$R$3*(1/(1+J104*(2-1))),1),MROUND(Inputs!$E$30*$R$3*(1/(1+J104*(2-1))),1)),\nIF(G104=\"TRUE 4\",IF(E104=\"NT\",MROUND(Inputs!$F$32*$S$3*(1/(1+J104*(2-1))),1),MROUND(Inputs!$F$30*$S$3*(1/(1+J104*(2-1))),1)),\nMROUND(Inputs!$C$15*(1/(1+J104*(2-1)))*($P$3+$P$4),1)))))","v":8727},-6682,0,{"$f":"(R104/(1/(1+J104*(2-1))))*O104/LEFT(Inputs!$C$18,1)/5280","v":0},0,{"$f":"(T104/60)*((Inputs!$C$13*Calculations!R104*(1-Calculations!J104))+(Inputs!$C$14*Calculations!R104*Calculations!J104))","v":0},{"$f":"IF(R104>0,($J$5/60)*(((I104*$J$3/(1-$J$3))*(1-J104)*Inputs!$C$13)+((I104*$J$3/(1-$J$3))*J104*Inputs!$C$14)),0)","v":0},0,null,"2019-08-04T21:00:00","","",{"$f":"IF(AND(Z104<>\"\",AA104<>\"\"),MAX(INDIRECT(Z104):INDIRECT(AA104)),\"\")","v":""},"","",null,{"$f":"IF(G104=\"TRUE 1\",IF(E104=\"NT\",MROUND(Inputs!$C$32*$AF$3*(1/(1+M104*(2-1))),1),MROUND(Inputs!$C$30*$AF$3*(1/(1+M104*(2-1))),1)),\nIF(G104=\"TRUE 2\",IF(E104=\"NT\",MROUND(Inputs!$D$32*$AG$3*(1/(1+M104*(2-1))),1),MROUND(Inputs!$D$30*$AG$3*(1/(1+M104*(2-1))),1)),\nIF(G104=\"TRUE 3\",IF(E104=\"NT\",MROUND(Inputs!$E$32*$AH$3*(1/(1+M104*(2-1))),1),MROUND(Inputs!$E$30*$AH$3*(1/(1+M104*(2-1))),1)),\nIF(G104=\"TRUE 4\",IF(E104=\"NT\",MROUND(Inputs!$F$32*$AI$3*(1/(1+M104*(2-1))),1),MROUND(Inputs!$F$30*$AI$3*(1/(1+M104*(2-1))),1)),\nMROUND(Inputs!$C$15*(1/(1+M104*(2-1)))*($AF$3+$AF$4),1)))))","v":8727},-6641,0,{"$f":"(AH104/(1/(1+M104*(2-1))))*O104/LEFT(Inputs!$C$18,1)/5280","v":0},0,{"$f":"(AJ104/60)*((Inputs!$C$13*Calculations!AH104*(1-Calculations!M104))+(Inputs!$C$14*Calculations!AH104*Calculations!M104))","v":0},{"$f":"IF(AH104>0,($M$5/60)*(((L104*$M$3/(1-$M$3))*(1-M104)*Inputs!$C$13)+((L104*$M$3/(1-$M$3))*M104*Inputs!$C$14)),0)","v":0},0,null,"2019-08-04T21:00:00","","",{"$f":"IF(AND(AP104<>\"\",AQ104<>\"\"),MAX(INDIRECT(AP104):INDIRECT(AQ104)),\"\")","v":""},"",""]
["2019-08-04",1,"Sunday","22:00:00",{"$f":"INDEX(Lists!$M$3:$M$26,MATCH(Calculations!D105,Lists!$L$3:$L$26,0))","v":"NT"},22,{"$f":"IF(INDEX(Inputs!$H$86:$H$253,MATCH(F105,Inputs!$D$86:$D$253,0)),\"TRUE 4\",\nIF(INDEX(Inputs!$G$86:$G$253,MATCH(F105,Inputs!$D$86:$D$253,0)),\"TRUE 3\",\nIF(INDEX(Inputs!$F$86:$F$253,MATCH(F105,Inputs!$D$86:$D$253,0)),\"TRUE 2\",\nIF(INDEX(Inputs!$E$86:$E$253,MATCH(F105,Inputs!$D$86:$D$253,0)),\"TRUE 1\",\nFALSE))))","v":false},null,{"$f":"'Volume Import'!C96*'Volume Import'!$H$14*(1+'Volume Import'!$H$15)*(1-'Volume Import'!$H$16)","v":1351},{"$f":"IF(AND('Volume Import'!D96=0,'Volume Import'!C96=0),0,\nIF('Volume Import'!D96=0,INDEX('Volume Import'!$K$2:$Q$5,MATCH(E105,'Volume Import'!$R$2:$R$5,0),MATCH(C105,'Volume Import'!$K$1:$Q$1,0)),\n'Volume Import'!D96/'Volume Import'!C96))","v":0.1},null,{"$f":"'Volume Import'!E96*'Volume Import'!$I$14*(1+'Volume Import'!$I$15)*(1-'Volume Import'!$I$16)","v":1376},{"$f":"IF('Volume Import'!F96=0,J105,'Volume Import'!F96/'Volume Import'!E96)","v":0.1},null,{"$f":"IF(G105=\"TRUE 1\",IF(E105=\"NT\",Inputs!$C$35,Inputs!$C$34),\nIF(G105=\"TRUE 2\",IF(E105=\"NT\",Inputs!$D$35,Inputs!$D$34),\nIF(G105=\"TRUE 3\",IF(E105=\"NT\",Inputs!$E$35,Inputs!$E$34),\nIF(G105=\"TRUE 4\",IF(E105=\"NT\",Inputs!$F$35,Inputs!$F$34),\nO104))))","v":65.476687896673383},{"$f":"IF(G105=\"TRUE 1\",IF(E105=\"NT\",MROUND(Inputs!$C$32*$P$3*(1/(1+J105*(2-1))),1),MROUND(Inputs!$C$30*$P$3*(1/(1+J105*(2-1))),1)),\nIF(G105=\"TRUE 2\",IF(E105=\"NT\",MROUND(Inputs!$D$32*$Q$3*(1/(1+J105*(2-1))),1),MROUND(Inputs!$D$30*$Q$3*(1/(1+J105*(2-1))),1)),\nIF(G105=\"TRUE 3\",IF(E105=\"NT\",MROUND(Inputs!$E$32*$R$3*(1/(1+J105*(2-1))),1),MROUND(Inputs!$E$30*$R$3*(1/(1+J105*(2-1))),1)),\nIF(G105=\"TRUE 4\",IF(E105=\"NT\",MROUND(Inputs!$F$32*$S$3*(1/(1+J105*(2-1))),1),MROUND(Inputs!$F$30*$S$3*(1/(1+J105*(2-1))),1)),\nMROUND(Inputs!$C$15*(1/(1+J105*(2-1)))*($P$3+$P$4),1)))))","v":8727},-7376,0,{"$f":"(R105/(1/(1+J105*(2-1))))*O105/LEFT(Inputs!$C$18,1)/5280","v":0},0,{"$f":"(T105/60)*((Inputs!$C$13*Calculations!R105*(1-Calculations!J105))+(Inputs!$C$14*Calculations!R105*Calculations!J105))","v":0},{"$f":"IF(R105>0,($J$5/60)*(((I105*$J$3/(1-$J$3))*(1-J105)*Inputs!$C$13)+((I105*$J$3/(1-$J$3))*J105*Inputs!$C$14)),0)","v":0},0,null,"2019-08-04T22:00:00","","",{"$f":"IF(AND(Z105<>\"\",AA105<>\"\"),MAX(INDIRECT(Z105):INDIRECT(AA105)),\"\")","v":""},"","",null,{"$f":"IF(G105=\"TRUE 1\",IF(E105=\"NT\",MROUND(Inputs!$C$32*$AF$3*(1/(1+M105*(2-1))),1),MROUND(Inputs!$C$30*$AF$3*(1/(1+M105*(2-1))),1)),\nIF(G105=\"TRUE 2\",IF(E105=\"NT\",MROUND(Inputs!$D$32*$AG$3*(1/(1+M105*(2-1))),1),MROUND(Inputs!$D$30*$AG$3*(1/(1+M105*(2-1))),1)),\nIF(G105=\"TRUE 3\",IF(E105=\"NT\",MROUND(Inputs!$E$32*$AH$3*(1/(1+M105*(2-1))),1),MROUND(Inputs!$E$30*$AH$3*(1/(1+M105*(2-1))),1)),\nIF(G105=\"TRUE 4\",IF(E105=\"NT\",MROUND(Inputs!$F$32*$AI$3*(1/(1+M105*(2-1))),1),MROUND(Inputs!$F$30*$AI$3*(1/(1+M105*(2-1))),1)),\nMROUND(Inputs!$C$15*(1/(1+M105*(2-1)))*($AF$3+$AF$4),1)))))","v":8727},-7351,0,{"$f":"(AH105/(1/(1+M105*(2-1))))*O105/LEFT(Inputs!$C$18,1)/5280","v":0},0,{"$f":"(AJ105/60)*((Inputs!$C$13*Calculations!AH105*(1-Calculations!M105))+(Inputs!$C$14*Calculations!AH105*Calculations!M105))","v":0},{"$f":"IF(AH105>0,($M$5/60)*(((L105*$M$3/(1-$M$3))*(1-M105)*Inputs!$C$13)+((L105*$M$3/(1-$M$3))*M105*Inputs!$C$14)),0)","v":0},0,null,"2019-08-04T22:00:00","","",{"$f":"IF(AND(AP105<>\"\",AQ105<>\"\"),MAX(INDIRECT(AP105):INDIRECT(AQ105)),\"\")","v":""},"",""]
["2019-08-04",1,"Sunday","23:00:00",{"$f":"INDEX(Lists!$M$3:$M$26,MATCH(Calculations!D106,Lists!$L$3:$L$26,0))","v":"NT"},23,{"$f":"IF(INDEX(Inputs!$H$86:$H$253,MATCH(F106,Inputs!$D$86:$D$253,0)),\"TRUE 4\",\nIF(INDEX(Inputs!$G$86:$G$253,MATCH(F106,Inputs!$D$86:$D$253,0)),\"TRUE 3\",\nIF(INDEX(Inputs!$F$86:$F$253,MATCH(F106,Inputs!$D$86:$D$253,0)),\"TRUE 2\",\nIF(INDEX(Inputs!$E$86:$E$253,MATCH(F106,Inputs!$D$86:$D$253,0)),\"TRUE 1\",\nFALSE))))","v":false},null,{"$f":"'Volume Import'!C97*'Volume Import'!$H$14*(1+'Volume Import'!$H$15)*(1-'Volume Import'!$H$16)","v":927},{"$f":"IF(AND('Volume Import'!D97=0,'Volume Import'!C97=0),0,\nIF('Volume Import'!D97=0,INDEX('Volume Import'!$K$2:$Q$5,MATCH(E106,'Volume Import'!$R$2:$R$5,0),MATCH(C106,'Volume Import'!$K$1:$Q$1,0)),\n'Volume Import'!D97/'Volume Import'!C97))","v":0.1},null,{"$f":"'Volume Import'!E97*'Volume Import'!$I$14*(1+'Volume Import'!$I$15)*(1-'Volume Import'!$I$16)","v":894},{"$f":"IF('Volume Import'!F97=0,J106,'Volume Import'!F97/'Volume Import'!E97)","v":0.1},null,{"$f":"IF(G106=\"TRUE 1\",IF(E106=\"NT\",Inputs!$C$35,Inputs!$C$34),\nIF(G106=\"TRUE 2\",IF(E106=\"NT\",Inputs!$D$35,Inputs!$D$34),\nIF(G106=\"TRUE 3\",IF(E106=\"NT\",Inputs!$E$35,Inputs!$E$34),\nIF(G106=\"TRUE 4\",IF(E106=\"NT\",Inputs!$F$35,Inputs!$F$34),\nO105))))","v":65.476687896673383},{"$f":"IF(G106=\"TRUE 1\",IF(E106=\"NT\",MROUND(Inputs!$C$32*$P$3*(1/(1+J106*(2-1))),1),MROUND(Inputs!$C$30*$P$3*(1/(1+J106*(2-1))),1)),\nIF(G106=\"TRUE 2\",IF(E106=\"NT\",MROUND(Inputs!$D$32*$Q$3*(1/(1+J106*(2-1))),1),MROUND(Inputs!$D$30*$Q$3*(1/(1+J106*(2-1))),1)),\nIF(G106=\"TRUE 3\",IF(E106=\"NT\",MROUND(Inputs!$E$32*$R$3*(1/(1+J106*(2-1))),1),MROUND(Inputs!$E$30*$R$3*(1/(1+J106*(2-1))),1)),\nIF(G106=\"TRUE 4\",IF(E106=\"NT\",MROUND(Inputs!$F$32*$S$3*(1/(1+J106*(2-1))),1),MROUND(Inputs!$F$30*$S$3*(1/(1+J106*(2-1))),1)),\nMROUND(Inputs!$C$15*(1/(1+J106*(2-1)))*($P$3+$P$4),1)))))","v":8727},-7800,0,{"$f":"(R106/(1/(1+J106*(2-1))))*O106/LEFT(Inputs!$C$18,1)/5280","v":0},0,{"$f":"(T106/60)*((Inputs!$C$13*Calculations!R106*(1-Calculations!J106))+(Inputs!$C$14*Calculations!R106*Calculations!J106))","v":0},{"$f":"IF(R106>0,($J$5/60)*(((I106*$J$3/(1-$J$3))*(1-J106)*Inputs!$C$13)+((I106*$J$3/(1-$J$3))*J106*Inputs!$C$14)),0)","v":0},0,null,"2019-08-04T23:00:00","","",{"$f":"IF(AND(Z106<>\"\",AA106<>\"\"),MAX(INDIRECT(Z106):INDIRECT(AA106)),\"\")","v":""},"","",null,{"$f":"IF(G106=\"TRUE 1\",IF(E106=\"NT\",MROUND(Inputs!$C$32*$AF$3*(1/(1+M106*(2-1))),1),MROUND(Inputs!$C$30*$AF$3*(1/(1+M106*(2-1))),1)),\nIF(G106=\"TRUE 2\",IF(E106=\"NT\",MROUND(Inputs!$D$32*$AG$3*(1/(1+M106*(2-1))),1),MROUND(Inputs!$D$30*$AG$3*(1/(1+M106*(2-1))),1)),\nIF(G106=\"TRUE 3\",IF(E106=\"NT\",MROUND(Inputs!$E$32*$AH$3*(1/(1+M106*(2-1))),1),MROUND(Inputs!$E$30*$AH$3*(1/(1+M106*(2-1))),1)),\nIF(G106=\"TRUE 4\",IF(E106=\"NT\",MROUND(Inputs!$F$32*$AI$3*(1/(1+M106*(2-1))),1),MROUND(Inputs!$F$30*$AI$3*(1/(1+M106*(2-1))),1)),\nMROUND(Inputs!$C$15*(1/(1+M106*(2-1)))*($AF$3+$AF$4),1)))))","v":8727},-7833,0,{"$f":"(AH106/(1/(1+M106*(2-1))))*O106/LEFT(Inputs!$C$18,1)/5280","v":0},0,{"$f":"(AJ106/60)*((Inputs!$C$13*Calculations!AH106*(1-Calculations!M106))+(Inputs!$C$14*Calculations!AH106*Calculations!M106))","v":0},{"$f":"IF(AH106>0,($M$5/60)*(((L106*$M$3/(1-$M$3))*(1-M106)*Inputs!$C$13)+((L106*$M$3/(1-$M$3))*M106*Inputs!$C$14)),0)","v":0},0,null,"2019-08-04T23:00:00","","",{"$f":"IF(AND(AP106<>\"\",AQ106<>\"\"),MAX(INDIRECT(AP106):INDIRECT(AQ106)),\"\")","v":""},"",""]
["2019-08-05",2,"Monday","00:00:00",{"$f":"INDEX(Lists!$M$3:$M$26,MATCH(Calculations!D107,Lists!$L$3:$L$26,0))","v":"NT"},{"$f":"HOUR(D107)+(B107*24-24)","v":24},{"$f":"IF(INDEX(Inputs!$H$86:$H$253,MATCH(F107,Inputs!$D$86:$D$253,0)),\"TRUE 4\",\nIF(INDEX(Inputs!$G$86:$G$253,MATCH(F107,Inputs!$D$86:$D$253,0)),\"TRUE 3\",\nIF(INDEX(Inputs!$F$86:$F$253,MATCH(F107,Inputs!$D$86:$D$253,0)),\"TRUE 2\",\nIF(INDEX(Inputs!$E$86:$E$253,MATCH(F107,Inputs!$D$86:$D$253,0)),\"TRUE 1\",\nFALSE))))","v":false},null,{"$f":"'Volume Import'!C98*'Volume Import'!$H$14*(1+'Volume Import'!$H$15)*(1-'Volume Import'!$H$16)","v":658},{"$f":"IF(AND('Volume Import'!D98=0,'Volume Import'!C98=0),0,\nIF('Volume Import'!D98=0,INDEX('Volume Import'!$K$2:$Q$5,MATCH(E107,'Volume Import'!$R$2:$R$5,0),MATCH(C107,'Volume Import'!$K$1:$Q$1,0)),\n'Volume Import'!D98/'Volume Import'!C98))","v":0.1},null,{"$f":"'Volume Import'!E98*'Volume Import'!$I$14*(1+'Volume Import'!$I$15)*(1-'Volume Import'!$I$16)","v":468},{"$f":"IF('Volume Import'!F98=0,J107,'Volume Import'!F98/'Volume Import'!E98)","v":0.1},null,{"$f":"IF(G107=\"TRUE 1\",IF(E107=\"NT\",Inputs!$C$35,Inputs!$C$34),\nIF(G107=\"TRUE 2\",IF(E107=\"NT\",Inputs!$D$35,Inputs!$D$34),\nIF(G107=\"TRUE 3\",IF(E107=\"NT\",Inputs!$E$35,Inputs!$E$34),\nIF(G107=\"TRUE 4\",IF(E107=\"NT\",Inputs!$F$35,Inputs!$F$34),\nO106))))","v":65.476687896673383},{"$f":"IF(G107=\"TRUE 1\",IF(E107=\"NT\",MROUND(Inputs!$C$32*$P$3*(1/(1+J107*(2-1))),1),MROUND(Inputs!$C$30*$P$3*(1/(1+J107*(2-1))),1)),\nIF(G107=\"TRUE 2\",IF(E107=\"NT\",MROUND(Inputs!$D$32*$Q$3*(1/(1+J107*(2-1))),1),MROUND(Inputs!$D$30*$Q$3*(1/(1+J107*(2-1))),1)),\nIF(G107=\"TRUE 3\",IF(E107=\"NT\",MROUND(Inputs!$E$32*$R$3*(1/(1+J107*(2-1))),1),MROUND(Inputs!$E$30*$R$3*(1/(1+J107*(2-1))),1)),\nIF(G107=\"TRUE 4\",IF(E107=\"NT\",MROUND(Inputs!$F$32*$S$3*(1/(1+J107*(2-1))),1),MROUND(Inputs!$F$30*$S$3*(1/(1+J107*(2-1))),1)),\nMROUND(Inputs!$C$15*(1/(1+J107*(2-1)))*($P$3+$P$4),1)))))","v":8727},-8069,0,{"$f":"(R107/(1/(1+J107*(2-1))))*O107/LEFT(Inputs!$C$18,1)/5280","v":0},0,{"$f":"(T107/60)*((Inputs!$C$13*Calculations!R107*(1-Calculations!J107))+(Inputs!$C$14*Calculations!R107*Calculations!J107))","v":0},{"$f":"IF(R107>0,($J$5/60)*(((I107*$J$3/(1-$J$3))*(1-J107)*Inputs!$C$13)+((I107*$J$3/(1-$J$3))*J107*Inputs!$C$14)),0)","v":0},0,null,"2019-08-05","","",{"$f":"IF(AND(Z107<>\"\",AA107<>\"\"),MAX(INDIRECT(Z107):INDIRECT(AA107)),\"\")","v":""},"",{"$f":"IF(AND(S107>0,S108=0),$Y107,IF(AND(S107>0,S108>0),\"Q\",\"\"))","v":""},null,{"$f":"IF(G107=\"TRUE 1\",IF(E107=\"NT\",MROUND(Inputs!$C$32*$AF$3*(1/(1+M107*(2-1))),1),MROUND(Inputs!$C$30*$AF$3*(1/(1+M107*(2-1))),1)),\nIF(G107=\"TRUE 2\",IF(E107=\"NT\",MROUND(Inputs!$D$32*$AG$3*(1/(1+M107*(2-1))),1),MROUND(Inputs!$D$30*$AG$3*(1/(1+M107*(2-1))),1)),\nIF(G107=\"TRUE 3\",IF(E107=\"NT\",MROUND(Inputs!$E$32*$AH$3*(1/(1+M107*(2-1))),1),MROUND(Inputs!$E$30*$AH$3*(1/(1+M107*(2-1))),1)),\nIF(G107=\"TRUE 4\",IF(E107=\"NT\",MROUND(Inputs!$F$32*$AI$3*(1/(1+M107*(2-1))),1),MROUND(Inputs!$F$30*$AI$3*(1/(1+M107*(2-1))),1)),\nMROUND(Inputs!$C$15*(1/(1+M107*(2-1)))*($AF$3+$AF$4),1)))))","v":8727},-8259,0,{"$f":"(AH107/(1/(1+M107*(2-1))))*O107/LEFT(Inputs!$C$18,1)/5280","v":0},0,{"$f":"(AJ107/60)*((Inputs!$C$13*Calculations!AH107*(1-Calculations!M107))+(Inputs!$C$14*Calculations!AH107*Calculations!M107))","v":0},{"$f":"IF(AH107>0,($M$5/60)*(((L107*$M$3/(1-$M$3))*(1-M107)*Inputs!$C$13)+((L107*$M$3/(1-$M$3))*M107*Inputs!$C$14)),0)","v":0},0,null,"2019-08-05","","",{"$f":"IF(AND(AP107<>\"\",AQ107<>\"\"),MAX(INDIRECT(AP107):INDIRECT(AQ107)),\"\")","v":""},"",""]
["2019-08-05",2,"Monday","01:00:00",{"$f":"INDEX(Lists!$M$3:$M$26,MATCH(Calculations!D108,Lists!$L$3:$L$26,0))","v":"NT"},25,{"$f":"IF(INDEX(Inputs!$H$86:$H$253,MATCH(F108,Inputs!$D$86:$D$253,0)),\"TRUE 4\",\nIF(INDEX(Inputs!$G$86:$G$253,MATCH(F108,Inputs!$D$86:$D$253,0)),\"TRUE 3\",\nIF(INDEX(Inputs!$F$86:$F$253,MATCH(F108,Inputs!$D$86:$D$253,0)),\"TRUE 2\",\nIF(INDEX(Inputs!$E$86:$E$253,MATCH(F108,Inputs!$D$86:$D$253,0)),\"TRUE 1\",\nFALSE))))","v":false},null,{"$f":"'Volume Import'!C99*'Volume Import'!$H$14*(1+'Volume Import'!$H$15)*(1-'Volume Import'!$H$16)","v":420},{"$f":"IF(AND('Volume Import'!D99=0,'Volume Import'!C99=0),0,\nIF('Volume Import'!D99=0,INDEX('Volume Import'!$K$2:$Q$5,MATCH(E108,'Volume Import'!$R$2:$R$5,0),MATCH(C108,'Volume Import'!$K$1:$Q$1,0)),\n'Volume Import'!D99/'Volume Import'!C99))","v":0.1},null,{"$f":"'Volume Import'!E99*'Volume Import'!$I$14*(1+'Volume Import'!$I$15)*(1-'Volume Import'!$I$16)","v":311},{"$f":"IF('Volume Import'!F99=0,J108,'Volume Import'!F99/'Volume Import'!E99)","v":0.1},null,{"$f":"IF(G108=\"TRUE 1\",IF(E108=\"NT\",Inputs!$C$35,Inputs!$C$34),\nIF(G108=\"TRUE 2\",IF(E108=\"NT\",Inputs!$D$35,Inputs!$D$34),\nIF(G108=\"TRUE 3\",IF(E108=\"NT\",Inputs!$E$35,Inputs!$E$34),\nIF(G108=\"TRUE 4\",IF(E108=\"NT\",Inputs!$F$35,Inputs!$F$34),\nO107))))","v":65.476687896673383},{"$f":"IF(G108=\"TRUE 1\",IF(E108=\"NT\",MROUND(Inputs!$C$32*$P$3*(1/(1+J108*(2-1))),1),MROUND(Inputs!$C$30*$P$3*(1/(1+J108*(2-1))),1)),\nIF(G108=\"TRUE 2\",IF(E108=\"NT\",MROUND(Inputs!$D$32*$Q$3*(1/(1+J108*(2-1))),1),MROUND(Inputs!$D$30*$Q$3*(1/(1+J108*(2-1))),1)),\nIF(G108=\"TRUE 3\",IF(E108=\"NT\",MROUND(Inputs!$E$32*$R$3*(1/(1+J108*(2-1))),1),MROUND(Inputs!$E$30*$R$3*(1/(1+J108*(2-1))),1)),\nIF(G108=\"TRUE 4\",IF(E108=\"NT\",MROUND(Inputs!$F$32*$S$3*(1/(1+J108*(2-1))),1),MROUND(Inputs!$F$30*$S$3*(1/(1+J108*(2-1))),1)),\nMROUND(Inputs!$C$15*(1/(1+J108*(2-1)))*($P$3+$P$4),1)))))","v":8727},-8307,0,{"$f":"(R108/(1/(1+J108*(2-1))))*O108/LEFT(Inputs!$C$18,1)/5280","v":0},0,{"$f":"(T108/60)*((Inputs!$C$13*Calculations!R108*(1-Calculations!J108))+(Inputs!$C$14*Calculations!R108*Calculations!J108))","v":0},{"$f":"IF(R108>0,($J$5/60)*(((I108*$J$3/(1-$J$3))*(1-J108)*Inputs!$C$13)+((I108*$J$3/(1-$J$3))*J108*Inputs!$C$14)),0)","v":0},0,null,"2019-08-05T01:00:00","","",{"$f":"IF(AND(Z108<>\"\",AA108<>\"\"),MAX(INDIRECT(Z108):INDIRECT(AA108)),\"\")","v":""},{"$f":"IF(AND(S108>0,S107=0),$Y108,IF(AND(S108>0,S107>0),\"Q\",\"\"))","v":""},"",null,{"$f":"IF(G108=\"TRUE 1\",IF(E108=\"NT\",MROUND(Inputs!$C$32*$AF$3*(1/(1+M108*(2-1))),1),MROUND(Inputs!$C$30*$AF$3*(1/(1+M108*(2-1))),1)),\nIF(G108=\"TRUE 2\",IF(E108=\"NT\",MROUND(Inputs!$D$32*$AG$3*(1/(1+M108*(2-1))),1),MROUND(Inputs!$D$30*$AG$3*(1/(1+M108*(2-1))),1)),\nIF(G108=\"TRUE 3\",IF(E108=\"NT\",MROUND(Inputs!$E$32*$AH$3*(1/(1+M108*(2-1))),1),MROUND(Inputs!$E$30*$AH$3*(1/(1+M108*(2-1))),1)),\nIF(G108=\"TRUE 4\",IF(E108=\"NT\",MROUND(Inputs!$F$32*$AI$3*(1/(1+M108*(2-1))),1),MROUND(Inputs!$F$30*$AI$3*(1/(1+M108*(2-1))),1)),\nMROUND(Inputs!$C$15*(1/(1+M108*(2-1)))*($AF$3+$AF$4),1)))))","v":8727},-8416,0,{"$f":"(AH108/(1/(1+M108*(2-1))))*O108/LEFT(Inputs!$C$18,1)/5280","v":0},0,{"$f":"(AJ108/60)*((Inputs!$C$13*Calculations!AH108*(1-Calculations!M108))+(Inputs!$C$14*Calculations!AH108*Calculations!M108))","v":0},{"$f":"IF(AH108>0,($M$5/60)*(((L108*$M$3/(1-$M$3))*(1-M108)*Inputs!$C$13)+((L108*$M$3/(1-$M$3))*M108*Inputs!$C$14)),0)","v":0},0,null,"2019-08-05T01:00:00","","",{"$f":"IF(AND(AP108<>\"\",AQ108<>\"\"),MAX(INDIRECT(AP108):INDIRECT(AQ108)),\"\")","v":""},"",""]
["2019-08-05",2,"Monday","02:00:00",{"$f":"INDEX(Lists!$M$3:$M$26,MATCH(Calculations!D109,Lists!$L$3:$L$26,0))","v":"NT"},26,{"$f":"IF(INDEX(Inputs!$H$86:$H$253,MATCH(F109,Inputs!$D$86:$D$253,0)),\"TRUE 4\",\nIF(INDEX(Inputs!$G$86:$G$253,MATCH(F109,Inputs!$D$86:$D$253,0)),\"TRUE 3\",\nIF(INDEX(Inputs!$F$86:$F$253,MATCH(F109,Inputs!$D$86:$D$253,0)),\"TRUE 2\",\nIF(INDEX(Inputs!$E$86:$E$253,MATCH(F109,Inputs!$D$86:$D$253,0)),\"TRUE 1\",\nFALSE))))","v":false},null,{"$f":"'Volume Import'!C100*'Volume Import'!$H$14*(1+'Volume Import'!$H$15)*(1-'Volume Import'!$H$16)","v":351},{"$f":"IF(AND('Volume Import'!D100=0,'Volume Import'!C100=0),0,\nIF('Volume Import'!D100=0,INDEX('Volume Import'!$K$2:$Q$5,MATCH(E109,'Volume Import'!$R$2:$R$5,0),MATCH(C109,'Volume Import'!$K$1:$Q$1,0)),\n'Volume Import'!D100/'Volume Import'!C100))","v":0.1},null,{"$f":"'Volume Import'!E100*'Volume Import'!$I$14*(1+'Volume Import'!$I$15)*(1-'Volume Import'!$I$16)","v":292},{"$f":"IF('Volume Import'!F100=0,J109,'Volume Import'!F100/'Volume Import'!E100)","v":0.1},null,{"$f":"IF(G109=\"TRUE 1\",IF(E109=\"NT\",Inputs!$C$35,Inputs!$C$34),\nIF(G109=\"TRUE 2\",IF(E109=\"NT\",Inputs!$D$35,Inputs!$D$34),\nIF(G109=\"TRUE 3\",IF(E109=\"NT\",Inputs!$E$35,Inputs!$E$34),\nIF(G109=\"TRUE 4\",IF(E109=\"NT\",Inputs!$F$35,Inputs!$F$34),\nO108))))","v":65.476687896673383},{"$f":"IF(G109=\"TRUE 1\",IF(E109=\"NT\",MROUND(Inputs!$C$32*$P$3*(1/(1+J109*(2-1))),1),MROUND(Inputs!$C$30*$P$3*(1/(1+J109*(2-1))),1)),\nIF(G109=\"TRUE 2\",IF(E109=\"NT\",MROUND(Inputs!$D$32*$Q$3*(1/(1+J109*(2-1))),1),MROUND(Inputs!$D$30*$Q$3*(1/(1+J109*(2-1))),1)),\nIF(G109=\"TRUE 3\",IF(E109=\"NT\",MROUND(Inputs!$E$32*$R$3*(1/(1+J109*(2-1))),1),MROUND(Inputs!$E$30*$R$3*(1/(1+J109*(2-1))),1)),\nIF(G109=\"TRUE 4\",IF(E109=\"NT\",MROUND(Inputs!$F$32*$S$3*(1/(1+J109*(2-1))),1),MROUND(Inputs!$F$30*$S$3*(1/(1+J109*(2-1))),1)),\nMROUND(Inputs!$C$15*(1/(1+J109*(2-1)))*($P$3+$P$4),1)))))","v":8727},-8376,0,{"$f":"(R109/(1/(1+J109*(2-1))))*O109/LEFT(Inputs!$C$18,1)/5280","v":0},0,{"$f":"(T109/60)*((Inputs!$C$13*Calculations!R109*(1-Calculations!J109))+(Inputs!$C$14*Calculations!R109*Calculations!J109))","v":0},{"$f":"IF(R109>0,($J$5/60)*(((I109*$J$3/(1-$J$3))*(1-J109)*Inputs!$C$13)+((I109*$J$3/(1-$J$3))*J109*Inputs!$C$14)),0)","v":0},0,null,"2019-08-05T02:00:00","","",{"$f":"IF(AND(Z109<>\"\",AA109<>\"\"),MAX(INDIRECT(Z109):INDIRECT(AA109)),\"\")","v":""},"","",null,{"$f":"IF(G109=\"TRUE 1\",IF(E109=\"NT\",MROUND(Inputs!$C$32*$AF$3*(1/(1+M109*(2-1))),1),MROUND(Inputs!$C$30*$AF$3*(1/(1+M109*(2-1))),1)),\nIF(G109=\"TRUE 2\",IF(E109=\"NT\",MROUND(Inputs!$D$32*$AG$3*(1/(1+M109*(2-1))),1),MROUND(Inputs!$D$30*$AG$3*(1/(1+M109*(2-1))),1)),\nIF(G109=\"TRUE 3\",IF(E109=\"NT\",MROUND(Inputs!$E$32*$AH$3*(1/(1+M109*(2-1))),1),MROUND(Inputs!$E$30*$AH$3*(1/(1+M109*(2-1))),1)),\nIF(G109=\"TRUE 4\",IF(E109=\"NT\",MROUND(Inputs!$F$32*$AI$3*(1/(1+M109*(2-1))),1),MROUND(Inputs!$F$30*$AI$3*(1/(1+M109*(2-1))),1)),\nMROUND(Inputs!$C$15*(1/(1+M109*(2-1)))*($AF$3+$AF$4),1)))))","v":8727},-8435,0,{"$f":"(AH109/(1/(1+M109*(2-1))))*O109/LEFT(Inputs!$C$18,1)/5280","v":0},0,{"$f":"(AJ109/60)*((Inputs!$C$13*Calculations!AH109*(1-Calculations!M109))+(Inputs!$C$14*Calculations!AH109*Calculations!M109))","v":0},{"$f":"IF(AH109>0,($M$5/60)*(((L109*$M$3/(1-$M$3))*(1-M109)*Inputs!$C$13)+((L109*$M$3/(1-$M$3))*M109*Inputs!$C$14)),0)","v":0},0,null,"2019-08-05T02:00:00","","",{"$f":"IF(AND(AP109<>\"\",AQ109<>\"\"),MAX(INDIRECT(AP109):INDIRECT(AQ109)),\"\")","v":""},"",""]
["2019-08-05",2,"Monday","03:00:00",{"$f":"INDEX(Lists!$M$3:$M$26,MATCH(Calculations!D110,Lists!$L$3:$L$26,0))","v":"NT"},27,{"$f":"IF(INDEX(Inputs!$H$86:$H$253,MATCH(F110,Inputs!$D$86:$D$253,0)),\"TRUE 4\",\nIF(INDEX(Inputs!$G$86:$G$253,MATCH(F110,Inputs!$D$86:$D$253,0)),\"TRUE 3\",\nIF(INDEX(Inputs!$F$86:$F$253,MATCH(F110,Inputs!$D$86:$D$253,0)),\"TRUE 2\",\nIF(INDEX(Inputs!$E$86:$E$253,MATCH(F110,Inputs!$D$86:$D$253,0)),\"TRUE 1\",\nFALSE))))","v":false},null,{"$f":"'Volume Import'!C101*'Volume Import'!$H$14*(1+'Volume Import'!$H$15)*(1-'Volume Import'!$H$16)","v":535},{"$f":"IF(AND('Volume Import'!D101=0,'Volume Import'!C101=0),0,\nIF('Volume Import'!D101=0,INDEX('Volume Import'!$K$2:$Q$5,MATCH(E110,'Volume Import'!$R$2:$R$5,0),MATCH(C110,'Volume Import'!$K$1:$Q$1,0)),\n'Volume Import'!D101/'Volume Import'!C101))","v":0.1},null,{"$f":"'Volume Import'!E101*'Volume Import'!$I$14*(1+'Volume Import'!$I$15)*(1-'Volume Import'!$I$16)","v":463},{"$f":"IF('Volume Import'!F101=0,J110,'Volume Import'!F101/'Volume Import'!E101)","v":0.1},null,{"$f":"IF(G110=\"TRUE 1\",IF(E110=\"NT\",Inputs!$C$35,Inputs!$C$34),\nIF(G110=\"TRUE 2\",IF(E110=\"NT\",Inputs!$D$35,Inputs!$D$34),\nIF(G110=\"TRUE 3\",IF(E110=\"NT\",Inputs!$E$35,Inputs!$E$34),\nIF(G110=\"TRUE 4\",IF(E110=\"NT\",Inputs!$F$35,Inputs!$F$34),\nO109))))","v":65.476687896673383},{"$f":"IF(G110=\"TRUE 1\",IF(E110=\"NT\",MROUND(Inputs!$C$32*$P$3*(1/(1+J110*(2-1))),1),MROUND(Inputs!$C$30*$P$3*(1/(1+J110*(2-1))),1)),\nIF(G110=\"TRUE 2\",IF(E110=\"NT\",MROUND(Inputs!$D$32*$Q$3*(1/(1+J110*(2-1))),1),MROUND(Inputs!$D$30*$Q$3*(1/(1+J110*(2-1))),1)),\nIF(G110=\"TRUE 3\",IF(E110=\"NT\",MROUND(Inputs!$E$32*$R$3*(1/(1+J110*(2-1))),1),MROUND(Inputs!$E$30*$R$3*(1/(1+J110*(2-1))),1)),\nIF(G110=\"TRUE 4\",IF(E110=\"NT\",MROUND(Inputs!$F$32*$S$3*(1/(1+J110*(2-1))),1),MROUND(Inputs!$F$30*$S$3*(1/(1+J110*(2-1))),1)),\nMROUND(Inputs!$C$15*(1/(1+J110*(2-1)))*($P$3+$P$4),1)))))","v":8727},-8192,0,{"$f":"(R110/(1/(1+J110*(2-1))))*O110/LEFT(Inputs!$C$18,1)/5280","v":0},0,{"$f":"(T110/60)*((Inputs!$C$13*Calculations!R110*(1-Calculations!J110))+(Inputs!$C$14*Calculations!R110*Calculations!J110))","v":0},{"$f":"IF(R110>0,($J$5/60)*(((I110*$J$3/(1-$J$3))*(1-J110)*Inputs!$C$13)+((I110*$J$3/(1-$J$3))*J110*Inputs!$C$14)),0)","v":0},0,null,"2019-08-05T03:00:00","","",{"$f":"IF(AND(Z110<>\"\",AA110<>\"\"),MAX(INDIRECT(Z110):INDIRECT(AA110)),\"\")","v":""},"","",null,{"$f":"IF(G110=\"TRUE 1\",IF(E110=\"NT\",MROUND(Inputs!$C$32*$AF$3*(1/(1+M110*(2-1))),1),MROUND(Inputs!$C$30*$AF$3*(1/(1+M110*(2-1))),1)),\nIF(G110=\"TRUE 2\",IF(E110=\"NT\",MROUND(Inputs!$D$32*$AG$3*(1/(1+M110*(2-1))),1),MROUND(Inputs!$D$30*$AG$3*(1/(1+M110*(2-1))),1)),\nIF(G110=\"TRUE 3\",IF(E110=\"NT\",MROUND(Inputs!$E$32*$AH$3*(1/(1+M110*(2-1))),1),MROUND(Inputs!$E$30*$AH$3*(1/(1+M110*(2-1))),1)),\nIF(G110=\"TRUE 4\",IF(E110=\"NT\",MROUND(Inputs!$F$32*$AI$3*(1/(1+M110*(2-1))),1),MROUND(Inputs!$F$30*$AI$3*(1/(1+M110*(2-1))),1)),\nMROUND(Inputs!$C$15*(1/(1+M110*(2-1)))*($AF$3+$AF$4),1)))))","v":8727},-8264,0,{"$f":"(AH110/(1/(1+M110*(2-1))))*O110/LEFT(Inputs!$C$18,1)/5280","v":0},0,{"$f":"(AJ110/60)*((Inputs!$C$13*Calculations!AH110*(1-Calculations!M110))+(Inputs!$C$14*Calculations!AH110*Calculations!M110))","v":0},{"$f":"IF(AH110>0,($M$5/60)*(((L110*$M$3/(1-$M$3))*(1-M110)*Inputs!$C$13)+((L110*$M$3/(1-$M$3))*M110*Inputs!$C$14)),0)","v":0},0,null,"2019-08-05T03:00:00","","",{"$f":"IF(AND(AP110<>\"\",AQ110<>\"\"),MAX(INDIRECT(AP110):INDIRECT(AQ110)),\"\")","v":""},"",""]
["2019-08-05",2,"Monday","04:00:00",{"$f":"INDEX(Lists!$M$3:$M$26,MATCH(Calculations!D111,Lists!$L$3:$L$26,0))","v":"NT"},28,{"$f":"IF(INDEX(Inputs!$H$86:$H$253,MATCH(F111,Inputs!$D$86:$D$253,0)),\"TRUE 4\",\nIF(INDEX(Inputs!$G$86:$G$253,MATCH(F111,Inputs!$D$86:$D$253,0)),\"TRUE 3\",\nIF(INDEX(Inputs!$F$86:$F$253,MATCH(F111,Inputs!$D$86:$D$253,0)),\"TRUE 2\",\nIF(INDEX(Inputs!$E$86:$E$253,MATCH(F111,Inputs!$D$86:$D$253,0)),\"TRUE 1\",\nFALSE))))","v":false},null,{"$f":"'Volume Import'!C102*'Volume Import'!$H$14*(1+'Volume Import'!$H$15)*(1-'Volume Import'!$H$16)","v":1291},{"$f":"IF(AND('Volume Import'!D102=0,'Volume Import'!C102=0),0,\nIF('Volume Import'!D102=0,INDEX('Volume Import'!$K$2:$Q$5,MATCH(E111,'Volume Import'!$R$2:$R$5,0),MATCH(C111,'Volume Import'!$K$1:$Q$1,0)),\n'Volume Import'!D102/'Volume Import'!C102))","v":0.1},null,{"$f":"'Volume Import'!E102*'Volume Import'!$I$14*(1+'Volume Import'!$I$15)*(1-'Volume Import'!$I$16)","v":1021},{"$f":"IF('Volume Import'!F102=0,J111,'Volume Import'!F102/'Volume Import'!E102)","v":0.1},null,{"$f":"IF(G111=\"TRUE 1\",IF(E111=\"NT\",Inputs!$C$35,Inputs!$C$34),\nIF(G111=\"TRUE 2\",IF(E111=\"NT\",Inputs!$D$35,Inputs!$D$34),\nIF(G111=\"TRUE 3\",IF(E111=\"NT\",Inputs!$E$35,Inputs!$E$34),\nIF(G111=\"TRUE 4\",IF(E111=\"NT\",Inputs!$F$35,Inputs!$F$34),\nO110))))","v":65.476687896673383},{"$f":"IF(G111=\"TRUE 1\",IF(E111=\"NT\",MROUND(Inputs!$C$32*$P$3*(1/(1+J111*(2-1))),1),MROUND(Inputs!$C$30*$P$3*(1/(1+J111*(2-1))),1)),\nIF(G111=\"TRUE 2\",IF(E111=\"NT\",MROUND(Inputs!$D$32*$Q$3*(1/(1+J111*(2-1))),1),MROUND(Inputs!$D$30*$Q$3*(1/(1+J111*(2-1))),1)),\nIF(G111=\"TRUE 3\",IF(E111=\"NT\",MROUND(Inputs!$E$32*$R$3*(1/(1+J111*(2-1))),1),MROUND(Inputs!$E$30*$R$3*(1/(1+J111*(2-1))),1)),\nIF(G111=\"TRUE 4\",IF(E111=\"NT\",MROUND(Inputs!$F$32*$S$3*(1/(1+J111*(2-1))),1),MROUND(Inputs!$F$30*$S$3*(1/(1+J111*(2-1))),1)),\nMROUND(Inputs!$C$15*(1/(1+J111*(2-1)))*($P$3+$P$4),1)))))","v":8727},-7436,0,{"$f":"(R111/(1/(1+J111*(2-1))))*O111/LEFT(Inputs!$C$18,1)/5280","v":0},0,{"$f":"(T111/60)*((Inputs!$C$13*Calculations!R111*(1-Calculations!J111))+(Inputs!$C$14*Calculations!R111*Calculations!J111))","v":0},{"$f":"IF(R111>0,($J$5/60)*(((I111*$J$3/(1-$J$3))*(1-J111)*Inputs!$C$13)+((I111*$J$3/(1-$J$3))*J111*Inputs!$C$14)),0)","v":0},0,null,"2019-08-05T04:00:00","","",{"$f":"IF(AND(Z111<>\"\",AA111<>\"\"),MAX(INDIRECT(Z111):INDIRECT(AA111)),\"\")","v":""},"","",null,{"$f":"IF(G111=\"TRUE 1\",IF(E111=\"NT\",MROUND(Inputs!$C$32*$AF$3*(1/(1+M111*(2-1))),1),MROUND(Inputs!$C$30*$AF$3*(1/(1+M111*(2-1))),1)),\nIF(G111=\"TRUE 2\",IF(E111=\"NT\",MROUND(Inputs!$D$32*$AG$3*(1/(1+M111*(2-1))),1),MROUND(Inputs!$D$30*$AG$3*(1/(1+M111*(2-1))),1)),\nIF(G111=\"TRUE 3\",IF(E111=\"NT\",MROUND(Inputs!$E$32*$AH$3*(1/(1+M111*(2-1))),1),MROUND(Inputs!$E$30*$AH$3*(1/(1+M111*(2-1))),1)),\nIF(G111=\"TRUE 4\",IF(E111=\"NT\",MROUND(Inputs!$F$32*$AI$3*(1/(1+M111*(2-1))),1),MROUND(Inputs!$F$30*$AI$3*(1/(1+M111*(2-1))),1)),\nMROUND(Inputs!$C$15*(1/(1+M111*(2-1)))*($AF$3+$AF$4),1)))))","v":8727},-7706,0,{"$f":"(AH111/(1/(1+M111*(2-1))))*O111/LEFT(Inputs!$C$18,1)/5280","v":0},0,{"$f":"(AJ111/60)*((Inputs!$C$13*Calculations!AH111*(1-Calculations!M111))+(Inputs!$C$14*Calculations!AH111*Calculations!M111))","v":0},{"$f":"IF(AH111>0,($M$5/60)*(((L111*$M$3/(1-$M$3))*(1-M111)*Inputs!$C$13)+((L111*$M$3/(1-$M$3))*M111*Inputs!$C$14)),0)","v":0},0,null,"2019-08-05T04:00:00","","",{"$f":"IF(AND(AP111<>\"\",AQ111<>\"\"),MAX(INDIRECT(AP111):INDIRECT(AQ111)),\"\")","v":""},"",""]
["2019-08-05",2,"Monday","05:00:00",{"$f":"INDEX(Lists!$M$3:$M$26,MATCH(Calculations!D112,Lists!$L$3:$L$26,0))","v":"NT"},29,{"$f":"IF(INDEX(Inputs!$H$86:$H$253,MATCH(F112,Inputs!$D$86:$D$253,0)),\"TRUE 4\",\nIF(INDEX(Inputs!$G$86:$G$253,MATCH(F112,Inputs!$D$86:$D$253,0)),\"TRUE 3\",\nIF(INDEX(Inputs!$F$86:$F$253,MATCH(F112,Inputs!$D$86:$D$253,0)),\"TRUE 2\",\nIF(INDEX(Inputs!$E$86:$E$253,MATCH(F112,Inputs!$D$86:$D$253,0)),\"TRUE 1\",\nFALSE))))","v":false},null,{"$f":"'Volume Import'!C103*'Volume Import'!$H$14*(1+'Volume Import'!$H$15)*(1-'Volume Import'!$H$16)","v":3675},{"$f":"IF(AND('Volume Import'!D103=0,'Volume Import'!C103=0),0,\nIF('Volume Import'!D103=0,INDEX('Volume Import'!$K$2:$Q$5,MATCH(E112,'Volume Import'!$R$2:$R$5,0),MATCH(C112,'Volume Import'!$K$1:$Q$1,0)),\n'Volume Import'!D103/'Volume Import'!C103))","v":0.1},null,{"$f":"'Volume Import'!E103*'Volume Import'!$I$14*(1+'Volume Import'!$I$15)*(1-'Volume Import'!$I$16)","v":2211},{"$f":"IF('Volume Import'!F103=0,J112,'Volume Import'!F103/'Volume Import'!E103)","v":0.1},null,{"$f":"IF(G112=\"TRUE 1\",IF(E112=\"NT\",Inputs!$C$35,Inputs!$C$34),\nIF(G112=\"TRUE 2\",IF(E112=\"NT\",Inputs!$D$35,Inputs!$D$34),\nIF(G112=\"TRUE 3\",IF(E112=\"NT\",Inputs!$E$35,Inputs!$E$34),\nIF(G112=\"TRUE 4\",IF(E112=\"NT\",Inputs!$F$35,Inputs!$F$34),\nO111))))","v":65.476687896673383},{"$f":"IF(G112=\"TRUE 1\",IF(E112=\"NT\",MROUND(Inputs!$C$32*$P$3*(1/(1+J112*(2-1))),1),MROUND(Inputs!$C$30*$P$3*(1/(1+J112*(2-1))),1)),\nIF(G112=\"TRUE 2\",IF(E112=\"NT\",MROUND(Inputs!$D$32*$Q$3*(1/(1+J112*(2-1))),1),MROUND(Inputs!$D$30*$Q$3*(1/(1+J112*(2-1))),1)),\nIF(G112=\"TRUE 3\",IF(E112=\"NT\",MROUND(Inputs!$E$32*$R$3*(1/(1+J112*(2-1))),1),MROUND(Inputs!$E$30*$R$3*(1/(1+J112*(2-1))),1)),\nIF(G112=\"TRUE 4\",IF(E112=\"NT\",MROUND(Inputs!$F$32*$S$3*(1/(1+J112*(2-1))),1),MROUND(Inputs!$F$30*$S$3*(1/(1+J112*(2-1))),1)),\nMROUND(Inputs!$C$15*(1/(1+J112*(2-1)))*($P$3+$P$4),1)))))","v":8727},-5052,0,{"$f":"(R112/(1/(1+J112*(2-1))))*O112/LEFT(Inputs!$C$18,1)/5280","v":0},0,{"$f":"(T112/60)*((Inputs!$C$13*Calculations!R112*(1-Calculations!J112))+(Inputs!$C$14*Calculations!R112*Calculations!J112))","v":0},{"$f":"IF(R112>0,($J$5/60)*(((I112*$J$3/(1-$J$3))*(1-J112)*Inputs!$C$13)+((I112*$J$3/(1-$J$3))*J112*Inputs!$C$14)),0)","v":0},0,null,"2019-08-05T05:00:00","","",{"$f":"IF(AND(Z112<>\"\",AA112<>\"\"),MAX(INDIRECT(Z112):INDIRECT(AA112)),\"\")","v":""},"","",null,{"$f":"IF(G112=\"TRUE 1\",IF(E112=\"NT\",MROUND(Inputs!$C$32*$AF$3*(1/(1+M112*(2-1))),1),MROUND(Inputs!$C$30*$AF$3*(1/(1+M112*(2-1))),1)),\nIF(G112=\"TRUE 2\",IF(E112=\"NT\",MROUND(Inputs!$D$32*$AG$3*(1/(1+M112*(2-1))),1),MROUND(Inputs!$D$30*$AG$3*(1/(1+M112*(2-1))),1)),\nIF(G112=\"TRUE 3\",IF(E112=\"NT\",MROUND(Inputs!$E$32*$AH$3*(1/(1+M112*(2-1))),1),MROUND(Inputs!$E$30*$AH$3*(1/(1+M112*(2-1))),1)),\nIF(G112=\"TRUE 4\",IF(E112=\"NT\",MROUND(Inputs!$F$32*$AI$3*(1/(1+M112*(2-1))),1),MROUND(Inputs!$F$30*$AI$3*(1/(1+M112*(2-1))),1)),\nMROUND(Inputs!$C$15*(1/(1+M112*(2-1)))*($AF$3+$AF$4),1)))))","v":8727},-6516,0,{"$f":"(AH112/(1/(1+M112*(2-1))))*O112/LEFT(Inputs!$C$18,1)/5280","v":0},0,{"$f":"(AJ112/60)*((Inputs!$C$13*Calculations!AH112*(1-Calculations!M112))+(Inputs!$C$14*Calculations!AH112*Calculations!M112))","v":0},{"$f":"IF(AH112>0,($M$5/60)*(((L112*$M$3/(1-$M$3))*(1-M112)*Inputs!$C$13)+((L112*$M$3/(1-$M$3))*M112*Inputs!$C$14)),0)","v":0},0,null,"2019-08-05T05:00:00","","",{"$f":"IF(AND(AP112<>\"\",AQ112<>\"\"),MAX(INDIRECT(AP112):INDIRECT(AQ112)),\"\")","v":""},"",""]
["2019-08-05",2,"Monday","06:00:00",{"$f":"INDEX(Lists!$M$3:$M$26,MATCH(Calculations!D113,Lists!$L$3:$L$26,0))","v":"AM"},30,{"$f":"IF(INDEX(Inputs!$H$86:$H$253,MATCH(F113,Inputs!$D$86:$D$253,0)),\"TRUE 4\",\nIF(INDEX(Inputs!$G$86:$G$253,MATCH(F113,Inputs!$D$86:$D$253,0)),\"TRUE 3\",\nIF(INDEX(Inputs!$F$86:$F$253,MATCH(F113,Inputs!$D$86:$D$253,0)),\"TRUE 2\",\nIF(INDEX(Inputs!$E$86:$E$253,MATCH(F113,Inputs!$D$86:$D$253,0)),\"TRUE 1\",\nFALSE))))","v":false},null,{"$f":"'Volume Import'!C104*'Volume Import'!$H$14*(1+'Volume Import'!$H$15)*(1-'Volume Import'!$H$16)","v":6137},{"$f":"IF(AND('Volume Import'!D104=0,'Volume Import'!C104=0),0,\nIF('Volume Import'!D104=0,INDEX('Volume Import'!$K$2:$Q$5,MATCH(E113,'Volume Import'!$R$2:$R$5,0),MATCH(C113,'Volume Import'!$K$1:$Q$1,0)),\n'Volume Import'!D104/'Volume Import'!C104))","v":0.1},null,{"$f":"'Volume Import'!E104*'Volume Import'!$I$14*(1+'Volume Import'!$I$15)*(1-'Volume Import'!$I$16)","v":3586},{"$f":"IF('Volume Import'!F104=0,J113,'Volume Import'!F104/'Volume Import'!E104)","v":0.1},null,{"$f":"IF(G113=\"TRUE 1\",IF(E113=\"NT\",Inputs!$C$35,Inputs!$C$34),\nIF(G113=\"TRUE 2\",IF(E113=\"NT\",Inputs!$D$35,Inputs!$D$34),\nIF(G113=\"TRUE 3\",IF(E113=\"NT\",Inputs!$E$35,Inputs!$E$34),\nIF(G113=\"TRUE 4\",IF(E113=\"NT\",Inputs!$F$35,Inputs!$F$34),\nO112))))","v":65.476687896673383},{"$f":"IF(G113=\"TRUE 1\",IF(E113=\"NT\",MROUND(Inputs!$C$32*$P$3*(1/(1+J113*(2-1))),1),MROUND(Inputs!$C$30*$P$3*(1/(1+J113*(2-1))),1)),\nIF(G113=\"TRUE 2\",IF(E113=\"NT\",MROUND(Inputs!$D$32*$Q$3*(1/(1+J113*(2-1))),1),MROUND(Inputs!$D$30*$Q$3*(1/(1+J113*(2-1))),1)),\nIF(G113=\"TRUE 3\",IF(E113=\"NT\",MROUND(Inputs!$E$32*$R$3*(1/(1+J113*(2-1))),1),MROUND(Inputs!$E$30*$R$3*(1/(1+J113*(2-1))),1)),\nIF(G113=\"TRUE 4\",IF(E113=\"NT\",MROUND(Inputs!$F$32*$S$3*(1/(1+J113*(2-1))),1),MROUND(Inputs!$F$30*$S$3*(1/(1+J113*(2-1))),1)),\nMROUND(Inputs!$C$15*(1/(1+J113*(2-1)))*($P$3+$P$4),1)))))","v":8727},-2590,0,{"$f":"(R113/(1/(1+J113*(2-1))))*O113/LEFT(Inputs!$C$18,1)/5280","v":0},0,{"$f":"(T113/60)*((Inputs!$C$13*Calculations!R113*(1-Calculations!J113))+(Inputs!$C$14*Calculations!R113*Calculations!J113))","v":0},{"$f":"IF(R113>0,($J$5/60)*(((I113*$J$3/(1-$J$3))*(1-J113)*Inputs!$C$13)+((I113*$J$3/(1-$J$3))*J113*Inputs!$C$14)),0)","v":0},0,null,"2019-08-05T06:00:00","","",{"$f":"IF(AND(Z113<>\"\",AA113<>\"\"),MAX(INDIRECT(Z113):INDIRECT(AA113)),\"\")","v":""},"","",null,{"$f":"IF(G113=\"TRUE 1\",IF(E113=\"NT\",MROUND(Inputs!$C$32*$AF$3*(1/(1+M113*(2-1))),1),MROUND(Inputs!$C$30*$AF$3*(1/(1+M113*(2-1))),1)),\nIF(G113=\"TRUE 2\",IF(E113=\"NT\",MROUND(Inputs!$D$32*$AG$3*(1/(1+M113*(2-1))),1),MROUND(Inputs!$D$30*$AG$3*(1/(1+M113*(2-1))),1)),\nIF(G113=\"TRUE 3\",IF(E113=\"NT\",MROUND(Inputs!$E$32*$AH$3*(1/(1+M113*(2-1))),1),MROUND(Inputs!$E$30*$AH$3*(1/(1+M113*(2-1))),1)),\nIF(G113=\"TRUE 4\",IF(E113=\"NT\",MROUND(Inputs!$F$32*$AI$3*(1/(1+M113*(2-1))),1),MROUND(Inputs!$F$30*$AI$3*(1/(1+M113*(2-1))),1)),\nMROUND(Inputs!$C$15*(1/(1+M113*(2-1)))*($AF$3+$AF$4),1)))))","v":8727},-5141,0,{"$f":"(AH113/(1/(1+M113*(2-1))))*O113/LEFT(Inputs!$C$18,1)/5280","v":0},0,{"$f":"(AJ113/60)*((Inputs!$C$13*Calculations!AH113*(1-Calculations!M113))+(Inputs!$C$14*Calculations!AH113*Calculations!M113))","v":0},{"$f":"IF(AH113>0,($M$5/60)*(((L113*$M$3/(1-$M$3))*(1-M113)*Inputs!$C$13)+((L113*$M$3/(1-$M$3))*M113*Inputs!$C$14)),0)","v":0},0,null,"2019-08-05T06:00:00","","",{"$f":"IF(AND(AP113<>\"\",AQ113<>\"\"),MAX(INDIRECT(AP113):INDIRECT(AQ113)),\"\")","v":""},"",""]
["2019-08-05",2,"Monday","07:00:00",{"$f":"INDEX(Lists!$M$3:$M$26,MATCH(Calculations!D114,Lists!$L$3:$L$26,0))","v":"AM"},31,{"$f":"IF(INDEX(Inputs!$H$86:$H$253,MATCH(F114,Inputs!$D$86:$D$253,0)),\"TRUE 4\",\nIF(INDEX(Inputs!$G$86:$G$253,MATCH(F114,Inputs!$D$86:$D$253,0)),\"TRUE 3\",\nIF(INDEX(Inputs!$F$86:$F$253,MATCH(F114,Inputs!$D$86:$D$253,0)),\"TRUE 2\",\nIF(INDEX(Inputs!$E$86:$E$253,MATCH(F114,Inputs!$D$86:$D$253,0)),\"TRUE 1\",\nFALSE))))","v":false},null,{"$f":"'Volume Import'!C105*'Volume Import'!$H$14*(1+'Volume Import'!$H$15)*(1-'Volume Import'!$H$16)","v":6696},{"$f":"IF(AND('Volume Import'!D105=0,'Volume Import'!C105=0),0,\nIF('Volume Import'!D105=0,INDEX('Volume Import'!$K$2:$Q$5,MATCH(E114,'Volume Import'!$R$2:$R$5,0),MATCH(C114,'Volume Import'!$K$1:$Q$1,0)),\n'Volume Import'!D105/'Volume Import'!C105))","v":0.1},null,{"$f":"'Volume Import'!E105*'Volume Import'!$I$14*(1+'Volume Import'!$I$15)*(1-'Volume Import'!$I$16)","v":4527},{"$f":"IF('Volume Import'!F105=0,J114,'Volume Import'!F105/'Volume Import'!E105)","v":0.1},null,{"$f":"IF(G114=\"TRUE 1\",IF(E114=\"NT\",Inputs!$C$35,Inputs!$C$34),\nIF(G114=\"TRUE 2\",IF(E114=\"NT\",Inputs!$D$35,Inputs!$D$34),\nIF(G114=\"TRUE 3\",IF(E114=\"NT\",Inputs!$E$35,Inputs!$E$34),\nIF(G114=\"TRUE 4\",IF(E114=\"NT\",Inputs!$F$35,Inputs!$F$34),\nO113))))","v":65.476687896673383},{"$f":"IF(G114=\"TRUE 1\",IF(E114=\"NT\",MROUND(Inputs!$C$32*$P$3*(1/(1+J114*(2-1))),1),MROUND(Inputs!$C$30*$P$3*(1/(1+J114*(2-1))),1)),\nIF(G114=\"TRUE 2\",IF(E114=\"NT\",MROUND(Inputs!$D$32*$Q$3*(1/(1+J114*(2-1))),1),MROUND(Inputs!$D$30*$Q$3*(1/(1+J114*(2-1))),1)),\nIF(G114=\"TRUE 3\",IF(E114=\"NT\",MROUND(Inputs!$E$32*$R$3*(1/(1+J114*(2-1))),1),MROUND(Inputs!$E$30*$R$3*(1/(1+J114*(2-1))),1)),\nIF(G114=\"TRUE 4\",IF(E114=\"NT\",MROUND(Inputs!$F$32*$S$3*(1/(1+J114*(2-1))),1),MROUND(Inputs!$F$30*$S$3*(1/(1+J114*(2-1))),1)),\nMROUND(Inputs!$C$15*(1/(1+J114*(2-1)))*($P$3+$P$4),1)))))","v":8727},-2031,0,{"$f":"(R114/(1/(1+J114*(2-1))))*O114/LEFT(Inputs!$C$18,1)/5280","v":0},0,{"$f":"(T114/60)*((Inputs!$C$13*Calculations!R114*(1-Calculations!J114))+(Inputs!$C$14*Calculations!R114*Calculations!J114))","v":0},{"$f":"IF(R114>0,($J$5/60)*(((I114*$J$3/(1-$J$3))*(1-J114)*Inputs!$C$13)+((I114*$J$3/(1-$J$3))*J114*Inputs!$C$14)),0)","v":0},0,null,"2019-08-05T07:00:00","","",{"$f":"IF(AND(Z114<>\"\",AA114<>\"\"),MAX(INDIRECT(Z114):INDIRECT(AA114)),\"\")","v":""},"","",null,{"$f":"IF(G114=\"TRUE 1\",IF(E114=\"NT\",MROUND(Inputs!$C$32*$AF$3*(1/(1+M114*(2-1))),1),MROUND(Inputs!$C$30*$AF$3*(1/(1+M114*(2-1))),1)),\nIF(G114=\"TRUE 2\",IF(E114=\"NT\",MROUND(Inputs!$D$32*$AG$3*(1/(1+M114*(2-1))),1),MROUND(Inputs!$D$30*$AG$3*(1/(1+M114*(2-1))),1)),\nIF(G114=\"TRUE 3\",IF(E114=\"NT\",MROUND(Inputs!$E$32*$AH$3*(1/(1+M114*(2-1))),1),MROUND(Inputs!$E$30*$AH$3*(1/(1+M114*(2-1))),1)),\nIF(G114=\"TRUE 4\",IF(E114=\"NT\",MROUND(Inputs!$F$32*$AI$3*(1/(1+M114*(2-1))),1),MROUND(Inputs!$F$30*$AI$3*(1/(1+M114*(2-1))),1)),\nMROUND(Inputs!$C$15*(1/(1+M114*(2-1)))*($AF$3+$AF$4),1)))))","v":8727},-4200,0,{"$f":"(AH114/(1/(1+M114*(2-1))))*O114/LEFT(Inputs!$C$18,1)/5280","v":0},0,{"$f":"(AJ114/60)*((Inputs!$C$13*Calculations!AH114*(1-Calculations!M114))+(Inputs!$C$14*Calculations!AH114*Calculations!M114))","v":0},{"$f":"IF(AH114>0,($M$5/60)*(((L114*$M$3/(1-$M$3))*(1-M114)*Inputs!$C$13)+((L114*$M$3/(1-$M$3))*M114*Inputs!$C$14)),0)","v":0},0,null,"2019-08-05T07:00:00","","",{"$f":"IF(AND(AP114<>\"\",AQ114<>\"\"),MAX(INDIRECT(AP114):INDIRECT(AQ114)),\"\")","v":""},"",""]
["2019-08-05",2,"Monday","08:00:00",{"$f":"INDEX(Lists!$M$3:$M$26,MATCH(Calculations!D115,Lists!$L$3:$L$26,0))","v":"AM"},32,{"$f":"IF(INDEX(Inputs!$H$86:$H$253,MATCH(F115,Inputs!$D$86:$D$253,0)),\"TRUE 4\",\nIF(INDEX(Inputs!$G$86:$G$253,MATCH(F115,Inputs!$D$86:$D$253,0)),\"TRUE 3\",\nIF(INDEX(Inputs!$F$86:$F$253,MATCH(F115,Inputs!$D$86:$D$253,0)),\"TRUE 2\",\nIF(INDEX(Inputs!$E$86:$E$253,MATCH(F115,Inputs!$D$86:$D$253,0)),\"TRUE 1\",\nFALSE))))","v":false},null,{"$f":"'Volume Import'!C106*'Volume Import'!$H$14*(1+'Volume Import'!$H$15)*(1-'Volume Import'!$H$16)","v":5708},{"$f":"IF(AND('Volume Import'!D106=0,'Volume Import'!C106=0),0,\nIF('Volume Import'!D106=0,INDEX('Volume Import'!$K$2:$Q$5,MATCH(E115,'Volume Import'!$R$2:$R$5,0),MATCH(C115,'Volume Import'!$K$1:$Q$1,0)),\n'Volume Import'!D106/'Volume Import'!C106))","v":0.1},null,{"$f":"'Volume Import'!E106*'Volume Import'!$I$14*(1+'Volume Import'!$I$15)*(1-'Volume Import'!$I$16)","v":3863},{"$f":"IF('Volume Import'!F106=0,J115,'Volume Import'!F106/'Volume Import'!E106)","v":0.1},null,{"$f":"IF(G115=\"TRUE 1\",IF(E115=\"NT\",Inputs!$C$35,Inputs!$C$34),\nIF(G115=\"TRUE 2\",IF(E115=\"NT\",Inputs!$D$35,Inputs!$D$34),\nIF(G115=\"TRUE 3\",IF(E115=\"NT\",Inputs!$E$35,Inputs!$E$34),\nIF(G115=\"TRUE 4\",IF(E115=\"NT\",Inputs!$F$35,Inputs!$F$34),\nO114))))","v":65.476687896673383},{"$f":"IF(G115=\"TRUE 1\",IF(E115=\"NT\",MROUND(Inputs!$C$32*$P$3*(1/(1+J115*(2-1))),1),MROUND(Inputs!$C$30*$P$3*(1/(1+J115*(2-1))),1)),\nIF(G115=\"TRUE 2\",IF(E115=\"NT\",MROUND(Inputs!$D$32*$Q$3*(1/(1+J115*(2-1))),1),MROUND(Inputs!$D$30*$Q$3*(1/(1+J115*(2-1))),1)),\nIF(G115=\"TRUE 3\",IF(E115=\"NT\",MROUND(Inputs!$E$32*$R$3*(1/(1+J115*(2-1))),1),MROUND(Inputs!$E$30*$R$3*(1/(1+J115*(2-1))),1)),\nIF(G115=\"TRUE 4\",IF(E115=\"NT\",MROUND(Inputs!$F$32*$S$3*(1/(1+J115*(2-1))),1),MROUND(Inputs!$F$30*$S$3*(1/(1+J115*(2-1))),1)),\nMROUND(Inputs!$C$15*(1/(1+J115*(2-1)))*($P$3+$P$4),1)))))","v":8727},-3019,0,{"$f":"(R115/(1/(1+J115*(2-1))))*O115/LEFT(Inputs!$C$18,1)/5280","v":0},0,{"$f":"(T115/60)*((Inputs!$C$13*Calculations!R115*(1-Calculations!J115))+(Inputs!$C$14*Calculations!R115*Calculations!J115))","v":0},{"$f":"IF(R115>0,($J$5/60)*(((I115*$J$3/(1-$J$3))*(1-J115)*Inputs!$C$13)+((I115*$J$3/(1-$J$3))*J115*Inputs!$C$14)),0)","v":0},0,null,"2019-08-05T08:00:00","","",{"$f":"IF(AND(Z115<>\"\",AA115<>\"\"),MAX(INDIRECT(Z115):INDIRECT(AA115)),\"\")","v":""},"","",null,{"$f":"IF(G115=\"TRUE 1\",IF(E115=\"NT\",MROUND(Inputs!$C$32*$AF$3*(1/(1+M115*(2-1))),1),MROUND(Inputs!$C$30*$AF$3*(1/(1+M115*(2-1))),1)),\nIF(G115=\"TRUE 2\",IF(E115=\"NT\",MROUND(Inputs!$D$32*$AG$3*(1/(1+M115*(2-1))),1),MROUND(Inputs!$D$30*$AG$3*(1/(1+M115*(2-1))),1)),\nIF(G115=\"TRUE 3\",IF(E115=\"NT\",MROUND(Inputs!$E$32*$AH$3*(1/(1+M115*(2-1))),1),MROUND(Inputs!$E$30*$AH$3*(1/(1+M115*(2-1))),1)),\nIF(G115=\"TRUE 4\",IF(E115=\"NT\",MROUND(Inputs!$F$32*$AI$3*(1/(1+M115*(2-1))),1),MROUND(Inputs!$F$30*$AI$3*(1/(1+M115*(2-1))),1)),\nMROUND(Inputs!$C$15*(1/(1+M115*(2-1)))*($AF$3+$AF$4),1)))))","v":8727},-4864,0,{"$f":"(AH115/(1/(1+M115*(2-1))))*O115/LEFT(Inputs!$C$18,1)/5280","v":0},0,{"$f":"(AJ115/60)*((Inputs!$C$13*Calculations!AH115*(1-Calculations!M115))+(Inputs!$C$14*Calculations!AH115*Calculations!M115))","v":0},{"$f":"IF(AH115>0,($M$5/60)*(((L115*$M$3/(1-$M$3))*(1-M115)*Inputs!$C$13)+((L115*$M$3/(1-$M$3))*M115*Inputs!$C$14)),0)","v":0},0,null,"2019-08-05T08:00:00","","",{"$f":"IF(AND(AP115<>\"\",AQ115<>\"\"),MAX(INDIRECT(AP115):INDIRECT(AQ115)),\"\")","v":""},"",""]
["2019-08-05",2,"Monday","09:00:00",{"$f":"INDEX(Lists!$M$3:$M$26,MATCH(Calculations!D116,Lists!$L$3:$L$26,0))","v":"MD"},33,{"$f":"IF(INDEX(Inputs!$H$86:$H$253,MATCH(F116,Inputs!$D$86:$D$253,0)),\"TRUE 4\",\nIF(INDEX(Inputs!$G$86:$G$253,MATCH(F116,Inputs!$D$86:$D$253,0)),\"TRUE 3\",\nIF(INDEX(Inputs!$F$86:$F$253,MATCH(F116,Inputs!$D$86:$D$253,0)),\"TRUE 2\",\nIF(INDEX(Inputs!$E$86:$E$253,MATCH(F116,Inputs!$D$86:$D$253,0)),\"TRUE 1\",\nFALSE))))","v":"TRUE 1"},null,{"$f":"'Volume Import'!C107*'Volume Import'!$H$14*(1+'Volume Import'!$H$15)*(1-'Volume Import'!$H$16)","v":4668},{"$f":"IF(AND('Volume Import'!D107=0,'Volume Import'!C107=0),0,\nIF('Volume Import'!D107=0,INDEX('Volume Import'!$K$2:$Q$5,MATCH(E116,'Volume Import'!$R$2:$R$5,0),MATCH(C116,'Volume Import'!$K$1:$Q$1,0)),\n'Volume Import'!D107/'Volume Import'!C107))","v":0.1},null,{"$f":"'Volume Import'!E107*'Volume Import'!$I$14*(1+'Volume Import'!$I$15)*(1-'Volume Import'!$I$16)","v":3662},{"$f":"IF('Volume Import'!F107=0,J116,'Volume Import'!F107/'Volume Import'!E107)","v":0.1},null,{"$f":"IF(G116=\"TRUE 1\",IF(E116=\"NT\",Inputs!$C$35,Inputs!$C$34),\nIF(G116=\"TRUE 2\",IF(E116=\"NT\",Inputs!$D$35,Inputs!$D$34),\nIF(G116=\"TRUE 3\",IF(E116=\"NT\",Inputs!$E$35,Inputs!$E$34),\nIF(G116=\"TRUE 4\",IF(E116=\"NT\",Inputs!$F$35,Inputs!$F$34),\nO115))))","v":65.476687896673383},{"$f":"IF(G116=\"TRUE 1\",IF(E116=\"NT\",MROUND(Inputs!$C$32*$P$3*(1/(1+J116*(2-1))),1),MROUND(Inputs!$C$30*$P$3*(1/(1+J116*(2-1))),1)),\nIF(G116=\"TRUE 2\",IF(E116=\"NT\",MROUND(Inputs!$D$32*$Q$3*(1/(1+J116*(2-1))),1),MROUND(Inputs!$D$30*$Q$3*(1/(1+J116*(2-1))),1)),\nIF(G116=\"TRUE 3\",IF(E116=\"NT\",MROUND(Inputs!$E$32*$R$3*(1/(1+J116*(2-1))),1),MROUND(Inputs!$E$30*$R$3*(1/(1+J116*(2-1))),1)),\nIF(G116=\"TRUE 4\",IF(E116=\"NT\",MROUND(Inputs!$F$32*$S$3*(1/(1+J116*(2-1))),1),MROUND(Inputs!$F$30*$S$3*(1/(1+J116*(2-1))),1)),\nMROUND(Inputs!$C$15*(1/(1+J116*(2-1)))*($P$3+$P$4),1)))))","v":4681},-13,0,{"$f":"(R116/(1/(1+J116*(2-1))))*O116/LEFT(Inputs!$C$18,1)/5280","v":0},0,{"$f":"(T116/60)*((Inputs!$C$13*Calculations!R116*(1-Calculations!J116))+(Inputs!$C$14*Calculations!R116*Calculations!J116))","v":0},{"$f":"IF(R116>0,($J$5/60)*(((I116*$J$3/(1-$J$3))*(1-J116)*Inputs!$C$13)+((I116*$J$3/(1-$J$3))*J116*Inputs!$C$14)),0)","v":0},0,null,"2019-08-05T09:00:00","","",{"$f":"IF(AND(Z116<>\"\",AA116<>\"\"),MAX(INDIRECT(Z116):INDIRECT(AA116)),\"\")","v":""},"","",null,{"$f":"IF(G116=\"TRUE 1\",IF(E116=\"NT\",MROUND(Inputs!$C$32*$AF$3*(1/(1+M116*(2-1))),1),MROUND(Inputs!$C$30*$AF$3*(1/(1+M116*(2-1))),1)),\nIF(G116=\"TRUE 2\",IF(E116=\"NT\",MROUND(Inputs!$D$32*$AG$3*(1/(1+M116*(2-1))),1),MROUND(Inputs!$D$30*$AG$3*(1/(1+M116*(2-1))),1)),\nIF(G116=\"TRUE 3\",IF(E116=\"NT\",MROUND(Inputs!$E$32*$AH$3*(1/(1+M116*(2-1))),1),MROUND(Inputs!$E$30*$AH$3*(1/(1+M116*(2-1))),1)),\nIF(G116=\"TRUE 4\",IF(E116=\"NT\",MROUND(Inputs!$F$32*$AI$3*(1/(1+M116*(2-1))),1),MROUND(Inputs!$F$30*$AI$3*(1/(1+M116*(2-1))),1)),\nMROUND(Inputs!$C$15*(1/(1+M116*(2-1)))*($AF$3+$AF$4),1)))))","v":4681},-1019,0,{"$f":"(AH116/(1/(1+M116*(2-1))))*O116/LEFT(Inputs!$C$18,1)/5280","v":0},0,{"$f":"(AJ116/60)*((Inputs!$C$13*Calculations!AH116*(1-Calculations!M116))+(Inputs!$C$14*Calculations!AH116*Calculations!M116))","v":0},{"$f":"IF(AH116>0,($M$5/60)*(((L116*$M$3/(1-$M$3))*(1-M116)*Inputs!$C$13)+((L116*$M$3/(1-$M$3))*M116*Inputs!$C$14)),0)","v":0},0,null,"2019-08-05T09:00:00","","",{"$f":"IF(AND(AP116<>\"\",AQ116<>\"\"),MAX(INDIRECT(AP116):INDIRECT(AQ116)),\"\")","v":""},"",""]
["2019-08-05",2,"Monday","10:00:00",{"$f":"INDEX(Lists!$M$3:$M$26,MATCH(Calculations!D117,Lists!$L$3:$L$26,0))","v":"MD"},34,{"$f":"IF(INDEX(Inputs!$H$86:$H$253,MATCH(F117,Inputs!$D$86:$D$253,0)),\"TRUE 4\",\nIF(INDEX(Inputs!$G$86:$G$253,MATCH(F117,Inputs!$D$86:$D$253,0)),\"TRUE 3\",\nIF(INDEX(Inputs!$F$86:$F$253,MATCH(F117,Inputs!$D$86:$D$253,0)),\"TRUE 2\",\nIF(INDEX(Inputs!$E$86:$E$253,MATCH(F117,Inputs!$D$86:$D$253,0)),\"TRUE 1\",\nFALSE))))","v":"TRUE 1"},null,{"$f":"'Volume Import'!C108*'Volume Import'!$H$14*(1+'Volume Import'!$H$15)*(1-'Volume Import'!$H$16)","v":4540},{"$f":"IF(AND('Volume Import'!D108=0,'Volume Import'!C108=0),0,\nIF('Volume Import'!D108=0,INDEX('Volume Import'!$K$2:$Q$5,MATCH(E117,'Volume Import'!$R$2:$R$5,0),MATCH(C117,'Volume Import'!$K$1:$Q$1,0)),\n'Volume Import'!D108/'Volume Import'!C108))","v":0.1},null,{"$f":"'Volume Import'!E108*'Volume Import'!$I$14*(1+'Volume Import'!$I$15)*(1-'Volume Import'!$I$16)","v":3780},{"$f":"IF('Volume Import'!F108=0,J117,'Volume Import'!F108/'Volume Import'!E108)","v":0.1},null,{"$f":"IF(G117=\"TRUE 1\",IF(E117=\"NT\",Inputs!$C$35,Inputs!$C$34),\nIF(G117=\"TRUE 2\",IF(E117=\"NT\",Inputs!$D$35,Inputs!$D$34),\nIF(G117=\"TRUE 3\",IF(E117=\"NT\",Inputs!$E$35,Inputs!$E$34),\nIF(G117=\"TRUE 4\",IF(E117=\"NT\",Inputs!$F$35,Inputs!$F$34),\nO116))))","v":65.476687896673383},{"$f":"IF(G117=\"TRUE 1\",IF(E117=\"NT\",MROUND(Inputs!$C$32*$P$3*(1/(1+J117*(2-1))),1),MROUND(Inputs!$C$30*$P$3*(1/(1+J117*(2-1))),1)),\nIF(G117=\"TRUE 2\",IF(E117=\"NT\",MROUND(Inputs!$D$32*$Q$3*(1/(1+J117*(2-1))),1),MROUND(Inputs!$D$30*$Q$3*(1/(1+J117*(2-1))),1)),\nIF(G117=\"TRUE 3\",IF(E117=\"NT\",MROUND(Inputs!$E$32*$R$3*(1/(1+J117*(2-1))),1),MROUND(Inputs!$E$30*$R$3*(1/(1+J117*(2-1))),1)),\nIF(G117=\"TRUE 4\",IF(E117=\"NT\",MROUND(Inputs!$F$32*$S$3*(1/(1+J117*(2-1))),1),MROUND(Inputs!$F$30*$S$3*(1/(1+J117*(2-1))),1)),\nMROUND(Inputs!$C$15*(1/(1+J117*(2-1)))*($P$3+$P$4),1)))))","v":4681},-141,0,{"$f":"(R117/(1/(1+J117*(2-1))))*O117/LEFT(Inputs!$C$18,1)/5280","v":0},0,{"$f":"(T117/60)*((Inputs!$C$13*Calculations!R117*(1-Calculations!J117))+(Inputs!$C$14*Calculations!R117*Calculations!J117))","v":0},{"$f":"IF(R117>0,($J$5/60)*(((I117*$J$3/(1-$J$3))*(1-J117)*Inputs!$C$13)+((I117*$J$3/(1-$J$3))*J117*Inputs!$C$14)),0)","v":0},0,null,"2019-08-05T10:00:00","","",{"$f":"IF(AND(Z117<>\"\",AA117<>\"\"),MAX(INDIRECT(Z117):INDIRECT(AA117)),\"\")","v":""},"","",null,{"$f":"IF(G117=\"TRUE 1\",IF(E117=\"NT\",MROUND(Inputs!$C$32*$AF$3*(1/(1+M117*(2-1))),1),MROUND(Inputs!$C$30*$AF$3*(1/(1+M117*(2-1))),1)),\nIF(G117=\"TRUE 2\",IF(E117=\"NT\",MROUND(Inputs!$D$32*$AG$3*(1/(1+M117*(2-1))),1),MROUND(Inputs!$D$30*$AG$3*(1/(1+M117*(2-1))),1)),\nIF(G117=\"TRUE 3\",IF(E117=\"NT\",MROUND(Inputs!$E$32*$AH$3*(1/(1+M117*(2-1))),1),MROUND(Inputs!$E$30*$AH$3*(1/(1+M117*(2-1))),1)),\nIF(G117=\"TRUE 4\",IF(E117=\"NT\",MROUND(Inputs!$F$32*$AI$3*(1/(1+M117*(2-1))),1),MROUND(Inputs!$F$30*$AI$3*(1/(1+M117*(2-1))),1)),\nMROUND(Inputs!$C$15*(1/(1+M117*(2-1)))*($AF$3+$AF$4),1)))))","v":4681},-901,0,{"$f":"(AH117/(1/(1+M117*(2-1))))*O117/LEFT(Inputs!$C$18,1)/5280","v":0},0,{"$f":"(AJ117/60)*((Inputs!$C$13*Calculations!AH117*(1-Calculations!M117))+(Inputs!$C$14*Calculations!AH117*Calculations!M117))","v":0},{"$f":"IF(AH117>0,($M$5/60)*(((L117*$M$3/(1-$M$3))*(1-M117)*Inputs!$C$13)+((L117*$M$3/(1-$M$3))*M117*Inputs!$C$14)),0)","v":0},0,null,"2019-08-05T10:00:00","","",{"$f":"IF(AND(AP117<>\"\",AQ117<>\"\"),MAX(INDIRECT(AP117):INDIRECT(AQ117)),\"\")","v":""},"",""]
["2019-08-05",2,"Monday","11:00:00",{"$f":"INDEX(Lists!$M$3:$M$26,MATCH(Calculations!D118,Lists!$L$3:$L$26,0))","v":"MD"},35,{"$f":"IF(INDEX(Inputs!$H$86:$H$253,MATCH(F118,Inputs!$D$86:$D$253,0)),\"TRUE 4\",\nIF(INDEX(Inputs!$G$86:$G$253,MATCH(F118,Inputs!$D$86:$D$253,0)),\"TRUE 3\",\nIF(INDEX(Inputs!$F$86:$F$253,MATCH(F118,Inputs!$D$86:$D$253,0)),\"TRUE 2\",\nIF(INDEX(Inputs!$E$86:$E$253,MATCH(F118,Inputs!$D$86:$D$253,0)),\"TRUE 1\",\nFALSE))))","v":"TRUE 1"},null,{"$f":"'Volume Import'!C109*'Volume Import'!$H$14*(1+'Volume Import'!$H$15)*(1-'Volume Import'!$H$16)","v":4400},{"$f":"IF(AND('Volume Import'!D109=0,'Volume Import'!C109=0),0,\nIF('Volume Import'!D109=0,INDEX('Volume Import'!$K$2:$Q$5,MATCH(E118,'Volume Import'!$R$2:$R$5,0),MATCH(C118,'Volume Import'!$K$1:$Q$1,0)),\n'Volume Import'!D109/'Volume Import'!C109))","v":0.1},null,{"$f":"'Volume Import'!E109*'Volume Import'!$I$14*(1+'Volume Import'!$I$15)*(1-'Volume Import'!$I$16)","v":4117},{"$f":"IF('Volume Import'!F109=0,J118,'Volume Import'!F109/'Volume Import'!E109)","v":0.1},null,{"$f":"IF(G118=\"TRUE 1\",IF(E118=\"NT\",Inputs!$C$35,Inputs!$C$34),\nIF(G118=\"TRUE 2\",IF(E118=\"NT\",Inputs!$D$35,Inputs!$D$34),\nIF(G118=\"TRUE 3\",IF(E118=\"NT\",Inputs!$E$35,Inputs!$E$34),\nIF(G118=\"TRUE 4\",IF(E118=\"NT\",Inputs!$F$35,Inputs!$F$34),\nO117))))","v":65.476687896673383},{"$f":"IF(G118=\"TRUE 1\",IF(E118=\"NT\",MROUND(Inputs!$C$32*$P$3*(1/(1+J118*(2-1))),1),MROUND(Inputs!$C$30*$P$3*(1/(1+J118*(2-1))),1)),\nIF(G118=\"TRUE 2\",IF(E118=\"NT\",MROUND(Inputs!$D$32*$Q$3*(1/(1+J118*(2-1))),1),MROUND(Inputs!$D$30*$Q$3*(1/(1+J118*(2-1))),1)),\nIF(G118=\"TRUE 3\",IF(E118=\"NT\",MROUND(Inputs!$E$32*$R$3*(1/(1+J118*(2-1))),1),MROUND(Inputs!$E$30*$R$3*(1/(1+J118*(2-1))),1)),\nIF(G118=\"TRUE 4\",IF(E118=\"NT\",MROUND(Inputs!$F$32*$S$3*(1/(1+J118*(2-1))),1),MROUND(Inputs!$F$30*$S$3*(1/(1+J118*(2-1))),1)),\nMROUND(Inputs!$C$15*(1/(1+J118*(2-1)))*($P$3+$P$4),1)))))","v":4681},-281,0,{"$f":"(R118/(1/(1+J118*(2-1))))*O118/LEFT(Inputs!$C$18,1)/5280","v":0},0,{"$f":"(T118/60)*((Inputs!$C$13*Calculations!R118*(1-Calculations!J118))+(Inputs!$C$14*Calculations!R118*Calculations!J118))","v":0},{"$f":"IF(R118>0,($J$5/60)*(((I118*$J$3/(1-$J$3))*(1-J118)*Inputs!$C$13)+((I118*$J$3/(1-$J$3))*J118*Inputs!$C$14)),0)","v":0},0,null,"2019-08-05T11:00:00",{"$f":"IF(AND(AC118=\"\",AD118=\"\"),\"\",IF(ISNUMBER(AC118),SUBSTITUTE(ADDRESS(1,COLUMN($S$10),4),\"1\",\"\")&ROW(Z118),Z117))","v":""},"",{"$f":"IF(AND(Z118<>\"\",AA118<>\"\"),MAX(INDIRECT(Z118):INDIRECT(AA118)),\"\")","v":""},"","",null,{"$f":"IF(G118=\"TRUE 1\",IF(E118=\"NT\",MROUND(Inputs!$C$32*$AF$3*(1/(1+M118*(2-1))),1),MROUND(Inputs!$C$30*$AF$3*(1/(1+M118*(2-1))),1)),\nIF(G118=\"TRUE 2\",IF(E118=\"NT\",MROUND(Inputs!$D$32*$AG$3*(1/(1+M118*(2-1))),1),MROUND(Inputs!$D$30*$AG$3*(1/(1+M118*(2-1))),1)),\nIF(G118=\"TRUE 3\",IF(E118=\"NT\",MROUND(Inputs!$E$32*$AH$3*(1/(1+M118*(2-1))),1),MROUND(Inputs!$E$30*$AH$3*(1/(1+M118*(2-1))),1)),\nIF(G118=\"TRUE 4\",IF(E118=\"NT\",MROUND(Inputs!$F$32*$AI$3*(1/(1+M118*(2-1))),1),MROUND(Inputs!$F$30*$AI$3*(1/(1+M118*(2-1))),1)),\nMROUND(Inputs!$C$15*(1/(1+M118*(2-1)))*($AF$3+$AF$4),1)))))","v":4681},-564,0,{"$f":"(AH118/(1/(1+M118*(2-1))))*O118/LEFT(Inputs!$C$18,1)/5280","v":0},0,{"$f":"(AJ118/60)*((Inputs!$C$13*Calculations!AH118*(1-Calculations!M118))+(Inputs!$C$14*Calculations!AH118*Calculations!M118))","v":0},{"$f":"IF(AH118>0,($M$5/60)*(((L118*$M$3/(1-$M$3))*(1-M118)*Inputs!$C$13)+((L118*$M$3/(1-$M$3))*M118*Inputs!$C$14)),0)","v":0},0,null,"2019-08-05T11:00:00","","",{"$f":"IF(AND(AP118<>\"\",AQ118<>\"\"),MAX(INDIRECT(AP118):INDIRECT(AQ118)),\"\")","v":""},"",""]
["2019-08-05",2,"Monday","12:00:00",{"$f":"INDEX(Lists!$M$3:$M$26,MATCH(Calculations!D119,Lists!$L$3:$L$26,0))","v":"MD"},36,{"$f":"IF(INDEX(Inputs!$H$86:$H$253,MATCH(F119,Inputs!$D$86:$D$253,0)),\"TRUE 4\",\nIF(INDEX(Inputs!$G$86:$G$253,MATCH(F119,Inputs!$D$86:$D$253,0)),\"TRUE 3\",\nIF(INDEX(Inputs!$F$86:$F$253,MATCH(F119,Inputs!$D$86:$D$253,0)),\"TRUE 2\",\nIF(INDEX(Inputs!$E$86:$E$253,MATCH(F119,Inputs!$D$86:$D$253,0)),\"TRUE 1\",\nFALSE))))","v":"TRUE 1"},null,{"$f":"'Volume Import'!C110*'Volume Import'!$H$14*(1+'Volume Import'!$H$15)*(1-'Volume Import'!$H$16)","v":4377},{"$f":"IF(AND('Volume Import'!D110=0,'Volume Import'!C110=0),0,\nIF('Volume Import'!D110=0,INDEX('Volume Import'!$K$2:$Q$5,MATCH(E119,'Volume Import'!$R$2:$R$5,0),MATCH(C119,'Volume Import'!$K$1:$Q$1,0)),\n'Volume Import'!D110/'Volume Import'!C110))","v":0.1},null,{"$f":"'Volume Import'!E110*'Volume Import'!$I$14*(1+'Volume Import'!$I$15)*(1-'Volume Import'!$I$16)","v":4419},{"$f":"IF('Volume Import'!F110=0,J119,'Volume Import'!F110/'Volume Import'!E110)","v":0.1},null,{"$f":"IF(G119=\"TRUE 1\",IF(E119=\"NT\",Inputs!$C$35,Inputs!$C$34),\nIF(G119=\"TRUE 2\",IF(E119=\"NT\",Inputs!$D$35,Inputs!$D$34),\nIF(G119=\"TRUE 3\",IF(E119=\"NT\",Inputs!$E$35,Inputs!$E$34),\nIF(G119=\"TRUE 4\",IF(E119=\"NT\",Inputs!$F$35,Inputs!$F$34),\nO118))))","v":65.476687896673383},{"$f":"IF(G119=\"TRUE 1\",IF(E119=\"NT\",MROUND(Inputs!$C$32*$P$3*(1/(1+J119*(2-1))),1),MROUND(Inputs!$C$30*$P$3*(1/(1+J119*(2-1))),1)),\nIF(G119=\"TRUE 2\",IF(E119=\"NT\",MROUND(Inputs!$D$32*$Q$3*(1/(1+J119*(2-1))),1),MROUND(Inputs!$D$30*$Q$3*(1/(1+J119*(2-1))),1)),\nIF(G119=\"TRUE 3\",IF(E119=\"NT\",MROUND(Inputs!$E$32*$R$3*(1/(1+J119*(2-1))),1),MROUND(Inputs!$E$30*$R$3*(1/(1+J119*(2-1))),1)),\nIF(G119=\"TRUE 4\",IF(E119=\"NT\",MROUND(Inputs!$F$32*$S$3*(1/(1+J119*(2-1))),1),MROUND(Inputs!$F$30*$S$3*(1/(1+J119*(2-1))),1)),\nMROUND(Inputs!$C$15*(1/(1+J119*(2-1)))*($P$3+$P$4),1)))))","v":4681},-304,0,{"$f":"(R119/(1/(1+J119*(2-1))))*O119/LEFT(Inputs!$C$18,1)/5280","v":0},0,{"$f":"(T119/60)*((Inputs!$C$13*Calculations!R119*(1-Calculations!J119))+(Inputs!$C$14*Calculations!R119*Calculations!J119))","v":0},{"$f":"IF(R119>0,($J$5/60)*(((I119*$J$3/(1-$J$3))*(1-J119)*Inputs!$C$13)+((I119*$J$3/(1-$J$3))*J119*Inputs!$C$14)),0)","v":0},0,null,"2019-08-05T12:00:00","","",{"$f":"IF(AND(Z119<>\"\",AA119<>\"\"),MAX(INDIRECT(Z119):INDIRECT(AA119)),\"\")","v":""},"","",null,{"$f":"IF(G119=\"TRUE 1\",IF(E119=\"NT\",MROUND(Inputs!$C$32*$AF$3*(1/(1+M119*(2-1))),1),MROUND(Inputs!$C$30*$AF$3*(1/(1+M119*(2-1))),1)),\nIF(G119=\"TRUE 2\",IF(E119=\"NT\",MROUND(Inputs!$D$32*$AG$3*(1/(1+M119*(2-1))),1),MROUND(Inputs!$D$30*$AG$3*(1/(1+M119*(2-1))),1)),\nIF(G119=\"TRUE 3\",IF(E119=\"NT\",MROUND(Inputs!$E$32*$AH$3*(1/(1+M119*(2-1))),1),MROUND(Inputs!$E$30*$AH$3*(1/(1+M119*(2-1))),1)),\nIF(G119=\"TRUE 4\",IF(E119=\"NT\",MROUND(Inputs!$F$32*$AI$3*(1/(1+M119*(2-1))),1),MROUND(Inputs!$F$30*$AI$3*(1/(1+M119*(2-1))),1)),\nMROUND(Inputs!$C$15*(1/(1+M119*(2-1)))*($AF$3+$AF$4),1)))))","v":4681},-262,0,{"$f":"(AH119/(1/(1+M119*(2-1))))*O119/LEFT(Inputs!$C$18,1)/5280","v":0},0,{"$f":"(AJ119/60)*((Inputs!$C$13*Calculations!AH119*(1-Calculations!M119))+(Inputs!$C$14*Calculations!AH119*Calculations!M119))","v":0},{"$f":"IF(AH119>0,($M$5/60)*(((L119*$M$3/(1-$M$3))*(1-M119)*Inputs!$C$13)+((L119*$M$3/(1-$M$3))*M119*Inputs!$C$14)),0)","v":0},0,null,"2019-08-05T12:00:00","","",{"$f":"IF(AND(AP119<>\"\",AQ119<>\"\"),MAX(INDIRECT(AP119):INDIRECT(AQ119)),\"\")","v":""},"",""]
["2019-08-05",2,"Monday","13:00:00",{"$f":"INDEX(Lists!$M$3:$M$26,MATCH(Calculations!D120,Lists!$L$3:$L$26,0))","v":"MD"},37,{"$f":"IF(INDEX(Inputs!$H$86:$H$253,MATCH(F120,Inputs!$D$86:$D$253,0)),\"TRUE 4\",\nIF(INDEX(Inputs!$G$86:$G$253,MATCH(F120,Inputs!$D$86:$D$253,0)),\"TRUE 3\",\nIF(INDEX(Inputs!$F$86:$F$253,MATCH(F120,Inputs!$D$86:$D$253,0)),\"TRUE 2\",\nIF(INDEX(Inputs!$E$86:$E$253,MATCH(F120,Inputs!$D$86:$D$253,0)),\"TRUE 1\",\nFALSE))))","v":"TRUE 1"},null,{"$f":"'Volume Import'!C111*'Volume Import'!$H$14*(1+'Volume Import'!$H$15)*(1-'Volume Import'!$H$16)","v":4352},{"$f":"IF(AND('Volume Import'!D111=0,'Volume Import'!C111=0),0,\nIF('Volume Import'!D111=0,INDEX('Volume Import'!$K$2:$Q$5,MATCH(E120,'Volume Import'!$R$2:$R$5,0),MATCH(C120,'Volume Import'!$K$1:$Q$1,0)),\n'Volume Import'!D111/'Volume Import'!C111))","v":0.1},null,{"$f":"'Volume Import'!E111*'Volume Import'!$I$14*(1+'Volume Import'!$I$15)*(1-'Volume Import'!$I$16)","v":4536},{"$f":"IF('Volume Import'!F111=0,J120,'Volume Import'!F111/'Volume Import'!E111)","v":0.1},null,{"$f":"IF(G120=\"TRUE 1\",IF(E120=\"NT\",Inputs!$C$35,Inputs!$C$34),\nIF(G120=\"TRUE 2\",IF(E120=\"NT\",Inputs!$D$35,Inputs!$D$34),\nIF(G120=\"TRUE 3\",IF(E120=\"NT\",Inputs!$E$35,Inputs!$E$34),\nIF(G120=\"TRUE 4\",IF(E120=\"NT\",Inputs!$F$35,Inputs!$F$34),\nO119))))","v":65.476687896673383},{"$f":"IF(G120=\"TRUE 1\",IF(E120=\"NT\",MROUND(Inputs!$C$32*$P$3*(1/(1+J120*(2-1))),1),MROUND(Inputs!$C$30*$P$3*(1/(1+J120*(2-1))),1)),\nIF(G120=\"TRUE 2\",IF(E120=\"NT\",MROUND(Inputs!$D$32*$Q$3*(1/(1+J120*(2-1))),1),MROUND(Inputs!$D$30*$Q$3*(1/(1+J120*(2-1))),1)),\nIF(G120=\"TRUE 3\",IF(E120=\"NT\",MROUND(Inputs!$E$32*$R$3*(1/(1+J120*(2-1))),1),MROUND(Inputs!$E$30*$R$3*(1/(1+J120*(2-1))),1)),\nIF(G120=\"TRUE 4\",IF(E120=\"NT\",MROUND(Inputs!$F$32*$S$3*(1/(1+J120*(2-1))),1),MROUND(Inputs!$F$30*$S$3*(1/(1+J120*(2-1))),1)),\nMROUND(Inputs!$C$15*(1/(1+J120*(2-1)))*($P$3+$P$4),1)))))","v":4681},-329,0,{"$f":"(R120/(1/(1+J120*(2-1))))*O120/LEFT(Inputs!$C$18,1)/5280","v":0},0,{"$f":"(T120/60)*((Inputs!$C$13*Calculations!R120*(1-Calculations!J120))+(Inputs!$C$14*Calculations!R120*Calculations!J120))","v":0},{"$f":"IF(R120>0,($J$5/60)*(((I120*$J$3/(1-$J$3))*(1-J120)*Inputs!$C$13)+((I120*$J$3/(1-$J$3))*J120*Inputs!$C$14)),0)","v":0},0,null,"2019-08-05T13:00:00","","",{"$f":"IF(AND(Z120<>\"\",AA120<>\"\"),MAX(INDIRECT(Z120):INDIRECT(AA120)),\"\")","v":""},"","",null,{"$f":"IF(G120=\"TRUE 1\",IF(E120=\"NT\",MROUND(Inputs!$C$32*$AF$3*(1/(1+M120*(2-1))),1),MROUND(Inputs!$C$30*$AF$3*(1/(1+M120*(2-1))),1)),\nIF(G120=\"TRUE 2\",IF(E120=\"NT\",MROUND(Inputs!$D$32*$AG$3*(1/(1+M120*(2-1))),1),MROUND(Inputs!$D$30*$AG$3*(1/(1+M120*(2-1))),1)),\nIF(G120=\"TRUE 3\",IF(E120=\"NT\",MROUND(Inputs!$E$32*$AH$3*(1/(1+M120*(2-1))),1),MROUND(Inputs!$E$30*$AH$3*(1/(1+M120*(2-1))),1)),\nIF(G120=\"TRUE 4\",IF(E120=\"NT\",MROUND(Inputs!$F$32*$AI$3*(1/(1+M120*(2-1))),1),MROUND(Inputs!$F$30*$AI$3*(1/(1+M120*(2-1))),1)),\nMROUND(Inputs!$C$15*(1/(1+M120*(2-1)))*($AF$3+$AF$4),1)))))","v":4681},-145,0,{"$f":"(AH120/(1/(1+M120*(2-1))))*O120/LEFT(Inputs!$C$18,1)/5280","v":0},0,{"$f":"(AJ120/60)*((Inputs!$C$13*Calculations!AH120*(1-Calculations!M120))+(Inputs!$C$14*Calculations!AH120*Calculations!M120))","v":0},{"$f":"IF(AH120>0,($M$5/60)*(((L120*$M$3/(1-$M$3))*(1-M120)*Inputs!$C$13)+((L120*$M$3/(1-$M$3))*M120*Inputs!$C$14)),0)","v":0},0,null,"2019-08-05T13:00:00","","",{"$f":"IF(AND(AP120<>\"\",AQ120<>\"\"),MAX(INDIRECT(AP120):INDIRECT(AQ120)),\"\")","v":""},"",""]
["2019-08-05",2,"Monday","14:00:00",{"$f":"INDEX(Lists!$M$3:$M$26,MATCH(Calculations!D121,Lists!$L$3:$L$26,0))","v":"MD"},38,{"$f":"IF(INDEX(Inputs!$H$86:$H$253,MATCH(F121,Inputs!$D$86:$D$253,0)),\"TRUE 4\",\nIF(INDEX(Inputs!$G$86:$G$253,MATCH(F121,Inputs!$D$86:$D$253,0)),\"TRUE 3\",\nIF(INDEX(Inputs!$F$86:$F$253,MATCH(F121,Inputs!$D$86:$D$253,0)),\"TRUE 2\",\nIF(INDEX(Inputs!$E$86:$E$253,MATCH(F121,Inputs!$D$86:$D$253,0)),\"TRUE 1\",\nFALSE))))","v":false},null,{"$f":"'Volume Import'!C112*'Volume Import'!$H$14*(1+'Volume Import'!$H$15)*(1-'Volume Import'!$H$16)","v":4794},{"$f":"IF(AND('Volume Import'!D112=0,'Volume Import'!C112=0),0,\nIF('Volume Import'!D112=0,INDEX('Volume Import'!$K$2:$Q$5,MATCH(E121,'Volume Import'!$R$2:$R$5,0),MATCH(C121,'Volume Import'!$K$1:$Q$1,0)),\n'Volume Import'!D112/'Volume Import'!C112))","v":0.1},null,{"$f":"'Volume Import'!E112*'Volume Import'!$I$14*(1+'Volume Import'!$I$15)*(1-'Volume Import'!$I$16)","v":5739},{"$f":"IF('Volume Import'!F112=0,J121,'Volume Import'!F112/'Volume Import'!E112)","v":0.1},null,{"$f":"IF(G121=\"TRUE 1\",IF(E121=\"NT\",Inputs!$C$35,Inputs!$C$34),\nIF(G121=\"TRUE 2\",IF(E121=\"NT\",Inputs!$D$35,Inputs!$D$34),\nIF(G121=\"TRUE 3\",IF(E121=\"NT\",Inputs!$E$35,Inputs!$E$34),\nIF(G121=\"TRUE 4\",IF(E121=\"NT\",Inputs!$F$35,Inputs!$F$34),\nO120))))","v":65.476687896673383},{"$f":"IF(G121=\"TRUE 1\",IF(E121=\"NT\",MROUND(Inputs!$C$32*$P$3*(1/(1+J121*(2-1))),1),MROUND(Inputs!$C$30*$P$3*(1/(1+J121*(2-1))),1)),\nIF(G121=\"TRUE 2\",IF(E121=\"NT\",MROUND(Inputs!$D$32*$Q$3*(1/(1+J121*(2-1))),1),MROUND(Inputs!$D$30*$Q$3*(1/(1+J121*(2-1))),1)),\nIF(G121=\"TRUE 3\",IF(E121=\"NT\",MROUND(Inputs!$E$32*$R$3*(1/(1+J121*(2-1))),1),MROUND(Inputs!$E$30*$R$3*(1/(1+J121*(2-1))),1)),\nIF(G121=\"TRUE 4\",IF(E121=\"NT\",MROUND(Inputs!$F$32*$S$3*(1/(1+J121*(2-1))),1),MROUND(Inputs!$F$30*$S$3*(1/(1+J121*(2-1))),1)),\nMROUND(Inputs!$C$15*(1/(1+J121*(2-1)))*($P$3+$P$4),1)))))","v":8727},-3933,0,{"$f":"(R121/(1/(1+J121*(2-1))))*O121/LEFT(Inputs!$C$18,1)/5280","v":0},0,{"$f":"(T121/60)*((Inputs!$C$13*Calculations!R121*(1-Calculations!J121))+(Inputs!$C$14*Calculations!R121*Calculations!J121))","v":0},{"$f":"IF(R121>0,($J$5/60)*(((I121*$J$3/(1-$J$3))*(1-J121)*Inputs!$C$13)+((I121*$J$3/(1-$J$3))*J121*Inputs!$C$14)),0)","v":0},0,null,"2019-08-05T14:00:00","","",{"$f":"IF(AND(Z121<>\"\",AA121<>\"\"),MAX(INDIRECT(Z121):INDIRECT(AA121)),\"\")","v":""},"","",null,{"$f":"IF(G121=\"TRUE 1\",IF(E121=\"NT\",MROUND(Inputs!$C$32*$AF$3*(1/(1+M121*(2-1))),1),MROUND(Inputs!$C$30*$AF$3*(1/(1+M121*(2-1))),1)),\nIF(G121=\"TRUE 2\",IF(E121=\"NT\",MROUND(Inputs!$D$32*$AG$3*(1/(1+M121*(2-1))),1),MROUND(Inputs!$D$30*$AG$3*(1/(1+M121*(2-1))),1)),\nIF(G121=\"TRUE 3\",IF(E121=\"NT\",MROUND(Inputs!$E$32*$AH$3*(1/(1+M121*(2-1))),1),MROUND(Inputs!$E$30*$AH$3*(1/(1+M121*(2-1))),1)),\nIF(G121=\"TRUE 4\",IF(E121=\"NT\",MROUND(Inputs!$F$32*$AI$3*(1/(1+M121*(2-1))),1),MROUND(Inputs!$F$30*$AI$3*(1/(1+M121*(2-1))),1)),\nMROUND(Inputs!$C$15*(1/(1+M121*(2-1)))*($AF$3+$AF$4),1)))))","v":8727},-2988,0,{"$f":"(AH121/(1/(1+M121*(2-1))))*O121/LEFT(Inputs!$C$18,1)/5280","v":0},0,{"$f":"(AJ121/60)*((Inputs!$C$13*Calculations!AH121*(1-Calculations!M121))+(Inputs!$C$14*Calculations!AH121*Calculations!M121))","v":0},{"$f":"IF(AH121>0,($M$5/60)*(((L121*$M$3/(1-$M$3))*(1-M121)*Inputs!$C$13)+((L121*$M$3/(1-$M$3))*M121*Inputs!$C$14)),0)","v":0},0,null,"2019-08-05T14:00:00","","",{"$f":"IF(AND(AP121<>\"\",AQ121<>\"\"),MAX(INDIRECT(AP121):INDIRECT(AQ121)),\"\")","v":""},"",""]
["2019-08-05",2,"Monday","15:00:00",{"$f":"INDEX(Lists!$M$3:$M$26,MATCH(Calculations!D122,Lists!$L$3:$L$26,0))","v":"PM"},39,{"$f":"IF(INDEX(Inputs!$H$86:$H$253,MATCH(F122,Inputs!$D$86:$D$253,0)),\"TRUE 4\",\nIF(INDEX(Inputs!$G$86:$G$253,MATCH(F122,Inputs!$D$86:$D$253,0)),\"TRUE 3\",\nIF(INDEX(Inputs!$F$86:$F$253,MATCH(F122,Inputs!$D$86:$D$253,0)),\"TRUE 2\",\nIF(INDEX(Inputs!$E$86:$E$253,MATCH(F122,Inputs!$D$86:$D$253,0)),\"TRUE 1\",\nFALSE))))","v":false},null,{"$f":"'Volume Import'!C113*'Volume Import'!$H$14*(1+'Volume Import'!$H$15)*(1-'Volume Import'!$H$16)","v":4996},{"$f":"IF(AND('Volume Import'!D113=0,'Volume Import'!C113=0),0,\nIF('Volume Import'!D113=0,INDEX('Volume Import'!$K$2:$Q$5,MATCH(E122,'Volume Import'!$R$2:$R$5,0),MATCH(C122,'Volume Import'!$K$1:$Q$1,0)),\n'Volume Import'!D113/'Volume Import'!C113))","v":0.1},null,{"$f":"'Volume Import'!E113*'Volume Import'!$I$14*(1+'Volume Import'!$I$15)*(1-'Volume Import'!$I$16)","v":6678},{"$f":"IF('Volume Import'!F113=0,J122,'Volume Import'!F113/'Volume Import'!E113)","v":0.1},null,{"$f":"IF(G122=\"TRUE 1\",IF(E122=\"NT\",Inputs!$C$35,Inputs!$C$34),\nIF(G122=\"TRUE 2\",IF(E122=\"NT\",Inputs!$D$35,Inputs!$D$34),\nIF(G122=\"TRUE 3\",IF(E122=\"NT\",Inputs!$E$35,Inputs!$E$34),\nIF(G122=\"TRUE 4\",IF(E122=\"NT\",Inputs!$F$35,Inputs!$F$34),\nO121))))","v":65.476687896673383},{"$f":"IF(G122=\"TRUE 1\",IF(E122=\"NT\",MROUND(Inputs!$C$32*$P$3*(1/(1+J122*(2-1))),1),MROUND(Inputs!$C$30*$P$3*(1/(1+J122*(2-1))),1)),\nIF(G122=\"TRUE 2\",IF(E122=\"NT\",MROUND(Inputs!$D$32*$Q$3*(1/(1+J122*(2-1))),1),MROUND(Inputs!$D$30*$Q$3*(1/(1+J122*(2-1))),1)),\nIF(G122=\"TRUE 3\",IF(E122=\"NT\",MROUND(Inputs!$E$32*$R$3*(1/(1+J122*(2-1))),1),MROUND(Inputs!$E$30*$R$3*(1/(1+J122*(2-1))),1)),\nIF(G122=\"TRUE 4\",IF(E122=\"NT\",MROUND(Inputs!$F$32*$S$3*(1/(1+J122*(2-1))),1),MROUND(Inputs!$F$30*$S$3*(1/(1+J122*(2-1))),1)),\nMROUND(Inputs!$C$15*(1/(1+J122*(2-1)))*($P$3+$P$4),1)))))","v":8727},-3731,0,{"$f":"(R122/(1/(1+J122*(2-1))))*O122/LEFT(Inputs!$C$18,1)/5280","v":0},0,{"$f":"(T122/60)*((Inputs!$C$13*Calculations!R122*(1-Calculations!J122))+(Inputs!$C$14*Calculations!R122*Calculations!J122))","v":0},{"$f":"IF(R122>0,($J$5/60)*(((I122*$J$3/(1-$J$3))*(1-J122)*Inputs!$C$13)+((I122*$J$3/(1-$J$3))*J122*Inputs!$C$14)),0)","v":0},0,null,"2019-08-05T15:00:00","","",{"$f":"IF(AND(Z122<>\"\",AA122<>\"\"),MAX(INDIRECT(Z122):INDIRECT(AA122)),\"\")","v":""},"","",null,{"$f":"IF(G122=\"TRUE 1\",IF(E122=\"NT\",MROUND(Inputs!$C$32*$AF$3*(1/(1+M122*(2-1))),1),MROUND(Inputs!$C$30*$AF$3*(1/(1+M122*(2-1))),1)),\nIF(G122=\"TRUE 2\",IF(E122=\"NT\",MROUND(Inputs!$D$32*$AG$3*(1/(1+M122*(2-1))),1),MROUND(Inputs!$D$30*$AG$3*(1/(1+M122*(2-1))),1)),\nIF(G122=\"TRUE 3\",IF(E122=\"NT\",MROUND(Inputs!$E$32*$AH$3*(1/(1+M122*(2-1))),1),MROUND(Inputs!$E$30*$AH$3*(1/(1+M122*(2-1))),1)),\nIF(G122=\"TRUE 4\",IF(E122=\"NT\",MROUND(Inputs!$F$32*$AI$3*(1/(1+M122*(2-1))),1),MROUND(Inputs!$F$30*$AI$3*(1/(1+M122*(2-1))),1)),\nMROUND(Inputs!$C$15*(1/(1+M122*(2-1)))*($AF$3+$AF$4),1)))))","v":8727},-2049,0,{"$f":"(AH122/(1/(1+M122*(2-1))))*O122/LEFT(Inputs!$C$18,1)/5280","v":0},0,{"$f":"(AJ122/60)*((Inputs!$C$13*Calculations!AH122*(1-Calculations!M122))+(Inputs!$C$14*Calculations!AH122*Calculations!M122))","v":0},{"$f":"IF(AH122>0,($M$5/60)*(((L122*$M$3/(1-$M$3))*(1-M122)*Inputs!$C$13)+((L122*$M$3/(1-$M$3))*M122*Inputs!$C$14)),0)","v":0},0,null,"2019-08-05T15:00:00","","",{"$f":"IF(AND(AP122<>\"\",AQ122<>\"\"),MAX(INDIRECT(AP122):INDIRECT(AQ122)),\"\")","v":""},"",""]
["2019-08-05",2,"Monday","16:00:00",{"$f":"INDEX(Lists!$M$3:$M$26,MATCH(Calculations!D123,Lists!$L$3:$L$26,0))","v":"PM"},40,{"$f":"IF(INDEX(Inputs!$H$86:$H$253,MATCH(F123,Inputs!$D$86:$D$253,0)),\"TRUE 4\",\nIF(INDEX(Inputs!$G$86:$G$253,MATCH(F123,Inputs!$D$86:$D$253,0)),\"TRUE 3\",\nIF(INDEX(Inputs!$F$86:$F$253,MATCH(F123,Inputs!$D$86:$D$253,0)),\"TRUE 2\",\nIF(INDEX(Inputs!$E$86:$E$253,MATCH(F123,Inputs!$D$86:$D$253,0)),\"TRUE 1\",\nFALSE))))","v":false},null,{"$f":"'Volume Import'!C114*'Volume Import'!$H$14*(1+'Volume Import'!$H$15)*(1-'Volume Import'!$H$16)","v":5052},{"$f":"IF(AND('Volume Import'!D114=0,'Volume Import'!C114=0),0,\nIF('Volume Import'!D114=0,INDEX('Volume Import'!$K$2:$Q$5,MATCH(E123,'Volume Import'!$R$2:$R$5,0),MATCH(C123,'Volume Import'!$K$1:$Q$1,0)),\n'Volume Import'!D114/'Volume Import'!C114))","v":0.1},null,{"$f":"'Volume Import'!E114*'Volume Import'!$I$14*(1+'Volume Import'!$I$15)*(1-'Volume Import'!$I$16)","v":6860},{"$f":"IF('Volume Import'!F114=0,J123,'Volume Import'!F114/'Volume Import'!E114)","v":0.1},null,{"$f":"IF(G123=\"TRUE 1\",IF(E123=\"NT\",Inputs!$C$35,Inputs!$C$34),\nIF(G123=\"TRUE 2\",IF(E123=\"NT\",Inputs!$D$35,Inputs!$D$34),\nIF(G123=\"TRUE 3\",IF(E123=\"NT\",Inputs!$E$35,Inputs!$E$34),\nIF(G123=\"TRUE 4\",IF(E123=\"NT\",Inputs!$F$35,Inputs!$F$34),\nO122))))","v":65.476687896673383},{"$f":"IF(G123=\"TRUE 1\",IF(E123=\"NT\",MROUND(Inputs!$C$32*$P$3*(1/(1+J123*(2-1))),1),MROUND(Inputs!$C$30*$P$3*(1/(1+J123*(2-1))),1)),\nIF(G123=\"TRUE 2\",IF(E123=\"NT\",MROUND(Inputs!$D$32*$Q$3*(1/(1+J123*(2-1))),1),MROUND(Inputs!$D$30*$Q$3*(1/(1+J123*(2-1))),1)),\nIF(G123=\"TRUE 3\",IF(E123=\"NT\",MROUND(Inputs!$E$32*$R$3*(1/(1+J123*(2-1))),1),MROUND(Inputs!$E$30*$R$3*(1/(1+J123*(2-1))),1)),\nIF(G123=\"TRUE 4\",IF(E123=\"NT\",MROUND(Inputs!$F$32*$S$3*(1/(1+J123*(2-1))),1),MROUND(Inputs!$F$30*$S$3*(1/(1+J123*(2-1))),1)),\nMROUND(Inputs!$C$15*(1/(1+J123*(2-1)))*($P$3+$P$4),1)))))","v":8727},-3675,0,{"$f":"(R123/(1/(1+J123*(2-1))))*O123/LEFT(Inputs!$C$18,1)/5280","v":0},0,{"$f":"(T123/60)*((Inputs!$C$13*Calculations!R123*(1-Calculations!J123))+(Inputs!$C$14*Calculations!R123*Calculations!J123))","v":0},{"$f":"IF(R123>0,($J$5/60)*(((I123*$J$3/(1-$J$3))*(1-J123)*Inputs!$C$13)+((I123*$J$3/(1-$J$3))*J123*Inputs!$C$14)),0)","v":0},0,null,"2019-08-05T16:00:00","","",{"$f":"IF(AND(Z123<>\"\",AA123<>\"\"),MAX(INDIRECT(Z123):INDIRECT(AA123)),\"\")","v":""},"","",null,{"$f":"IF(G123=\"TRUE 1\",IF(E123=\"NT\",MROUND(Inputs!$C$32*$AF$3*(1/(1+M123*(2-1))),1),MROUND(Inputs!$C$30*$AF$3*(1/(1+M123*(2-1))),1)),\nIF(G123=\"TRUE 2\",IF(E123=\"NT\",MROUND(Inputs!$D$32*$AG$3*(1/(1+M123*(2-1))),1),MROUND(Inputs!$D$30*$AG$3*(1/(1+M123*(2-1))),1)),\nIF(G123=\"TRUE 3\",IF(E123=\"NT\",MROUND(Inputs!$E$32*$AH$3*(1/(1+M123*(2-1))),1),MROUND(Inputs!$E$30*$AH$3*(1/(1+M123*(2-1))),1)),\nIF(G123=\"TRUE 4\",IF(E123=\"NT\",MROUND(Inputs!$F$32*$AI$3*(1/(1+M123*(2-1))),1),MROUND(Inputs!$F$30*$AI$3*(1/(1+M123*(2-1))),1)),\nMROUND(Inputs!$C$15*(1/(1+M123*(2-1)))*($AF$3+$AF$4),1)))))","v":8727},-1867,0,{"$f":"(AH123/(1/(1+M123*(2-1))))*O123/LEFT(Inputs!$C$18,1)/5280","v":0},0,{"$f":"(AJ123/60)*((Inputs!$C$13*Calculations!AH123*(1-Calculations!M123))+(Inputs!$C$14*Calculations!AH123*Calculations!M123))","v":0},{"$f":"IF(AH123>0,($M$5/60)*(((L123*$M$3/(1-$M$3))*(1-M123)*Inputs!$C$13)+((L123*$M$3/(1-$M$3))*M123*Inputs!$C$14)),0)","v":0},0,null,"2019-08-05T16:00:00","","",{"$f":"IF(AND(AP123<>\"\",AQ123<>\"\"),MAX(INDIRECT(AP123):INDIRECT(AQ123)),\"\")","v":""},"",""]
["2019-08-05",2,"Monday","17:00:00",{"$f":"INDEX(Lists!$M$3:$M$26,MATCH(Calculations!D124,Lists!$L$3:$L$26,0))","v":"PM"},41,{"$f":"IF(INDEX(Inputs!$H$86:$H$253,MATCH(F124,Inputs!$D$86:$D$253,0)),\"TRUE 4\",\nIF(INDEX(Inputs!$G$86:$G$253,MATCH(F124,Inputs!$D$86:$D$253,0)),\"TRUE 3\",\nIF(INDEX(Inputs!$F$86:$F$253,MATCH(F124,Inputs!$D$86:$D$253,0)),\"TRUE 2\",\nIF(INDEX(Inputs!$E$86:$E$253,MATCH(F124,Inputs!$D$86:$D$253,0)),\"TRUE 1\",\nFALSE))))","v":false},null,{"$f":"'Volume Import'!C115*'Volume Import'!$H$14*(1+'Volume Import'!$H$15)*(1-'Volume Import'!$H$16)","v":4769},{"$f":"IF(AND('Volume Import'!D115=0,'Volume Import'!C115=0),0,\nIF('Volume Import'!D115=0,INDEX('Volume Import'!$K$2:$Q$5,MATCH(E124,'Volume Import'!$R$2:$R$5,0),MATCH(C124,'Volume Import'!$K$1:$Q$1,0)),\n'Volume Import'!D115/'Volume Import'!C115))","v":0.1},null,{"$f":"'Volume Import'!E115*'Volume Import'!$I$14*(1+'Volume Import'!$I$15)*(1-'Volume Import'!$I$16)","v":6633},{"$f":"IF('Volume Import'!F115=0,J124,'Volume Import'!F115/'Volume Import'!E115)","v":0.1},null,{"$f":"IF(G124=\"TRUE 1\",IF(E124=\"NT\",Inputs!$C$35,Inputs!$C$34),\nIF(G124=\"TRUE 2\",IF(E124=\"NT\",Inputs!$D$35,Inputs!$D$34),\nIF(G124=\"TRUE 3\",IF(E124=\"NT\",Inputs!$E$35,Inputs!$E$34),\nIF(G124=\"TRUE 4\",IF(E124=\"NT\",Inputs!$F$35,Inputs!$F$34),\nO123))))","v":65.476687896673383},{"$f":"IF(G124=\"TRUE 1\",IF(E124=\"NT\",MROUND(Inputs!$C$32*$P$3*(1/(1+J124*(2-1))),1),MROUND(Inputs!$C$30*$P$3*(1/(1+J124*(2-1))),1)),\nIF(G124=\"TRUE 2\",IF(E124=\"NT\",MROUND(Inputs!$D$32*$Q$3*(1/(1+J124*(2-1))),1),MROUND(Inputs!$D$30*$Q$3*(1/(1+J124*(2-1))),1)),\nIF(G124=\"TRUE 3\",IF(E124=\"NT\",MROUND(Inputs!$E$32*$R$3*(1/(1+J124*(2-1))),1),MROUND(Inputs!$E$30*$R$3*(1/(1+J124*(2-1))),1)),\nIF(G124=\"TRUE 4\",IF(E124=\"NT\",MROUND(Inputs!$F$32*$S$3*(1/(1+J124*(2-1))),1),MROUND(Inputs!$F$30*$S$3*(1/(1+J124*(2-1))),1)),\nMROUND(Inputs!$C$15*(1/(1+J124*(2-1)))*($P$3+$P$4),1)))))","v":8727},-3958,0,{"$f":"(R124/(1/(1+J124*(2-1))))*O124/LEFT(Inputs!$C$18,1)/5280","v":0},0,{"$f":"(T124/60)*((Inputs!$C$13*Calculations!R124*(1-Calculations!J124))+(Inputs!$C$14*Calculations!R124*Calculations!J124))","v":0},{"$f":"IF(R124>0,($J$5/60)*(((I124*$J$3/(1-$J$3))*(1-J124)*Inputs!$C$13)+((I124*$J$3/(1-$J$3))*J124*Inputs!$C$14)),0)","v":0},0,null,"2019-08-05T17:00:00","","",{"$f":"IF(AND(Z124<>\"\",AA124<>\"\"),MAX(INDIRECT(Z124):INDIRECT(AA124)),\"\")","v":""},"","",null,{"$f":"IF(G124=\"TRUE 1\",IF(E124=\"NT\",MROUND(Inputs!$C$32*$AF$3*(1/(1+M124*(2-1))),1),MROUND(Inputs!$C$30*$AF$3*(1/(1+M124*(2-1))),1)),\nIF(G124=\"TRUE 2\",IF(E124=\"NT\",MROUND(Inputs!$D$32*$AG$3*(1/(1+M124*(2-1))),1),MROUND(Inputs!$D$30*$AG$3*(1/(1+M124*(2-1))),1)),\nIF(G124=\"TRUE 3\",IF(E124=\"NT\",MROUND(Inputs!$E$32*$AH$3*(1/(1+M124*(2-1))),1),MROUND(Inputs!$E$30*$AH$3*(1/(1+M124*(2-1))),1)),\nIF(G124=\"TRUE 4\",IF(E124=\"NT\",MROUND(Inputs!$F$32*$AI$3*(1/(1+M124*(2-1))),1),MROUND(Inputs!$F$30*$AI$3*(1/(1+M124*(2-1))),1)),\nMROUND(Inputs!$C$15*(1/(1+M124*(2-1)))*($AF$3+$AF$4),1)))))","v":8727},-2094,0,{"$f":"(AH124/(1/(1+M124*(2-1))))*O124/LEFT(Inputs!$C$18,1)/5280","v":0},0,{"$f":"(AJ124/60)*((Inputs!$C$13*Calculations!AH124*(1-Calculations!M124))+(Inputs!$C$14*Calculations!AH124*Calculations!M124))","v":0},{"$f":"IF(AH124>0,($M$5/60)*(((L124*$M$3/(1-$M$3))*(1-M124)*Inputs!$C$13)+((L124*$M$3/(1-$M$3))*M124*Inputs!$C$14)),0)","v":0},0,null,"2019-08-05T17:00:00","","",{"$f":"IF(AND(AP124<>\"\",AQ124<>\"\"),MAX(INDIRECT(AP124):INDIRECT(AQ124)),\"\")","v":""},"",""]
["2019-08-05",2,"Monday","18:00:00",{"$f":"INDEX(Lists!$M$3:$M$26,MATCH(Calculations!D125,Lists!$L$3:$L$26,0))","v":"NT"},42,{"$f":"IF(INDEX(Inputs!$H$86:$H$253,MATCH(F125,Inputs!$D$86:$D$253,0)),\"TRUE 4\",\nIF(INDEX(Inputs!$G$86:$G$253,MATCH(F125,Inputs!$D$86:$D$253,0)),\"TRUE 3\",\nIF(INDEX(Inputs!$F$86:$F$253,MATCH(F125,Inputs!$D$86:$D$253,0)),\"TRUE 2\",\nIF(INDEX(Inputs!$E$86:$E$253,MATCH(F125,Inputs!$D$86:$D$253,0)),\"TRUE 1\",\nFALSE))))","v":false},null,{"$f":"'Volume Import'!C116*'Volume Import'!$H$14*(1+'Volume Import'!$H$15)*(1-'Volume Import'!$H$16)","v":3830},{"$f":"IF(AND('Volume Import'!D116=0,'Volume Import'!C116=0),0,\nIF('Volume Import'!D116=0,INDEX('Volume Import'!$K$2:$Q$5,MATCH(E125,'Volume Import'!$R$2:$R$5,0),MATCH(C125,'Volume Import'!$K$1:$Q$1,0)),\n'Volume Import'!D116/'Volume Import'!C116))","v":0.1},null,{"$f":"'Volume Import'!E116*'Volume Import'!$I$14*(1+'Volume Import'!$I$15)*(1-'Volume Import'!$I$16)","v":4580},{"$f":"IF('Volume Import'!F116=0,J125,'Volume Import'!F116/'Volume Import'!E116)","v":0.1},null,{"$f":"IF(G125=\"TRUE 1\",IF(E125=\"NT\",Inputs!$C$35,Inputs!$C$34),\nIF(G125=\"TRUE 2\",IF(E125=\"NT\",Inputs!$D$35,Inputs!$D$34),\nIF(G125=\"TRUE 3\",IF(E125=\"NT\",Inputs!$E$35,Inputs!$E$34),\nIF(G125=\"TRUE 4\",IF(E125=\"NT\",Inputs!$F$35,Inputs!$F$34),\nO124))))","v":65.476687896673383},{"$f":"IF(G125=\"TRUE 1\",IF(E125=\"NT\",MROUND(Inputs!$C$32*$P$3*(1/(1+J125*(2-1))),1),MROUND(Inputs!$C$30*$P$3*(1/(1+J125*(2-1))),1)),\nIF(G125=\"TRUE 2\",IF(E125=\"NT\",MROUND(Inputs!$D$32*$Q$3*(1/(1+J125*(2-1))),1),MROUND(Inputs!$D$30*$Q$3*(1/(1+J125*(2-1))),1)),\nIF(G125=\"TRUE 3\",IF(E125=\"NT\",MROUND(Inputs!$E$32*$R$3*(1/(1+J125*(2-1))),1),MROUND(Inputs!$E$30*$R$3*(1/(1+J125*(2-1))),1)),\nIF(G125=\"TRUE 4\",IF(E125=\"NT\",MROUND(Inputs!$F$32*$S$3*(1/(1+J125*(2-1))),1),MROUND(Inputs!$F$30*$S$3*(1/(1+J125*(2-1))),1)),\nMROUND(Inputs!$C$15*(1/(1+J125*(2-1)))*($P$3+$P$4),1)))))","v":8727},-4897,0,{"$f":"(R125/(1/(1+J125*(2-1))))*O125/LEFT(Inputs!$C$18,1)/5280","v":0},0,{"$f":"(T125/60)*((Inputs!$C$13*Calculations!R125*(1-Calculations!J125))+(Inputs!$C$14*Calculations!R125*Calculations!J125))","v":0},{"$f":"IF(R125>0,($J$5/60)*(((I125*$J$3/(1-$J$3))*(1-J125)*Inputs!$C$13)+((I125*$J$3/(1-$J$3))*J125*Inputs!$C$14)),0)","v":0},0,null,"2019-08-05T18:00:00","","",{"$f":"IF(AND(Z125<>\"\",AA125<>\"\"),MAX(INDIRECT(Z125):INDIRECT(AA125)),\"\")","v":""},"","",null,{"$f":"IF(G125=\"TRUE 1\",IF(E125=\"NT\",MROUND(Inputs!$C$32*$AF$3*(1/(1+M125*(2-1))),1),MROUND(Inputs!$C$30*$AF$3*(1/(1+M125*(2-1))),1)),\nIF(G125=\"TRUE 2\",IF(E125=\"NT\",MROUND(Inputs!$D$32*$AG$3*(1/(1+M125*(2-1))),1),MROUND(Inputs!$D$30*$AG$3*(1/(1+M125*(2-1))),1)),\nIF(G125=\"TRUE 3\",IF(E125=\"NT\",MROUND(Inputs!$E$32*$AH$3*(1/(1+M125*(2-1))),1),MROUND(Inputs!$E$30*$AH$3*(1/(1+M125*(2-1))),1)),\nIF(G125=\"TRUE 4\",IF(E125=\"NT\",MROUND(Inputs!$F$32*$AI$3*(1/(1+M125*(2-1))),1),MROUND(Inputs!$F$30*$AI$3*(1/(1+M125*(2-1))),1)),\nMROUND(Inputs!$C$15*(1/(1+M125*(2-1)))*($AF$3+$AF$4),1)))))","v":8727},-4147,0,{"$f":"(AH125/(1/(1+M125*(2-1))))*O125/LEFT(Inputs!$C$18,1)/5280","v":0},0,{"$f":"(AJ125/60)*((Inputs!$C$13*Calculations!AH125*(1-Calculations!M125))+(Inputs!$C$14*Calculations!AH125*Calculations!M125))","v":0},{"$f":"IF(AH125>0,($M$5/60)*(((L125*$M$3/(1-$M$3))*(1-M125)*Inputs!$C$13)+((L125*$M$3/(1-$M$3))*M125*Inputs!$C$14)),0)","v":0},0,null,"2019-08-05T18:00:00","","",{"$f":"IF(AND(AP125<>\"\",AQ125<>\"\"),MAX(INDIRECT(AP125):INDIRECT(AQ125)),\"\")","v":""},"",""]
["2019-08-05",2,"Monday","19:00:00",{"$f":"INDEX(Lists!$M$3:$M$26,MATCH(Calculations!D126,Lists!$L$3:$L$26,0))","v":"NT"},43,{"$f":"IF(INDEX(Inputs!$H$86:$H$253,MATCH(F126,Inputs!$D$86:$D$253,0)),\"TRUE 4\",\nIF(INDEX(Inputs!$G$86:$G$253,MATCH(F126,Inputs!$D$86:$D$253,0)),\"TRUE 3\",\nIF(INDEX(Inputs!$F$86:$F$253,MATCH(F126,Inputs!$D$86:$D$253,0)),\"TRUE 2\",\nIF(INDEX(Inputs!$E$86:$E$253,MATCH(F126,Inputs!$D$86:$D$253,0)),\"TRUE 1\",\nFALSE))))","v":false},null,{"$f":"'Volume Import'!C117*'Volume Import'!$H$14*(1+'Volume Import'!$H$15)*(1-'Volume Import'!$H$16)","v":2702},{"$f":"IF(AND('Volume Import'!D117=0,'Volume Import'!C117=0),0,\nIF('Volume Import'!D117=0,INDEX('Volume Import'!$K$2:$Q$5,MATCH(E126,'Volume Import'!$R$2:$R$5,0),MATCH(C126,'Volume Import'!$K$1:$Q$1,0)),\n'Volume Import'!D117/'Volume Import'!C117))","v":0.1},null,{"$f":"'Volume Import'!E117*'Volume Import'!$I$14*(1+'Volume Import'!$I$15)*(1-'Volume Import'!$I$16)","v":3338},{"$f":"IF('Volume Import'!F117=0,J126,'Volume Import'!F117/'Volume Import'!E117)","v":0.1},null,{"$f":"IF(G126=\"TRUE 1\",IF(E126=\"NT\",Inputs!$C$35,Inputs!$C$34),\nIF(G126=\"TRUE 2\",IF(E126=\"NT\",Inputs!$D$35,Inputs!$D$34),\nIF(G126=\"TRUE 3\",IF(E126=\"NT\",Inputs!$E$35,Inputs!$E$34),\nIF(G126=\"TRUE 4\",IF(E126=\"NT\",Inputs!$F$35,Inputs!$F$34),\nO125))))","v":65.476687896673383},{"$f":"IF(G126=\"TRUE 1\",IF(E126=\"NT\",MROUND(Inputs!$C$32*$P$3*(1/(1+J126*(2-1))),1),MROUND(Inputs!$C$30*$P$3*(1/(1+J126*(2-1))),1)),\nIF(G126=\"TRUE 2\",IF(E126=\"NT\",MROUND(Inputs!$D$32*$Q$3*(1/(1+J126*(2-1))),1),MROUND(Inputs!$D$30*$Q$3*(1/(1+J126*(2-1))),1)),\nIF(G126=\"TRUE 3\",IF(E126=\"NT\",MROUND(Inputs!$E$32*$R$3*(1/(1+J126*(2-1))),1),MROUND(Inputs!$E$30*$R$3*(1/(1+J126*(2-1))),1)),\nIF(G126=\"TRUE 4\",IF(E126=\"NT\",MROUND(Inputs!$F$32*$S$3*(1/(1+J126*(2-1))),1),MROUND(Inputs!$F$30*$S$3*(1/(1+J126*(2-1))),1)),\nMROUND(Inputs!$C$15*(1/(1+J126*(2-1)))*($P$3+$P$4),1)))))","v":8727},-6025,0,{"$f":"(R126/(1/(1+J126*(2-1))))*O126/LEFT(Inputs!$C$18,1)/5280","v":0},0,{"$f":"(T126/60)*((Inputs!$C$13*Calculations!R126*(1-Calculations!J126))+(Inputs!$C$14*Calculations!R126*Calculations!J126))","v":0},{"$f":"IF(R126>0,($J$5/60)*(((I126*$J$3/(1-$J$3))*(1-J126)*Inputs!$C$13)+((I126*$J$3/(1-$J$3))*J126*Inputs!$C$14)),0)","v":0},0,null,"2019-08-05T19:00:00","","",{"$f":"IF(AND(Z126<>\"\",AA126<>\"\"),MAX(INDIRECT(Z126):INDIRECT(AA126)),\"\")","v":""},"","",null,{"$f":"IF(G126=\"TRUE 1\",IF(E126=\"NT\",MROUND(Inputs!$C$32*$AF$3*(1/(1+M126*(2-1))),1),MROUND(Inputs!$C$30*$AF$3*(1/(1+M126*(2-1))),1)),\nIF(G126=\"TRUE 2\",IF(E126=\"NT\",MROUND(Inputs!$D$32*$AG$3*(1/(1+M126*(2-1))),1),MROUND(Inputs!$D$30*$AG$3*(1/(1+M126*(2-1))),1)),\nIF(G126=\"TRUE 3\",IF(E126=\"NT\",MROUND(Inputs!$E$32*$AH$3*(1/(1+M126*(2-1))),1),MROUND(Inputs!$E$30*$AH$3*(1/(1+M126*(2-1))),1)),\nIF(G126=\"TRUE 4\",IF(E126=\"NT\",MROUND(Inputs!$F$32*$AI$3*(1/(1+M126*(2-1))),1),MROUND(Inputs!$F$30*$AI$3*(1/(1+M126*(2-1))),1)),\nMROUND(Inputs!$C$15*(1/(1+M126*(2-1)))*($AF$3+$AF$4),1)))))","v":8727},-5389,0,{"$f":"(AH126/(1/(1+M126*(2-1))))*O126/LEFT(Inputs!$C$18,1)/5280","v":0},0,{"$f":"(AJ126/60)*((Inputs!$C$13*Calculations!AH126*(1-Calculations!M126))+(Inputs!$C$14*Calculations!AH126*Calculations!M126))","v":0},{"$f":"IF(AH126>0,($M$5/60)*(((L126*$M$3/(1-$M$3))*(1-M126)*Inputs!$C$13)+((L126*$M$3/(1-$M$3))*M126*Inputs!$C$14)),0)","v":0},0,null,"2019-08-05T19:00:00","","",{"$f":"IF(AND(AP126<>\"\",AQ126<>\"\"),MAX(INDIRECT(AP126):INDIRECT(AQ126)),\"\")","v":""},"",""]
["2019-08-05",2,"Monday","20:00:00",{"$f":"INDEX(Lists!$M$3:$M$26,MATCH(Calculations!D127,Lists!$L$3:$L$26,0))","v":"NT"},44,{"$f":"IF(INDEX(Inputs!$H$86:$H$253,MATCH(F127,Inputs!$D$86:$D$253,0)),\"TRUE 4\",\nIF(INDEX(Inputs!$G$86:$G$253,MATCH(F127,Inputs!$D$86:$D$253,0)),\"TRUE 3\",\nIF(INDEX(Inputs!$F$86:$F$253,MATCH(F127,Inputs!$D$86:$D$253,0)),\"TRUE 2\",\nIF(INDEX(Inputs!$E$86:$E$253,MATCH(F127,Inputs!$D$86:$D$253,0)),\"TRUE 1\",\nFALSE))))","v":false},null,{"$f":"'Volume Import'!C118*'Volume Import'!$H$14*(1+'Volume Import'!$H$15)*(1-'Volume Import'!$H$16)","v":2252},{"$f":"IF(AND('Volume Import'!D118=0,'Volume Import'!C118=0),0,\nIF('Volume Import'!D118=0,INDEX('Volume Import'!$K$2:$Q$5,MATCH(E127,'Volume Import'!$R$2:$R$5,0),MATCH(C127,'Volume Import'!$K$1:$Q$1,0)),\n'Volume Import'!D118/'Volume Import'!C118))","v":0.1},null,{"$f":"'Volume Import'!E118*'Volume Import'!$I$14*(1+'Volume Import'!$I$15)*(1-'Volume Import'!$I$16)","v":2707},{"$f":"IF('Volume Import'!F118=0,J127,'Volume Import'!F118/'Volume Import'!E118)","v":0.1},null,{"$f":"IF(G127=\"TRUE 1\",IF(E127=\"NT\",Inputs!$C$35,Inputs!$C$34),\nIF(G127=\"TRUE 2\",IF(E127=\"NT\",Inputs!$D$35,Inputs!$D$34),\nIF(G127=\"TRUE 3\",IF(E127=\"NT\",Inputs!$E$35,Inputs!$E$34),\nIF(G127=\"TRUE 4\",IF(E127=\"NT\",Inputs!$F$35,Inputs!$F$34),\nO126))))","v":65.476687896673383},{"$f":"IF(G127=\"TRUE 1\",IF(E127=\"NT\",MROUND(Inputs!$C$32*$P$3*(1/(1+J127*(2-1))),1),MROUND(Inputs!$C$30*$P$3*(1/(1+J127*(2-1))),1)),\nIF(G127=\"TRUE 2\",IF(E127=\"NT\",MROUND(Inputs!$D$32*$Q$3*(1/(1+J127*(2-1))),1),MROUND(Inputs!$D$30*$Q$3*(1/(1+J127*(2-1))),1)),\nIF(G127=\"TRUE 3\",IF(E127=\"NT\",MROUND(Inputs!$E$32*$R$3*(1/(1+J127*(2-1))),1),MROUND(Inputs!$E$30*$R$3*(1/(1+J127*(2-1))),1)),\nIF(G127=\"TRUE 4\",IF(E127=\"NT\",MROUND(Inputs!$F$32*$S$3*(1/(1+J127*(2-1))),1),MROUND(Inputs!$F$30*$S$3*(1/(1+J127*(2-1))),1)),\nMROUND(Inputs!$C$15*(1/(1+J127*(2-1)))*($P$3+$P$4),1)))))","v":8727},-6475,0,{"$f":"(R127/(1/(1+J127*(2-1))))*O127/LEFT(Inputs!$C$18,1)/5280","v":0},{"$f":"R127/P127*60","v":0},{"$f":"(T127/60)*((Inputs!$C$13*Calculations!R127*(1-Calculations!J127))+(Inputs!$C$14*Calculations!R127*Calculations!J127))","v":0},{"$f":"IF(R127>0,($J$5/60)*(((I127*$J$3/(1-$J$3))*(1-J127)*Inputs!$C$13)+((I127*$J$3/(1-$J$3))*J127*Inputs!$C$14)),0)","v":0},0,null,"2019-08-05T20:00:00","","",{"$f":"IF(AND(Z127<>\"\",AA127<>\"\"),MAX(INDIRECT(Z127):INDIRECT(AA127)),\"\")","v":""},"","",null,{"$f":"IF(G127=\"TRUE 1\",IF(E127=\"NT\",MROUND(Inputs!$C$32*$AF$3*(1/(1+M127*(2-1))),1),MROUND(Inputs!$C$30*$AF$3*(1/(1+M127*(2-1))),1)),\nIF(G127=\"TRUE 2\",IF(E127=\"NT\",MROUND(Inputs!$D$32*$AG$3*(1/(1+M127*(2-1))),1),MROUND(Inputs!$D$30*$AG$3*(1/(1+M127*(2-1))),1)),\nIF(G127=\"TRUE 3\",IF(E127=\"NT\",MROUND(Inputs!$E$32*$AH$3*(1/(1+M127*(2-1))),1),MROUND(Inputs!$E$30*$AH$3*(1/(1+M127*(2-1))),1)),\nIF(G127=\"TRUE 4\",IF(E127=\"NT\",MROUND(Inputs!$F$32*$AI$3*(1/(1+M127*(2-1))),1),MROUND(Inputs!$F$30*$AI$3*(1/(1+M127*(2-1))),1)),\nMROUND(Inputs!$C$15*(1/(1+M127*(2-1)))*($AF$3+$AF$4),1)))))","v":8727},-6020,0,{"$f":"(AH127/(1/(1+M127*(2-1))))*O127/LEFT(Inputs!$C$18,1)/5280","v":0},{"$f":"AH127/AF127*60","v":0},{"$f":"(AJ127/60)*((Inputs!$C$13*Calculations!AH127*(1-Calculations!M127))+(Inputs!$C$14*Calculations!AH127*Calculations!M127))","v":0},{"$f":"IF(AH127>0,($M$5/60)*(((L127*$M$3/(1-$M$3))*(1-M127)*Inputs!$C$13)+((L127*$M$3/(1-$M$3))*M127*Inputs!$C$14)),0)","v":0},0,null,"2019-08-05T20:00:00","","",{"$f":"IF(AND(AP127<>\"\",AQ127<>\"\"),MAX(INDIRECT(AP127):INDIRECT(AQ127)),\"\")","v":""},"",""]
["2019-08-05",2,"Monday","21:00:00",{"$f":"INDEX(Lists!$M$3:$M$26,MATCH(Calculations!D128,Lists!$L$3:$L$26,0))","v":"NT"},45,{"$f":"IF(INDEX(Inputs!$H$86:$H$253,MATCH(F128,Inputs!$D$86:$D$253,0)),\"TRUE 4\",\nIF(INDEX(Inputs!$G$86:$G$253,MATCH(F128,Inputs!$D$86:$D$253,0)),\"TRUE 3\",\nIF(INDEX(Inputs!$F$86:$F$253,MATCH(F128,Inputs!$D$86:$D$253,0)),\"TRUE 2\",\nIF(INDEX(Inputs!$E$86:$E$253,MATCH(F128,Inputs!$D$86:$D$253,0)),\"TRUE 1\",\nFALSE))))","v":false},null,{"$f":"'Volume Import'!C119*'Volume Import'!$H$14*(1+'Volume Import'!$H$15)*(1-'Volume Import'!$H$16)","v":1883},{"$f":"IF(AND('Volume Import'!D119=0,'Volume Import'!C119=0),0,\nIF('Volume Import'!D119=0,INDEX('Volume Import'!$K$2:$Q$5,MATCH(E128,'Volume Import'!$R$2:$R$5,0),MATCH(C128,'Volume Import'!$K$1:$Q$1,0)),\n'Volume Import'!D119/'Volume Import'!C119))","v":0.1},null,{"$f":"'Volume Import'!E119*'Volume Import'!$I$14*(1+'Volume Import'!$I$15)*(1-'Volume Import'!$I$16)","v":2108},{"$f":"IF('Volume Import'!F119=0,J128,'Volume Import'!F119/'Volume Import'!E119)","v":0.1},null,{"$f":"IF(G128=\"TRUE 1\",IF(E128=\"NT\",Inputs!$C$35,Inputs!$C$34),\nIF(G128=\"TRUE 2\",IF(E128=\"NT\",Inputs!$D$35,Inputs!$D$34),\nIF(G128=\"TRUE 3\",IF(E128=\"NT\",Inputs!$E$35,Inputs!$E$34),\nIF(G128=\"TRUE 4\",IF(E128=\"NT\",Inputs!$F$35,Inputs!$F$34),\nO127))))","v":65.476687896673383},{"$f":"IF(G128=\"TRUE 1\",IF(E128=\"NT\",MROUND(Inputs!$C$32*$P$3*(1/(1+J128*(2-1))),1),MROUND(Inputs!$C$30*$P$3*(1/(1+J128*(2-1))),1)),\nIF(G128=\"TRUE 2\",IF(E128=\"NT\",MROUND(Inputs!$D$32*$Q$3*(1/(1+J128*(2-1))),1),MROUND(Inputs!$D$30*$Q$3*(1/(1+J128*(2-1))),1)),\nIF(G128=\"TRUE 3\",IF(E128=\"NT\",MROUND(Inputs!$E$32*$R$3*(1/(1+J128*(2-1))),1),MROUND(Inputs!$E$30*$R$3*(1/(1+J128*(2-1))),1)),\nIF(G128=\"TRUE 4\",IF(E128=\"NT\",MROUND(Inputs!$F$32*$S$3*(1/(1+J128*(2-1))),1),MROUND(Inputs!$F$30*$S$3*(1/(1+J128*(2-1))),1)),\nMROUND(Inputs!$C$15*(1/(1+J128*(2-1)))*($P$3+$P$4),1)))))","v":8727},-6844,0,{"$f":"(R128/(1/(1+J128*(2-1))))*O128/LEFT(Inputs!$C$18,1)/5280","v":0},0,{"$f":"(T128/60)*((Inputs!$C$13*Calculations!R128*(1-Calculations!J128))+(Inputs!$C$14*Calculations!R128*Calculations!J128))","v":0},{"$f":"IF(R128>0,($J$5/60)*(((I128*$J$3/(1-$J$3))*(1-J128)*Inputs!$C$13)+((I128*$J$3/(1-$J$3))*J128*Inputs!$C$14)),0)","v":0},0,null,"2019-08-05T21:00:00","","",{"$f":"IF(AND(Z128<>\"\",AA128<>\"\"),MAX(INDIRECT(Z128):INDIRECT(AA128)),\"\")","v":""},"","",null,{"$f":"IF(G128=\"TRUE 1\",IF(E128=\"NT\",MROUND(Inputs!$C$32*$AF$3*(1/(1+M128*(2-1))),1),MROUND(Inputs!$C$30*$AF$3*(1/(1+M128*(2-1))),1)),\nIF(G128=\"TRUE 2\",IF(E128=\"NT\",MROUND(Inputs!$D$32*$AG$3*(1/(1+M128*(2-1))),1),MROUND(Inputs!$D$30*$AG$3*(1/(1+M128*(2-1))),1)),\nIF(G128=\"TRUE 3\",IF(E128=\"NT\",MROUND(Inputs!$E$32*$AH$3*(1/(1+M128*(2-1))),1),MROUND(Inputs!$E$30*$AH$3*(1/(1+M128*(2-1))),1)),\nIF(G128=\"TRUE 4\",IF(E128=\"NT\",MROUND(Inputs!$F$32*$AI$3*(1/(1+M128*(2-1))),1),MROUND(Inputs!$F$30*$AI$3*(1/(1+M128*(2-1))),1)),\nMROUND(Inputs!$C$15*(1/(1+M128*(2-1)))*($AF$3+$AF$4),1)))))","v":8727},-6619,0,{"$f":"(AH128/(1/(1+M128*(2-1))))*O128/LEFT(Inputs!$C$18,1)/5280","v":0},{"$f":"AH128/AF128*60","v":0},{"$f":"(AJ128/60)*((Inputs!$C$13*Calculations!AH128*(1-Calculations!M128))+(Inputs!$C$14*Calculations!AH128*Calculations!M128))","v":0},{"$f":"IF(AH128>0,($M$5/60)*(((L128*$M$3/(1-$M$3))*(1-M128)*Inputs!$C$13)+((L128*$M$3/(1-$M$3))*M128*Inputs!$C$14)),0)","v":0},0,null,"2019-08-05T21:00:00","","",{"$f":"IF(AND(AP128<>\"\",AQ128<>\"\"),MAX(INDIRECT(AP128):INDIRECT(AQ128)),\"\")","v":""},"",""]
["2019-08-05",2,"Monday","22:00:00",{"$f":"INDEX(Lists!$M$3:$M$26,MATCH(Calculations!D129,Lists!$L$3:$L$26,0))","v":"NT"},46,{"$f":"IF(INDEX(Inputs!$H$86:$H$253,MATCH(F129,Inputs!$D$86:$D$253,0)),\"TRUE 4\",\nIF(INDEX(Inputs!$G$86:$G$253,MATCH(F129,Inputs!$D$86:$D$253,0)),\"TRUE 3\",\nIF(INDEX(Inputs!$F$86:$F$253,MATCH(F129,Inputs!$D$86:$D$253,0)),\"TRUE 2\",\nIF(INDEX(Inputs!$E$86:$E$253,MATCH(F129,Inputs!$D$86:$D$253,0)),\"TRUE 1\",\nFALSE))))","v":false},null,{"$f":"'Volume Import'!C120*'Volume Import'!$H$14*(1+'Volume Import'!$H$15)*(1-'Volume Import'!$H$16)","v":1243},{"$f":"IF(AND('Volume Import'!D120=0,'Volume Import'!C120=0),0,\nIF('Volume Import'!D120=0,INDEX('Volume Import'!$K$2:$Q$5,MATCH(E129,'Volume Import'!$R$2:$R$5,0),MATCH(C129,'Volume Import'!$K$1:$Q$1,0)),\n'Volume Import'!D120/'Volume Import'!C120))","v":0.1},null,{"$f":"'Volume Import'!E120*'Volume Import'!$I$14*(1+'Volume Import'!$I$15)*(1-'Volume Import'!$I$16)","v":1468},{"$f":"IF('Volume Import'!F120=0,J129,'Volume Import'!F120/'Volume Import'!E120)","v":0.1},null,{"$f":"IF(G129=\"TRUE 1\",IF(E129=\"NT\",Inputs!$C$35,Inputs!$C$34),\nIF(G129=\"TRUE 2\",IF(E129=\"NT\",Inputs!$D$35,Inputs!$D$34),\nIF(G129=\"TRUE 3\",IF(E129=\"NT\",Inputs!$E$35,Inputs!$E$34),\nIF(G129=\"TRUE 4\",IF(E129=\"NT\",Inputs!$F$35,Inputs!$F$34),\nO128))))","v":65.476687896673383},{"$f":"IF(G129=\"TRUE 1\",IF(E129=\"NT\",MROUND(Inputs!$C$32*$P$3*(1/(1+J129*(2-1))),1),MROUND(Inputs!$C$30*$P$3*(1/(1+J129*(2-1))),1)),\nIF(G129=\"TRUE 2\",IF(E129=\"NT\",MROUND(Inputs!$D$32*$Q$3*(1/(1+J129*(2-1))),1),MROUND(Inputs!$D$30*$Q$3*(1/(1+J129*(2-1))),1)),\nIF(G129=\"TRUE 3\",IF(E129=\"NT\",MROUND(Inputs!$E$32*$R$3*(1/(1+J129*(2-1))),1),MROUND(Inputs!$E$30*$R$3*(1/(1+J129*(2-1))),1)),\nIF(G129=\"TRUE 4\",IF(E129=\"NT\",MROUND(Inputs!$F$32*$S$3*(1/(1+J129*(2-1))),1),MROUND(Inputs!$F$30*$S$3*(1/(1+J129*(2-1))),1)),\nMROUND(Inputs!$C$15*(1/(1+J129*(2-1)))*($P$3+$P$4),1)))))","v":8727},-7484,0,{"$f":"(R129/(1/(1+J129*(2-1))))*O129/LEFT(Inputs!$C$18,1)/5280","v":0},0,{"$f":"(T129/60)*((Inputs!$C$13*Calculations!R129*(1-Calculations!J129))+(Inputs!$C$14*Calculations!R129*Calculations!J129))","v":0},{"$f":"IF(R129>0,($J$5/60)*(((I129*$J$3/(1-$J$3))*(1-J129)*Inputs!$C$13)+((I129*$J$3/(1-$J$3))*J129*Inputs!$C$14)),0)","v":0},0,null,"2019-08-05T22:00:00","","",{"$f":"IF(AND(Z129<>\"\",AA129<>\"\"),MAX(INDIRECT(Z129):INDIRECT(AA129)),\"\")","v":""},"","",null,{"$f":"IF(G129=\"TRUE 1\",IF(E129=\"NT\",MROUND(Inputs!$C$32*$AF$3*(1/(1+M129*(2-1))),1),MROUND(Inputs!$C$30*$AF$3*(1/(1+M129*(2-1))),1)),\nIF(G129=\"TRUE 2\",IF(E129=\"NT\",MROUND(Inputs!$D$32*$AG$3*(1/(1+M129*(2-1))),1),MROUND(Inputs!$D$30*$AG$3*(1/(1+M129*(2-1))),1)),\nIF(G129=\"TRUE 3\",IF(E129=\"NT\",MROUND(Inputs!$E$32*$AH$3*(1/(1+M129*(2-1))),1),MROUND(Inputs!$E$30*$AH$3*(1/(1+M129*(2-1))),1)),\nIF(G129=\"TRUE 4\",IF(E129=\"NT\",MROUND(Inputs!$F$32*$AI$3*(1/(1+M129*(2-1))),1),MROUND(Inputs!$F$30*$AI$3*(1/(1+M129*(2-1))),1)),\nMROUND(Inputs!$C$15*(1/(1+M129*(2-1)))*($AF$3+$AF$4),1)))))","v":8727},-7259,0,{"$f":"(AH129/(1/(1+M129*(2-1))))*O129/LEFT(Inputs!$C$18,1)/5280","v":0},0,{"$f":"(AJ129/60)*((Inputs!$C$13*Calculations!AH129*(1-Calculations!M129))+(Inputs!$C$14*Calculations!AH129*Calculations!M129))","v":0},{"$f":"IF(AH129>0,($M$5/60)*(((L129*$M$3/(1-$M$3))*(1-M129)*Inputs!$C$13)+((L129*$M$3/(1-$M$3))*M129*Inputs!$C$14)),0)","v":0},0,null,"2019-08-05T22:00:00","","",{"$f":"IF(AND(AP129<>\"\",AQ129<>\"\"),MAX(INDIRECT(AP129):INDIRECT(AQ129)),\"\")","v":""},"",""]
["2019-08-05",2,"Monday","23:00:00",{"$f":"INDEX(Lists!$M$3:$M$26,MATCH(Calculations!D130,Lists!$L$3:$L$26,0))","v":"NT"},47,{"$f":"IF(INDEX(Inputs!$H$86:$H$253,MATCH(F130,Inputs!$D$86:$D$253,0)),\"TRUE 4\",\nIF(INDEX(Inputs!$G$86:$G$253,MATCH(F130,Inputs!$D$86:$D$253,0)),\"TRUE 3\",\nIF(INDEX(Inputs!$F$86:$F$253,MATCH(F130,Inputs!$D$86:$D$253,0)),\"TRUE 2\",\nIF(INDEX(Inputs!$E$86:$E$253,MATCH(F130,Inputs!$D$86:$D$253,0)),\"TRUE 1\",\nFALSE))))","v":false},null,{"$f":"'Volume Import'!C121*'Volume Import'!$H$14*(1+'Volume Import'!$H$15)*(1-'Volume Import'!$H$16)","v":839},{"$f":"IF(AND('Volume Import'!D121=0,'Volume Import'!C121=0),0,\nIF('Volume Import'!D121=0,INDEX('Volume Import'!$K$2:$Q$5,MATCH(E130,'Volume Import'!$R$2:$R$5,0),MATCH(C130,'Volume Import'!$K$1:$Q$1,0)),\n'Volume Import'!D121/'Volume Import'!C121))","v":0.1},null,{"$f":"'Volume Import'!E121*'Volume Import'!$I$14*(1+'Volume Import'!$I$15)*(1-'Volume Import'!$I$16)","v":1007},{"$f":"IF('Volume Import'!F121=0,J130,'Volume Import'!F121/'Volume Import'!E121)","v":0.1},null,{"$f":"IF(G130=\"TRUE 1\",IF(E130=\"NT\",Inputs!$C$35,Inputs!$C$34),\nIF(G130=\"TRUE 2\",IF(E130=\"NT\",Inputs!$D$35,Inputs!$D$34),\nIF(G130=\"TRUE 3\",IF(E130=\"NT\",Inputs!$E$35,Inputs!$E$34),\nIF(G130=\"TRUE 4\",IF(E130=\"NT\",Inputs!$F$35,Inputs!$F$34),\nO129))))","v":65.476687896673383},{"$f":"IF(G130=\"TRUE 1\",IF(E130=\"NT\",MROUND(Inputs!$C$32*$P$3*(1/(1+J130*(2-1))),1),MROUND(Inputs!$C$30*$P$3*(1/(1+J130*(2-1))),1)),\nIF(G130=\"TRUE 2\",IF(E130=\"NT\",MROUND(Inputs!$D$32*$Q$3*(1/(1+J130*(2-1))),1),MROUND(Inputs!$D$30*$Q$3*(1/(1+J130*(2-1))),1)),\nIF(G130=\"TRUE 3\",IF(E130=\"NT\",MROUND(Inputs!$E$32*$R$3*(1/(1+J130*(2-1))),1),MROUND(Inputs!$E$30*$R$3*(1/(1+J130*(2-1))),1)),\nIF(G130=\"TRUE 4\",IF(E130=\"NT\",MROUND(Inputs!$F$32*$S$3*(1/(1+J130*(2-1))),1),MROUND(Inputs!$F$30*$S$3*(1/(1+J130*(2-1))),1)),\nMROUND(Inputs!$C$15*(1/(1+J130*(2-1)))*($P$3+$P$4),1)))))","v":8727},-7888,0,{"$f":"(R130/(1/(1+J130*(2-1))))*O130/LEFT(Inputs!$C$18,1)/5280","v":0},0,{"$f":"(T130/60)*((Inputs!$C$13*Calculations!R130*(1-Calculations!J130))+(Inputs!$C$14*Calculations!R130*Calculations!J130))","v":0},{"$f":"IF(R130>0,($J$5/60)*(((I130*$J$3/(1-$J$3))*(1-J130)*Inputs!$C$13)+((I130*$J$3/(1-$J$3))*J130*Inputs!$C$14)),0)","v":0},0,null,"2019-08-05T23:00:00","","",{"$f":"IF(AND(Z130<>\"\",AA130<>\"\"),MAX(INDIRECT(Z130):INDIRECT(AA130)),\"\")","v":""},"","",null,{"$f":"IF(G130=\"TRUE 1\",IF(E130=\"NT\",MROUND(Inputs!$C$32*$AF$3*(1/(1+M130*(2-1))),1),MROUND(Inputs!$C$30*$AF$3*(1/(1+M130*(2-1))),1)),\nIF(G130=\"TRUE 2\",IF(E130=\"NT\",MROUND(Inputs!$D$32*$AG$3*(1/(1+M130*(2-1))),1),MROUND(Inputs!$D$30*$AG$3*(1/(1+M130*(2-1))),1)),\nIF(G130=\"TRUE 3\",IF(E130=\"NT\",MROUND(Inputs!$E$32*$AH$3*(1/(1+M130*(2-1))),1),MROUND(Inputs!$E$30*$AH$3*(1/(1+M130*(2-1))),1)),\nIF(G130=\"TRUE 4\",IF(E130=\"NT\",MROUND(Inputs!$F$32*$AI$3*(1/(1+M130*(2-1))),1),MROUND(Inputs!$F$30*$AI$3*(1/(1+M130*(2-1))),1)),\nMROUND(Inputs!$C$15*(1/(1+M130*(2-1)))*($AF$3+$AF$4),1)))))","v":8727},-7720,0,{"$f":"(AH130/(1/(1+M130*(2-1))))*O130/LEFT(Inputs!$C$18,1)/5280","v":0},0,{"$f":"(AJ130/60)*((Inputs!$C$13*Calculations!AH130*(1-Calculations!M130))+(Inputs!$C$14*Calculations!AH130*Calculations!M130))","v":0},{"$f":"IF(AH130>0,($M$5/60)*(((L130*$M$3/(1-$M$3))*(1-M130)*Inputs!$C$13)+((L130*$M$3/(1-$M$3))*M130*Inputs!$C$14)),0)","v":0},0,null,"2019-08-05T23:00:00","","",{"$f":"IF(AND(AP130<>\"\",AQ130<>\"\"),MAX(INDIRECT(AP130):INDIRECT(AQ130)),\"\")","v":""},"",""]
["2019-08-06",3,"Tuesday","00:00:00",{"$f":"INDEX(Lists!$M$3:$M$26,MATCH(Calculations!D131,Lists!$L$3:$L$26,0))","v":"NT"},48,{"$f":"IF(INDEX(Inputs!$H$86:$H$253,MATCH(F131,Inputs!$D$86:$D$253,0)),\"TRUE 4\",\nIF(INDEX(Inputs!$G$86:$G$253,MATCH(F131,Inputs!$D$86:$D$253,0)),\"TRUE 3\",\nIF(INDEX(Inputs!$F$86:$F$253,MATCH(F131,Inputs!$D$86:$D$253,0)),\"TRUE 2\",\nIF(INDEX(Inputs!$E$86:$E$253,MATCH(F131,Inputs!$D$86:$D$253,0)),\"TRUE 1\",\nFALSE))))","v":false},null,{"$f":"'Volume Import'!C122*'Volume Import'!$H$14*(1+'Volume Import'!$H$15)*(1-'Volume Import'!$H$16)","v":565},{"$f":"IF(AND('Volume Import'!D122=0,'Volume Import'!C122=0),0,\nIF('Volume Import'!D122=0,INDEX('Volume Import'!$K$2:$Q$5,MATCH(E131,'Volume Import'!$R$2:$R$5,0),MATCH(C131,'Volume Import'!$K$1:$Q$1,0)),\n'Volume Import'!D122/'Volume Import'!C122))","v":0.1},null,{"$f":"'Volume Import'!E122*'Volume Import'!$I$14*(1+'Volume Import'!$I$15)*(1-'Volume Import'!$I$16)","v":590},{"$f":"IF('Volume Import'!F122=0,J131,'Volume Import'!F122/'Volume Import'!E122)","v":0.1},null,{"$f":"IF(G131=\"TRUE 1\",IF(E131=\"NT\",Inputs!$C$35,Inputs!$C$34),\nIF(G131=\"TRUE 2\",IF(E131=\"NT\",Inputs!$D$35,Inputs!$D$34),\nIF(G131=\"TRUE 3\",IF(E131=\"NT\",Inputs!$E$35,Inputs!$E$34),\nIF(G131=\"TRUE 4\",IF(E131=\"NT\",Inputs!$F$35,Inputs!$F$34),\nO130))))","v":65.476687896673383},{"$f":"IF(G131=\"TRUE 1\",IF(E131=\"NT\",MROUND(Inputs!$C$32*$P$3*(1/(1+J131*(2-1))),1),MROUND(Inputs!$C$30*$P$3*(1/(1+J131*(2-1))),1)),\nIF(G131=\"TRUE 2\",IF(E131=\"NT\",MROUND(Inputs!$D$32*$Q$3*(1/(1+J131*(2-1))),1),MROUND(Inputs!$D$30*$Q$3*(1/(1+J131*(2-1))),1)),\nIF(G131=\"TRUE 3\",IF(E131=\"NT\",MROUND(Inputs!$E$32*$R$3*(1/(1+J131*(2-1))),1),MROUND(Inputs!$E$30*$R$3*(1/(1+J131*(2-1))),1)),\nIF(G131=\"TRUE 4\",IF(E131=\"NT\",MROUND(Inputs!$F$32*$S$3*(1/(1+J131*(2-1))),1),MROUND(Inputs!$F$30*$S$3*(1/(1+J131*(2-1))),1)),\nMROUND(Inputs!$C$15*(1/(1+J131*(2-1)))*($P$3+$P$4),1)))))","v":8727},-8162,0,{"$f":"(R131/(1/(1+J131*(2-1))))*O131/LEFT(Inputs!$C$18,1)/5280","v":0},0,{"$f":"(T131/60)*((Inputs!$C$13*Calculations!R131*(1-Calculations!J131))+(Inputs!$C$14*Calculations!R131*Calculations!J131))","v":0},{"$f":"IF(R131>0,($J$5/60)*(((I131*$J$3/(1-$J$3))*(1-J131)*Inputs!$C$13)+((I131*$J$3/(1-$J$3))*J131*Inputs!$C$14)),0)","v":0},0,null,"2019-08-06","","",{"$f":"IF(AND(Z131<>\"\",AA131<>\"\"),MAX(INDIRECT(Z131):INDIRECT(AA131)),\"\")","v":""},"","",null,{"$f":"IF(G131=\"TRUE 1\",IF(E131=\"NT\",MROUND(Inputs!$C$32*$AF$3*(1/(1+M131*(2-1))),1),MROUND(Inputs!$C$30*$AF$3*(1/(1+M131*(2-1))),1)),\nIF(G131=\"TRUE 2\",IF(E131=\"NT\",MROUND(Inputs!$D$32*$AG$3*(1/(1+M131*(2-1))),1),MROUND(Inputs!$D$30*$AG$3*(1/(1+M131*(2-1))),1)),\nIF(G131=\"TRUE 3\",IF(E131=\"NT\",MROUND(Inputs!$E$32*$AH$3*(1/(1+M131*(2-1))),1),MROUND(Inputs!$E$30*$AH$3*(1/(1+M131*(2-1))),1)),\nIF(G131=\"TRUE 4\",IF(E131=\"NT\",MROUND(Inputs!$F$32*$AI$3*(1/(1+M131*(2-1))),1),MROUND(Inputs!$F$30*$AI$3*(1/(1+M131*(2-1))),1)),\nMROUND(Inputs!$C$15*(1/(1+M131*(2-1)))*($AF$3+$AF$4),1)))))","v":8727},-8137,0,{"$f":"(AH131/(1/(1+M131*(2-1))))*O131/LEFT(Inputs!$C$18,1)/5280","v":0},0,{"$f":"(AJ131/60)*((Inputs!$C$13*Calculations!AH131*(1-Calculations!M131))+(Inputs!$C$14*Calculations!AH131*Calculations!M131))","v":0},{"$f":"IF(AH131>0,($M$5/60)*(((L131*$M$3/(1-$M$3))*(1-M131)*Inputs!$C$13)+((L131*$M$3/(1-$M$3))*M131*Inputs!$C$14)),0)","v":0},0,null,"2019-08-06","","",{"$f":"IF(AND(AP131<>\"\",AQ131<>\"\"),MAX(INDIRECT(AP131):INDIRECT(AQ131)),\"\")","v":""},"",""]
["2019-08-06",3,"Tuesday","01:00:00",{"$f":"INDEX(Lists!$M$3:$M$26,MATCH(Calculations!D132,Lists!$L$3:$L$26,0))","v":"NT"},49,{"$f":"IF(INDEX(Inputs!$H$86:$H$253,MATCH(F132,Inputs!$D$86:$D$253,0)),\"TRUE 4\",\nIF(INDEX(Inputs!$G$86:$G$253,MATCH(F132,Inputs!$D$86:$D$253,0)),\"TRUE 3\",\nIF(INDEX(Inputs!$F$86:$F$253,MATCH(F132,Inputs!$D$86:$D$253,0)),\"TRUE 2\",\nIF(INDEX(Inputs!$E$86:$E$253,MATCH(F132,Inputs!$D$86:$D$253,0)),\"TRUE 1\",\nFALSE))))","v":false},null,{"$f":"'Volume Import'!C123*'Volume Import'!$H$14*(1+'Volume Import'!$H$15)*(1-'Volume Import'!$H$16)","v":444},{"$f":"IF(AND('Volume Import'!D123=0,'Volume Import'!C123=0),0,\nIF('Volume Import'!D123=0,INDEX('Volume Import'!$K$2:$Q$5,MATCH(E132,'Volume Import'!$R$2:$R$5,0),MATCH(C132,'Volume Import'!$K$1:$Q$1,0)),\n'Volume Import'!D123/'Volume Import'!C123))","v":0.1},null,{"$f":"'Volume Import'!E123*'Volume Import'!$I$14*(1+'Volume Import'!$I$15)*(1-'Volume Import'!$I$16)","v":392},{"$f":"IF('Volume Import'!F123=0,J132,'Volume Import'!F123/'Volume Import'!E123)","v":0.1},null,{"$f":"IF(G132=\"TRUE 1\",IF(E132=\"NT\",Inputs!$C$35,Inputs!$C$34),\nIF(G132=\"TRUE 2\",IF(E132=\"NT\",Inputs!$D$35,Inputs!$D$34),\nIF(G132=\"TRUE 3\",IF(E132=\"NT\",Inputs!$E$35,Inputs!$E$34),\nIF(G132=\"TRUE 4\",IF(E132=\"NT\",Inputs!$F$35,Inputs!$F$34),\nO131))))","v":65.476687896673383},{"$f":"IF(G132=\"TRUE 1\",IF(E132=\"NT\",MROUND(Inputs!$C$32*$P$3*(1/(1+J132*(2-1))),1),MROUND(Inputs!$C$30*$P$3*(1/(1+J132*(2-1))),1)),\nIF(G132=\"TRUE 2\",IF(E132=\"NT\",MROUND(Inputs!$D$32*$Q$3*(1/(1+J132*(2-1))),1),MROUND(Inputs!$D$30*$Q$3*(1/(1+J132*(2-1))),1)),\nIF(G132=\"TRUE 3\",IF(E132=\"NT\",MROUND(Inputs!$E$32*$R$3*(1/(1+J132*(2-1))),1),MROUND(Inputs!$E$30*$R$3*(1/(1+J132*(2-1))),1)),\nIF(G132=\"TRUE 4\",IF(E132=\"NT\",MROUND(Inputs!$F$32*$S$3*(1/(1+J132*(2-1))),1),MROUND(Inputs!$F$30*$S$3*(1/(1+J132*(2-1))),1)),\nMROUND(Inputs!$C$15*(1/(1+J132*(2-1)))*($P$3+$P$4),1)))))","v":8727},-8283,0,{"$f":"(R132/(1/(1+J132*(2-1))))*O132/LEFT(Inputs!$C$18,1)/5280","v":0},0,{"$f":"(T132/60)*((Inputs!$C$13*Calculations!R132*(1-Calculations!J132))+(Inputs!$C$14*Calculations!R132*Calculations!J132))","v":0},{"$f":"IF(R132>0,($J$5/60)*(((I132*$J$3/(1-$J$3))*(1-J132)*Inputs!$C$13)+((I132*$J$3/(1-$J$3))*J132*Inputs!$C$14)),0)","v":0},0,null,"2019-08-06T01:00:00","","",{"$f":"IF(AND(Z132<>\"\",AA132<>\"\"),MAX(INDIRECT(Z132):INDIRECT(AA132)),\"\")","v":""},"","",null,{"$f":"IF(G132=\"TRUE 1\",IF(E132=\"NT\",MROUND(Inputs!$C$32*$AF$3*(1/(1+M132*(2-1))),1),MROUND(Inputs!$C$30*$AF$3*(1/(1+M132*(2-1))),1)),\nIF(G132=\"TRUE 2\",IF(E132=\"NT\",MROUND(Inputs!$D$32*$AG$3*(1/(1+M132*(2-1))),1),MROUND(Inputs!$D$30*$AG$3*(1/(1+M132*(2-1))),1)),\nIF(G132=\"TRUE 3\",IF(E132=\"NT\",MROUND(Inputs!$E$32*$AH$3*(1/(1+M132*(2-1))),1),MROUND(Inputs!$E$30*$AH$3*(1/(1+M132*(2-1))),1)),\nIF(G132=\"TRUE 4\",IF(E132=\"NT\",MROUND(Inputs!$F$32*$AI$3*(1/(1+M132*(2-1))),1),MROUND(Inputs!$F$30*$AI$3*(1/(1+M132*(2-1))),1)),\nMROUND(Inputs!$C$15*(1/(1+M132*(2-1)))*($AF$3+$AF$4),1)))))","v":8727},-8335,0,{"$f":"(AH132/(1/(1+M132*(2-1))))*O132/LEFT(Inputs!$C$18,1)/5280","v":0},0,{"$f":"(AJ132/60)*((Inputs!$C$13*Calculations!AH132*(1-Calculations!M132))+(Inputs!$C$14*Calculations!AH132*Calculations!M132))","v":0},{"$f":"IF(AH132>0,($M$5/60)*(((L132*$M$3/(1-$M$3))*(1-M132)*Inputs!$C$13)+((L132*$M$3/(1-$M$3))*M132*Inputs!$C$14)),0)","v":0},0,null,"2019-08-06T01:00:00","","",{"$f":"IF(AND(AP132<>\"\",AQ132<>\"\"),MAX(INDIRECT(AP132):INDIRECT(AQ132)),\"\")","v":""},"",""]
["2019-08-06",3,"Tuesday","02:00:00",{"$f":"INDEX(Lists!$M$3:$M$26,MATCH(Calculations!D133,Lists!$L$3:$L$26,0))","v":"NT"},50,{"$f":"IF(INDEX(Inputs!$H$86:$H$253,MATCH(F133,Inputs!$D$86:$D$253,0)),\"TRUE 4\",\nIF(INDEX(Inputs!$G$86:$G$253,MATCH(F133,Inputs!$D$86:$D$253,0)),\"TRUE 3\",\nIF(INDEX(Inputs!$F$86:$F$253,MATCH(F133,Inputs!$D$86:$D$253,0)),\"TRUE 2\",\nIF(INDEX(Inputs!$E$86:$E$253,MATCH(F133,Inputs!$D$86:$D$253,0)),\"TRUE 1\",\nFALSE))))","v":false},null,{"$f":"'Volume Import'!C124*'Volume Import'!$H$14*(1+'Volume Import'!$H$15)*(1-'Volume Import'!$H$16)","v":385},{"$f":"IF(AND('Volume Import'!D124=0,'Volume Import'!C124=0),0,\nIF('Volume Import'!D124=0,INDEX('Volume Import'!$K$2:$Q$5,MATCH(E133,'Volume Import'!$R$2:$R$5,0),MATCH(C133,'Volume Import'!$K$1:$Q$1,0)),\n'Volume Import'!D124/'Volume Import'!C124))","v":0.1},null,{"$f":"'Volume Import'!E124*'Volume Import'!$I$14*(1+'Volume Import'!$I$15)*(1-'Volume Import'!$I$16)","v":357},{"$f":"IF('Volume Import'!F124=0,J133,'Volume Import'!F124/'Volume Import'!E124)","v":0.1},null,{"$f":"IF(G133=\"TRUE 1\",IF(E133=\"NT\",Inputs!$C$35,Inputs!$C$34),\nIF(G133=\"TRUE 2\",IF(E133=\"NT\",Inputs!$D$35,Inputs!$D$34),\nIF(G133=\"TRUE 3\",IF(E133=\"NT\",Inputs!$E$35,Inputs!$E$34),\nIF(G133=\"TRUE 4\",IF(E133=\"NT\",Inputs!$F$35,Inputs!$F$34),\nO132))))","v":65.476687896673383},{"$f":"IF(G133=\"TRUE 1\",IF(E133=\"NT\",MROUND(Inputs!$C$32*$P$3*(1/(1+J133*(2-1))),1),MROUND(Inputs!$C$30*$P$3*(1/(1+J133*(2-1))),1)),\nIF(G133=\"TRUE 2\",IF(E133=\"NT\",MROUND(Inputs!$D$32*$Q$3*(1/(1+J133*(2-1))),1),MROUND(Inputs!$D$30*$Q$3*(1/(1+J133*(2-1))),1)),\nIF(G133=\"TRUE 3\",IF(E133=\"NT\",MROUND(Inputs!$E$32*$R$3*(1/(1+J133*(2-1))),1),MROUND(Inputs!$E$30*$R$3*(1/(1+J133*(2-1))),1)),\nIF(G133=\"TRUE 4\",IF(E133=\"NT\",MROUND(Inputs!$F$32*$S$3*(1/(1+J133*(2-1))),1),MROUND(Inputs!$F$30*$S$3*(1/(1+J133*(2-1))),1)),\nMROUND(Inputs!$C$15*(1/(1+J133*(2-1)))*($P$3+$P$4),1)))))","v":8727},-8342,0,{"$f":"(R133/(1/(1+J133*(2-1))))*O133/LEFT(Inputs!$C$18,1)/5280","v":0},0,{"$f":"(T133/60)*((Inputs!$C$13*Calculations!R133*(1-Calculations!J133))+(Inputs!$C$14*Calculations!R133*Calculations!J133))","v":0},{"$f":"IF(R133>0,($J$5/60)*(((I133*$J$3/(1-$J$3))*(1-J133)*Inputs!$C$13)+((I133*$J$3/(1-$J$3))*J133*Inputs!$C$14)),0)","v":0},0,null,"2019-08-06T02:00:00","","",{"$f":"IF(AND(Z133<>\"\",AA133<>\"\"),MAX(INDIRECT(Z133):INDIRECT(AA133)),\"\")","v":""},"","",null,{"$f":"IF(G133=\"TRUE 1\",IF(E133=\"NT\",MROUND(Inputs!$C$32*$AF$3*(1/(1+M133*(2-1))),1),MROUND(Inputs!$C$30*$AF$3*(1/(1+M133*(2-1))),1)),\nIF(G133=\"TRUE 2\",IF(E133=\"NT\",MROUND(Inputs!$D$32*$AG$3*(1/(1+M133*(2-1))),1),MROUND(Inputs!$D$30*$AG$3*(1/(1+M133*(2-1))),1)),\nIF(G133=\"TRUE 3\",IF(E133=\"NT\",MROUND(Inputs!$E$32*$AH$3*(1/(1+M133*(2-1))),1),MROUND(Inputs!$E$30*$AH$3*(1/(1+M133*(2-1))),1)),\nIF(G133=\"TRUE 4\",IF(E133=\"NT\",MROUND(Inputs!$F$32*$AI$3*(1/(1+M133*(2-1))),1),MROUND(Inputs!$F$30*$AI$3*(1/(1+M133*(2-1))),1)),\nMROUND(Inputs!$C$15*(1/(1+M133*(2-1)))*($AF$3+$AF$4),1)))))","v":8727},-8370,0,{"$f":"(AH133/(1/(1+M133*(2-1))))*O133/LEFT(Inputs!$C$18,1)/5280","v":0},0,{"$f":"(AJ133/60)*((Inputs!$C$13*Calculations!AH133*(1-Calculations!M133))+(Inputs!$C$14*Calculations!AH133*Calculations!M133))","v":0},{"$f":"IF(AH133>0,($M$5/60)*(((L133*$M$3/(1-$M$3))*(1-M133)*Inputs!$C$13)+((L133*$M$3/(1-$M$3))*M133*Inputs!$C$14)),0)","v":0},0,null,"2019-08-06T02:00:00","","",{"$f":"IF(AND(AP133<>\"\",AQ133<>\"\"),MAX(INDIRECT(AP133):INDIRECT(AQ133)),\"\")","v":""},"",""]
["2019-08-06",3,"Tuesday","03:00:00",{"$f":"INDEX(Lists!$M$3:$M$26,MATCH(Calculations!D134,Lists!$L$3:$L$26,0))","v":"NT"},51,{"$f":"IF(INDEX(Inputs!$H$86:$H$253,MATCH(F134,Inputs!$D$86:$D$253,0)),\"TRUE 4\",\nIF(INDEX(Inputs!$G$86:$G$253,MATCH(F134,Inputs!$D$86:$D$253,0)),\"TRUE 3\",\nIF(INDEX(Inputs!$F$86:$F$253,MATCH(F134,Inputs!$D$86:$D$253,0)),\"TRUE 2\",\nIF(INDEX(Inputs!$E$86:$E$253,MATCH(F134,Inputs!$D$86:$D$253,0)),\"TRUE 1\",\nFALSE))))","v":false},null,{"$f":"'Volume Import'!C125*'Volume Import'!$H$14*(1+'Volume Import'!$H$15)*(1-'Volume Import'!$H$16)","v":561},{"$f":"IF(AND('Volume Import'!D125=0,'Volume Import'!C125=0),0,\nIF('Volume Import'!D125=0,INDEX('Volume Import'!$K$2:$Q$5,MATCH(E134,'Volume Import'!$R$2:$R$5,0),MATCH(C134,'Volume Import'!$K$1:$Q$1,0)),\n'Volume Import'!D125/'Volume Import'!C125))","v":0.1},null,{"$f":"'Volume Import'!E125*'Volume Import'!$I$14*(1+'Volume Import'!$I$15)*(1-'Volume Import'!$I$16)","v":492},{"$f":"IF('Volume Import'!F125=0,J134,'Volume Import'!F125/'Volume Import'!E125)","v":0.1},null,{"$f":"IF(G134=\"TRUE 1\",IF(E134=\"NT\",Inputs!$C$35,Inputs!$C$34),\nIF(G134=\"TRUE 2\",IF(E134=\"NT\",Inputs!$D$35,Inputs!$D$34),\nIF(G134=\"TRUE 3\",IF(E134=\"NT\",Inputs!$E$35,Inputs!$E$34),\nIF(G134=\"TRUE 4\",IF(E134=\"NT\",Inputs!$F$35,Inputs!$F$34),\nO133))))","v":65.476687896673383},{"$f":"IF(G134=\"TRUE 1\",IF(E134=\"NT\",MROUND(Inputs!$C$32*$P$3*(1/(1+J134*(2-1))),1),MROUND(Inputs!$C$30*$P$3*(1/(1+J134*(2-1))),1)),\nIF(G134=\"TRUE 2\",IF(E134=\"NT\",MROUND(Inputs!$D$32*$Q$3*(1/(1+J134*(2-1))),1),MROUND(Inputs!$D$30*$Q$3*(1/(1+J134*(2-1))),1)),\nIF(G134=\"TRUE 3\",IF(E134=\"NT\",MROUND(Inputs!$E$32*$R$3*(1/(1+J134*(2-1))),1),MROUND(Inputs!$E$30*$R$3*(1/(1+J134*(2-1))),1)),\nIF(G134=\"TRUE 4\",IF(E134=\"NT\",MROUND(Inputs!$F$32*$S$3*(1/(1+J134*(2-1))),1),MROUND(Inputs!$F$30*$S$3*(1/(1+J134*(2-1))),1)),\nMROUND(Inputs!$C$15*(1/(1+J134*(2-1)))*($P$3+$P$4),1)))))","v":8727},-8166,0,{"$f":"(R134/(1/(1+J134*(2-1))))*O134/LEFT(Inputs!$C$18,1)/5280","v":0},0,{"$f":"(T134/60)*((Inputs!$C$13*Calculations!R134*(1-Calculations!J134))+(Inputs!$C$14*Calculations!R134*Calculations!J134))","v":0},{"$f":"IF(R134>0,($J$5/60)*(((I134*$J$3/(1-$J$3))*(1-J134)*Inputs!$C$13)+((I134*$J$3/(1-$J$3))*J134*Inputs!$C$14)),0)","v":0},0,null,"2019-08-06T03:00:00","","",{"$f":"IF(AND(Z134<>\"\",AA134<>\"\"),MAX(INDIRECT(Z134):INDIRECT(AA134)),\"\")","v":""},"","",null,{"$f":"IF(G134=\"TRUE 1\",IF(E134=\"NT\",MROUND(Inputs!$C$32*$AF$3*(1/(1+M134*(2-1))),1),MROUND(Inputs!$C$30*$AF$3*(1/(1+M134*(2-1))),1)),\nIF(G134=\"TRUE 2\",IF(E134=\"NT\",MROUND(Inputs!$D$32*$AG$3*(1/(1+M134*(2-1))),1),MROUND(Inputs!$D$30*$AG$3*(1/(1+M134*(2-1))),1)),\nIF(G134=\"TRUE 3\",IF(E134=\"NT\",MROUND(Inputs!$E$32*$AH$3*(1/(1+M134*(2-1))),1),MROUND(Inputs!$E$30*$AH$3*(1/(1+M134*(2-1))),1)),\nIF(G134=\"TRUE 4\",IF(E134=\"NT\",MROUND(Inputs!$F$32*$AI$3*(1/(1+M134*(2-1))),1),MROUND(Inputs!$F$30*$AI$3*(1/(1+M134*(2-1))),1)),\nMROUND(Inputs!$C$15*(1/(1+M134*(2-1)))*($AF$3+$AF$4),1)))))","v":8727},-8235,0,{"$f":"(AH134/(1/(1+M134*(2-1))))*O134/LEFT(Inputs!$C$18,1)/5280","v":0},0,{"$f":"(AJ134/60)*((Inputs!$C$13*Calculations!AH134*(1-Calculations!M134))+(Inputs!$C$14*Calculations!AH134*Calculations!M134))","v":0},{"$f":"IF(AH134>0,($M$5/60)*(((L134*$M$3/(1-$M$3))*(1-M134)*Inputs!$C$13)+((L134*$M$3/(1-$M$3))*M134*Inputs!$C$14)),0)","v":0},0,null,"2019-08-06T03:00:00","","",{"$f":"IF(AND(AP134<>\"\",AQ134<>\"\"),MAX(INDIRECT(AP134):INDIRECT(AQ134)),\"\")","v":""},"",""]
["2019-08-06",3,"Tuesday","04:00:00",{"$f":"INDEX(Lists!$M$3:$M$26,MATCH(Calculations!D135,Lists!$L$3:$L$26,0))","v":"NT"},52,{"$f":"IF(INDEX(Inputs!$H$86:$H$253,MATCH(F135,Inputs!$D$86:$D$253,0)),\"TRUE 4\",\nIF(INDEX(Inputs!$G$86:$G$253,MATCH(F135,Inputs!$D$86:$D$253,0)),\"TRUE 3\",\nIF(INDEX(Inputs!$F$86:$F$253,MATCH(F135,Inputs!$D$86:$D$253,0)),\"TRUE 2\",\nIF(INDEX(Inputs!$E$86:$E$253,MATCH(F135,Inputs!$D$86:$D$253,0)),\"TRUE 1\",\nFALSE))))","v":false},null,{"$f":"'Volume Import'!C126*'Volume Import'!$H$14*(1+'Volume Import'!$H$15)*(1-'Volume Import'!$H$16)","v":1318},{"$f":"IF(AND('Volume Import'!D126=0,'Volume Import'!C126=0),0,\nIF('Volume Import'!D126=0,INDEX('Volume Import'!$K$2:$Q$5,MATCH(E135,'Volume Import'!$R$2:$R$5,0),MATCH(C135,'Volume Import'!$K$1:$Q$1,0)),\n'Volume Import'!D126/'Volume Import'!C126))","v":0.1},null,{"$f":"'Volume Import'!E126*'Volume Import'!$I$14*(1+'Volume Import'!$I$15)*(1-'Volume Import'!$I$16)","v":1001},{"$f":"IF('Volume Import'!F126=0,J135,'Volume Import'!F126/'Volume Import'!E126)","v":0.1},null,{"$f":"IF(G135=\"TRUE 1\",IF(E135=\"NT\",Inputs!$C$35,Inputs!$C$34),\nIF(G135=\"TRUE 2\",IF(E135=\"NT\",Inputs!$D$35,Inputs!$D$34),\nIF(G135=\"TRUE 3\",IF(E135=\"NT\",Inputs!$E$35,Inputs!$E$34),\nIF(G135=\"TRUE 4\",IF(E135=\"NT\",Inputs!$F$35,Inputs!$F$34),\nO134))))","v":65.476687896673383},{"$f":"IF(G135=\"TRUE 1\",IF(E135=\"NT\",MROUND(Inputs!$C$32*$P$3*(1/(1+J135*(2-1))),1),MROUND(Inputs!$C$30*$P$3*(1/(1+J135*(2-1))),1)),\nIF(G135=\"TRUE 2\",IF(E135=\"NT\",MROUND(Inputs!$D$32*$Q$3*(1/(1+J135*(2-1))),1),MROUND(Inputs!$D$30*$Q$3*(1/(1+J135*(2-1))),1)),\nIF(G135=\"TRUE 3\",IF(E135=\"NT\",MROUND(Inputs!$E$32*$R$3*(1/(1+J135*(2-1))),1),MROUND(Inputs!$E$30*$R$3*(1/(1+J135*(2-1))),1)),\nIF(G135=\"TRUE 4\",IF(E135=\"NT\",MROUND(Inputs!$F$32*$S$3*(1/(1+J135*(2-1))),1),MROUND(Inputs!$F$30*$S$3*(1/(1+J135*(2-1))),1)),\nMROUND(Inputs!$C$15*(1/(1+J135*(2-1)))*($P$3+$P$4),1)))))","v":8727},-7409,0,{"$f":"(R135/(1/(1+J135*(2-1))))*O135/LEFT(Inputs!$C$18,1)/5280","v":0},0,{"$f":"(T135/60)*((Inputs!$C$13*Calculations!R135*(1-Calculations!J135))+(Inputs!$C$14*Calculations!R135*Calculations!J135))","v":0},{"$f":"IF(R135>0,($J$5/60)*(((I135*$J$3/(1-$J$3))*(1-J135)*Inputs!$C$13)+((I135*$J$3/(1-$J$3))*J135*Inputs!$C$14)),0)","v":0},0,null,"2019-08-06T04:00:00","","",{"$f":"IF(AND(Z135<>\"\",AA135<>\"\"),MAX(INDIRECT(Z135):INDIRECT(AA135)),\"\")","v":""},"","",null,{"$f":"IF(G135=\"TRUE 1\",IF(E135=\"NT\",MROUND(Inputs!$C$32*$AF$3*(1/(1+M135*(2-1))),1),MROUND(Inputs!$C$30*$AF$3*(1/(1+M135*(2-1))),1)),\nIF(G135=\"TRUE 2\",IF(E135=\"NT\",MROUND(Inputs!$D$32*$AG$3*(1/(1+M135*(2-1))),1),MROUND(Inputs!$D$30*$AG$3*(1/(1+M135*(2-1))),1)),\nIF(G135=\"TRUE 3\",IF(E135=\"NT\",MROUND(Inputs!$E$32*$AH$3*(1/(1+M135*(2-1))),1),MROUND(Inputs!$E$30*$AH$3*(1/(1+M135*(2-1))),1)),\nIF(G135=\"TRUE 4\",IF(E135=\"NT\",MROUND(Inputs!$F$32*$AI$3*(1/(1+M135*(2-1))),1),MROUND(Inputs!$F$30*$AI$3*(1/(1+M135*(2-1))),1)),\nMROUND(Inputs!$C$15*(1/(1+M135*(2-1)))*($AF$3+$AF$4),1)))))","v":8727},-7726,0,{"$f":"(AH135/(1/(1+M135*(2-1))))*O135/LEFT(Inputs!$C$18,1)/5280","v":0},0,{"$f":"(AJ135/60)*((Inputs!$C$13*Calculations!AH135*(1-Calculations!M135))+(Inputs!$C$14*Calculations!AH135*Calculations!M135))","v":0},{"$f":"IF(AH135>0,($M$5/60)*(((L135*$M$3/(1-$M$3))*(1-M135)*Inputs!$C$13)+((L135*$M$3/(1-$M$3))*M135*Inputs!$C$14)),0)","v":0},0,null,"2019-08-06T04:00:00","","",{"$f":"IF(AND(AP135<>\"\",AQ135<>\"\"),MAX(INDIRECT(AP135):INDIRECT(AQ135)),\"\")","v":""},"",""]
["2019-08-06",3,"Tuesday","05:00:00",{"$f":"INDEX(Lists!$M$3:$M$26,MATCH(Calculations!D136,Lists!$L$3:$L$26,0))","v":"NT"},53,{"$f":"IF(INDEX(Inputs!$H$86:$H$253,MATCH(F136,Inputs!$D$86:$D$253,0)),\"TRUE 4\",\nIF(INDEX(Inputs!$G$86:$G$253,MATCH(F136,Inputs!$D$86:$D$253,0)),\"TRUE 3\",\nIF(INDEX(Inputs!$F$86:$F$253,MATCH(F136,Inputs!$D$86:$D$253,0)),\"TRUE 2\",\nIF(INDEX(Inputs!$E$86:$E$253,MATCH(F136,Inputs!$D$86:$D$253,0)),\"TRUE 1\",\nFALSE))))","v":false},null,{"$f":"'Volume Import'!C127*'Volume Import'!$H$14*(1+'Volume Import'!$H$15)*(1-'Volume Import'!$H$16)","v":3813},{"$f":"IF(AND('Volume Import'!D127=0,'Volume Import'!C127=0),0,\nIF('Volume Import'!D127=0,INDEX('Volume Import'!$K$2:$Q$5,MATCH(E136,'Volume Import'!$R$2:$R$5,0),MATCH(C136,'Volume Import'!$K$1:$Q$1,0)),\n'Volume Import'!D127/'Volume Import'!C127))","v":0.1},null,{"$f":"'Volume Import'!E127*'Volume Import'!$I$14*(1+'Volume Import'!$I$15)*(1-'Volume Import'!$I$16)","v":2184},{"$f":"IF('Volume Import'!F127=0,J136,'Volume Import'!F127/'Volume Import'!E127)","v":0.1},null,{"$f":"IF(G136=\"TRUE 1\",IF(E136=\"NT\",Inputs!$C$35,Inputs!$C$34),\nIF(G136=\"TRUE 2\",IF(E136=\"NT\",Inputs!$D$35,Inputs!$D$34),\nIF(G136=\"TRUE 3\",IF(E136=\"NT\",Inputs!$E$35,Inputs!$E$34),\nIF(G136=\"TRUE 4\",IF(E136=\"NT\",Inputs!$F$35,Inputs!$F$34),\nO135))))","v":65.476687896673383},{"$f":"IF(G136=\"TRUE 1\",IF(E136=\"NT\",MROUND(Inputs!$C$32*$P$3*(1/(1+J136*(2-1))),1),MROUND(Inputs!$C$30*$P$3*(1/(1+J136*(2-1))),1)),\nIF(G136=\"TRUE 2\",IF(E136=\"NT\",MROUND(Inputs!$D$32*$Q$3*(1/(1+J136*(2-1))),1),MROUND(Inputs!$D$30*$Q$3*(1/(1+J136*(2-1))),1)),\nIF(G136=\"TRUE 3\",IF(E136=\"NT\",MROUND(Inputs!$E$32*$R$3*(1/(1+J136*(2-1))),1),MROUND(Inputs!$E$30*$R$3*(1/(1+J136*(2-1))),1)),\nIF(G136=\"TRUE 4\",IF(E136=\"NT\",MROUND(Inputs!$F$32*$S$3*(1/(1+J136*(2-1))),1),MROUND(Inputs!$F$30*$S$3*(1/(1+J136*(2-1))),1)),\nMROUND(Inputs!$C$15*(1/(1+J136*(2-1)))*($P$3+$P$4),1)))))","v":8727},-4914,0,{"$f":"(R136/(1/(1+J136*(2-1))))*O136/LEFT(Inputs!$C$18,1)/5280","v":0},0,{"$f":"(T136/60)*((Inputs!$C$13*Calculations!R136*(1-Calculations!J136))+(Inputs!$C$14*Calculations!R136*Calculations!J136))","v":0},{"$f":"IF(R136>0,($J$5/60)*(((I136*$J$3/(1-$J$3))*(1-J136)*Inputs!$C$13)+((I136*$J$3/(1-$J$3))*J136*Inputs!$C$14)),0)","v":0},0,null,"2019-08-06T05:00:00","","",{"$f":"IF(AND(Z136<>\"\",AA136<>\"\"),MAX(INDIRECT(Z136):INDIRECT(AA136)),\"\")","v":""},"","",null,{"$f":"IF(G136=\"TRUE 1\",IF(E136=\"NT\",MROUND(Inputs!$C$32*$AF$3*(1/(1+M136*(2-1))),1),MROUND(Inputs!$C$30*$AF$3*(1/(1+M136*(2-1))),1)),\nIF(G136=\"TRUE 2\",IF(E136=\"NT\",MROUND(Inputs!$D$32*$AG$3*(1/(1+M136*(2-1))),1),MROUND(Inputs!$D$30*$AG$3*(1/(1+M136*(2-1))),1)),\nIF(G136=\"TRUE 3\",IF(E136=\"NT\",MROUND(Inputs!$E$32*$AH$3*(1/(1+M136*(2-1))),1),MROUND(Inputs!$E$30*$AH$3*(1/(1+M136*(2-1))),1)),\nIF(G136=\"TRUE 4\",IF(E136=\"NT\",MROUND(Inputs!$F$32*$AI$3*(1/(1+M136*(2-1))),1),MROUND(Inputs!$F$30*$AI$3*(1/(1+M136*(2-1))),1)),\nMROUND(Inputs!$C$15*(1/(1+M136*(2-1)))*($AF$3+$AF$4),1)))))","v":8727},-6543,0,{"$f":"(AH136/(1/(1+M136*(2-1))))*O136/LEFT(Inputs!$C$18,1)/5280","v":0},0,{"$f":"(AJ136/60)*((Inputs!$C$13*Calculations!AH136*(1-Calculations!M136))+(Inputs!$C$14*Calculations!AH136*Calculations!M136))","v":0},{"$f":"IF(AH136>0,($M$5/60)*(((L136*$M$3/(1-$M$3))*(1-M136)*Inputs!$C$13)+((L136*$M$3/(1-$M$3))*M136*Inputs!$C$14)),0)","v":0},0,null,"2019-08-06T05:00:00","","",{"$f":"IF(AND(AP136<>\"\",AQ136<>\"\"),MAX(INDIRECT(AP136):INDIRECT(AQ136)),\"\")","v":""},"",""]
["2019-08-06",3,"Tuesday","06:00:00",{"$f":"INDEX(Lists!$M$3:$M$26,MATCH(Calculations!D137,Lists!$L$3:$L$26,0))","v":"AM"},54,{"$f":"IF(INDEX(Inputs!$H$86:$H$253,MATCH(F137,Inputs!$D$86:$D$253,0)),\"TRUE 4\",\nIF(INDEX(Inputs!$G$86:$G$253,MATCH(F137,Inputs!$D$86:$D$253,0)),\"TRUE 3\",\nIF(INDEX(Inputs!$F$86:$F$253,MATCH(F137,Inputs!$D$86:$D$253,0)),\"TRUE 2\",\nIF(INDEX(Inputs!$E$86:$E$253,MATCH(F137,Inputs!$D$86:$D$253,0)),\"TRUE 1\",\nFALSE))))","v":false},null,{"$f":"'Volume Import'!C128*'Volume Import'!$H$14*(1+'Volume Import'!$H$15)*(1-'Volume Import'!$H$16)","v":6480},{"$f":"IF(AND('Volume Import'!D128=0,'Volume Import'!C128=0),0,\nIF('Volume Import'!D128=0,INDEX('Volume Import'!$K$2:$Q$5,MATCH(E137,'Volume Import'!$R$2:$R$5,0),MATCH(C137,'Volume Import'!$K$1:$Q$1,0)),\n'Volume Import'!D128/'Volume Import'!C128))","v":0.1},null,{"$f":"'Volume Import'!E128*'Volume Import'!$I$14*(1+'Volume Import'!$I$15)*(1-'Volume Import'!$I$16)","v":3693},{"$f":"IF('Volume Import'!F128=0,J137,'Volume Import'!F128/'Volume Import'!E128)","v":0.1},null,{"$f":"IF(G137=\"TRUE 1\",IF(E137=\"NT\",Inputs!$C$35,Inputs!$C$34),\nIF(G137=\"TRUE 2\",IF(E137=\"NT\",Inputs!$D$35,Inputs!$D$34),\nIF(G137=\"TRUE 3\",IF(E137=\"NT\",Inputs!$E$35,Inputs!$E$34),\nIF(G137=\"TRUE 4\",IF(E137=\"NT\",Inputs!$F$35,Inputs!$F$34),\nO136))))","v":65.476687896673383},{"$f":"IF(G137=\"TRUE 1\",IF(E137=\"NT\",MROUND(Inputs!$C$32*$P$3*(1/(1+J137*(2-1))),1),MROUND(Inputs!$C$30*$P$3*(1/(1+J137*(2-1))),1)),\nIF(G137=\"TRUE 2\",IF(E137=\"NT\",MROUND(Inputs!$D$32*$Q$3*(1/(1+J137*(2-1))),1),MROUND(Inputs!$D$30*$Q$3*(1/(1+J137*(2-1))),1)),\nIF(G137=\"TRUE 3\",IF(E137=\"NT\",MROUND(Inputs!$E$32*$R$3*(1/(1+J137*(2-1))),1),MROUND(Inputs!$E$30*$R$3*(1/(1+J137*(2-1))),1)),\nIF(G137=\"TRUE 4\",IF(E137=\"NT\",MROUND(Inputs!$F$32*$S$3*(1/(1+J137*(2-1))),1),MROUND(Inputs!$F$30*$S$3*(1/(1+J137*(2-1))),1)),\nMROUND(Inputs!$C$15*(1/(1+J137*(2-1)))*($P$3+$P$4),1)))))","v":8727},-2247,0,{"$f":"(R137/(1/(1+J137*(2-1))))*O137/LEFT(Inputs!$C$18,1)/5280","v":0},0,{"$f":"(T137/60)*((Inputs!$C$13*Calculations!R137*(1-Calculations!J137))+(Inputs!$C$14*Calculations!R137*Calculations!J137))","v":0},{"$f":"IF(R137>0,($J$5/60)*(((I137*$J$3/(1-$J$3))*(1-J137)*Inputs!$C$13)+((I137*$J$3/(1-$J$3))*J137*Inputs!$C$14)),0)","v":0},0,null,"2019-08-06T06:00:00","","",{"$f":"IF(AND(Z137<>\"\",AA137<>\"\"),MAX(INDIRECT(Z137):INDIRECT(AA137)),\"\")","v":""},"","",null,{"$f":"IF(G137=\"TRUE 1\",IF(E137=\"NT\",MROUND(Inputs!$C$32*$AF$3*(1/(1+M137*(2-1))),1),MROUND(Inputs!$C$30*$AF$3*(1/(1+M137*(2-1))),1)),\nIF(G137=\"TRUE 2\",IF(E137=\"NT\",MROUND(Inputs!$D$32*$AG$3*(1/(1+M137*(2-1))),1),MROUND(Inputs!$D$30*$AG$3*(1/(1+M137*(2-1))),1)),\nIF(G137=\"TRUE 3\",IF(E137=\"NT\",MROUND(Inputs!$E$32*$AH$3*(1/(1+M137*(2-1))),1),MROUND(Inputs!$E$30*$AH$3*(1/(1+M137*(2-1))),1)),\nIF(G137=\"TRUE 4\",IF(E137=\"NT\",MROUND(Inputs!$F$32*$AI$3*(1/(1+M137*(2-1))),1),MROUND(Inputs!$F$30*$AI$3*(1/(1+M137*(2-1))),1)),\nMROUND(Inputs!$C$15*(1/(1+M137*(2-1)))*($AF$3+$AF$4),1)))))","v":8727},-5034,0,{"$f":"(AH137/(1/(1+M137*(2-1))))*O137/LEFT(Inputs!$C$18,1)/5280","v":0},0,{"$f":"(AJ137/60)*((Inputs!$C$13*Calculations!AH137*(1-Calculations!M137))+(Inputs!$C$14*Calculations!AH137*Calculations!M137))","v":0},{"$f":"IF(AH137>0,($M$5/60)*(((L137*$M$3/(1-$M$3))*(1-M137)*Inputs!$C$13)+((L137*$M$3/(1-$M$3))*M137*Inputs!$C$14)),0)","v":0},0,null,"2019-08-06T06:00:00","","",{"$f":"IF(AND(AP137<>\"\",AQ137<>\"\"),MAX(INDIRECT(AP137):INDIRECT(AQ137)),\"\")","v":""},"",""]
["2019-08-06",3,"Tuesday","07:00:00",{"$f":"INDEX(Lists!$M$3:$M$26,MATCH(Calculations!D138,Lists!$L$3:$L$26,0))","v":"AM"},55,{"$f":"IF(INDEX(Inputs!$H$86:$H$253,MATCH(F138,Inputs!$D$86:$D$253,0)),\"TRUE 4\",\nIF(INDEX(Inputs!$G$86:$G$253,MATCH(F138,Inputs!$D$86:$D$253,0)),\"TRUE 3\",\nIF(INDEX(Inputs!$F$86:$F$253,MATCH(F138,Inputs!$D$86:$D$253,0)),\"TRUE 2\",\nIF(INDEX(Inputs!$E$86:$E$253,MATCH(F138,Inputs!$D$86:$D$253,0)),\"TRUE 1\",\nFALSE))))","v":false},null,{"$f":"'Volume Import'!C129*'Volume Import'!$H$14*(1+'Volume Import'!$H$15)*(1-'Volume Import'!$H$16)","v":7068},{"$f":"IF(AND('Volume Import'!D129=0,'Volume Import'!C129=0),0,\nIF('Volume Import'!D129=0,INDEX('Volume Import'!$K$2:$Q$5,MATCH(E138,'Volume Import'!$R$2:$R$5,0),MATCH(C138,'Volume Import'!$K$1:$Q$1,0)),\n'Volume Import'!D129/'Volume Import'!C129))","v":0.1},null,{"$f":"'Volume Import'!E129*'Volume Import'!$I$14*(1+'Volume Import'!$I$15)*(1-'Volume Import'!$I$16)","v":4721},{"$f":"IF('Volume Import'!F129=0,J138,'Volume Import'!F129/'Volume Import'!E129)","v":0.1},null,{"$f":"IF(G138=\"TRUE 1\",IF(E138=\"NT\",Inputs!$C$35,Inputs!$C$34),\nIF(G138=\"TRUE 2\",IF(E138=\"NT\",Inputs!$D$35,Inputs!$D$34),\nIF(G138=\"TRUE 3\",IF(E138=\"NT\",Inputs!$E$35,Inputs!$E$34),\nIF(G138=\"TRUE 4\",IF(E138=\"NT\",Inputs!$F$35,Inputs!$F$34),\nO137))))","v":65.476687896673383},{"$f":"IF(G138=\"TRUE 1\",IF(E138=\"NT\",MROUND(Inputs!$C$32*$P$3*(1/(1+J138*(2-1))),1),MROUND(Inputs!$C$30*$P$3*(1/(1+J138*(2-1))),1)),\nIF(G138=\"TRUE 2\",IF(E138=\"NT\",MROUND(Inputs!$D$32*$Q$3*(1/(1+J138*(2-1))),1),MROUND(Inputs!$D$30*$Q$3*(1/(1+J138*(2-1))),1)),\nIF(G138=\"TRUE 3\",IF(E138=\"NT\",MROUND(Inputs!$E$32*$R$3*(1/(1+J138*(2-1))),1),MROUND(Inputs!$E$30*$R$3*(1/(1+J138*(2-1))),1)),\nIF(G138=\"TRUE 4\",IF(E138=\"NT\",MROUND(Inputs!$F$32*$S$3*(1/(1+J138*(2-1))),1),MROUND(Inputs!$F$30*$S$3*(1/(1+J138*(2-1))),1)),\nMROUND(Inputs!$C$15*(1/(1+J138*(2-1)))*($P$3+$P$4),1)))))","v":8727},-1659,0,{"$f":"(R138/(1/(1+J138*(2-1))))*O138/LEFT(Inputs!$C$18,1)/5280","v":0},0,{"$f":"(T138/60)*((Inputs!$C$13*Calculations!R138*(1-Calculations!J138))+(Inputs!$C$14*Calculations!R138*Calculations!J138))","v":0},{"$f":"IF(R138>0,($J$5/60)*(((I138*$J$3/(1-$J$3))*(1-J138)*Inputs!$C$13)+((I138*$J$3/(1-$J$3))*J138*Inputs!$C$14)),0)","v":0},0,null,"2019-08-06T07:00:00","","",{"$f":"IF(AND(Z138<>\"\",AA138<>\"\"),MAX(INDIRECT(Z138):INDIRECT(AA138)),\"\")","v":""},"","",null,{"$f":"IF(G138=\"TRUE 1\",IF(E138=\"NT\",MROUND(Inputs!$C$32*$AF$3*(1/(1+M138*(2-1))),1),MROUND(Inputs!$C$30*$AF$3*(1/(1+M138*(2-1))),1)),\nIF(G138=\"TRUE 2\",IF(E138=\"NT\",MROUND(Inputs!$D$32*$AG$3*(1/(1+M138*(2-1))),1),MROUND(Inputs!$D$30*$AG$3*(1/(1+M138*(2-1))),1)),\nIF(G138=\"TRUE 3\",IF(E138=\"NT\",MROUND(Inputs!$E$32*$AH$3*(1/(1+M138*(2-1))),1),MROUND(Inputs!$E$30*$AH$3*(1/(1+M138*(2-1))),1)),\nIF(G138=\"TRUE 4\",IF(E138=\"NT\",MROUND(Inputs!$F$32*$AI$3*(1/(1+M138*(2-1))),1),MROUND(Inputs!$F$30*$AI$3*(1/(1+M138*(2-1))),1)),\nMROUND(Inputs!$C$15*(1/(1+M138*(2-1)))*($AF$3+$AF$4),1)))))","v":8727},-4006,0,{"$f":"(AH138/(1/(1+M138*(2-1))))*O138/LEFT(Inputs!$C$18,1)/5280","v":0},0,{"$f":"(AJ138/60)*((Inputs!$C$13*Calculations!AH138*(1-Calculations!M138))+(Inputs!$C$14*Calculations!AH138*Calculations!M138))","v":0},{"$f":"IF(AH138>0,($M$5/60)*(((L138*$M$3/(1-$M$3))*(1-M138)*Inputs!$C$13)+((L138*$M$3/(1-$M$3))*M138*Inputs!$C$14)),0)","v":0},0,null,"2019-08-06T07:00:00","","",{"$f":"IF(AND(AP138<>\"\",AQ138<>\"\"),MAX(INDIRECT(AP138):INDIRECT(AQ138)),\"\")","v":""},"",""]
["2019-08-06",3,"Tuesday","08:00:00",{"$f":"INDEX(Lists!$M$3:$M$26,MATCH(Calculations!D139,Lists!$L$3:$L$26,0))","v":"AM"},56,{"$f":"IF(INDEX(Inputs!$H$86:$H$253,MATCH(F139,Inputs!$D$86:$D$253,0)),\"TRUE 4\",\nIF(INDEX(Inputs!$G$86:$G$253,MATCH(F139,Inputs!$D$86:$D$253,0)),\"TRUE 3\",\nIF(INDEX(Inputs!$F$86:$F$253,MATCH(F139,Inputs!$D$86:$D$253,0)),\"TRUE 2\",\nIF(INDEX(Inputs!$E$86:$E$253,MATCH(F139,Inputs!$D$86:$D$253,0)),\"TRUE 1\",\nFALSE))))","v":false},null,{"$f":"'Volume Import'!C130*'Volume Import'!$H$14*(1+'Volume Import'!$H$15)*(1-'Volume Import'!$H$16)","v":5956},{"$f":"IF(AND('Volume Import'!D130=0,'Volume Import'!C130=0),0,\nIF('Volume Import'!D130=0,INDEX('Volume Import'!$K$2:$Q$5,MATCH(E139,'Volume Import'!$R$2:$R$5,0),MATCH(C139,'Volume Import'!$K$1:$Q$1,0)),\n'Volume Import'!D130/'Volume Import'!C130))","v":0.1},null,{"$f":"'Volume Import'!E130*'Volume Import'!$I$14*(1+'Volume Import'!$I$15)*(1-'Volume Import'!$I$16)","v":4325},{"$f":"IF('Volume Import'!F130=0,J139,'Volume Import'!F130/'Volume Import'!E130)","v":0.1},null,{"$f":"IF(G139=\"TRUE 1\",IF(E139=\"NT\",Inputs!$C$35,Inputs!$C$34),\nIF(G139=\"TRUE 2\",IF(E139=\"NT\",Inputs!$D$35,Inputs!$D$34),\nIF(G139=\"TRUE 3\",IF(E139=\"NT\",Inputs!$E$35,Inputs!$E$34),\nIF(G139=\"TRUE 4\",IF(E139=\"NT\",Inputs!$F$35,Inputs!$F$34),\nO138))))","v":65.476687896673383},{"$f":"IF(G139=\"TRUE 1\",IF(E139=\"NT\",MROUND(Inputs!$C$32*$P$3*(1/(1+J139*(2-1))),1),MROUND(Inputs!$C$30*$P$3*(1/(1+J139*(2-1))),1)),\nIF(G139=\"TRUE 2\",IF(E139=\"NT\",MROUND(Inputs!$D$32*$Q$3*(1/(1+J139*(2-1))),1),MROUND(Inputs!$D$30*$Q$3*(1/(1+J139*(2-1))),1)),\nIF(G139=\"TRUE 3\",IF(E139=\"NT\",MROUND(Inputs!$E$32*$R$3*(1/(1+J139*(2-1))),1),MROUND(Inputs!$E$30*$R$3*(1/(1+J139*(2-1))),1)),\nIF(G139=\"TRUE 4\",IF(E139=\"NT\",MROUND(Inputs!$F$32*$S$3*(1/(1+J139*(2-1))),1),MROUND(Inputs!$F$30*$S$3*(1/(1+J139*(2-1))),1)),\nMROUND(Inputs!$C$15*(1/(1+J139*(2-1)))*($P$3+$P$4),1)))))","v":8727},-2771,0,{"$f":"(R139/(1/(1+J139*(2-1))))*O139/LEFT(Inputs!$C$18,1)/5280","v":0},0,{"$f":"(T139/60)*((Inputs!$C$13*Calculations!R139*(1-Calculations!J139))+(Inputs!$C$14*Calculations!R139*Calculations!J139))","v":0},{"$f":"IF(R139>0,($J$5/60)*(((I139*$J$3/(1-$J$3))*(1-J139)*Inputs!$C$13)+((I139*$J$3/(1-$J$3))*J139*Inputs!$C$14)),0)","v":0},0,null,"2019-08-06T08:00:00","","",{"$f":"IF(AND(Z139<>\"\",AA139<>\"\"),MAX(INDIRECT(Z139):INDIRECT(AA139)),\"\")","v":""},"",{"$f":"IF(AND(S139>0,S140=0),$Y139,IF(AND(S139>0,S140>0),\"Q\",\"\"))","v":""},null,{"$f":"IF(G139=\"TRUE 1\",IF(E139=\"NT\",MROUND(Inputs!$C$32*$AF$3*(1/(1+M139*(2-1))),1),MROUND(Inputs!$C$30*$AF$3*(1/(1+M139*(2-1))),1)),\nIF(G139=\"TRUE 2\",IF(E139=\"NT\",MROUND(Inputs!$D$32*$AG$3*(1/(1+M139*(2-1))),1),MROUND(Inputs!$D$30*$AG$3*(1/(1+M139*(2-1))),1)),\nIF(G139=\"TRUE 3\",IF(E139=\"NT\",MROUND(Inputs!$E$32*$AH$3*(1/(1+M139*(2-1))),1),MROUND(Inputs!$E$30*$AH$3*(1/(1+M139*(2-1))),1)),\nIF(G139=\"TRUE 4\",IF(E139=\"NT\",MROUND(Inputs!$F$32*$AI$3*(1/(1+M139*(2-1))),1),MROUND(Inputs!$F$30*$AI$3*(1/(1+M139*(2-1))),1)),\nMROUND(Inputs!$C$15*(1/(1+M139*(2-1)))*($AF$3+$AF$4),1)))))","v":8727},-4402,0,{"$f":"(AH139/(1/(1+M139*(2-1))))*O139/LEFT(Inputs!$C$18,1)/5280","v":0},0,{"$f":"(AJ139/60)*((Inputs!$C$13*Calculations!AH139*(1-Calculations!M139))+(Inputs!$C$14*Calculations!AH139*Calculations!M139))","v":0},{"$f":"IF(AH139>0,($M$5/60)*(((L139*$M$3/(1-$M$3))*(1-M139)*Inputs!$C$13)+((L139*$M$3/(1-$M$3))*M139*Inputs!$C$14)),0)","v":0},0,null,"2019-08-06T08:00:00","","",{"$f":"IF(AND(AP139<>\"\",AQ139<>\"\"),MAX(INDIRECT(AP139):INDIRECT(AQ139)),\"\")","v":""},"",{"$f":"IF(AND(AI139>0,AI140=0),$Y139,IF(AND(AI139>0,AI140>0),\"Q\",\"\"))","v":""}]
["2019-08-06",{"$f":"WEEKDAY(A140)","v":3},{"$f":"CHOOSE(WEEKDAY(A140),\"Sunday\",\"Monday\",\"Tuesday\",\"Wednesday\",\"Thursday\",\"Friday\",\"Saturday\")","v":"Tuesday"},"09:00:00",{"$f":"INDEX(Lists!$M$3:$M$26,MATCH(Calculations!D140,Lists!$L$3:$L$26,0))","v":"MD"},{"$f":"HOUR(D140)+(B140*24-24)","v":57},{"$f":"IF(INDEX(Inputs!$H$86:$H$253,MATCH(F140,Inputs!$D$86:$D$253,0)),\"TRUE 4\",\nIF(INDEX(Inputs!$G$86:$G$253,MATCH(F140,Inputs!$D$86:$D$253,0)),\"TRUE 3\",\nIF(INDEX(Inputs!$F$86:$F$253,MATCH(F140,Inputs!$D$86:$D$253,0)),\"TRUE 2\",\nIF(INDEX(Inputs!$E$86:$E$253,MATCH(F140,Inputs!$D$86:$D$253,0)),\"TRUE 1\",\nFALSE))))","v":"TRUE 1"},null,{"$f":"'Volume Import'!C131*'Volume Import'!$H$14*(1+'Volume Import'!$H$15)*(1-'Volume Import'!$H$16)","v":4958},{"$f":"IF(AND('Volume Import'!D131=0,'Volume Import'!C131=0),0,\nIF('Volume Import'!D131=0,INDEX('Volume Import'!$K$2:$Q$5,MATCH(E140,'Volume Import'!$R$2:$R$5,0),MATCH(C140,'Volume Import'!$K$1:$Q$1,0)),\n'Volume Import'!D131/'Volume Import'!C131))","v":0.1},null,{"$f":"'Volume Import'!E131*'Volume Import'!$I$14*(1+'Volume Import'!$I$15)*(1-'Volume Import'!$I$16)","v":3766},{"$f":"IF('Volume Import'!F131=0,J140,'Volume Import'!F131/'Volume Import'!E131)","v":0.1},null,{"$f":"IF(G140=\"TRUE 1\",IF(E140=\"NT\",Inputs!$C$35,Inputs!$C$34),\nIF(G140=\"TRUE 2\",IF(E140=\"NT\",Inputs!$D$35,Inputs!$D$34),\nIF(G140=\"TRUE 3\",IF(E140=\"NT\",Inputs!$E$35,Inputs!$E$34),\nIF(G140=\"TRUE 4\",IF(E140=\"NT\",Inputs!$F$35,Inputs!$F$34),\nO139))))","v":65.476687896673383},{"$f":"IF(G140=\"TRUE 1\",IF(E140=\"NT\",MROUND(Inputs!$C$32*$P$3*(1/(1+J140*(2-1))),1),MROUND(Inputs!$C$30*$P$3*(1/(1+J140*(2-1))),1)),\nIF(G140=\"TRUE 2\",IF(E140=\"NT\",MROUND(Inputs!$D$32*$Q$3*(1/(1+J140*(2-1))),1),MROUND(Inputs!$D$30*$Q$3*(1/(1+J140*(2-1))),1)),\nIF(G140=\"TRUE 3\",IF(E140=\"NT\",MROUND(Inputs!$E$32*$R$3*(1/(1+J140*(2-1))),1),MROUND(Inputs!$E$30*$R$3*(1/(1+J140*(2-1))),1)),\nIF(G140=\"TRUE 4\",IF(E140=\"NT\",MROUND(Inputs!$F$32*$S$3*(1/(1+J140*(2-1))),1),MROUND(Inputs!$F$30*$S$3*(1/(1+J140*(2-1))),1)),\nMROUND(Inputs!$C$15*(1/(1+J140*(2-1)))*($P$3+$P$4),1)))))","v":4681},{"$f":"I140-P140","v":277},277,{"$f":"(R140/(1/(1+J140*(2-1))))*O140/LEFT(Inputs!$C$18,1)/5280","v":0.94463763267596501},{"$f":"R140/P140*60","v":3.5505233924375132},{"$f":"(T140/60)*((Inputs!$C$13*Calculations!R140*(1-Calculations!J140))+(Inputs!$C$14*Calculations!R140*Calculations!J140))","v":377.13754155095069},{"$f":"IF(R140>0,($J$5/60)*(((I140*$J$3/(1-$J$3))*(1-J140)*Inputs!$C$13)+((I140*$J$3/(1-$J$3))*J140*Inputs!$C$14)),0)","v":0},{"$f":"U140+V140","v":377.13754155095069},null,"2019-08-06T09:00:00","S140",{"$f":"IF(ISNUMBER(AD140),SUBSTITUTE(ADDRESS(1,COLUMN($S$10),4),\"1\",\"\")&ROW(AA140),\"\")","v":""},{"$f":"IF(AND(Z140<>\"\",AA140<>\"\"),MAX(INDIRECT(Z140):INDIRECT(AA140)),\"\")","v":""},{"$f":"IF(AND(S140>0,S139=0),$Y140,IF(AND(S140>0,S139>0),\"Q\",\"\"))","v":"2019-08-06T09:00:00"},"Q",null,{"$f":"IF(G140=\"TRUE 1\",IF(E140=\"NT\",MROUND(Inputs!$C$32*$AF$3*(1/(1+M140*(2-1))),1),MROUND(Inputs!$C$30*$AF$3*(1/(1+M140*(2-1))),1)),\nIF(G140=\"TRUE 2\",IF(E140=\"NT\",MROUND(Inputs!$D$32*$AG$3*(1/(1+M140*(2-1))),1),MROUND(Inputs!$D$30*$AG$3*(1/(1+M140*(2-1))),1)),\nIF(G140=\"TRUE 3\",IF(E140=\"NT\",MROUND(Inputs!$E$32*$AH$3*(1/(1+M140*(2-1))),1),MROUND(Inputs!$E$30*$AH$3*(1/(1+M140*(2-1))),1)),\nIF(G140=\"TRUE 4\",IF(E140=\"NT\",MROUND(Inputs!$F$32*$AI$3*(1/(1+M140*(2-1))),1),MROUND(Inputs!$F$30*$AI$3*(1/(1+M140*(2-1))),1)),\nMROUND(Inputs!$C$15*(1/(1+M140*(2-1)))*($AF$3+$AF$4),1)))))","v":4681},{"$f":"L140-AF140","v":-915},0,{"$f":"(AH140/(1/(1+M140*(2-1))))*O140/LEFT(Inputs!$C$18,1)/5280","v":0},0,{"$f":"(AJ140/60)*((Inputs!$C$13*Calculations!AH140*(1-Calculations!M140))+(Inputs!$C$14*Calculations!AH140*Calculations!M140))","v":0},{"$f":"IF(AH140>0,($M$5/60)*(((L140*$M$3/(1-$M$3))*(1-M140)*Inputs!$C$13)+((L140*$M$3/(1-$M$3))*M140*Inputs!$C$14)),0)","v":0},{"$f":"AK140+AL140","v":0},null,"2019-08-06T09:00:00","",{"$f":"IF(ISNUMBER(AT140),SUBSTITUTE(ADDRESS(1,COLUMN($AI$10),4),\"1\",\"\")&ROW(AQ140),\"\")","v":""},{"$f":"IF(AND(AP140<>\"\",AQ140<>\"\"),MAX(INDIRECT(AP140):INDIRECT(AQ140)),\"\")","v":""},{"$f":"IF(AND(AI140>0,AI139=0),$Y140,IF(AND(AI140>0,AI139>0),\"Q\",\"\"))","v":""},""]
["2019-08-06",3,"Tuesday","10:00:00",{"$f":"INDEX(Lists!$M$3:$M$26,MATCH(Calculations!D141,Lists!$L$3:$L$26,0))","v":"MD"},58,{"$f":"IF(INDEX(Inputs!$H$86:$H$253,MATCH(F141,Inputs!$D$86:$D$253,0)),\"TRUE 4\",\nIF(INDEX(Inputs!$G$86:$G$253,MATCH(F141,Inputs!$D$86:$D$253,0)),\"TRUE 3\",\nIF(INDEX(Inputs!$F$86:$F$253,MATCH(F141,Inputs!$D$86:$D$253,0)),\"TRUE 2\",\nIF(INDEX(Inputs!$E$86:$E$253,MATCH(F141,Inputs!$D$86:$D$253,0)),\"TRUE 1\",\nFALSE))))","v":"TRUE 1"},null,{"$f":"'Volume Import'!C132*'Volume Import'!$H$14*(1+'Volume Import'!$H$15)*(1-'Volume Import'!$H$16)","v":4628},{"$f":"IF(AND('Volume Import'!D132=0,'Volume Import'!C132=0),0,\nIF('Volume Import'!D132=0,INDEX('Volume Import'!$K$2:$Q$5,MATCH(E141,'Volume Import'!$R$2:$R$5,0),MATCH(C141,'Volume Import'!$K$1:$Q$1,0)),\n'Volume Import'!D132/'Volume Import'!C132))","v":0.1},null,{"$f":"'Volume Import'!E132*'Volume Import'!$I$14*(1+'Volume Import'!$I$15)*(1-'Volume Import'!$I$16)","v":3747},{"$f":"IF('Volume Import'!F132=0,J141,'Volume Import'!F132/'Volume Import'!E132)","v":0.1},null,{"$f":"IF(G141=\"TRUE 1\",IF(E141=\"NT\",Inputs!$C$35,Inputs!$C$34),\nIF(G141=\"TRUE 2\",IF(E141=\"NT\",Inputs!$D$35,Inputs!$D$34),\nIF(G141=\"TRUE 3\",IF(E141=\"NT\",Inputs!$E$35,Inputs!$E$34),\nIF(G141=\"TRUE 4\",IF(E141=\"NT\",Inputs!$F$35,Inputs!$F$34),\nO140))))","v":65.476687896673383},{"$f":"IF(G141=\"TRUE 1\",IF(E141=\"NT\",MROUND(Inputs!$C$32*$P$3*(1/(1+J141*(2-1))),1),MROUND(Inputs!$C$30*$P$3*(1/(1+J141*(2-1))),1)),\nIF(G141=\"TRUE 2\",IF(E141=\"NT\",MROUND(Inputs!$D$32*$Q$3*(1/(1+J141*(2-1))),1),MROUND(Inputs!$D$30*$Q$3*(1/(1+J141*(2-1))),1)),\nIF(G141=\"TRUE 3\",IF(E141=\"NT\",MROUND(Inputs!$E$32*$R$3*(1/(1+J141*(2-1))),1),MROUND(Inputs!$E$30*$R$3*(1/(1+J141*(2-1))),1)),\nIF(G141=\"TRUE 4\",IF(E141=\"NT\",MROUND(Inputs!$F$32*$S$3*(1/(1+J141*(2-1))),1),MROUND(Inputs!$F$30*$S$3*(1/(1+J141*(2-1))),1)),\nMROUND(Inputs!$C$15*(1/(1+J141*(2-1)))*($P$3+$P$4),1)))))","v":4681},-53,{"$f":"IF(R140+Q141<0,0,R140+Q141)","v":224},{"$f":"(R141/(1/(1+J141*(2-1))))*O141/LEFT(Inputs!$C$18,1)/5280","v":0.7638946921278561},2.871181371501816,{"$f":"(T141/60)*((Inputs!$C$13*Calculations!R141*(1-Calculations!J141))+(Inputs!$C$14*Calculations!R141*Calculations!J141))","v":246.62452638325149},{"$f":"IF(R141>0,($J$5/60)*(((I141*$J$3/(1-$J$3))*(1-J141)*Inputs!$C$13)+((I141*$J$3/(1-$J$3))*J141*Inputs!$C$14)),0)","v":0},246.62452638325149,null,{"$f":"Y140+1/24","v":"2019-08-06T10:00:00"},"S140","S141",{"$f":"IF(AND(Z141<>\"\",AA141<>\"\"),MAX(INDIRECT(Z141):INDIRECT(AA141)),\"\")","v":0.94463763267596501},"Q","2019-08-06T10:00:00",null,{"$f":"IF(G141=\"TRUE 1\",IF(E141=\"NT\",MROUND(Inputs!$C$32*$AF$3*(1/(1+M141*(2-1))),1),MROUND(Inputs!$C$30*$AF$3*(1/(1+M141*(2-1))),1)),\nIF(G141=\"TRUE 2\",IF(E141=\"NT\",MROUND(Inputs!$D$32*$AG$3*(1/(1+M141*(2-1))),1),MROUND(Inputs!$D$30*$AG$3*(1/(1+M141*(2-1))),1)),\nIF(G141=\"TRUE 3\",IF(E141=\"NT\",MROUND(Inputs!$E$32*$AH$3*(1/(1+M141*(2-1))),1),MROUND(Inputs!$E$30*$AH$3*(1/(1+M141*(2-1))),1)),\nIF(G141=\"TRUE 4\",IF(E141=\"NT\",MROUND(Inputs!$F$32*$AI$3*(1/(1+M141*(2-1))),1),MROUND(Inputs!$F$30*$AI$3*(1/(1+M141*(2-1))),1)),\nMROUND(Inputs!$C$15*(1/(1+M141*(2-1)))*($AF$3+$AF$4),1)))))","v":4681},-934,{"$f":"IF(AH140+AG141<0,0,AH140+AG141)","v":0},{"$f":"(AH141/(1/(1+M141*(2-1))))*O141/LEFT(Inputs!$C$18,1)/5280","v":0},0,{"$f":"(AJ141/60)*((Inputs!$C$13*Calculations!AH141*(1-Calculations!M141))+(Inputs!$C$14*Calculations!AH141*Calculations!M141))","v":0},{"$f":"IF(AH141>0,($M$5/60)*(((L141*$M$3/(1-$M$3))*(1-M141)*Inputs!$C$13)+((L141*$M$3/(1-$M$3))*M141*Inputs!$C$14)),0)","v":0},0,null,{"$f":"AO140+1/24","v":"2019-08-06T10:00:00"},{"$f":"IF(AND(AS141=\"\",AT141=\"\"),\"\",IF(ISNUMBER(AS141),SUBSTITUTE(ADDRESS(1,COLUMN($AI$10),4),\"1\",\"\")&ROW(AP141),AP140))","v":""},"",{"$f":"IF(AND(AP141<>\"\",AQ141<>\"\"),MAX(INDIRECT(AP141):INDIRECT(AQ141)),\"\")","v":""},"",""]
["2019-08-06",3,"Tuesday","11:00:00",{"$f":"INDEX(Lists!$M$3:$M$26,MATCH(Calculations!D142,Lists!$L$3:$L$26,0))","v":"MD"},59,{"$f":"IF(INDEX(Inputs!$H$86:$H$253,MATCH(F142,Inputs!$D$86:$D$253,0)),\"TRUE 4\",\nIF(INDEX(Inputs!$G$86:$G$253,MATCH(F142,Inputs!$D$86:$D$253,0)),\"TRUE 3\",\nIF(INDEX(Inputs!$F$86:$F$253,MATCH(F142,Inputs!$D$86:$D$253,0)),\"TRUE 2\",\nIF(INDEX(Inputs!$E$86:$E$253,MATCH(F142,Inputs!$D$86:$D$253,0)),\"TRUE 1\",\nFALSE))))","v":"TRUE 1"},null,{"$f":"'Volume Import'!C133*'Volume Import'!$H$14*(1+'Volume Import'!$H$15)*(1-'Volume Import'!$H$16)","v":4455},{"$f":"IF(AND('Volume Import'!D133=0,'Volume Import'!C133=0),0,\nIF('Volume Import'!D133=0,INDEX('Volume Import'!$K$2:$Q$5,MATCH(E142,'Volume Import'!$R$2:$R$5,0),MATCH(C142,'Volume Import'!$K$1:$Q$1,0)),\n'Volume Import'!D133/'Volume Import'!C133))","v":0.1},null,{"$f":"'Volume Import'!E133*'Volume Import'!$I$14*(1+'Volume Import'!$I$15)*(1-'Volume Import'!$I$16)","v":4012},{"$f":"IF('Volume Import'!F133=0,J142,'Volume Import'!F133/'Volume Import'!E133)","v":0.1},null,{"$f":"IF(G142=\"TRUE 1\",IF(E142=\"NT\",Inputs!$C$35,Inputs!$C$34),\nIF(G142=\"TRUE 2\",IF(E142=\"NT\",Inputs!$D$35,Inputs!$D$34),\nIF(G142=\"TRUE 3\",IF(E142=\"NT\",Inputs!$E$35,Inputs!$E$34),\nIF(G142=\"TRUE 4\",IF(E142=\"NT\",Inputs!$F$35,Inputs!$F$34),\nO141))))","v":65.476687896673383},{"$f":"IF(G142=\"TRUE 1\",IF(E142=\"NT\",MROUND(Inputs!$C$32*$P$3*(1/(1+J142*(2-1))),1),MROUND(Inputs!$C$30*$P$3*(1/(1+J142*(2-1))),1)),\nIF(G142=\"TRUE 2\",IF(E142=\"NT\",MROUND(Inputs!$D$32*$Q$3*(1/(1+J142*(2-1))),1),MROUND(Inputs!$D$30*$Q$3*(1/(1+J142*(2-1))),1)),\nIF(G142=\"TRUE 3\",IF(E142=\"NT\",MROUND(Inputs!$E$32*$R$3*(1/(1+J142*(2-1))),1),MROUND(Inputs!$E$30*$R$3*(1/(1+J142*(2-1))),1)),\nIF(G142=\"TRUE 4\",IF(E142=\"NT\",MROUND(Inputs!$F$32*$S$3*(1/(1+J142*(2-1))),1),MROUND(Inputs!$F$30*$S$3*(1/(1+J142*(2-1))),1)),\nMROUND(Inputs!$C$15*(1/(1+J142*(2-1)))*($P$3+$P$4),1)))))","v":4681},-226,0,{"$f":"(R142/(1/(1+J142*(2-1))))*O142/LEFT(Inputs!$C$18,1)/5280","v":0},0,{"$f":"(T142/60)*((Inputs!$C$13*Calculations!R142*(1-Calculations!J142))+(Inputs!$C$14*Calculations!R142*Calculations!J142))","v":0},{"$f":"IF(R142>0,($J$5/60)*(((I142*$J$3/(1-$J$3))*(1-J142)*Inputs!$C$13)+((I142*$J$3/(1-$J$3))*J142*Inputs!$C$14)),0)","v":0},0,null,"2019-08-06T11:00:00","","",{"$f":"IF(AND(Z142<>\"\",AA142<>\"\"),MAX(INDIRECT(Z142):INDIRECT(AA142)),\"\")","v":""},"","",null,{"$f":"IF(G142=\"TRUE 1\",IF(E142=\"NT\",MROUND(Inputs!$C$32*$AF$3*(1/(1+M142*(2-1))),1),MROUND(Inputs!$C$30*$AF$3*(1/(1+M142*(2-1))),1)),\nIF(G142=\"TRUE 2\",IF(E142=\"NT\",MROUND(Inputs!$D$32*$AG$3*(1/(1+M142*(2-1))),1),MROUND(Inputs!$D$30*$AG$3*(1/(1+M142*(2-1))),1)),\nIF(G142=\"TRUE 3\",IF(E142=\"NT\",MROUND(Inputs!$E$32*$AH$3*(1/(1+M142*(2-1))),1),MROUND(Inputs!$E$30*$AH$3*(1/(1+M142*(2-1))),1)),\nIF(G142=\"TRUE 4\",IF(E142=\"NT\",MROUND(Inputs!$F$32*$AI$3*(1/(1+M142*(2-1))),1),MROUND(Inputs!$F$30*$AI$3*(1/(1+M142*(2-1))),1)),\nMROUND(Inputs!$C$15*(1/(1+M142*(2-1)))*($AF$3+$AF$4),1)))))","v":4681},-669,0,{"$f":"(AH142/(1/(1+M142*(2-1))))*O142/LEFT(Inputs!$C$18,1)/5280","v":0},0,{"$f":"(AJ142/60)*((Inputs!$C$13*Calculations!AH142*(1-Calculations!M142))+(Inputs!$C$14*Calculations!AH142*Calculations!M142))","v":0},{"$f":"IF(AH142>0,($M$5/60)*(((L142*$M$3/(1-$M$3))*(1-M142)*Inputs!$C$13)+((L142*$M$3/(1-$M$3))*M142*Inputs!$C$14)),0)","v":0},0,null,"2019-08-06T11:00:00","","",{"$f":"IF(AND(AP142<>\"\",AQ142<>\"\"),MAX(INDIRECT(AP142):INDIRECT(AQ142)),\"\")","v":""},"",""]
["2019-08-06",3,"Tuesday","12:00:00",{"$f":"INDEX(Lists!$M$3:$M$26,MATCH(Calculations!D143,Lists!$L$3:$L$26,0))","v":"MD"},60,{"$f":"IF(INDEX(Inputs!$H$86:$H$253,MATCH(F143,Inputs!$D$86:$D$253,0)),\"TRUE 4\",\nIF(INDEX(Inputs!$G$86:$G$253,MATCH(F143,Inputs!$D$86:$D$253,0)),\"TRUE 3\",\nIF(INDEX(Inputs!$F$86:$F$253,MATCH(F143,Inputs!$D$86:$D$253,0)),\"TRUE 2\",\nIF(INDEX(Inputs!$E$86:$E$253,MATCH(F143,Inputs!$D$86:$D$253,0)),\"TRUE 1\",\nFALSE))))","v":"TRUE 1"},null,{"$f":"'Volume Import'!C134*'Volume Import'!$H$14*(1+'Volume Import'!$H$15)*(1-'Volume Import'!$H$16)","v":4477},{"$f":"IF(AND('Volume Import'!D134=0,'Volume Import'!C134=0),0,\nIF('Volume Import'!D134=0,INDEX('Volume Import'!$K$2:$Q$5,MATCH(E143,'Volume Import'!$R$2:$R$5,0),MATCH(C143,'Volume Import'!$K$1:$Q$1,0)),\n'Volume Import'!D134/'Volume Import'!C134))","v":0.1},null,{"$f":"'Volume Import'!E134*'Volume Import'!$I$14*(1+'Volume Import'!$I$15)*(1-'Volume Import'!$I$16)","v":4339},{"$f":"IF('Volume Import'!F134=0,J143,'Volume Import'!F134/'Volume Import'!E134)","v":0.1},null,{"$f":"IF(G143=\"TRUE 1\",IF(E143=\"NT\",Inputs!$C$35,Inputs!$C$34),\nIF(G143=\"TRUE 2\",IF(E143=\"NT\",Inputs!$D$35,Inputs!$D$34),\nIF(G143=\"TRUE 3\",IF(E143=\"NT\",Inputs!$E$35,Inputs!$E$34),\nIF(G143=\"TRUE 4\",IF(E143=\"NT\",Inputs!$F$35,Inputs!$F$34),\nO142))))","v":65.476687896673383},{"$f":"IF(G143=\"TRUE 1\",IF(E143=\"NT\",MROUND(Inputs!$C$32*$P$3*(1/(1+J143*(2-1))),1),MROUND(Inputs!$C$30*$P$3*(1/(1+J143*(2-1))),1)),\nIF(G143=\"TRUE 2\",IF(E143=\"NT\",MROUND(Inputs!$D$32*$Q$3*(1/(1+J143*(2-1))),1),MROUND(Inputs!$D$30*$Q$3*(1/(1+J143*(2-1))),1)),\nIF(G143=\"TRUE 3\",IF(E143=\"NT\",MROUND(Inputs!$E$32*$R$3*(1/(1+J143*(2-1))),1),MROUND(Inputs!$E$30*$R$3*(1/(1+J143*(2-1))),1)),\nIF(G143=\"TRUE 4\",IF(E143=\"NT\",MROUND(Inputs!$F$32*$S$3*(1/(1+J143*(2-1))),1),MROUND(Inputs!$F$30*$S$3*(1/(1+J143*(2-1))),1)),\nMROUND(Inputs!$C$15*(1/(1+J143*(2-1)))*($P$3+$P$4),1)))))","v":4681},-204,0,{"$f":"(R143/(1/(1+J143*(2-1))))*O143/LEFT(Inputs!$C$18,1)/5280","v":0},0,{"$f":"(T143/60)*((Inputs!$C$13*Calculations!R143*(1-Calculations!J143))+(Inputs!$C$14*Calculations!R143*Calculations!J143))","v":0},{"$f":"IF(R143>0,($J$5/60)*(((I143*$J$3/(1-$J$3))*(1-J143)*Inputs!$C$13)+((I143*$J$3/(1-$J$3))*J143*Inputs!$C$14)),0)","v":0},0,null,"2019-08-06T12:00:00","","",{"$f":"IF(AND(Z143<>\"\",AA143<>\"\"),MAX(INDIRECT(Z143):INDIRECT(AA143)),\"\")","v":""},"","",null,{"$f":"IF(G143=\"TRUE 1\",IF(E143=\"NT\",MROUND(Inputs!$C$32*$AF$3*(1/(1+M143*(2-1))),1),MROUND(Inputs!$C$30*$AF$3*(1/(1+M143*(2-1))),1)),\nIF(G143=\"TRUE 2\",IF(E143=\"NT\",MROUND(Inputs!$D$32*$AG$3*(1/(1+M143*(2-1))),1),MROUND(Inputs!$D$30*$AG$3*(1/(1+M143*(2-1))),1)),\nIF(G143=\"TRUE 3\",IF(E143=\"NT\",MROUND(Inputs!$E$32*$AH$3*(1/(1+M143*(2-1))),1),MROUND(Inputs!$E$30*$AH$3*(1/(1+M143*(2-1))),1)),\nIF(G143=\"TRUE 4\",IF(E143=\"NT\",MROUND(Inputs!$F$32*$AI$3*(1/(1+M143*(2-1))),1),MROUND(Inputs!$F$30*$AI$3*(1/(1+M143*(2-1))),1)),\nMROUND(Inputs!$C$15*(1/(1+M143*(2-1)))*($AF$3+$AF$4),1)))))","v":4681},-342,0,{"$f":"(AH143/(1/(1+M143*(2-1))))*O143/LEFT(Inputs!$C$18,1)/5280","v":0},0,{"$f":"(AJ143/60)*((Inputs!$C$13*Calculations!AH143*(1-Calculations!M143))+(Inputs!$C$14*Calculations!AH143*Calculations!M143))","v":0},{"$f":"IF(AH143>0,($M$5/60)*(((L143*$M$3/(1-$M$3))*(1-M143)*Inputs!$C$13)+((L143*$M$3/(1-$M$3))*M143*Inputs!$C$14)),0)","v":0},0,null,"2019-08-06T12:00:00","","",{"$f":"IF(AND(AP143<>\"\",AQ143<>\"\"),MAX(INDIRECT(AP143):INDIRECT(AQ143)),\"\")","v":""},"",""]
["2019-08-06",3,"Tuesday","13:00:00",{"$f":"INDEX(Lists!$M$3:$M$26,MATCH(Calculations!D144,Lists!$L$3:$L$26,0))","v":"MD"},61,{"$f":"IF(INDEX(Inputs!$H$86:$H$253,MATCH(F144,Inputs!$D$86:$D$253,0)),\"TRUE 4\",\nIF(INDEX(Inputs!$G$86:$G$253,MATCH(F144,Inputs!$D$86:$D$253,0)),\"TRUE 3\",\nIF(INDEX(Inputs!$F$86:$F$253,MATCH(F144,Inputs!$D$86:$D$253,0)),\"TRUE 2\",\nIF(INDEX(Inputs!$E$86:$E$253,MATCH(F144,Inputs!$D$86:$D$253,0)),\"TRUE 1\",\nFALSE))))","v":"TRUE 1"},null,{"$f":"'Volume Import'!C135*'Volume Import'!$H$14*(1+'Volume Import'!$H$15)*(1-'Volume Import'!$H$16)","v":4473},{"$f":"IF(AND('Volume Import'!D135=0,'Volume Import'!C135=0),0,\nIF('Volume Import'!D135=0,INDEX('Volume Import'!$K$2:$Q$5,MATCH(E144,'Volume Import'!$R$2:$R$5,0),MATCH(C144,'Volume Import'!$K$1:$Q$1,0)),\n'Volume Import'!D135/'Volume Import'!C135))","v":0.1},null,{"$f":"'Volume Import'!E135*'Volume Import'!$I$14*(1+'Volume Import'!$I$15)*(1-'Volume Import'!$I$16)","v":4604},{"$f":"IF('Volume Import'!F135=0,J144,'Volume Import'!F135/'Volume Import'!E135)","v":0.1},null,{"$f":"IF(G144=\"TRUE 1\",IF(E144=\"NT\",Inputs!$C$35,Inputs!$C$34),\nIF(G144=\"TRUE 2\",IF(E144=\"NT\",Inputs!$D$35,Inputs!$D$34),\nIF(G144=\"TRUE 3\",IF(E144=\"NT\",Inputs!$E$35,Inputs!$E$34),\nIF(G144=\"TRUE 4\",IF(E144=\"NT\",Inputs!$F$35,Inputs!$F$34),\nO143))))","v":65.476687896673383},{"$f":"IF(G144=\"TRUE 1\",IF(E144=\"NT\",MROUND(Inputs!$C$32*$P$3*(1/(1+J144*(2-1))),1),MROUND(Inputs!$C$30*$P$3*(1/(1+J144*(2-1))),1)),\nIF(G144=\"TRUE 2\",IF(E144=\"NT\",MROUND(Inputs!$D$32*$Q$3*(1/(1+J144*(2-1))),1),MROUND(Inputs!$D$30*$Q$3*(1/(1+J144*(2-1))),1)),\nIF(G144=\"TRUE 3\",IF(E144=\"NT\",MROUND(Inputs!$E$32*$R$3*(1/(1+J144*(2-1))),1),MROUND(Inputs!$E$30*$R$3*(1/(1+J144*(2-1))),1)),\nIF(G144=\"TRUE 4\",IF(E144=\"NT\",MROUND(Inputs!$F$32*$S$3*(1/(1+J144*(2-1))),1),MROUND(Inputs!$F$30*$S$3*(1/(1+J144*(2-1))),1)),\nMROUND(Inputs!$C$15*(1/(1+J144*(2-1)))*($P$3+$P$4),1)))))","v":4681},-208,0,{"$f":"(R144/(1/(1+J144*(2-1))))*O144/LEFT(Inputs!$C$18,1)/5280","v":0},0,{"$f":"(T144/60)*((Inputs!$C$13*Calculations!R144*(1-Calculations!J144))+(Inputs!$C$14*Calculations!R144*Calculations!J144))","v":0},{"$f":"IF(R144>0,($J$5/60)*(((I144*$J$3/(1-$J$3))*(1-J144)*Inputs!$C$13)+((I144*$J$3/(1-$J$3))*J144*Inputs!$C$14)),0)","v":0},0,null,"2019-08-06T13:00:00","","",{"$f":"IF(AND(Z144<>\"\",AA144<>\"\"),MAX(INDIRECT(Z144):INDIRECT(AA144)),\"\")","v":""},"","",null,{"$f":"IF(G144=\"TRUE 1\",IF(E144=\"NT\",MROUND(Inputs!$C$32*$AF$3*(1/(1+M144*(2-1))),1),MROUND(Inputs!$C$30*$AF$3*(1/(1+M144*(2-1))),1)),\nIF(G144=\"TRUE 2\",IF(E144=\"NT\",MROUND(Inputs!$D$32*$AG$3*(1/(1+M144*(2-1))),1),MROUND(Inputs!$D$30*$AG$3*(1/(1+M144*(2-1))),1)),\nIF(G144=\"TRUE 3\",IF(E144=\"NT\",MROUND(Inputs!$E$32*$AH$3*(1/(1+M144*(2-1))),1),MROUND(Inputs!$E$30*$AH$3*(1/(1+M144*(2-1))),1)),\nIF(G144=\"TRUE 4\",IF(E144=\"NT\",MROUND(Inputs!$F$32*$AI$3*(1/(1+M144*(2-1))),1),MROUND(Inputs!$F$30*$AI$3*(1/(1+M144*(2-1))),1)),\nMROUND(Inputs!$C$15*(1/(1+M144*(2-1)))*($AF$3+$AF$4),1)))))","v":4681},-77,0,{"$f":"(AH144/(1/(1+M144*(2-1))))*O144/LEFT(Inputs!$C$18,1)/5280","v":0},0,{"$f":"(AJ144/60)*((Inputs!$C$13*Calculations!AH144*(1-Calculations!M144))+(Inputs!$C$14*Calculations!AH144*Calculations!M144))","v":0},{"$f":"IF(AH144>0,($M$5/60)*(((L144*$M$3/(1-$M$3))*(1-M144)*Inputs!$C$13)+((L144*$M$3/(1-$M$3))*M144*Inputs!$C$14)),0)","v":0},0,null,"2019-08-06T13:00:00","","",{"$f":"IF(AND(AP144<>\"\",AQ144<>\"\"),MAX(INDIRECT(AP144):INDIRECT(AQ144)),\"\")","v":""},"",""]
["2019-08-06",3,"Tuesday","14:00:00",{"$f":"INDEX(Lists!$M$3:$M$26,MATCH(Calculations!D145,Lists!$L$3:$L$26,0))","v":"MD"},62,{"$f":"IF(INDEX(Inputs!$H$86:$H$253,MATCH(F145,Inputs!$D$86:$D$253,0)),\"TRUE 4\",\nIF(INDEX(Inputs!$G$86:$G$253,MATCH(F145,Inputs!$D$86:$D$253,0)),\"TRUE 3\",\nIF(INDEX(Inputs!$F$86:$F$253,MATCH(F145,Inputs!$D$86:$D$253,0)),\"TRUE 2\",\nIF(INDEX(Inputs!$E$86:$E$253,MATCH(F145,Inputs!$D$86:$D$253,0)),\"TRUE 1\",\nFALSE))))","v":false},null,{"$f":"'Volume Import'!C136*'Volume Import'!$H$14*(1+'Volume Import'!$H$15)*(1-'Volume Import'!$H$16)","v":5080},{"$f":"IF(AND('Volume Import'!D136=0,'Volume Import'!C136=0),0,\nIF('Volume Import'!D136=0,INDEX('Volume Import'!$K$2:$Q$5,MATCH(E145,'Volume Import'!$R$2:$R$5,0),MATCH(C145,'Volume Import'!$K$1:$Q$1,0)),\n'Volume Import'!D136/'Volume Import'!C136))","v":0.1},null,{"$f":"'Volume Import'!E136*'Volume Import'!$I$14*(1+'Volume Import'!$I$15)*(1-'Volume Import'!$I$16)","v":5842},{"$f":"IF('Volume Import'!F136=0,J145,'Volume Import'!F136/'Volume Import'!E136)","v":0.1},null,{"$f":"IF(G145=\"TRUE 1\",IF(E145=\"NT\",Inputs!$C$35,Inputs!$C$34),\nIF(G145=\"TRUE 2\",IF(E145=\"NT\",Inputs!$D$35,Inputs!$D$34),\nIF(G145=\"TRUE 3\",IF(E145=\"NT\",Inputs!$E$35,Inputs!$E$34),\nIF(G145=\"TRUE 4\",IF(E145=\"NT\",Inputs!$F$35,Inputs!$F$34),\nO144))))","v":65.476687896673383},{"$f":"IF(G145=\"TRUE 1\",IF(E145=\"NT\",MROUND(Inputs!$C$32*$P$3*(1/(1+J145*(2-1))),1),MROUND(Inputs!$C$30*$P$3*(1/(1+J145*(2-1))),1)),\nIF(G145=\"TRUE 2\",IF(E145=\"NT\",MROUND(Inputs!$D$32*$Q$3*(1/(1+J145*(2-1))),1),MROUND(Inputs!$D$30*$Q$3*(1/(1+J145*(2-1))),1)),\nIF(G145=\"TRUE 3\",IF(E145=\"NT\",MROUND(Inputs!$E$32*$R$3*(1/(1+J145*(2-1))),1),MROUND(Inputs!$E$30*$R$3*(1/(1+J145*(2-1))),1)),\nIF(G145=\"TRUE 4\",IF(E145=\"NT\",MROUND(Inputs!$F$32*$S$3*(1/(1+J145*(2-1))),1),MROUND(Inputs!$F$30*$S$3*(1/(1+J145*(2-1))),1)),\nMROUND(Inputs!$C$15*(1/(1+J145*(2-1)))*($P$3+$P$4),1)))))","v":8727},-3647,0,{"$f":"(R145/(1/(1+J145*(2-1))))*O145/LEFT(Inputs!$C$18,1)/5280","v":0},0,{"$f":"(T145/60)*((Inputs!$C$13*Calculations!R145*(1-Calculations!J145))+(Inputs!$C$14*Calculations!R145*Calculations!J145))","v":0},{"$f":"IF(R145>0,($J$5/60)*(((I145*$J$3/(1-$J$3))*(1-J145)*Inputs!$C$13)+((I145*$J$3/(1-$J$3))*J145*Inputs!$C$14)),0)","v":0},0,null,"2019-08-06T14:00:00","","",{"$f":"IF(AND(Z145<>\"\",AA145<>\"\"),MAX(INDIRECT(Z145):INDIRECT(AA145)),\"\")","v":""},"","",null,{"$f":"IF(G145=\"TRUE 1\",IF(E145=\"NT\",MROUND(Inputs!$C$32*$AF$3*(1/(1+M145*(2-1))),1),MROUND(Inputs!$C$30*$AF$3*(1/(1+M145*(2-1))),1)),\nIF(G145=\"TRUE 2\",IF(E145=\"NT\",MROUND(Inputs!$D$32*$AG$3*(1/(1+M145*(2-1))),1),MROUND(Inputs!$D$30*$AG$3*(1/(1+M145*(2-1))),1)),\nIF(G145=\"TRUE 3\",IF(E145=\"NT\",MROUND(Inputs!$E$32*$AH$3*(1/(1+M145*(2-1))),1),MROUND(Inputs!$E$30*$AH$3*(1/(1+M145*(2-1))),1)),\nIF(G145=\"TRUE 4\",IF(E145=\"NT\",MROUND(Inputs!$F$32*$AI$3*(1/(1+M145*(2-1))),1),MROUND(Inputs!$F$30*$AI$3*(1/(1+M145*(2-1))),1)),\nMROUND(Inputs!$C$15*(1/(1+M145*(2-1)))*($AF$3+$AF$4),1)))))","v":8727},-2885,0,{"$f":"(AH145/(1/(1+M145*(2-1))))*O145/LEFT(Inputs!$C$18,1)/5280","v":0},0,{"$f":"(AJ145/60)*((Inputs!$C$13*Calculations!AH145*(1-Calculations!M145))+(Inputs!$C$14*Calculations!AH145*Calculations!M145))","v":0},{"$f":"IF(AH145>0,($M$5/60)*(((L145*$M$3/(1-$M$3))*(1-M145)*Inputs!$C$13)+((L145*$M$3/(1-$M$3))*M145*Inputs!$C$14)),0)","v":0},0,null,"2019-08-06T14:00:00","","",{"$f":"IF(AND(AP145<>\"\",AQ145<>\"\"),MAX(INDIRECT(AP145):INDIRECT(AQ145)),\"\")","v":""},"",""]
["2019-08-06",3,"Tuesday","15:00:00",{"$f":"INDEX(Lists!$M$3:$M$26,MATCH(Calculations!D146,Lists!$L$3:$L$26,0))","v":"PM"},63,{"$f":"IF(INDEX(Inputs!$H$86:$H$253,MATCH(F146,Inputs!$D$86:$D$253,0)),\"TRUE 4\",\nIF(INDEX(Inputs!$G$86:$G$253,MATCH(F146,Inputs!$D$86:$D$253,0)),\"TRUE 3\",\nIF(INDEX(Inputs!$F$86:$F$253,MATCH(F146,Inputs!$D$86:$D$253,0)),\"TRUE 2\",\nIF(INDEX(Inputs!$E$86:$E$253,MATCH(F146,Inputs!$D$86:$D$253,0)),\"TRUE 1\",\nFALSE))))","v":false},null,{"$f":"'Volume Import'!C137*'Volume Import'!$H$14*(1+'Volume Import'!$H$15)*(1-'Volume Import'!$H$16)","v":5224},{"$f":"IF(AND('Volume Import'!D137=0,'Volume Import'!C137=0),0,\nIF('Volume Import'!D137=0,INDEX('Volume Import'!$K$2:$Q$5,MATCH(E146,'Volume Import'!$R$2:$R$5,0),MATCH(C146,'Volume Import'!$K$1:$Q$1,0)),\n'Volume Import'!D137/'Volume Import'!C137))","v":0.1},null,{"$f":"'Volume Import'!E137*'Volume Import'!$I$14*(1+'Volume Import'!$I$15)*(1-'Volume Import'!$I$16)","v":6888},{"$f":"IF('Volume Import'!F137=0,J146,'Volume Import'!F137/'Volume Import'!E137)","v":0.1},null,{"$f":"IF(G146=\"TRUE 1\",IF(E146=\"NT\",Inputs!$C$35,Inputs!$C$34),\nIF(G146=\"TRUE 2\",IF(E146=\"NT\",Inputs!$D$35,Inputs!$D$34),\nIF(G146=\"TRUE 3\",IF(E146=\"NT\",Inputs!$E$35,Inputs!$E$34),\nIF(G146=\"TRUE 4\",IF(E146=\"NT\",Inputs!$F$35,Inputs!$F$34),\nO145))))","v":65.476687896673383},{"$f":"IF(G146=\"TRUE 1\",IF(E146=\"NT\",MROUND(Inputs!$C$32*$P$3*(1/(1+J146*(2-1))),1),MROUND(Inputs!$C$30*$P$3*(1/(1+J146*(2-1))),1)),\nIF(G146=\"TRUE 2\",IF(E146=\"NT\",MROUND(Inputs!$D$32*$Q$3*(1/(1+J146*(2-1))),1),MROUND(Inputs!$D$30*$Q$3*(1/(1+J146*(2-1))),1)),\nIF(G146=\"TRUE 3\",IF(E146=\"NT\",MROUND(Inputs!$E$32*$R$3*(1/(1+J146*(2-1))),1),MROUND(Inputs!$E$30*$R$3*(1/(1+J146*(2-1))),1)),\nIF(G146=\"TRUE 4\",IF(E146=\"NT\",MROUND(Inputs!$F$32*$S$3*(1/(1+J146*(2-1))),1),MROUND(Inputs!$F$30*$S$3*(1/(1+J146*(2-1))),1)),\nMROUND(Inputs!$C$15*(1/(1+J146*(2-1)))*($P$3+$P$4),1)))))","v":8727},-3503,0,{"$f":"(R146/(1/(1+J146*(2-1))))*O146/LEFT(Inputs!$C$18,1)/5280","v":0},0,{"$f":"(T146/60)*((Inputs!$C$13*Calculations!R146*(1-Calculations!J146))+(Inputs!$C$14*Calculations!R146*Calculations!J146))","v":0},{"$f":"IF(R146>0,($J$5/60)*(((I146*$J$3/(1-$J$3))*(1-J146)*Inputs!$C$13)+((I146*$J$3/(1-$J$3))*J146*Inputs!$C$14)),0)","v":0},0,null,"2019-08-06T15:00:00","","",{"$f":"IF(AND(Z146<>\"\",AA146<>\"\"),MAX(INDIRECT(Z146):INDIRECT(AA146)),\"\")","v":""},"","",null,{"$f":"IF(G146=\"TRUE 1\",IF(E146=\"NT\",MROUND(Inputs!$C$32*$AF$3*(1/(1+M146*(2-1))),1),MROUND(Inputs!$C$30*$AF$3*(1/(1+M146*(2-1))),1)),\nIF(G146=\"TRUE 2\",IF(E146=\"NT\",MROUND(Inputs!$D$32*$AG$3*(1/(1+M146*(2-1))),1),MROUND(Inputs!$D$30*$AG$3*(1/(1+M146*(2-1))),1)),\nIF(G146=\"TRUE 3\",IF(E146=\"NT\",MROUND(Inputs!$E$32*$AH$3*(1/(1+M146*(2-1))),1),MROUND(Inputs!$E$30*$AH$3*(1/(1+M146*(2-1))),1)),\nIF(G146=\"TRUE 4\",IF(E146=\"NT\",MROUND(Inputs!$F$32*$AI$3*(1/(1+M146*(2-1))),1),MROUND(Inputs!$F$30*$AI$3*(1/(1+M146*(2-1))),1)),\nMROUND(Inputs!$C$15*(1/(1+M146*(2-1)))*($AF$3+$AF$4),1)))))","v":8727},-1839,0,{"$f":"(AH146/(1/(1+M146*(2-1))))*O146/LEFT(Inputs!$C$18,1)/5280","v":0},0,{"$f":"(AJ146/60)*((Inputs!$C$13*Calculations!AH146*(1-Calculations!M146))+(Inputs!$C$14*Calculations!AH146*Calculations!M146))","v":0},{"$f":"IF(AH146>0,($M$5/60)*(((L146*$M$3/(1-$M$3))*(1-M146)*Inputs!$C$13)+((L146*$M$3/(1-$M$3))*M146*Inputs!$C$14)),0)","v":0},0,null,"2019-08-06T15:00:00","","",{"$f":"IF(AND(AP146<>\"\",AQ146<>\"\"),MAX(INDIRECT(AP146):INDIRECT(AQ146)),\"\")","v":""},"",""]
["2019-08-06",3,"Tuesday","16:00:00",{"$f":"INDEX(Lists!$M$3:$M$26,MATCH(Calculations!D147,Lists!$L$3:$L$26,0))","v":"PM"},64,{"$f":"IF(INDEX(Inputs!$H$86:$H$253,MATCH(F147,Inputs!$D$86:$D$253,0)),\"TRUE 4\",\nIF(INDEX(Inputs!$G$86:$G$253,MATCH(F147,Inputs!$D$86:$D$253,0)),\"TRUE 3\",\nIF(INDEX(Inputs!$F$86:$F$253,MATCH(F147,Inputs!$D$86:$D$253,0)),\"TRUE 2\",\nIF(INDEX(Inputs!$E$86:$E$253,MATCH(F147,Inputs!$D$86:$D$253,0)),\"TRUE 1\",\nFALSE))))","v":false},null,{"$f":"'Volume Import'!C138*'Volume Import'!$H$14*(1+'Volume Import'!$H$15)*(1-'Volume Import'!$H$16)","v":5268},{"$f":"IF(AND('Volume Import'!D138=0,'Volume Import'!C138=0),0,\nIF('Volume Import'!D138=0,INDEX('Volume Import'!$K$2:$Q$5,MATCH(E147,'Volume Import'!$R$2:$R$5,0),MATCH(C147,'Volume Import'!$K$1:$Q$1,0)),\n'Volume Import'!D138/'Volume Import'!C138))","v":0.1},null,{"$f":"'Volume Import'!E138*'Volume Import'!$I$14*(1+'Volume Import'!$I$15)*(1-'Volume Import'!$I$16)","v":7300},{"$f":"IF('Volume Import'!F138=0,J147,'Volume Import'!F138/'Volume Import'!E138)","v":0.1},null,{"$f":"IF(G147=\"TRUE 1\",IF(E147=\"NT\",Inputs!$C$35,Inputs!$C$34),\nIF(G147=\"TRUE 2\",IF(E147=\"NT\",Inputs!$D$35,Inputs!$D$34),\nIF(G147=\"TRUE 3\",IF(E147=\"NT\",Inputs!$E$35,Inputs!$E$34),\nIF(G147=\"TRUE 4\",IF(E147=\"NT\",Inputs!$F$35,Inputs!$F$34),\nO146))))","v":65.476687896673383},{"$f":"IF(G147=\"TRUE 1\",IF(E147=\"NT\",MROUND(Inputs!$C$32*$P$3*(1/(1+J147*(2-1))),1),MROUND(Inputs!$C$30*$P$3*(1/(1+J147*(2-1))),1)),\nIF(G147=\"TRUE 2\",IF(E147=\"NT\",MROUND(Inputs!$D$32*$Q$3*(1/(1+J147*(2-1))),1),MROUND(Inputs!$D$30*$Q$3*(1/(1+J147*(2-1))),1)),\nIF(G147=\"TRUE 3\",IF(E147=\"NT\",MROUND(Inputs!$E$32*$R$3*(1/(1+J147*(2-1))),1),MROUND(Inputs!$E$30*$R$3*(1/(1+J147*(2-1))),1)),\nIF(G147=\"TRUE 4\",IF(E147=\"NT\",MROUND(Inputs!$F$32*$S$3*(1/(1+J147*(2-1))),1),MROUND(Inputs!$F$30*$S$3*(1/(1+J147*(2-1))),1)),\nMROUND(Inputs!$C$15*(1/(1+J147*(2-1)))*($P$3+$P$4),1)))))","v":8727},-3459,0,{"$f":"(R147/(1/(1+J147*(2-1))))*O147/LEFT(Inputs!$C$18,1)/5280","v":0},0,{"$f":"(T147/60)*((Inputs!$C$13*Calculations!R147*(1-Calculations!J147))+(Inputs!$C$14*Calculations!R147*Calculations!J147))","v":0},{"$f":"IF(R147>0,($J$5/60)*(((I147*$J$3/(1-$J$3))*(1-J147)*Inputs!$C$13)+((I147*$J$3/(1-$J$3))*J147*Inputs!$C$14)),0)","v":0},0,null,"2019-08-06T16:00:00","","",{"$f":"IF(AND(Z147<>\"\",AA147<>\"\"),MAX(INDIRECT(Z147):INDIRECT(AA147)),\"\")","v":""},"","",null,{"$f":"IF(G147=\"TRUE 1\",IF(E147=\"NT\",MROUND(Inputs!$C$32*$AF$3*(1/(1+M147*(2-1))),1),MROUND(Inputs!$C$30*$AF$3*(1/(1+M147*(2-1))),1)),\nIF(G147=\"TRUE 2\",IF(E147=\"NT\",MROUND(Inputs!$D$32*$AG$3*(1/(1+M147*(2-1))),1),MROUND(Inputs!$D$30*$AG$3*(1/(1+M147*(2-1))),1)),\nIF(G147=\"TRUE 3\",IF(E147=\"NT\",MROUND(Inputs!$E$32*$AH$3*(1/(1+M147*(2-1))),1),MROUND(Inputs!$E$30*$AH$3*(1/(1+M147*(2-1))),1)),\nIF(G147=\"TRUE 4\",IF(E147=\"NT\",MROUND(Inputs!$F$32*$AI$3*(1/(1+M147*(2-1))),1),MROUND(Inputs!$F$30*$AI$3*(1/(1+M147*(2-1))),1)),\nMROUND(Inputs!$C$15*(1/(1+M147*(2-1)))*($AF$3+$AF$4),1)))))","v":8727},-1427,0,{"$f":"(AH147/(1/(1+M147*(2-1))))*O147/LEFT(Inputs!$C$18,1)/5280","v":0},0,{"$f":"(AJ147/60)*((Inputs!$C$13*Calculations!AH147*(1-Calculations!M147))+(Inputs!$C$14*Calculations!AH147*Calculations!M147))","v":0},{"$f":"IF(AH147>0,($M$5/60)*(((L147*$M$3/(1-$M$3))*(1-M147)*Inputs!$C$13)+((L147*$M$3/(1-$M$3))*M147*Inputs!$C$14)),0)","v":0},0,null,"2019-08-06T16:00:00","","",{"$f":"IF(AND(AP147<>\"\",AQ147<>\"\"),MAX(INDIRECT(AP147):INDIRECT(AQ147)),\"\")","v":""},"",""]
["2019-08-06",3,"Tuesday","17:00:00",{"$f":"INDEX(Lists!$M$3:$M$26,MATCH(Calculations!D148,Lists!$L$3:$L$26,0))","v":"PM"},65,{"$f":"IF(INDEX(Inputs!$H$86:$H$253,MATCH(F148,Inputs!$D$86:$D$253,0)),\"TRUE 4\",\nIF(INDEX(Inputs!$G$86:$G$253,MATCH(F148,Inputs!$D$86:$D$253,0)),\"TRUE 3\",\nIF(INDEX(Inputs!$F$86:$F$253,MATCH(F148,Inputs!$D$86:$D$253,0)),\"TRUE 2\",\nIF(INDEX(Inputs!$E$86:$E$253,MATCH(F148,Inputs!$D$86:$D$253,0)),\"TRUE 1\",\nFALSE))))","v":false},null,{"$f":"'Volume Import'!C139*'Volume Import'!$H$14*(1+'Volume Import'!$H$15)*(1-'Volume Import'!$H$16)","v":5039},{"$f":"IF(AND('Volume Import'!D139=0,'Volume Import'!C139=0),0,\nIF('Volume Import'!D139=0,INDEX('Volume Import'!$K$2:$Q$5,MATCH(E148,'Volume Import'!$R$2:$R$5,0),MATCH(C148,'Volume Import'!$K$1:$Q$1,0)),\n'Volume Import'!D139/'Volume Import'!C139))","v":0.1},null,{"$f":"'Volume Import'!E139*'Volume Import'!$I$14*(1+'Volume Import'!$I$15)*(1-'Volume Import'!$I$16)","v":6742},{"$f":"IF('Volume Import'!F139=0,J148,'Volume Import'!F139/'Volume Import'!E139)","v":0.1},null,{"$f":"IF(G148=\"TRUE 1\",IF(E148=\"NT\",Inputs!$C$35,Inputs!$C$34),\nIF(G148=\"TRUE 2\",IF(E148=\"NT\",Inputs!$D$35,Inputs!$D$34),\nIF(G148=\"TRUE 3\",IF(E148=\"NT\",Inputs!$E$35,Inputs!$E$34),\nIF(G148=\"TRUE 4\",IF(E148=\"NT\",Inputs!$F$35,Inputs!$F$34),\nO147))))","v":65.476687896673383},{"$f":"IF(G148=\"TRUE 1\",IF(E148=\"NT\",MROUND(Inputs!$C$32*$P$3*(1/(1+J148*(2-1))),1),MROUND(Inputs!$C$30*$P$3*(1/(1+J148*(2-1))),1)),\nIF(G148=\"TRUE 2\",IF(E148=\"NT\",MROUND(Inputs!$D$32*$Q$3*(1/(1+J148*(2-1))),1),MROUND(Inputs!$D$30*$Q$3*(1/(1+J148*(2-1))),1)),\nIF(G148=\"TRUE 3\",IF(E148=\"NT\",MROUND(Inputs!$E$32*$R$3*(1/(1+J148*(2-1))),1),MROUND(Inputs!$E$30*$R$3*(1/(1+J148*(2-1))),1)),\nIF(G148=\"TRUE 4\",IF(E148=\"NT\",MROUND(Inputs!$F$32*$S$3*(1/(1+J148*(2-1))),1),MROUND(Inputs!$F$30*$S$3*(1/(1+J148*(2-1))),1)),\nMROUND(Inputs!$C$15*(1/(1+J148*(2-1)))*($P$3+$P$4),1)))))","v":8727},-3688,0,{"$f":"(R148/(1/(1+J148*(2-1))))*O148/LEFT(Inputs!$C$18,1)/5280","v":0},0,{"$f":"(T148/60)*((Inputs!$C$13*Calculations!R148*(1-Calculations!J148))+(Inputs!$C$14*Calculations!R148*Calculations!J148))","v":0},{"$f":"IF(R148>0,($J$5/60)*(((I148*$J$3/(1-$J$3))*(1-J148)*Inputs!$C$13)+((I148*$J$3/(1-$J$3))*J148*Inputs!$C$14)),0)","v":0},0,null,"2019-08-06T17:00:00","","",{"$f":"IF(AND(Z148<>\"\",AA148<>\"\"),MAX(INDIRECT(Z148):INDIRECT(AA148)),\"\")","v":""},"","",null,{"$f":"IF(G148=\"TRUE 1\",IF(E148=\"NT\",MROUND(Inputs!$C$32*$AF$3*(1/(1+M148*(2-1))),1),MROUND(Inputs!$C$30*$AF$3*(1/(1+M148*(2-1))),1)),\nIF(G148=\"TRUE 2\",IF(E148=\"NT\",MROUND(Inputs!$D$32*$AG$3*(1/(1+M148*(2-1))),1),MROUND(Inputs!$D$30*$AG$3*(1/(1+M148*(2-1))),1)),\nIF(G148=\"TRUE 3\",IF(E148=\"NT\",MROUND(Inputs!$E$32*$AH$3*(1/(1+M148*(2-1))),1),MROUND(Inputs!$E$30*$AH$3*(1/(1+M148*(2-1))),1)),\nIF(G148=\"TRUE 4\",IF(E148=\"NT\",MROUND(Inputs!$F$32*$AI$3*(1/(1+M148*(2-1))),1),MROUND(Inputs!$F$30*$AI$3*(1/(1+M148*(2-1))),1)),\nMROUND(Inputs!$C$15*(1/(1+M148*(2-1)))*($AF$3+$AF$4),1)))))","v":8727},-1985,0,{"$f":"(AH148/(1/(1+M148*(2-1))))*O148/LEFT(Inputs!$C$18,1)/5280","v":0},0,{"$f":"(AJ148/60)*((Inputs!$C$13*Calculations!AH148*(1-Calculations!M148))+(Inputs!$C$14*Calculations!AH148*Calculations!M148))","v":0},{"$f":"IF(AH148>0,($M$5/60)*(((L148*$M$3/(1-$M$3))*(1-M148)*Inputs!$C$13)+((L148*$M$3/(1-$M$3))*M148*Inputs!$C$14)),0)","v":0},0,null,"2019-08-06T17:00:00","","",{"$f":"IF(AND(AP148<>\"\",AQ148<>\"\"),MAX(INDIRECT(AP148):INDIRECT(AQ148)),\"\")","v":""},"",""]
["2019-08-06",3,"Tuesday","18:00:00",{"$f":"INDEX(Lists!$M$3:$M$26,MATCH(Calculations!D149,Lists!$L$3:$L$26,0))","v":"NT"},66,{"$f":"IF(INDEX(Inputs!$H$86:$H$253,MATCH(F149,Inputs!$D$86:$D$253,0)),\"TRUE 4\",\nIF(INDEX(Inputs!$G$86:$G$253,MATCH(F149,Inputs!$D$86:$D$253,0)),\"TRUE 3\",\nIF(INDEX(Inputs!$F$86:$F$253,MATCH(F149,Inputs!$D$86:$D$253,0)),\"TRUE 2\",\nIF(INDEX(Inputs!$E$86:$E$253,MATCH(F149,Inputs!$D$86:$D$253,0)),\"TRUE 1\",\nFALSE))))","v":false},null,{"$f":"'Volume Import'!C140*'Volume Import'!$H$14*(1+'Volume Import'!$H$15)*(1-'Volume Import'!$H$16)","v":3964},{"$f":"IF(AND('Volume Import'!D140=0,'Volume Import'!C140=0),0,\nIF('Volume Import'!D140=0,INDEX('Volume Import'!$K$2:$Q$5,MATCH(E149,'Volume Import'!$R$2:$R$5,0),MATCH(C149,'Volume Import'!$K$1:$Q$1,0)),\n'Volume Import'!D140/'Volume Import'!C140))","v":0.1},null,{"$f":"'Volume Import'!E140*'Volume Import'!$I$14*(1+'Volume Import'!$I$15)*(1-'Volume Import'!$I$16)","v":4899},{"$f":"IF('Volume Import'!F140=0,J149,'Volume Import'!F140/'Volume Import'!E140)","v":0.1},null,{"$f":"IF(G149=\"TRUE 1\",IF(E149=\"NT\",Inputs!$C$35,Inputs!$C$34),\nIF(G149=\"TRUE 2\",IF(E149=\"NT\",Inputs!$D$35,Inputs!$D$34),\nIF(G149=\"TRUE 3\",IF(E149=\"NT\",Inputs!$E$35,Inputs!$E$34),\nIF(G149=\"TRUE 4\",IF(E149=\"NT\",Inputs!$F$35,Inputs!$F$34),\nO148))))","v":65.476687896673383},{"$f":"IF(G149=\"TRUE 1\",IF(E149=\"NT\",MROUND(Inputs!$C$32*$P$3*(1/(1+J149*(2-1))),1),MROUND(Inputs!$C$30*$P$3*(1/(1+J149*(2-1))),1)),\nIF(G149=\"TRUE 2\",IF(E149=\"NT\",MROUND(Inputs!$D$32*$Q$3*(1/(1+J149*(2-1))),1),MROUND(Inputs!$D$30*$Q$3*(1/(1+J149*(2-1))),1)),\nIF(G149=\"TRUE 3\",IF(E149=\"NT\",MROUND(Inputs!$E$32*$R$3*(1/(1+J149*(2-1))),1),MROUND(Inputs!$E$30*$R$3*(1/(1+J149*(2-1))),1)),\nIF(G149=\"TRUE 4\",IF(E149=\"NT\",MROUND(Inputs!$F$32*$S$3*(1/(1+J149*(2-1))),1),MROUND(Inputs!$F$30*$S$3*(1/(1+J149*(2-1))),1)),\nMROUND(Inputs!$C$15*(1/(1+J149*(2-1)))*($P$3+$P$4),1)))))","v":8727},-4763,0,{"$f":"(R149/(1/(1+J149*(2-1))))*O149/LEFT(Inputs!$C$18,1)/5280","v":0},0,{"$f":"(T149/60)*((Inputs!$C$13*Calculations!R149*(1-Calculations!J149))+(Inputs!$C$14*Calculations!R149*Calculations!J149))","v":0},{"$f":"IF(R149>0,($J$5/60)*(((I149*$J$3/(1-$J$3))*(1-J149)*Inputs!$C$13)+((I149*$J$3/(1-$J$3))*J149*Inputs!$C$14)),0)","v":0},0,null,"2019-08-06T18:00:00","","",{"$f":"IF(AND(Z149<>\"\",AA149<>\"\"),MAX(INDIRECT(Z149):INDIRECT(AA149)),\"\")","v":""},"","",null,{"$f":"IF(G149=\"TRUE 1\",IF(E149=\"NT\",MROUND(Inputs!$C$32*$AF$3*(1/(1+M149*(2-1))),1),MROUND(Inputs!$C$30*$AF$3*(1/(1+M149*(2-1))),1)),\nIF(G149=\"TRUE 2\",IF(E149=\"NT\",MROUND(Inputs!$D$32*$AG$3*(1/(1+M149*(2-1))),1),MROUND(Inputs!$D$30*$AG$3*(1/(1+M149*(2-1))),1)),\nIF(G149=\"TRUE 3\",IF(E149=\"NT\",MROUND(Inputs!$E$32*$AH$3*(1/(1+M149*(2-1))),1),MROUND(Inputs!$E$30*$AH$3*(1/(1+M149*(2-1))),1)),\nIF(G149=\"TRUE 4\",IF(E149=\"NT\",MROUND(Inputs!$F$32*$AI$3*(1/(1+M149*(2-1))),1),MROUND(Inputs!$F$30*$AI$3*(1/(1+M149*(2-1))),1)),\nMROUND(Inputs!$C$15*(1/(1+M149*(2-1)))*($AF$3+$AF$4),1)))))","v":8727},-3828,0,{"$f":"(AH149/(1/(1+M149*(2-1))))*O149/LEFT(Inputs!$C$18,1)/5280","v":0},0,{"$f":"(AJ149/60)*((Inputs!$C$13*Calculations!AH149*(1-Calculations!M149))+(Inputs!$C$14*Calculations!AH149*Calculations!M149))","v":0},{"$f":"IF(AH149>0,($M$5/60)*(((L149*$M$3/(1-$M$3))*(1-M149)*Inputs!$C$13)+((L149*$M$3/(1-$M$3))*M149*Inputs!$C$14)),0)","v":0},0,null,"2019-08-06T18:00:00","","",{"$f":"IF(AND(AP149<>\"\",AQ149<>\"\"),MAX(INDIRECT(AP149):INDIRECT(AQ149)),\"\")","v":""},"",""]
["2019-08-06",3,"Tuesday","19:00:00",{"$f":"INDEX(Lists!$M$3:$M$26,MATCH(Calculations!D150,Lists!$L$3:$L$26,0))","v":"NT"},67,{"$f":"IF(INDEX(Inputs!$H$86:$H$253,MATCH(F150,Inputs!$D$86:$D$253,0)),\"TRUE 4\",\nIF(INDEX(Inputs!$G$86:$G$253,MATCH(F150,Inputs!$D$86:$D$253,0)),\"TRUE 3\",\nIF(INDEX(Inputs!$F$86:$F$253,MATCH(F150,Inputs!$D$86:$D$253,0)),\"TRUE 2\",\nIF(INDEX(Inputs!$E$86:$E$253,MATCH(F150,Inputs!$D$86:$D$253,0)),\"TRUE 1\",\nFALSE))))","v":false},null,{"$f":"'Volume Import'!C141*'Volume Import'!$H$14*(1+'Volume Import'!$H$15)*(1-'Volume Import'!$H$16)","v":2791},{"$f":"IF(AND('Volume Import'!D141=0,'Volume Import'!C141=0),0,\nIF('Volume Import'!D141=0,INDEX('Volume Import'!$K$2:$Q$5,MATCH(E150,'Volume Import'!$R$2:$R$5,0),MATCH(C150,'Volume Import'!$K$1:$Q$1,0)),\n'Volume Import'!D141/'Volume Import'!C141))","v":0.1},null,{"$f":"'Volume Import'!E141*'Volume Import'!$I$14*(1+'Volume Import'!$I$15)*(1-'Volume Import'!$I$16)","v":3511},{"$f":"IF('Volume Import'!F141=0,J150,'Volume Import'!F141/'Volume Import'!E141)","v":0.1},null,{"$f":"IF(G150=\"TRUE 1\",IF(E150=\"NT\",Inputs!$C$35,Inputs!$C$34),\nIF(G150=\"TRUE 2\",IF(E150=\"NT\",Inputs!$D$35,Inputs!$D$34),\nIF(G150=\"TRUE 3\",IF(E150=\"NT\",Inputs!$E$35,Inputs!$E$34),\nIF(G150=\"TRUE 4\",IF(E150=\"NT\",Inputs!$F$35,Inputs!$F$34),\nO149))))","v":65.476687896673383},{"$f":"IF(G150=\"TRUE 1\",IF(E150=\"NT\",MROUND(Inputs!$C$32*$P$3*(1/(1+J150*(2-1))),1),MROUND(Inputs!$C$30*$P$3*(1/(1+J150*(2-1))),1)),\nIF(G150=\"TRUE 2\",IF(E150=\"NT\",MROUND(Inputs!$D$32*$Q$3*(1/(1+J150*(2-1))),1),MROUND(Inputs!$D$30*$Q$3*(1/(1+J150*(2-1))),1)),\nIF(G150=\"TRUE 3\",IF(E150=\"NT\",MROUND(Inputs!$E$32*$R$3*(1/(1+J150*(2-1))),1),MROUND(Inputs!$E$30*$R$3*(1/(1+J150*(2-1))),1)),\nIF(G150=\"TRUE 4\",IF(E150=\"NT\",MROUND(Inputs!$F$32*$S$3*(1/(1+J150*(2-1))),1),MROUND(Inputs!$F$30*$S$3*(1/(1+J150*(2-1))),1)),\nMROUND(Inputs!$C$15*(1/(1+J150*(2-1)))*($P$3+$P$4),1)))))","v":8727},-5936,0,{"$f":"(R150/(1/(1+J150*(2-1))))*O150/LEFT(Inputs!$C$18,1)/5280","v":0},0,{"$f":"(T150/60)*((Inputs!$C$13*Calculations!R150*(1-Calculations!J150))+(Inputs!$C$14*Calculations!R150*Calculations!J150))","v":0},{"$f":"IF(R150>0,($J$5/60)*(((I150*$J$3/(1-$J$3))*(1-J150)*Inputs!$C$13)+((I150*$J$3/(1-$J$3))*J150*Inputs!$C$14)),0)","v":0},0,null,"2019-08-06T19:00:00","","",{"$f":"IF(AND(Z150<>\"\",AA150<>\"\"),MAX(INDIRECT(Z150):INDIRECT(AA150)),\"\")","v":""},"","",null,{"$f":"IF(G150=\"TRUE 1\",IF(E150=\"NT\",MROUND(Inputs!$C$32*$AF$3*(1/(1+M150*(2-1))),1),MROUND(Inputs!$C$30*$AF$3*(1/(1+M150*(2-1))),1)),\nIF(G150=\"TRUE 2\",IF(E150=\"NT\",MROUND(Inputs!$D$32*$AG$3*(1/(1+M150*(2-1))),1),MROUND(Inputs!$D$30*$AG$3*(1/(1+M150*(2-1))),1)),\nIF(G150=\"TRUE 3\",IF(E150=\"NT\",MROUND(Inputs!$E$32*$AH$3*(1/(1+M150*(2-1))),1),MROUND(Inputs!$E$30*$AH$3*(1/(1+M150*(2-1))),1)),\nIF(G150=\"TRUE 4\",IF(E150=\"NT\",MROUND(Inputs!$F$32*$AI$3*(1/(1+M150*(2-1))),1),MROUND(Inputs!$F$30*$AI$3*(1/(1+M150*(2-1))),1)),\nMROUND(Inputs!$C$15*(1/(1+M150*(2-1)))*($AF$3+$AF$4),1)))))","v":8727},-5216,0,{"$f":"(AH150/(1/(1+M150*(2-1))))*O150/LEFT(Inputs!$C$18,1)/5280","v":0},0,{"$f":"(AJ150/60)*((Inputs!$C$13*Calculations!AH150*(1-Calculations!M150))+(Inputs!$C$14*Calculations!AH150*Calculations!M150))","v":0},{"$f":"IF(AH150>0,($M$5/60)*(((L150*$M$3/(1-$M$3))*(1-M150)*Inputs!$C$13)+((L150*$M$3/(1-$M$3))*M150*Inputs!$C$14)),0)","v":0},0,null,"2019-08-06T19:00:00","","",{"$f":"IF(AND(AP150<>\"\",AQ150<>\"\"),MAX(INDIRECT(AP150):INDIRECT(AQ150)),\"\")","v":""},"",""]
["2019-08-06",3,"Tuesday","20:00:00",{"$f":"INDEX(Lists!$M$3:$M$26,MATCH(Calculations!D151,Lists!$L$3:$L$26,0))","v":"NT"},68,{"$f":"IF(INDEX(Inputs!$H$86:$H$253,MATCH(F151,Inputs!$D$86:$D$253,0)),\"TRUE 4\",\nIF(INDEX(Inputs!$G$86:$G$253,MATCH(F151,Inputs!$D$86:$D$253,0)),\"TRUE 3\",\nIF(INDEX(Inputs!$F$86:$F$253,MATCH(F151,Inputs!$D$86:$D$253,0)),\"TRUE 2\",\nIF(INDEX(Inputs!$E$86:$E$253,MATCH(F151,Inputs!$D$86:$D$253,0)),\"TRUE 1\",\nFALSE))))","v":false},null,{"$f":"'Volume Import'!C142*'Volume Import'!$H$14*(1+'Volume Import'!$H$15)*(1-'Volume Import'!$H$16)","v":2434},{"$f":"IF(AND('Volume Import'!D142=0,'Volume Import'!C142=0),0,\nIF('Volume Import'!D142=0,INDEX('Volume Import'!$K$2:$Q$5,MATCH(E151,'Volume Import'!$R$2:$R$5,0),MATCH(C151,'Volume Import'!$K$1:$Q$1,0)),\n'Volume Import'!D142/'Volume Import'!C142))","v":0.1},null,{"$f":"'Volume Import'!E142*'Volume Import'!$I$14*(1+'Volume Import'!$I$15)*(1-'Volume Import'!$I$16)","v":2963},{"$f":"IF('Volume Import'!F142=0,J151,'Volume Import'!F142/'Volume Import'!E142)","v":0.1},null,{"$f":"IF(G151=\"TRUE 1\",IF(E151=\"NT\",Inputs!$C$35,Inputs!$C$34),\nIF(G151=\"TRUE 2\",IF(E151=\"NT\",Inputs!$D$35,Inputs!$D$34),\nIF(G151=\"TRUE 3\",IF(E151=\"NT\",Inputs!$E$35,Inputs!$E$34),\nIF(G151=\"TRUE 4\",IF(E151=\"NT\",Inputs!$F$35,Inputs!$F$34),\nO150))))","v":65.476687896673383},{"$f":"IF(G151=\"TRUE 1\",IF(E151=\"NT\",MROUND(Inputs!$C$32*$P$3*(1/(1+J151*(2-1))),1),MROUND(Inputs!$C$30*$P$3*(1/(1+J151*(2-1))),1)),\nIF(G151=\"TRUE 2\",IF(E151=\"NT\",MROUND(Inputs!$D$32*$Q$3*(1/(1+J151*(2-1))),1),MROUND(Inputs!$D$30*$Q$3*(1/(1+J151*(2-1))),1)),\nIF(G151=\"TRUE 3\",IF(E151=\"NT\",MROUND(Inputs!$E$32*$R$3*(1/(1+J151*(2-1))),1),MROUND(Inputs!$E$30*$R$3*(1/(1+J151*(2-1))),1)),\nIF(G151=\"TRUE 4\",IF(E151=\"NT\",MROUND(Inputs!$F$32*$S$3*(1/(1+J151*(2-1))),1),MROUND(Inputs!$F$30*$S$3*(1/(1+J151*(2-1))),1)),\nMROUND(Inputs!$C$15*(1/(1+J151*(2-1)))*($P$3+$P$4),1)))))","v":8727},-6293,0,{"$f":"(R151/(1/(1+J151*(2-1))))*O151/LEFT(Inputs!$C$18,1)/5280","v":0},0,{"$f":"(T151/60)*((Inputs!$C$13*Calculations!R151*(1-Calculations!J151))+(Inputs!$C$14*Calculations!R151*Calculations!J151))","v":0},{"$f":"IF(R151>0,($J$5/60)*(((I151*$J$3/(1-$J$3))*(1-J151)*Inputs!$C$13)+((I151*$J$3/(1-$J$3))*J151*Inputs!$C$14)),0)","v":0},0,null,"2019-08-06T20:00:00","","",{"$f":"IF(AND(Z151<>\"\",AA151<>\"\"),MAX(INDIRECT(Z151):INDIRECT(AA151)),\"\")","v":""},"","",null,{"$f":"IF(G151=\"TRUE 1\",IF(E151=\"NT\",MROUND(Inputs!$C$32*$AF$3*(1/(1+M151*(2-1))),1),MROUND(Inputs!$C$30*$AF$3*(1/(1+M151*(2-1))),1)),\nIF(G151=\"TRUE 2\",IF(E151=\"NT\",MROUND(Inputs!$D$32*$AG$3*(1/(1+M151*(2-1))),1),MROUND(Inputs!$D$30*$AG$3*(1/(1+M151*(2-1))),1)),\nIF(G151=\"TRUE 3\",IF(E151=\"NT\",MROUND(Inputs!$E$32*$AH$3*(1/(1+M151*(2-1))),1),MROUND(Inputs!$E$30*$AH$3*(1/(1+M151*(2-1))),1)),\nIF(G151=\"TRUE 4\",IF(E151=\"NT\",MROUND(Inputs!$F$32*$AI$3*(1/(1+M151*(2-1))),1),MROUND(Inputs!$F$30*$AI$3*(1/(1+M151*(2-1))),1)),\nMROUND(Inputs!$C$15*(1/(1+M151*(2-1)))*($AF$3+$AF$4),1)))))","v":8727},-5764,0,{"$f":"(AH151/(1/(1+M151*(2-1))))*O151/LEFT(Inputs!$C$18,1)/5280","v":0},0,{"$f":"(AJ151/60)*((Inputs!$C$13*Calculations!AH151*(1-Calculations!M151))+(Inputs!$C$14*Calculations!AH151*Calculations!M151))","v":0},{"$f":"IF(AH151>0,($M$5/60)*(((L151*$M$3/(1-$M$3))*(1-M151)*Inputs!$C$13)+((L151*$M$3/(1-$M$3))*M151*Inputs!$C$14)),0)","v":0},0,null,"2019-08-06T20:00:00","","",{"$f":"IF(AND(AP151<>\"\",AQ151<>\"\"),MAX(INDIRECT(AP151):INDIRECT(AQ151)),\"\")","v":""},"",""]
["2019-08-06",3,"Tuesday","21:00:00",{"$f":"INDEX(Lists!$M$3:$M$26,MATCH(Calculations!D152,Lists!$L$3:$L$26,0))","v":"NT"},69,{"$f":"IF(INDEX(Inputs!$H$86:$H$253,MATCH(F152,Inputs!$D$86:$D$253,0)),\"TRUE 4\",\nIF(INDEX(Inputs!$G$86:$G$253,MATCH(F152,Inputs!$D$86:$D$253,0)),\"TRUE 3\",\nIF(INDEX(Inputs!$F$86:$F$253,MATCH(F152,Inputs!$D$86:$D$253,0)),\"TRUE 2\",\nIF(INDEX(Inputs!$E$86:$E$253,MATCH(F152,Inputs!$D$86:$D$253,0)),\"TRUE 1\",\nFALSE))))","v":false},null,{"$f":"'Volume Import'!C143*'Volume Import'!$H$14*(1+'Volume Import'!$H$15)*(1-'Volume Import'!$H$16)","v":2018},{"$f":"IF(AND('Volume Import'!D143=0,'Volume Import'!C143=0),0,\nIF('Volume Import'!D143=0,INDEX('Volume Import'!$K$2:$Q$5,MATCH(E152,'Volume Import'!$R$2:$R$5,0),MATCH(C152,'Volume Import'!$K$1:$Q$1,0)),\n'Volume Import'!D143/'Volume Import'!C143))","v":0.1},null,{"$f":"'Volume Import'!E143*'Volume Import'!$I$14*(1+'Volume Import'!$I$15)*(1-'Volume Import'!$I$16)","v":2445},{"$f":"IF('Volume Import'!F143=0,J152,'Volume Import'!F143/'Volume Import'!E143)","v":0.1},null,{"$f":"IF(G152=\"TRUE 1\",IF(E152=\"NT\",Inputs!$C$35,Inputs!$C$34),\nIF(G152=\"TRUE 2\",IF(E152=\"NT\",Inputs!$D$35,Inputs!$D$34),\nIF(G152=\"TRUE 3\",IF(E152=\"NT\",Inputs!$E$35,Inputs!$E$34),\nIF(G152=\"TRUE 4\",IF(E152=\"NT\",Inputs!$F$35,Inputs!$F$34),\nO151))))","v":65.476687896673383},{"$f":"IF(G152=\"TRUE 1\",IF(E152=\"NT\",MROUND(Inputs!$C$32*$P$3*(1/(1+J152*(2-1))),1),MROUND(Inputs!$C$30*$P$3*(1/(1+J152*(2-1))),1)),\nIF(G152=\"TRUE 2\",IF(E152=\"NT\",MROUND(Inputs!$D$32*$Q$3*(1/(1+J152*(2-1))),1),MROUND(Inputs!$D$30*$Q$3*(1/(1+J152*(2-1))),1)),\nIF(G152=\"TRUE 3\",IF(E152=\"NT\",MROUND(Inputs!$E$32*$R$3*(1/(1+J152*(2-1))),1),MROUND(Inputs!$E$30*$R$3*(1/(1+J152*(2-1))),1)),\nIF(G152=\"TRUE 4\",IF(E152=\"NT\",MROUND(Inputs!$F$32*$S$3*(1/(1+J152*(2-1))),1),MROUND(Inputs!$F$30*$S$3*(1/(1+J152*(2-1))),1)),\nMROUND(Inputs!$C$15*(1/(1+J152*(2-1)))*($P$3+$P$4),1)))))","v":8727},-6709,0,{"$f":"(R152/(1/(1+J152*(2-1))))*O152/LEFT(Inputs!$C$18,1)/5280","v":0},0,{"$f":"(T152/60)*((Inputs!$C$13*Calculations!R152*(1-Calculations!J152))+(Inputs!$C$14*Calculations!R152*Calculations!J152))","v":0},{"$f":"IF(R152>0,($J$5/60)*(((I152*$J$3/(1-$J$3))*(1-J152)*Inputs!$C$13)+((I152*$J$3/(1-$J$3))*J152*Inputs!$C$14)),0)","v":0},0,null,"2019-08-06T21:00:00","","",{"$f":"IF(AND(Z152<>\"\",AA152<>\"\"),MAX(INDIRECT(Z152):INDIRECT(AA152)),\"\")","v":""},"","",null,{"$f":"IF(G152=\"TRUE 1\",IF(E152=\"NT\",MROUND(Inputs!$C$32*$AF$3*(1/(1+M152*(2-1))),1),MROUND(Inputs!$C$30*$AF$3*(1/(1+M152*(2-1))),1)),\nIF(G152=\"TRUE 2\",IF(E152=\"NT\",MROUND(Inputs!$D$32*$AG$3*(1/(1+M152*(2-1))),1),MROUND(Inputs!$D$30*$AG$3*(1/(1+M152*(2-1))),1)),\nIF(G152=\"TRUE 3\",IF(E152=\"NT\",MROUND(Inputs!$E$32*$AH$3*(1/(1+M152*(2-1))),1),MROUND(Inputs!$E$30*$AH$3*(1/(1+M152*(2-1))),1)),\nIF(G152=\"TRUE 4\",IF(E152=\"NT\",MROUND(Inputs!$F$32*$AI$3*(1/(1+M152*(2-1))),1),MROUND(Inputs!$F$30*$AI$3*(1/(1+M152*(2-1))),1)),\nMROUND(Inputs!$C$15*(1/(1+M152*(2-1)))*($AF$3+$AF$4),1)))))","v":8727},-6282,0,{"$f":"(AH152/(1/(1+M152*(2-1))))*O152/LEFT(Inputs!$C$18,1)/5280","v":0},0,{"$f":"(AJ152/60)*((Inputs!$C$13*Calculations!AH152*(1-Calculations!M152))+(Inputs!$C$14*Calculations!AH152*Calculations!M152))","v":0},{"$f":"IF(AH152>0,($M$5/60)*(((L152*$M$3/(1-$M$3))*(1-M152)*Inputs!$C$13)+((L152*$M$3/(1-$M$3))*M152*Inputs!$C$14)),0)","v":0},0,null,"2019-08-06T21:00:00","","",{"$f":"IF(AND(AP152<>\"\",AQ152<>\"\"),MAX(INDIRECT(AP152):INDIRECT(AQ152)),\"\")","v":""},"",""]
["2019-08-06",3,"Tuesday","22:00:00",{"$f":"INDEX(Lists!$M$3:$M$26,MATCH(Calculations!D153,Lists!$L$3:$L$26,0))","v":"NT"},70,{"$f":"IF(INDEX(Inputs!$H$86:$H$253,MATCH(F153,Inputs!$D$86:$D$253,0)),\"TRUE 4\",\nIF(INDEX(Inputs!$G$86:$G$253,MATCH(F153,Inputs!$D$86:$D$253,0)),\"TRUE 3\",\nIF(INDEX(Inputs!$F$86:$F$253,MATCH(F153,Inputs!$D$86:$D$253,0)),\"TRUE 2\",\nIF(INDEX(Inputs!$E$86:$E$253,MATCH(F153,Inputs!$D$86:$D$253,0)),\"TRUE 1\",\nFALSE))))","v":false},null,{"$f":"'Volume Import'!C144*'Volume Import'!$H$14*(1+'Volume Import'!$H$15)*(1-'Volume Import'!$H$16)","v":1329},{"$f":"IF(AND('Volume Import'!D144=0,'Volume Import'!C144=0),0,\nIF('Volume Import'!D144=0,INDEX('Volume Import'!$K$2:$Q$5,MATCH(E153,'Volume Import'!$R$2:$R$5,0),MATCH(C153,'Volume Import'!$K$1:$Q$1,0)),\n'Volume Import'!D144/'Volume Import'!C144))","v":0.1},null,{"$f":"'Volume Import'!E144*'Volume Import'!$I$14*(1+'Volume Import'!$I$15)*(1-'Volume Import'!$I$16)","v":1838},{"$f":"IF('Volume Import'!F144=0,J153,'Volume Import'!F144/'Volume Import'!E144)","v":0.1},null,{"$f":"IF(G153=\"TRUE 1\",IF(E153=\"NT\",Inputs!$C$35,Inputs!$C$34),\nIF(G153=\"TRUE 2\",IF(E153=\"NT\",Inputs!$D$35,Inputs!$D$34),\nIF(G153=\"TRUE 3\",IF(E153=\"NT\",Inputs!$E$35,Inputs!$E$34),\nIF(G153=\"TRUE 4\",IF(E153=\"NT\",Inputs!$F$35,Inputs!$F$34),\nO152))))","v":65.476687896673383},{"$f":"IF(G153=\"TRUE 1\",IF(E153=\"NT\",MROUND(Inputs!$C$32*$P$3*(1/(1+J153*(2-1))),1),MROUND(Inputs!$C$30*$P$3*(1/(1+J153*(2-1))),1)),\nIF(G153=\"TRUE 2\",IF(E153=\"NT\",MROUND(Inputs!$D$32*$Q$3*(1/(1+J153*(2-1))),1),MROUND(Inputs!$D$30*$Q$3*(1/(1+J153*(2-1))),1)),\nIF(G153=\"TRUE 3\",IF(E153=\"NT\",MROUND(Inputs!$E$32*$R$3*(1/(1+J153*(2-1))),1),MROUND(Inputs!$E$30*$R$3*(1/(1+J153*(2-1))),1)),\nIF(G153=\"TRUE 4\",IF(E153=\"NT\",MROUND(Inputs!$F$32*$S$3*(1/(1+J153*(2-1))),1),MROUND(Inputs!$F$30*$S$3*(1/(1+J153*(2-1))),1)),\nMROUND(Inputs!$C$15*(1/(1+J153*(2-1)))*($P$3+$P$4),1)))))","v":8727},-7398,0,{"$f":"(R153/(1/(1+J153*(2-1))))*O153/LEFT(Inputs!$C$18,1)/5280","v":0},0,{"$f":"(T153/60)*((Inputs!$C$13*Calculations!R153*(1-Calculations!J153))+(Inputs!$C$14*Calculations!R153*Calculations!J153))","v":0},{"$f":"IF(R153>0,($J$5/60)*(((I153*$J$3/(1-$J$3))*(1-J153)*Inputs!$C$13)+((I153*$J$3/(1-$J$3))*J153*Inputs!$C$14)),0)","v":0},0,null,"2019-08-06T22:00:00","","",{"$f":"IF(AND(Z153<>\"\",AA153<>\"\"),MAX(INDIRECT(Z153):INDIRECT(AA153)),\"\")","v":""},"","",null,{"$f":"IF(G153=\"TRUE 1\",IF(E153=\"NT\",MROUND(Inputs!$C$32*$AF$3*(1/(1+M153*(2-1))),1),MROUND(Inputs!$C$30*$AF$3*(1/(1+M153*(2-1))),1)),\nIF(G153=\"TRUE 2\",IF(E153=\"NT\",MROUND(Inputs!$D$32*$AG$3*(1/(1+M153*(2-1))),1),MROUND(Inputs!$D$30*$AG$3*(1/(1+M153*(2-1))),1)),\nIF(G153=\"TRUE 3\",IF(E153=\"NT\",MROUND(Inputs!$E$32*$AH$3*(1/(1+M153*(2-1))),1),MROUND(Inputs!$E$30*$AH$3*(1/(1+M153*(2-1))),1)),\nIF(G153=\"TRUE 4\",IF(E153=\"NT\",MROUND(Inputs!$F$32*$AI$3*(1/(1+M153*(2-1))),1),MROUND(Inputs!$F$30*$AI$3*(1/(1+M153*(2-1))),1)),\nMROUND(Inputs!$C$15*(1/(1+M153*(2-1)))*($AF$3+$AF$4),1)))))","v":8727},-6889,0,{"$f":"(AH153/(1/(1+M153*(2-1))))*O153/LEFT(Inputs!$C$18,1)/5280","v":0},0,{"$f":"(AJ153/60)*((Inputs!$C$13*Calculations!AH153*(1-Calculations!M153))+(Inputs!$C$14*Calculations!AH153*Calculations!M153))","v":0},{"$f":"IF(AH153>0,($M$5/60)*(((L153*$M$3/(1-$M$3))*(1-M153)*Inputs!$C$13)+((L153*$M$3/(1-$M$3))*M153*Inputs!$C$14)),0)","v":0},0,null,"2019-08-06T22:00:00","","",{"$f":"IF(AND(AP153<>\"\",AQ153<>\"\"),MAX(INDIRECT(AP153):INDIRECT(AQ153)),\"\")","v":""},"",""]
["2019-08-06",3,"Tuesday","23:00:00",{"$f":"INDEX(Lists!$M$3:$M$26,MATCH(Calculations!D154,Lists!$L$3:$L$26,0))","v":"NT"},71,{"$f":"IF(INDEX(Inputs!$H$86:$H$253,MATCH(F154,Inputs!$D$86:$D$253,0)),\"TRUE 4\",\nIF(INDEX(Inputs!$G$86:$G$253,MATCH(F154,Inputs!$D$86:$D$253,0)),\"TRUE 3\",\nIF(INDEX(Inputs!$F$86:$F$253,MATCH(F154,Inputs!$D$86:$D$253,0)),\"TRUE 2\",\nIF(INDEX(Inputs!$E$86:$E$253,MATCH(F154,Inputs!$D$86:$D$253,0)),\"TRUE 1\",\nFALSE))))","v":false},null,{"$f":"'Volume Import'!C145*'Volume Import'!$H$14*(1+'Volume Import'!$H$15)*(1-'Volume Import'!$H$16)","v":915},{"$f":"IF(AND('Volume Import'!D145=0,'Volume Import'!C145=0),0,\nIF('Volume Import'!D145=0,INDEX('Volume Import'!$K$2:$Q$5,MATCH(E154,'Volume Import'!$R$2:$R$5,0),MATCH(C154,'Volume Import'!$K$1:$Q$1,0)),\n'Volume Import'!D145/'Volume Import'!C145))","v":0.1},null,{"$f":"'Volume Import'!E145*'Volume Import'!$I$14*(1+'Volume Import'!$I$15)*(1-'Volume Import'!$I$16)","v":1301},{"$f":"IF('Volume Import'!F145=0,J154,'Volume Import'!F145/'Volume Import'!E145)","v":0.1},null,{"$f":"IF(G154=\"TRUE 1\",IF(E154=\"NT\",Inputs!$C$35,Inputs!$C$34),\nIF(G154=\"TRUE 2\",IF(E154=\"NT\",Inputs!$D$35,Inputs!$D$34),\nIF(G154=\"TRUE 3\",IF(E154=\"NT\",Inputs!$E$35,Inputs!$E$34),\nIF(G154=\"TRUE 4\",IF(E154=\"NT\",Inputs!$F$35,Inputs!$F$34),\nO153))))","v":65.476687896673383},{"$f":"IF(G154=\"TRUE 1\",IF(E154=\"NT\",MROUND(Inputs!$C$32*$P$3*(1/(1+J154*(2-1))),1),MROUND(Inputs!$C$30*$P$3*(1/(1+J154*(2-1))),1)),\nIF(G154=\"TRUE 2\",IF(E154=\"NT\",MROUND(Inputs!$D$32*$Q$3*(1/(1+J154*(2-1))),1),MROUND(Inputs!$D$30*$Q$3*(1/(1+J154*(2-1))),1)),\nIF(G154=\"TRUE 3\",IF(E154=\"NT\",MROUND(Inputs!$E$32*$R$3*(1/(1+J154*(2-1))),1),MROUND(Inputs!$E$30*$R$3*(1/(1+J154*(2-1))),1)),\nIF(G154=\"TRUE 4\",IF(E154=\"NT\",MROUND(Inputs!$F$32*$S$3*(1/(1+J154*(2-1))),1),MROUND(Inputs!$F$30*$S$3*(1/(1+J154*(2-1))),1)),\nMROUND(Inputs!$C$15*(1/(1+J154*(2-1)))*($P$3+$P$4),1)))))","v":8727},-7812,0,{"$f":"(R154/(1/(1+J154*(2-1))))*O154/LEFT(Inputs!$C$18,1)/5280","v":0},0,{"$f":"(T154/60)*((Inputs!$C$13*Calculations!R154*(1-Calculations!J154))+(Inputs!$C$14*Calculations!R154*Calculations!J154))","v":0},{"$f":"IF(R154>0,($J$5/60)*(((I154*$J$3/(1-$J$3))*(1-J154)*Inputs!$C$13)+((I154*$J$3/(1-$J$3))*J154*Inputs!$C$14)),0)","v":0},0,null,"2019-08-06T23:00:00","","",{"$f":"IF(AND(Z154<>\"\",AA154<>\"\"),MAX(INDIRECT(Z154):INDIRECT(AA154)),\"\")","v":""},"","",null,{"$f":"IF(G154=\"TRUE 1\",IF(E154=\"NT\",MROUND(Inputs!$C$32*$AF$3*(1/(1+M154*(2-1))),1),MROUND(Inputs!$C$30*$AF$3*(1/(1+M154*(2-1))),1)),\nIF(G154=\"TRUE 2\",IF(E154=\"NT\",MROUND(Inputs!$D$32*$AG$3*(1/(1+M154*(2-1))),1),MROUND(Inputs!$D$30*$AG$3*(1/(1+M154*(2-1))),1)),\nIF(G154=\"TRUE 3\",IF(E154=\"NT\",MROUND(Inputs!$E$32*$AH$3*(1/(1+M154*(2-1))),1),MROUND(Inputs!$E$30*$AH$3*(1/(1+M154*(2-1))),1)),\nIF(G154=\"TRUE 4\",IF(E154=\"NT\",MROUND(Inputs!$F$32*$AI$3*(1/(1+M154*(2-1))),1),MROUND(Inputs!$F$30*$AI$3*(1/(1+M154*(2-1))),1)),\nMROUND(Inputs!$C$15*(1/(1+M154*(2-1)))*($AF$3+$AF$4),1)))))","v":8727},-7426,0,{"$f":"(AH154/(1/(1+M154*(2-1))))*O154/LEFT(Inputs!$C$18,1)/5280","v":0},0,{"$f":"(AJ154/60)*((Inputs!$C$13*Calculations!AH154*(1-Calculations!M154))+(Inputs!$C$14*Calculations!AH154*Calculations!M154))","v":0},{"$f":"IF(AH154>0,($M$5/60)*(((L154*$M$3/(1-$M$3))*(1-M154)*Inputs!$C$13)+((L154*$M$3/(1-$M$3))*M154*Inputs!$C$14)),0)","v":0},0,null,"2019-08-06T23:00:00","","",{"$f":"IF(AND(AP154<>\"\",AQ154<>\"\"),MAX(INDIRECT(AP154):INDIRECT(AQ154)),\"\")","v":""},"",""]
["2019-08-07",4,"Wednesday","00:00:00",{"$f":"INDEX(Lists!$M$3:$M$26,MATCH(Calculations!D155,Lists!$L$3:$L$26,0))","v":"NT"},72,{"$f":"IF(INDEX(Inputs!$H$86:$H$253,MATCH(F155,Inputs!$D$86:$D$253,0)),\"TRUE 4\",\nIF(INDEX(Inputs!$G$86:$G$253,MATCH(F155,Inputs!$D$86:$D$253,0)),\"TRUE 3\",\nIF(INDEX(Inputs!$F$86:$F$253,MATCH(F155,Inputs!$D$86:$D$253,0)),\"TRUE 2\",\nIF(INDEX(Inputs!$E$86:$E$253,MATCH(F155,Inputs!$D$86:$D$253,0)),\"TRUE 1\",\nFALSE))))","v":false},null,{"$f":"'Volume Import'!C146*'Volume Import'!$H$14*(1+'Volume Import'!$H$15)*(1-'Volume Import'!$H$16)","v":619},{"$f":"IF(AND('Volume Import'!D146=0,'Volume Import'!C146=0),0,\nIF('Volume Import'!D146=0,INDEX('Volume Import'!$K$2:$Q$5,MATCH(E155,'Volume Import'!$R$2:$R$5,0),MATCH(C155,'Volume Import'!$K$1:$Q$1,0)),\n'Volume Import'!D146/'Volume Import'!C146))","v":0.1},null,{"$f":"'Volume Import'!E146*'Volume Import'!$I$14*(1+'Volume Import'!$I$15)*(1-'Volume Import'!$I$16)","v":649},{"$f":"IF('Volume Import'!F146=0,J155,'Volume Import'!F146/'Volume Import'!E146)","v":0.1},null,{"$f":"IF(G155=\"TRUE 1\",IF(E155=\"NT\",Inputs!$C$35,Inputs!$C$34),\nIF(G155=\"TRUE 2\",IF(E155=\"NT\",Inputs!$D$35,Inputs!$D$34),\nIF(G155=\"TRUE 3\",IF(E155=\"NT\",Inputs!$E$35,Inputs!$E$34),\nIF(G155=\"TRUE 4\",IF(E155=\"NT\",Inputs!$F$35,Inputs!$F$34),\nO154))))","v":65.476687896673383},{"$f":"IF(G155=\"TRUE 1\",IF(E155=\"NT\",MROUND(Inputs!$C$32*$P$3*(1/(1+J155*(2-1))),1),MROUND(Inputs!$C$30*$P$3*(1/(1+J155*(2-1))),1)),\nIF(G155=\"TRUE 2\",IF(E155=\"NT\",MROUND(Inputs!$D$32*$Q$3*(1/(1+J155*(2-1))),1),MROUND(Inputs!$D$30*$Q$3*(1/(1+J155*(2-1))),1)),\nIF(G155=\"TRUE 3\",IF(E155=\"NT\",MROUND(Inputs!$E$32*$R$3*(1/(1+J155*(2-1))),1),MROUND(Inputs!$E$30*$R$3*(1/(1+J155*(2-1))),1)),\nIF(G155=\"TRUE 4\",IF(E155=\"NT\",MROUND(Inputs!$F$32*$S$3*(1/(1+J155*(2-1))),1),MROUND(Inputs!$F$30*$S$3*(1/(1+J155*(2-1))),1)),\nMROUND(Inputs!$C$15*(1/(1+J155*(2-1)))*($P$3+$P$4),1)))))","v":8727},-8108,0,{"$f":"(R155/(1/(1+J155*(2-1))))*O155/LEFT(Inputs!$C$18,1)/5280","v":0},0,{"$f":"(T155/60)*((Inputs!$C$13*Calculations!R155*(1-Calculations!J155))+(Inputs!$C$14*Calculations!R155*Calculations!J155))","v":0},{"$f":"IF(R155>0,($J$5/60)*(((I155*$J$3/(1-$J$3))*(1-J155)*Inputs!$C$13)+((I155*$J$3/(1-$J$3))*J155*Inputs!$C$14)),0)","v":0},0,null,"2019-08-07","","",{"$f":"IF(AND(Z155<>\"\",AA155<>\"\"),MAX(INDIRECT(Z155):INDIRECT(AA155)),\"\")","v":""},"","",null,{"$f":"IF(G155=\"TRUE 1\",IF(E155=\"NT\",MROUND(Inputs!$C$32*$AF$3*(1/(1+M155*(2-1))),1),MROUND(Inputs!$C$30*$AF$3*(1/(1+M155*(2-1))),1)),\nIF(G155=\"TRUE 2\",IF(E155=\"NT\",MROUND(Inputs!$D$32*$AG$3*(1/(1+M155*(2-1))),1),MROUND(Inputs!$D$30*$AG$3*(1/(1+M155*(2-1))),1)),\nIF(G155=\"TRUE 3\",IF(E155=\"NT\",MROUND(Inputs!$E$32*$AH$3*(1/(1+M155*(2-1))),1),MROUND(Inputs!$E$30*$AH$3*(1/(1+M155*(2-1))),1)),\nIF(G155=\"TRUE 4\",IF(E155=\"NT\",MROUND(Inputs!$F$32*$AI$3*(1/(1+M155*(2-1))),1),MROUND(Inputs!$F$30*$AI$3*(1/(1+M155*(2-1))),1)),\nMROUND(Inputs!$C$15*(1/(1+M155*(2-1)))*($AF$3+$AF$4),1)))))","v":8727},-8078,0,{"$f":"(AH155/(1/(1+M155*(2-1))))*O155/LEFT(Inputs!$C$18,1)/5280","v":0},0,{"$f":"(AJ155/60)*((Inputs!$C$13*Calculations!AH155*(1-Calculations!M155))+(Inputs!$C$14*Calculations!AH155*Calculations!M155))","v":0},{"$f":"IF(AH155>0,($M$5/60)*(((L155*$M$3/(1-$M$3))*(1-M155)*Inputs!$C$13)+((L155*$M$3/(1-$M$3))*M155*Inputs!$C$14)),0)","v":0},0,null,"2019-08-07","","",{"$f":"IF(AND(AP155<>\"\",AQ155<>\"\"),MAX(INDIRECT(AP155):INDIRECT(AQ155)),\"\")","v":""},"",""]
["2019-08-07",4,"Wednesday","01:00:00",{"$f":"INDEX(Lists!$M$3:$M$26,MATCH(Calculations!D156,Lists!$L$3:$L$26,0))","v":"NT"},73,{"$f":"IF(INDEX(Inputs!$H$86:$H$253,MATCH(F156,Inputs!$D$86:$D$253,0)),\"TRUE 4\",\nIF(INDEX(Inputs!$G$86:$G$253,MATCH(F156,Inputs!$D$86:$D$253,0)),\"TRUE 3\",\nIF(INDEX(Inputs!$F$86:$F$253,MATCH(F156,Inputs!$D$86:$D$253,0)),\"TRUE 2\",\nIF(INDEX(Inputs!$E$86:$E$253,MATCH(F156,Inputs!$D$86:$D$253,0)),\"TRUE 1\",\nFALSE))))","v":false},null,{"$f":"'Volume Import'!C147*'Volume Import'!$H$14*(1+'Volume Import'!$H$15)*(1-'Volume Import'!$H$16)","v":447},{"$f":"IF(AND('Volume Import'!D147=0,'Volume Import'!C147=0),0,\nIF('Volume Import'!D147=0,INDEX('Volume Import'!$K$2:$Q$5,MATCH(E156,'Volume Import'!$R$2:$R$5,0),MATCH(C156,'Volume Import'!$K$1:$Q$1,0)),\n'Volume Import'!D147/'Volume Import'!C147))","v":0.1},null,{"$f":"'Volume Import'!E147*'Volume Import'!$I$14*(1+'Volume Import'!$I$15)*(1-'Volume Import'!$I$16)","v":409},{"$f":"IF('Volume Import'!F147=0,J156,'Volume Import'!F147/'Volume Import'!E147)","v":0.1},null,{"$f":"IF(G156=\"TRUE 1\",IF(E156=\"NT\",Inputs!$C$35,Inputs!$C$34),\nIF(G156=\"TRUE 2\",IF(E156=\"NT\",Inputs!$D$35,Inputs!$D$34),\nIF(G156=\"TRUE 3\",IF(E156=\"NT\",Inputs!$E$35,Inputs!$E$34),\nIF(G156=\"TRUE 4\",IF(E156=\"NT\",Inputs!$F$35,Inputs!$F$34),\nO155))))","v":65.476687896673383},{"$f":"IF(G156=\"TRUE 1\",IF(E156=\"NT\",MROUND(Inputs!$C$32*$P$3*(1/(1+J156*(2-1))),1),MROUND(Inputs!$C$30*$P$3*(1/(1+J156*(2-1))),1)),\nIF(G156=\"TRUE 2\",IF(E156=\"NT\",MROUND(Inputs!$D$32*$Q$3*(1/(1+J156*(2-1))),1),MROUND(Inputs!$D$30*$Q$3*(1/(1+J156*(2-1))),1)),\nIF(G156=\"TRUE 3\",IF(E156=\"NT\",MROUND(Inputs!$E$32*$R$3*(1/(1+J156*(2-1))),1),MROUND(Inputs!$E$30*$R$3*(1/(1+J156*(2-1))),1)),\nIF(G156=\"TRUE 4\",IF(E156=\"NT\",MROUND(Inputs!$F$32*$S$3*(1/(1+J156*(2-1))),1),MROUND(Inputs!$F$30*$S$3*(1/(1+J156*(2-1))),1)),\nMROUND(Inputs!$C$15*(1/(1+J156*(2-1)))*($P$3+$P$4),1)))))","v":8727},-8280,0,{"$f":"(R156/(1/(1+J156*(2-1))))*O156/LEFT(Inputs!$C$18,1)/5280","v":0},0,{"$f":"(T156/60)*((Inputs!$C$13*Calculations!R156*(1-Calculations!J156))+(Inputs!$C$14*Calculations!R156*Calculations!J156))","v":0},{"$f":"IF(R156>0,($J$5/60)*(((I156*$J$3/(1-$J$3))*(1-J156)*Inputs!$C$13)+((I156*$J$3/(1-$J$3))*J156*Inputs!$C$14)),0)","v":0},0,null,"2019-08-07T01:00:00","","",{"$f":"IF(AND(Z156<>\"\",AA156<>\"\"),MAX(INDIRECT(Z156):INDIRECT(AA156)),\"\")","v":""},"","",null,{"$f":"IF(G156=\"TRUE 1\",IF(E156=\"NT\",MROUND(Inputs!$C$32*$AF$3*(1/(1+M156*(2-1))),1),MROUND(Inputs!$C$30*$AF$3*(1/(1+M156*(2-1))),1)),\nIF(G156=\"TRUE 2\",IF(E156=\"NT\",MROUND(Inputs!$D$32*$AG$3*(1/(1+M156*(2-1))),1),MROUND(Inputs!$D$30*$AG$3*(1/(1+M156*(2-1))),1)),\nIF(G156=\"TRUE 3\",IF(E156=\"NT\",MROUND(Inputs!$E$32*$AH$3*(1/(1+M156*(2-1))),1),MROUND(Inputs!$E$30*$AH$3*(1/(1+M156*(2-1))),1)),\nIF(G156=\"TRUE 4\",IF(E156=\"NT\",MROUND(Inputs!$F$32*$AI$3*(1/(1+M156*(2-1))),1),MROUND(Inputs!$F$30*$AI$3*(1/(1+M156*(2-1))),1)),\nMROUND(Inputs!$C$15*(1/(1+M156*(2-1)))*($AF$3+$AF$4),1)))))","v":8727},-8318,0,{"$f":"(AH156/(1/(1+M156*(2-1))))*O156/LEFT(Inputs!$C$18,1)/5280","v":0},0,{"$f":"(AJ156/60)*((Inputs!$C$13*Calculations!AH156*(1-Calculations!M156))+(Inputs!$C$14*Calculations!AH156*Calculations!M156))","v":0},{"$f":"IF(AH156>0,($M$5/60)*(((L156*$M$3/(1-$M$3))*(1-M156)*Inputs!$C$13)+((L156*$M$3/(1-$M$3))*M156*Inputs!$C$14)),0)","v":0},0,null,"2019-08-07T01:00:00","","",{"$f":"IF(AND(AP156<>\"\",AQ156<>\"\"),MAX(INDIRECT(AP156):INDIRECT(AQ156)),\"\")","v":""},"",""]
["2019-08-07",4,"Wednesday","02:00:00",{"$f":"INDEX(Lists!$M$3:$M$26,MATCH(Calculations!D157,Lists!$L$3:$L$26,0))","v":"NT"},74,{"$f":"IF(INDEX(Inputs!$H$86:$H$253,MATCH(F157,Inputs!$D$86:$D$253,0)),\"TRUE 4\",\nIF(INDEX(Inputs!$G$86:$G$253,MATCH(F157,Inputs!$D$86:$D$253,0)),\"TRUE 3\",\nIF(INDEX(Inputs!$F$86:$F$253,MATCH(F157,Inputs!$D$86:$D$253,0)),\"TRUE 2\",\nIF(INDEX(Inputs!$E$86:$E$253,MATCH(F157,Inputs!$D$86:$D$253,0)),\"TRUE 1\",\nFALSE))))","v":false},null,{"$f":"'Volume Import'!C148*'Volume Import'!$H$14*(1+'Volume Import'!$H$15)*(1-'Volume Import'!$H$16)","v":388},{"$f":"IF(AND('Volume Import'!D148=0,'Volume Import'!C148=0),0,\nIF('Volume Import'!D148=0,INDEX('Volume Import'!$K$2:$Q$5,MATCH(E157,'Volume Import'!$R$2:$R$5,0),MATCH(C157,'Volume Import'!$K$1:$Q$1,0)),\n'Volume Import'!D148/'Volume Import'!C148))","v":0.1},null,{"$f":"'Volume Import'!E148*'Volume Import'!$I$14*(1+'Volume Import'!$I$15)*(1-'Volume Import'!$I$16)","v":394},{"$f":"IF('Volume Import'!F148=0,J157,'Volume Import'!F148/'Volume Import'!E148)","v":0.1},null,{"$f":"IF(G157=\"TRUE 1\",IF(E157=\"NT\",Inputs!$C$35,Inputs!$C$34),\nIF(G157=\"TRUE 2\",IF(E157=\"NT\",Inputs!$D$35,Inputs!$D$34),\nIF(G157=\"TRUE 3\",IF(E157=\"NT\",Inputs!$E$35,Inputs!$E$34),\nIF(G157=\"TRUE 4\",IF(E157=\"NT\",Inputs!$F$35,Inputs!$F$34),\nO156))))","v":65.476687896673383},{"$f":"IF(G157=\"TRUE 1\",IF(E157=\"NT\",MROUND(Inputs!$C$32*$P$3*(1/(1+J157*(2-1))),1),MROUND(Inputs!$C$30*$P$3*(1/(1+J157*(2-1))),1)),\nIF(G157=\"TRUE 2\",IF(E157=\"NT\",MROUND(Inputs!$D$32*$Q$3*(1/(1+J157*(2-1))),1),MROUND(Inputs!$D$30*$Q$3*(1/(1+J157*(2-1))),1)),\nIF(G157=\"TRUE 3\",IF(E157=\"NT\",MROUND(Inputs!$E$32*$R$3*(1/(1+J157*(2-1))),1),MROUND(Inputs!$E$30*$R$3*(1/(1+J157*(2-1))),1)),\nIF(G157=\"TRUE 4\",IF(E157=\"NT\",MROUND(Inputs!$F$32*$S$3*(1/(1+J157*(2-1))),1),MROUND(Inputs!$F$30*$S$3*(1/(1+J157*(2-1))),1)),\nMROUND(Inputs!$C$15*(1/(1+J157*(2-1)))*($P$3+$P$4),1)))))","v":8727},-8339,0,{"$f":"(R157/(1/(1+J157*(2-1))))*O157/LEFT(Inputs!$C$18,1)/5280","v":0},0,{"$f":"(T157/60)*((Inputs!$C$13*Calculations!R157*(1-Calculations!J157))+(Inputs!$C$14*Calculations!R157*Calculations!J157))","v":0},{"$f":"IF(R157>0,($J$5/60)*(((I157*$J$3/(1-$J$3))*(1-J157)*Inputs!$C$13)+((I157*$J$3/(1-$J$3))*J157*Inputs!$C$14)),0)","v":0},0,null,"2019-08-07T02:00:00","","",{"$f":"IF(AND(Z157<>\"\",AA157<>\"\"),MAX(INDIRECT(Z157):INDIRECT(AA157)),\"\")","v":""},"","",null,{"$f":"IF(G157=\"TRUE 1\",IF(E157=\"NT\",MROUND(Inputs!$C$32*$AF$3*(1/(1+M157*(2-1))),1),MROUND(Inputs!$C$30*$AF$3*(1/(1+M157*(2-1))),1)),\nIF(G157=\"TRUE 2\",IF(E157=\"NT\",MROUND(Inputs!$D$32*$AG$3*(1/(1+M157*(2-1))),1),MROUND(Inputs!$D$30*$AG$3*(1/(1+M157*(2-1))),1)),\nIF(G157=\"TRUE 3\",IF(E157=\"NT\",MROUND(Inputs!$E$32*$AH$3*(1/(1+M157*(2-1))),1),MROUND(Inputs!$E$30*$AH$3*(1/(1+M157*(2-1))),1)),\nIF(G157=\"TRUE 4\",IF(E157=\"NT\",MROUND(Inputs!$F$32*$AI$3*(1/(1+M157*(2-1))),1),MROUND(Inputs!$F$30*$AI$3*(1/(1+M157*(2-1))),1)),\nMROUND(Inputs!$C$15*(1/(1+M157*(2-1)))*($AF$3+$AF$4),1)))))","v":8727},-8333,0,{"$f":"(AH157/(1/(1+M157*(2-1))))*O157/LEFT(Inputs!$C$18,1)/5280","v":0},0,{"$f":"(AJ157/60)*((Inputs!$C$13*Calculations!AH157*(1-Calculations!M157))+(Inputs!$C$14*Calculations!AH157*Calculations!M157))","v":0},{"$f":"IF(AH157>0,($M$5/60)*(((L157*$M$3/(1-$M$3))*(1-M157)*Inputs!$C$13)+((L157*$M$3/(1-$M$3))*M157*Inputs!$C$14)),0)","v":0},0,null,"2019-08-07T02:00:00","","",{"$f":"IF(AND(AP157<>\"\",AQ157<>\"\"),MAX(INDIRECT(AP157):INDIRECT(AQ157)),\"\")","v":""},"",""]
["2019-08-07",4,"Wednesday","03:00:00",{"$f":"INDEX(Lists!$M$3:$M$26,MATCH(Calculations!D158,Lists!$L$3:$L$26,0))","v":"NT"},75,{"$f":"IF(INDEX(Inputs!$H$86:$H$253,MATCH(F158,Inputs!$D$86:$D$253,0)),\"TRUE 4\",\nIF(INDEX(Inputs!$G$86:$G$253,MATCH(F158,Inputs!$D$86:$D$253,0)),\"TRUE 3\",\nIF(INDEX(Inputs!$F$86:$F$253,MATCH(F158,Inputs!$D$86:$D$253,0)),\"TRUE 2\",\nIF(INDEX(Inputs!$E$86:$E$253,MATCH(F158,Inputs!$D$86:$D$253,0)),\"TRUE 1\",\nFALSE))))","v":false},null,{"$f":"'Volume Import'!C149*'Volume Import'!$H$14*(1+'Volume Import'!$H$15)*(1-'Volume Import'!$H$16)","v":547},{"$f":"IF(AND('Volume Import'!D149=0,'Volume Import'!C149=0),0,\nIF('Volume Import'!D149=0,INDEX('Volume Import'!$K$2:$Q$5,MATCH(E158,'Volume Import'!$R$2:$R$5,0),MATCH(C158,'Volume Import'!$K$1:$Q$1,0)),\n'Volume Import'!D149/'Volume Import'!C149))","v":0.1},null,{"$f":"'Volume Import'!E149*'Volume Import'!$I$14*(1+'Volume Import'!$I$15)*(1-'Volume Import'!$I$16)","v":506},{"$f":"IF('Volume Import'!F149=0,J158,'Volume Import'!F149/'Volume Import'!E149)","v":0.1},null,{"$f":"IF(G158=\"TRUE 1\",IF(E158=\"NT\",Inputs!$C$35,Inputs!$C$34),\nIF(G158=\"TRUE 2\",IF(E158=\"NT\",Inputs!$D$35,Inputs!$D$34),\nIF(G158=\"TRUE 3\",IF(E158=\"NT\",Inputs!$E$35,Inputs!$E$34),\nIF(G158=\"TRUE 4\",IF(E158=\"NT\",Inputs!$F$35,Inputs!$F$34),\nO157))))","v":65.476687896673383},{"$f":"IF(G158=\"TRUE 1\",IF(E158=\"NT\",MROUND(Inputs!$C$32*$P$3*(1/(1+J158*(2-1))),1),MROUND(Inputs!$C$30*$P$3*(1/(1+J158*(2-1))),1)),\nIF(G158=\"TRUE 2\",IF(E158=\"NT\",MROUND(Inputs!$D$32*$Q$3*(1/(1+J158*(2-1))),1),MROUND(Inputs!$D$30*$Q$3*(1/(1+J158*(2-1))),1)),\nIF(G158=\"TRUE 3\",IF(E158=\"NT\",MROUND(Inputs!$E$32*$R$3*(1/(1+J158*(2-1))),1),MROUND(Inputs!$E$30*$R$3*(1/(1+J158*(2-1))),1)),\nIF(G158=\"TRUE 4\",IF(E158=\"NT\",MROUND(Inputs!$F$32*$S$3*(1/(1+J158*(2-1))),1),MROUND(Inputs!$F$30*$S$3*(1/(1+J158*(2-1))),1)),\nMROUND(Inputs!$C$15*(1/(1+J158*(2-1)))*($P$3+$P$4),1)))))","v":8727},-8180,0,{"$f":"(R158/(1/(1+J158*(2-1))))*O158/LEFT(Inputs!$C$18,1)/5280","v":0},0,{"$f":"(T158/60)*((Inputs!$C$13*Calculations!R158*(1-Calculations!J158))+(Inputs!$C$14*Calculations!R158*Calculations!J158))","v":0},{"$f":"IF(R158>0,($J$5/60)*(((I158*$J$3/(1-$J$3))*(1-J158)*Inputs!$C$13)+((I158*$J$3/(1-$J$3))*J158*Inputs!$C$14)),0)","v":0},0,null,"2019-08-07T03:00:00","","",{"$f":"IF(AND(Z158<>\"\",AA158<>\"\"),MAX(INDIRECT(Z158):INDIRECT(AA158)),\"\")","v":""},"","",null,{"$f":"IF(G158=\"TRUE 1\",IF(E158=\"NT\",MROUND(Inputs!$C$32*$AF$3*(1/(1+M158*(2-1))),1),MROUND(Inputs!$C$30*$AF$3*(1/(1+M158*(2-1))),1)),\nIF(G158=\"TRUE 2\",IF(E158=\"NT\",MROUND(Inputs!$D$32*$AG$3*(1/(1+M158*(2-1))),1),MROUND(Inputs!$D$30*$AG$3*(1/(1+M158*(2-1))),1)),\nIF(G158=\"TRUE 3\",IF(E158=\"NT\",MROUND(Inputs!$E$32*$AH$3*(1/(1+M158*(2-1))),1),MROUND(Inputs!$E$30*$AH$3*(1/(1+M158*(2-1))),1)),\nIF(G158=\"TRUE 4\",IF(E158=\"NT\",MROUND(Inputs!$F$32*$AI$3*(1/(1+M158*(2-1))),1),MROUND(Inputs!$F$30*$AI$3*(1/(1+M158*(2-1))),1)),\nMROUND(Inputs!$C$15*(1/(1+M158*(2-1)))*($AF$3+$AF$4),1)))))","v":8727},-8221,0,{"$f":"(AH158/(1/(1+M158*(2-1))))*O158/LEFT(Inputs!$C$18,1)/5280","v":0},0,{"$f":"(AJ158/60)*((Inputs!$C$13*Calculations!AH158*(1-Calculations!M158))+(Inputs!$C$14*Calculations!AH158*Calculations!M158))","v":0},{"$f":"IF(AH158>0,($M$5/60)*(((L158*$M$3/(1-$M$3))*(1-M158)*Inputs!$C$13)+((L158*$M$3/(1-$M$3))*M158*Inputs!$C$14)),0)","v":0},0,null,"2019-08-07T03:00:00","","",{"$f":"IF(AND(AP158<>\"\",AQ158<>\"\"),MAX(INDIRECT(AP158):INDIRECT(AQ158)),\"\")","v":""},"",""]
["2019-08-07",4,"Wednesday","04:00:00",{"$f":"INDEX(Lists!$M$3:$M$26,MATCH(Calculations!D159,Lists!$L$3:$L$26,0))","v":"NT"},76,{"$f":"IF(INDEX(Inputs!$H$86:$H$253,MATCH(F159,Inputs!$D$86:$D$253,0)),\"TRUE 4\",\nIF(INDEX(Inputs!$G$86:$G$253,MATCH(F159,Inputs!$D$86:$D$253,0)),\"TRUE 3\",\nIF(INDEX(Inputs!$F$86:$F$253,MATCH(F159,Inputs!$D$86:$D$253,0)),\"TRUE 2\",\nIF(INDEX(Inputs!$E$86:$E$253,MATCH(F159,Inputs!$D$86:$D$253,0)),\"TRUE 1\",\nFALSE))))","v":false},null,{"$f":"'Volume Import'!C150*'Volume Import'!$H$14*(1+'Volume Import'!$H$15)*(1-'Volume Import'!$H$16)","v":1320},{"$f":"IF(AND('Volume Import'!D150=0,'Volume Import'!C150=0),0,\nIF('Volume Import'!D150=0,INDEX('Volume Import'!$K$2:$Q$5,MATCH(E159,'Volume Import'!$R$2:$R$5,0),MATCH(C159,'Volume Import'!$K$1:$Q$1,0)),\n'Volume Import'!D150/'Volume Import'!C150))","v":0.1},null,{"$f":"'Volume Import'!E150*'Volume Import'!$I$14*(1+'Volume Import'!$I$15)*(1-'Volume Import'!$I$16)","v":949},{"$f":"IF('Volume Import'!F150=0,J159,'Volume Import'!F150/'Volume Import'!E150)","v":0.1},null,{"$f":"IF(G159=\"TRUE 1\",IF(E159=\"NT\",Inputs!$C$35,Inputs!$C$34),\nIF(G159=\"TRUE 2\",IF(E159=\"NT\",Inputs!$D$35,Inputs!$D$34),\nIF(G159=\"TRUE 3\",IF(E159=\"NT\",Inputs!$E$35,Inputs!$E$34),\nIF(G159=\"TRUE 4\",IF(E159=\"NT\",Inputs!$F$35,Inputs!$F$34),\nO158))))","v":65.476687896673383},{"$f":"IF(G159=\"TRUE 1\",IF(E159=\"NT\",MROUND(Inputs!$C$32*$P$3*(1/(1+J159*(2-1))),1),MROUND(Inputs!$C$30*$P$3*(1/(1+J159*(2-1))),1)),\nIF(G159=\"TRUE 2\",IF(E159=\"NT\",MROUND(Inputs!$D$32*$Q$3*(1/(1+J159*(2-1))),1),MROUND(Inputs!$D$30*$Q$3*(1/(1+J159*(2-1))),1)),\nIF(G159=\"TRUE 3\",IF(E159=\"NT\",MROUND(Inputs!$E$32*$R$3*(1/(1+J159*(2-1))),1),MROUND(Inputs!$E$30*$R$3*(1/(1+J159*(2-1))),1)),\nIF(G159=\"TRUE 4\",IF(E159=\"NT\",MROUND(Inputs!$F$32*$S$3*(1/(1+J159*(2-1))),1),MROUND(Inputs!$F$30*$S$3*(1/(1+J159*(2-1))),1)),\nMROUND(Inputs!$C$15*(1/(1+J159*(2-1)))*($P$3+$P$4),1)))))","v":8727},-7407,0,{"$f":"(R159/(1/(1+J159*(2-1))))*O159/LEFT(Inputs!$C$18,1)/5280","v":0},0,{"$f":"(T159/60)*((Inputs!$C$13*Calculations!R159*(1-Calculations!J159))+(Inputs!$C$14*Calculations!R159*Calculations!J159))","v":0},{"$f":"IF(R159>0,($J$5/60)*(((I159*$J$3/(1-$J$3))*(1-J159)*Inputs!$C$13)+((I159*$J$3/(1-$J$3))*J159*Inputs!$C$14)),0)","v":0},0,null,"2019-08-07T04:00:00","","",{"$f":"IF(AND(Z159<>\"\",AA159<>\"\"),MAX(INDIRECT(Z159):INDIRECT(AA159)),\"\")","v":""},"","",null,{"$f":"IF(G159=\"TRUE 1\",IF(E159=\"NT\",MROUND(Inputs!$C$32*$AF$3*(1/(1+M159*(2-1))),1),MROUND(Inputs!$C$30*$AF$3*(1/(1+M159*(2-1))),1)),\nIF(G159=\"TRUE 2\",IF(E159=\"NT\",MROUND(Inputs!$D$32*$AG$3*(1/(1+M159*(2-1))),1),MROUND(Inputs!$D$30*$AG$3*(1/(1+M159*(2-1))),1)),\nIF(G159=\"TRUE 3\",IF(E159=\"NT\",MROUND(Inputs!$E$32*$AH$3*(1/(1+M159*(2-1))),1),MROUND(Inputs!$E$30*$AH$3*(1/(1+M159*(2-1))),1)),\nIF(G159=\"TRUE 4\",IF(E159=\"NT\",MROUND(Inputs!$F$32*$AI$3*(1/(1+M159*(2-1))),1),MROUND(Inputs!$F$30*$AI$3*(1/(1+M159*(2-1))),1)),\nMROUND(Inputs!$C$15*(1/(1+M159*(2-1)))*($AF$3+$AF$4),1)))))","v":8727},-7778,0,{"$f":"(AH159/(1/(1+M159*(2-1))))*O159/LEFT(Inputs!$C$18,1)/5280","v":0},0,{"$f":"(AJ159/60)*((Inputs!$C$13*Calculations!AH159*(1-Calculations!M159))+(Inputs!$C$14*Calculations!AH159*Calculations!M159))","v":0},{"$f":"IF(AH159>0,($M$5/60)*(((L159*$M$3/(1-$M$3))*(1-M159)*Inputs!$C$13)+((L159*$M$3/(1-$M$3))*M159*Inputs!$C$14)),0)","v":0},0,null,"2019-08-07T04:00:00","","",{"$f":"IF(AND(AP159<>\"\",AQ159<>\"\"),MAX(INDIRECT(AP159):INDIRECT(AQ159)),\"\")","v":""},"",""]
["2019-08-07",4,"Wednesday","05:00:00",{"$f":"INDEX(Lists!$M$3:$M$26,MATCH(Calculations!D160,Lists!$L$3:$L$26,0))","v":"NT"},77,{"$f":"IF(INDEX(Inputs!$H$86:$H$253,MATCH(F160,Inputs!$D$86:$D$253,0)),\"TRUE 4\",\nIF(INDEX(Inputs!$G$86:$G$253,MATCH(F160,Inputs!$D$86:$D$253,0)),\"TRUE 3\",\nIF(INDEX(Inputs!$F$86:$F$253,MATCH(F160,Inputs!$D$86:$D$253,0)),\"TRUE 2\",\nIF(INDEX(Inputs!$E$86:$E$253,MATCH(F160,Inputs!$D$86:$D$253,0)),\"TRUE 1\",\nFALSE))))","v":false},null,{"$f":"'Volume Import'!C151*'Volume Import'!$H$14*(1+'Volume Import'!$H$15)*(1-'Volume Import'!$H$16)","v":3860},{"$f":"IF(AND('Volume Import'!D151=0,'Volume Import'!C151=0),0,\nIF('Volume Import'!D151=0,INDEX('Volume Import'!$K$2:$Q$5,MATCH(E160,'Volume Import'!$R$2:$R$5,0),MATCH(C160,'Volume Import'!$K$1:$Q$1,0)),\n'Volume Import'!D151/'Volume Import'!C151))","v":0.1},null,{"$f":"'Volume Import'!E151*'Volume Import'!$I$14*(1+'Volume Import'!$I$15)*(1-'Volume Import'!$I$16)","v":2185},{"$f":"IF('Volume Import'!F151=0,J160,'Volume Import'!F151/'Volume Import'!E151)","v":0.1},null,{"$f":"IF(G160=\"TRUE 1\",IF(E160=\"NT\",Inputs!$C$35,Inputs!$C$34),\nIF(G160=\"TRUE 2\",IF(E160=\"NT\",Inputs!$D$35,Inputs!$D$34),\nIF(G160=\"TRUE 3\",IF(E160=\"NT\",Inputs!$E$35,Inputs!$E$34),\nIF(G160=\"TRUE 4\",IF(E160=\"NT\",Inputs!$F$35,Inputs!$F$34),\nO159))))","v":65.476687896673383},{"$f":"IF(G160=\"TRUE 1\",IF(E160=\"NT\",MROUND(Inputs!$C$32*$P$3*(1/(1+J160*(2-1))),1),MROUND(Inputs!$C$30*$P$3*(1/(1+J160*(2-1))),1)),\nIF(G160=\"TRUE 2\",IF(E160=\"NT\",MROUND(Inputs!$D$32*$Q$3*(1/(1+J160*(2-1))),1),MROUND(Inputs!$D$30*$Q$3*(1/(1+J160*(2-1))),1)),\nIF(G160=\"TRUE 3\",IF(E160=\"NT\",MROUND(Inputs!$E$32*$R$3*(1/(1+J160*(2-1))),1),MROUND(Inputs!$E$30*$R$3*(1/(1+J160*(2-1))),1)),\nIF(G160=\"TRUE 4\",IF(E160=\"NT\",MROUND(Inputs!$F$32*$S$3*(1/(1+J160*(2-1))),1),MROUND(Inputs!$F$30*$S$3*(1/(1+J160*(2-1))),1)),\nMROUND(Inputs!$C$15*(1/(1+J160*(2-1)))*($P$3+$P$4),1)))))","v":8727},-4867,0,{"$f":"(R160/(1/(1+J160*(2-1))))*O160/LEFT(Inputs!$C$18,1)/5280","v":0},0,{"$f":"(T160/60)*((Inputs!$C$13*Calculations!R160*(1-Calculations!J160))+(Inputs!$C$14*Calculations!R160*Calculations!J160))","v":0},{"$f":"IF(R160>0,($J$5/60)*(((I160*$J$3/(1-$J$3))*(1-J160)*Inputs!$C$13)+((I160*$J$3/(1-$J$3))*J160*Inputs!$C$14)),0)","v":0},0,null,"2019-08-07T05:00:00","","",{"$f":"IF(AND(Z160<>\"\",AA160<>\"\"),MAX(INDIRECT(Z160):INDIRECT(AA160)),\"\")","v":""},"","",null,{"$f":"IF(G160=\"TRUE 1\",IF(E160=\"NT\",MROUND(Inputs!$C$32*$AF$3*(1/(1+M160*(2-1))),1),MROUND(Inputs!$C$30*$AF$3*(1/(1+M160*(2-1))),1)),\nIF(G160=\"TRUE 2\",IF(E160=\"NT\",MROUND(Inputs!$D$32*$AG$3*(1/(1+M160*(2-1))),1),MROUND(Inputs!$D$30*$AG$3*(1/(1+M160*(2-1))),1)),\nIF(G160=\"TRUE 3\",IF(E160=\"NT\",MROUND(Inputs!$E$32*$AH$3*(1/(1+M160*(2-1))),1),MROUND(Inputs!$E$30*$AH$3*(1/(1+M160*(2-1))),1)),\nIF(G160=\"TRUE 4\",IF(E160=\"NT\",MROUND(Inputs!$F$32*$AI$3*(1/(1+M160*(2-1))),1),MROUND(Inputs!$F$30*$AI$3*(1/(1+M160*(2-1))),1)),\nMROUND(Inputs!$C$15*(1/(1+M160*(2-1)))*($AF$3+$AF$4),1)))))","v":8727},-6542,0,{"$f":"(AH160/(1/(1+M160*(2-1))))*O160/LEFT(Inputs!$C$18,1)/5280","v":0},0,{"$f":"(AJ160/60)*((Inputs!$C$13*Calculations!AH160*(1-Calculations!M160))+(Inputs!$C$14*Calculations!AH160*Calculations!M160))","v":0},{"$f":"IF(AH160>0,($M$5/60)*(((L160*$M$3/(1-$M$3))*(1-M160)*Inputs!$C$13)+((L160*$M$3/(1-$M$3))*M160*Inputs!$C$14)),0)","v":0},0,null,"2019-08-07T05:00:00","","",{"$f":"IF(AND(AP160<>\"\",AQ160<>\"\"),MAX(INDIRECT(AP160):INDIRECT(AQ160)),\"\")","v":""},"",""]
["2019-08-07",4,"Wednesday","06:00:00",{"$f":"INDEX(Lists!$M$3:$M$26,MATCH(Calculations!D161,Lists!$L$3:$L$26,0))","v":"AM"},78,{"$f":"IF(INDEX(Inputs!$H$86:$H$253,MATCH(F161,Inputs!$D$86:$D$253,0)),\"TRUE 4\",\nIF(INDEX(Inputs!$G$86:$G$253,MATCH(F161,Inputs!$D$86:$D$253,0)),\"TRUE 3\",\nIF(INDEX(Inputs!$F$86:$F$253,MATCH(F161,Inputs!$D$86:$D$253,0)),\"TRUE 2\",\nIF(INDEX(Inputs!$E$86:$E$253,MATCH(F161,Inputs!$D$86:$D$253,0)),\"TRUE 1\",\nFALSE))))","v":false},null,{"$f":"'Volume Import'!C152*'Volume Import'!$H$14*(1+'Volume Import'!$H$15)*(1-'Volume Import'!$H$16)","v":6482},{"$f":"IF(AND('Volume Import'!D152=0,'Volume Import'!C152=0),0,\nIF('Volume Import'!D152=0,INDEX('Volume Import'!$K$2:$Q$5,MATCH(E161,'Volume Import'!$R$2:$R$5,0),MATCH(C161,'Volume Import'!$K$1:$Q$1,0)),\n'Volume Import'!D152/'Volume Import'!C152))","v":0.1},null,{"$f":"'Volume Import'!E152*'Volume Import'!$I$14*(1+'Volume Import'!$I$15)*(1-'Volume Import'!$I$16)","v":3620},{"$f":"IF('Volume Import'!F152=0,J161,'Volume Import'!F152/'Volume Import'!E152)","v":0.1},null,{"$f":"IF(G161=\"TRUE 1\",IF(E161=\"NT\",Inputs!$C$35,Inputs!$C$34),\nIF(G161=\"TRUE 2\",IF(E161=\"NT\",Inputs!$D$35,Inputs!$D$34),\nIF(G161=\"TRUE 3\",IF(E161=\"NT\",Inputs!$E$35,Inputs!$E$34),\nIF(G161=\"TRUE 4\",IF(E161=\"NT\",Inputs!$F$35,Inputs!$F$34),\nO160))))","v":65.476687896673383},{"$f":"IF(G161=\"TRUE 1\",IF(E161=\"NT\",MROUND(Inputs!$C$32*$P$3*(1/(1+J161*(2-1))),1),MROUND(Inputs!$C$30*$P$3*(1/(1+J161*(2-1))),1)),\nIF(G161=\"TRUE 2\",IF(E161=\"NT\",MROUND(Inputs!$D$32*$Q$3*(1/(1+J161*(2-1))),1),MROUND(Inputs!$D$30*$Q$3*(1/(1+J161*(2-1))),1)),\nIF(G161=\"TRUE 3\",IF(E161=\"NT\",MROUND(Inputs!$E$32*$R$3*(1/(1+J161*(2-1))),1),MROUND(Inputs!$E$30*$R$3*(1/(1+J161*(2-1))),1)),\nIF(G161=\"TRUE 4\",IF(E161=\"NT\",MROUND(Inputs!$F$32*$S$3*(1/(1+J161*(2-1))),1),MROUND(Inputs!$F$30*$S$3*(1/(1+J161*(2-1))),1)),\nMROUND(Inputs!$C$15*(1/(1+J161*(2-1)))*($P$3+$P$4),1)))))","v":8727},-2245,0,{"$f":"(R161/(1/(1+J161*(2-1))))*O161/LEFT(Inputs!$C$18,1)/5280","v":0},0,{"$f":"(T161/60)*((Inputs!$C$13*Calculations!R161*(1-Calculations!J161))+(Inputs!$C$14*Calculations!R161*Calculations!J161))","v":0},{"$f":"IF(R161>0,($J$5/60)*(((I161*$J$3/(1-$J$3))*(1-J161)*Inputs!$C$13)+((I161*$J$3/(1-$J$3))*J161*Inputs!$C$14)),0)","v":0},0,null,"2019-08-07T06:00:00","","",{"$f":"IF(AND(Z161<>\"\",AA161<>\"\"),MAX(INDIRECT(Z161):INDIRECT(AA161)),\"\")","v":""},"","",null,{"$f":"IF(G161=\"TRUE 1\",IF(E161=\"NT\",MROUND(Inputs!$C$32*$AF$3*(1/(1+M161*(2-1))),1),MROUND(Inputs!$C$30*$AF$3*(1/(1+M161*(2-1))),1)),\nIF(G161=\"TRUE 2\",IF(E161=\"NT\",MROUND(Inputs!$D$32*$AG$3*(1/(1+M161*(2-1))),1),MROUND(Inputs!$D$30*$AG$3*(1/(1+M161*(2-1))),1)),\nIF(G161=\"TRUE 3\",IF(E161=\"NT\",MROUND(Inputs!$E$32*$AH$3*(1/(1+M161*(2-1))),1),MROUND(Inputs!$E$30*$AH$3*(1/(1+M161*(2-1))),1)),\nIF(G161=\"TRUE 4\",IF(E161=\"NT\",MROUND(Inputs!$F$32*$AI$3*(1/(1+M161*(2-1))),1),MROUND(Inputs!$F$30*$AI$3*(1/(1+M161*(2-1))),1)),\nMROUND(Inputs!$C$15*(1/(1+M161*(2-1)))*($AF$3+$AF$4),1)))))","v":8727},-5107,0,{"$f":"(AH161/(1/(1+M161*(2-1))))*O161/LEFT(Inputs!$C$18,1)/5280","v":0},0,{"$f":"(AJ161/60)*((Inputs!$C$13*Calculations!AH161*(1-Calculations!M161))+(Inputs!$C$14*Calculations!AH161*Calculations!M161))","v":0},{"$f":"IF(AH161>0,($M$5/60)*(((L161*$M$3/(1-$M$3))*(1-M161)*Inputs!$C$13)+((L161*$M$3/(1-$M$3))*M161*Inputs!$C$14)),0)","v":0},0,null,"2019-08-07T06:00:00","","",{"$f":"IF(AND(AP161<>\"\",AQ161<>\"\"),MAX(INDIRECT(AP161):INDIRECT(AQ161)),\"\")","v":""},"",""]
["2019-08-07",4,"Wednesday","07:00:00",{"$f":"INDEX(Lists!$M$3:$M$26,MATCH(Calculations!D162,Lists!$L$3:$L$26,0))","v":"AM"},79,{"$f":"IF(INDEX(Inputs!$H$86:$H$253,MATCH(F162,Inputs!$D$86:$D$253,0)),\"TRUE 4\",\nIF(INDEX(Inputs!$G$86:$G$253,MATCH(F162,Inputs!$D$86:$D$253,0)),\"TRUE 3\",\nIF(INDEX(Inputs!$F$86:$F$253,MATCH(F162,Inputs!$D$86:$D$253,0)),\"TRUE 2\",\nIF(INDEX(Inputs!$E$86:$E$253,MATCH(F162,Inputs!$D$86:$D$253,0)),\"TRUE 1\",\nFALSE))))","v":false},null,{"$f":"'Volume Import'!C153*'Volume Import'!$H$14*(1+'Volume Import'!$H$15)*(1-'Volume Import'!$H$16)","v":6624},{"$f":"IF(AND('Volume Import'!D153=0,'Volume Import'!C153=0),0,\nIF('Volume Import'!D153=0,INDEX('Volume Import'!$K$2:$Q$5,MATCH(E162,'Volume Import'!$R$2:$R$5,0),MATCH(C162,'Volume Import'!$K$1:$Q$1,0)),\n'Volume Import'!D153/'Volume Import'!C153))","v":0.1},null,{"$f":"'Volume Import'!E153*'Volume Import'!$I$14*(1+'Volume Import'!$I$15)*(1-'Volume Import'!$I$16)","v":4706},{"$f":"IF('Volume Import'!F153=0,J162,'Volume Import'!F153/'Volume Import'!E153)","v":0.1},null,{"$f":"IF(G162=\"TRUE 1\",IF(E162=\"NT\",Inputs!$C$35,Inputs!$C$34),\nIF(G162=\"TRUE 2\",IF(E162=\"NT\",Inputs!$D$35,Inputs!$D$34),\nIF(G162=\"TRUE 3\",IF(E162=\"NT\",Inputs!$E$35,Inputs!$E$34),\nIF(G162=\"TRUE 4\",IF(E162=\"NT\",Inputs!$F$35,Inputs!$F$34),\nO161))))","v":65.476687896673383},{"$f":"IF(G162=\"TRUE 1\",IF(E162=\"NT\",MROUND(Inputs!$C$32*$P$3*(1/(1+J162*(2-1))),1),MROUND(Inputs!$C$30*$P$3*(1/(1+J162*(2-1))),1)),\nIF(G162=\"TRUE 2\",IF(E162=\"NT\",MROUND(Inputs!$D$32*$Q$3*(1/(1+J162*(2-1))),1),MROUND(Inputs!$D$30*$Q$3*(1/(1+J162*(2-1))),1)),\nIF(G162=\"TRUE 3\",IF(E162=\"NT\",MROUND(Inputs!$E$32*$R$3*(1/(1+J162*(2-1))),1),MROUND(Inputs!$E$30*$R$3*(1/(1+J162*(2-1))),1)),\nIF(G162=\"TRUE 4\",IF(E162=\"NT\",MROUND(Inputs!$F$32*$S$3*(1/(1+J162*(2-1))),1),MROUND(Inputs!$F$30*$S$3*(1/(1+J162*(2-1))),1)),\nMROUND(Inputs!$C$15*(1/(1+J162*(2-1)))*($P$3+$P$4),1)))))","v":8727},-2103,0,{"$f":"(R162/(1/(1+J162*(2-1))))*O162/LEFT(Inputs!$C$18,1)/5280","v":0},0,{"$f":"(T162/60)*((Inputs!$C$13*Calculations!R162*(1-Calculations!J162))+(Inputs!$C$14*Calculations!R162*Calculations!J162))","v":0},{"$f":"IF(R162>0,($J$5/60)*(((I162*$J$3/(1-$J$3))*(1-J162)*Inputs!$C$13)+((I162*$J$3/(1-$J$3))*J162*Inputs!$C$14)),0)","v":0},0,null,"2019-08-07T07:00:00","","",{"$f":"IF(AND(Z162<>\"\",AA162<>\"\"),MAX(INDIRECT(Z162):INDIRECT(AA162)),\"\")","v":""},"","",null,{"$f":"IF(G162=\"TRUE 1\",IF(E162=\"NT\",MROUND(Inputs!$C$32*$AF$3*(1/(1+M162*(2-1))),1),MROUND(Inputs!$C$30*$AF$3*(1/(1+M162*(2-1))),1)),\nIF(G162=\"TRUE 2\",IF(E162=\"NT\",MROUND(Inputs!$D$32*$AG$3*(1/(1+M162*(2-1))),1),MROUND(Inputs!$D$30*$AG$3*(1/(1+M162*(2-1))),1)),\nIF(G162=\"TRUE 3\",IF(E162=\"NT\",MROUND(Inputs!$E$32*$AH$3*(1/(1+M162*(2-1))),1),MROUND(Inputs!$E$30*$AH$3*(1/(1+M162*(2-1))),1)),\nIF(G162=\"TRUE 4\",IF(E162=\"NT\",MROUND(Inputs!$F$32*$AI$3*(1/(1+M162*(2-1))),1),MROUND(Inputs!$F$30*$AI$3*(1/(1+M162*(2-1))),1)),\nMROUND(Inputs!$C$15*(1/(1+M162*(2-1)))*($AF$3+$AF$4),1)))))","v":8727},-4021,0,{"$f":"(AH162/(1/(1+M162*(2-1))))*O162/LEFT(Inputs!$C$18,1)/5280","v":0},0,{"$f":"(AJ162/60)*((Inputs!$C$13*Calculations!AH162*(1-Calculations!M162))+(Inputs!$C$14*Calculations!AH162*Calculations!M162))","v":0},{"$f":"IF(AH162>0,($M$5/60)*(((L162*$M$3/(1-$M$3))*(1-M162)*Inputs!$C$13)+((L162*$M$3/(1-$M$3))*M162*Inputs!$C$14)),0)","v":0},0,null,"2019-08-07T07:00:00","","",{"$f":"IF(AND(AP162<>\"\",AQ162<>\"\"),MAX(INDIRECT(AP162):INDIRECT(AQ162)),\"\")","v":""},"",""]
["2019-08-07",4,"Wednesday","08:00:00",{"$f":"INDEX(Lists!$M$3:$M$26,MATCH(Calculations!D163,Lists!$L$3:$L$26,0))","v":"AM"},80,{"$f":"IF(INDEX(Inputs!$H$86:$H$253,MATCH(F163,Inputs!$D$86:$D$253,0)),\"TRUE 4\",\nIF(INDEX(Inputs!$G$86:$G$253,MATCH(F163,Inputs!$D$86:$D$253,0)),\"TRUE 3\",\nIF(INDEX(Inputs!$F$86:$F$253,MATCH(F163,Inputs!$D$86:$D$253,0)),\"TRUE 2\",\nIF(INDEX(Inputs!$E$86:$E$253,MATCH(F163,Inputs!$D$86:$D$253,0)),\"TRUE 1\",\nFALSE))))","v":false},null,{"$f":"'Volume Import'!C154*'Volume Import'!$H$14*(1+'Volume Import'!$H$15)*(1-'Volume Import'!$H$16)","v":5517},{"$f":"IF(AND('Volume Import'!D154=0,'Volume Import'!C154=0),0,\nIF('Volume Import'!D154=0,INDEX('Volume Import'!$K$2:$Q$5,MATCH(E163,'Volume Import'!$R$2:$R$5,0),MATCH(C163,'Volume Import'!$K$1:$Q$1,0)),\n'Volume Import'!D154/'Volume Import'!C154))","v":0.1},null,{"$f":"'Volume Import'!E154*'Volume Import'!$I$14*(1+'Volume Import'!$I$15)*(1-'Volume Import'!$I$16)","v":4317},{"$f":"IF('Volume Import'!F154=0,J163,'Volume Import'!F154/'Volume Import'!E154)","v":0.1},null,{"$f":"IF(G163=\"TRUE 1\",IF(E163=\"NT\",Inputs!$C$35,Inputs!$C$34),\nIF(G163=\"TRUE 2\",IF(E163=\"NT\",Inputs!$D$35,Inputs!$D$34),\nIF(G163=\"TRUE 3\",IF(E163=\"NT\",Inputs!$E$35,Inputs!$E$34),\nIF(G163=\"TRUE 4\",IF(E163=\"NT\",Inputs!$F$35,Inputs!$F$34),\nO162))))","v":65.476687896673383},{"$f":"IF(G163=\"TRUE 1\",IF(E163=\"NT\",MROUND(Inputs!$C$32*$P$3*(1/(1+J163*(2-1))),1),MROUND(Inputs!$C$30*$P$3*(1/(1+J163*(2-1))),1)),\nIF(G163=\"TRUE 2\",IF(E163=\"NT\",MROUND(Inputs!$D$32*$Q$3*(1/(1+J163*(2-1))),1),MROUND(Inputs!$D$30*$Q$3*(1/(1+J163*(2-1))),1)),\nIF(G163=\"TRUE 3\",IF(E163=\"NT\",MROUND(Inputs!$E$32*$R$3*(1/(1+J163*(2-1))),1),MROUND(Inputs!$E$30*$R$3*(1/(1+J163*(2-1))),1)),\nIF(G163=\"TRUE 4\",IF(E163=\"NT\",MROUND(Inputs!$F$32*$S$3*(1/(1+J163*(2-1))),1),MROUND(Inputs!$F$30*$S$3*(1/(1+J163*(2-1))),1)),\nMROUND(Inputs!$C$15*(1/(1+J163*(2-1)))*($P$3+$P$4),1)))))","v":8727},-3210,0,{"$f":"(R163/(1/(1+J163*(2-1))))*O163/LEFT(Inputs!$C$18,1)/5280","v":0},0,{"$f":"(T163/60)*((Inputs!$C$13*Calculations!R163*(1-Calculations!J163))+(Inputs!$C$14*Calculations!R163*Calculations!J163))","v":0},{"$f":"IF(R163>0,($J$5/60)*(((I163*$J$3/(1-$J$3))*(1-J163)*Inputs!$C$13)+((I163*$J$3/(1-$J$3))*J163*Inputs!$C$14)),0)","v":0},0,null,"2019-08-07T08:00:00","","",{"$f":"IF(AND(Z163<>\"\",AA163<>\"\"),MAX(INDIRECT(Z163):INDIRECT(AA163)),\"\")","v":""},"","",null,{"$f":"IF(G163=\"TRUE 1\",IF(E163=\"NT\",MROUND(Inputs!$C$32*$AF$3*(1/(1+M163*(2-1))),1),MROUND(Inputs!$C$30*$AF$3*(1/(1+M163*(2-1))),1)),\nIF(G163=\"TRUE 2\",IF(E163=\"NT\",MROUND(Inputs!$D$32*$AG$3*(1/(1+M163*(2-1))),1),MROUND(Inputs!$D$30*$AG$3*(1/(1+M163*(2-1))),1)),\nIF(G163=\"TRUE 3\",IF(E163=\"NT\",MROUND(Inputs!$E$32*$AH$3*(1/(1+M163*(2-1))),1),MROUND(Inputs!$E$30*$AH$3*(1/(1+M163*(2-1))),1)),\nIF(G163=\"TRUE 4\",IF(E163=\"NT\",MROUND(Inputs!$F$32*$AI$3*(1/(1+M163*(2-1))),1),MROUND(Inputs!$F$30*$AI$3*(1/(1+M163*(2-1))),1)),\nMROUND(Inputs!$C$15*(1/(1+M163*(2-1)))*($AF$3+$AF$4),1)))))","v":8727},-4410,0,{"$f":"(AH163/(1/(1+M163*(2-1))))*O163/LEFT(Inputs!$C$18,1)/5280","v":0},0,{"$f":"(AJ163/60)*((Inputs!$C$13*Calculations!AH163*(1-Calculations!M163))+(Inputs!$C$14*Calculations!AH163*Calculations!M163))","v":0},{"$f":"IF(AH163>0,($M$5/60)*(((L163*$M$3/(1-$M$3))*(1-M163)*Inputs!$C$13)+((L163*$M$3/(1-$M$3))*M163*Inputs!$C$14)),0)","v":0},0,null,"2019-08-07T08:00:00","","",{"$f":"IF(AND(AP163<>\"\",AQ163<>\"\"),MAX(INDIRECT(AP163):INDIRECT(AQ163)),\"\")","v":""},"",""]
[{"$f":"A140+1","v":"2019-08-07"},4,"Wednesday","09:00:00",{"$f":"INDEX(Lists!$M$3:$M$26,MATCH(Calculations!D164,Lists!$L$3:$L$26,0))","v":"MD"},81,{"$f":"IF(INDEX(Inputs!$H$86:$H$253,MATCH(F164,Inputs!$D$86:$D$253,0)),\"TRUE 4\",\nIF(INDEX(Inputs!$G$86:$G$253,MATCH(F164,Inputs!$D$86:$D$253,0)),\"TRUE 3\",\nIF(INDEX(Inputs!$F$86:$F$253,MATCH(F164,Inputs!$D$86:$D$253,0)),\"TRUE 2\",\nIF(INDEX(Inputs!$E$86:$E$253,MATCH(F164,Inputs!$D$86:$D$253,0)),\"TRUE 1\",\nFALSE))))","v":"TRUE 1"},null,{"$f":"'Volume Import'!C155*'Volume Import'!$H$14*(1+'Volume Import'!$H$15)*(1-'Volume Import'!$H$16)","v":4949},{"$f":"IF(AND('Volume Import'!D155=0,'Volume Import'!C155=0),0,\nIF('Volume Import'!D155=0,INDEX('Volume Import'!$K$2:$Q$5,MATCH(E164,'Volume Import'!$R$2:$R$5,0),MATCH(C164,'Volume Import'!$K$1:$Q$1,0)),\n'Volume Import'!D155/'Volume Import'!C155))","v":0.1},null,{"$f":"'Volume Import'!E155*'Volume Import'!$I$14*(1+'Volume Import'!$I$15)*(1-'Volume Import'!$I$16)","v":3827},{"$f":"IF('Volume Import'!F155=0,J164,'Volume Import'!F155/'Volume Import'!E155)","v":0.1},null,{"$f":"IF(G164=\"TRUE 1\",IF(E164=\"NT\",Inputs!$C$35,Inputs!$C$34),\nIF(G164=\"TRUE 2\",IF(E164=\"NT\",Inputs!$D$35,Inputs!$D$34),\nIF(G164=\"TRUE 3\",IF(E164=\"NT\",Inputs!$E$35,Inputs!$E$34),\nIF(G164=\"TRUE 4\",IF(E164=\"NT\",Inputs!$F$35,Inputs!$F$34),\nO163))))","v":65.476687896673383},{"$f":"IF(G164=\"TRUE 1\",IF(E164=\"NT\",MROUND(Inputs!$C$32*$P$3*(1/(1+J164*(2-1))),1),MROUND(Inputs!$C$30*$P$3*(1/(1+J164*(2-1))),1)),\nIF(G164=\"TRUE 2\",IF(E164=\"NT\",MROUND(Inputs!$D$32*$Q$3*(1/(1+J164*(2-1))),1),MROUND(Inputs!$D$30*$Q$3*(1/(1+J164*(2-1))),1)),\nIF(G164=\"TRUE 3\",IF(E164=\"NT\",MROUND(Inputs!$E$32*$R$3*(1/(1+J164*(2-1))),1),MROUND(Inputs!$E$30*$R$3*(1/(1+J164*(2-1))),1)),\nIF(G164=\"TRUE 4\",IF(E164=\"NT\",MROUND(Inputs!$F$32*$S$3*(1/(1+J164*(2-1))),1),MROUND(Inputs!$F$30*$S$3*(1/(1+J164*(2-1))),1)),\nMROUND(Inputs!$C$15*(1/(1+J164*(2-1)))*($P$3+$P$4),1)))))","v":4681},268,268,{"$f":"(R164/(1/(1+J164*(2-1))))*O164/LEFT(Inputs!$C$18,1)/5280","v":0.91394543522439931},3.435163426618244,{"$f":"(T164/60)*((Inputs!$C$13*Calculations!R164*(1-Calculations!J164))+(Inputs!$C$14*Calculations!R164*Calculations!J164))","v":353.02853920102547},{"$f":"IF(R164>0,($J$5/60)*(((I164*$J$3/(1-$J$3))*(1-J164)*Inputs!$C$13)+((I164*$J$3/(1-$J$3))*J164*Inputs!$C$14)),0)","v":0},353.02853920102547,null,"2019-08-07T09:00:00","S164","",{"$f":"IF(AND(Z164<>\"\",AA164<>\"\"),MAX(INDIRECT(Z164):INDIRECT(AA164)),\"\")","v":""},"2019-08-07T09:00:00","Q",null,{"$f":"IF(G164=\"TRUE 1\",IF(E164=\"NT\",MROUND(Inputs!$C$32*$AF$3*(1/(1+M164*(2-1))),1),MROUND(Inputs!$C$30*$AF$3*(1/(1+M164*(2-1))),1)),\nIF(G164=\"TRUE 2\",IF(E164=\"NT\",MROUND(Inputs!$D$32*$AG$3*(1/(1+M164*(2-1))),1),MROUND(Inputs!$D$30*$AG$3*(1/(1+M164*(2-1))),1)),\nIF(G164=\"TRUE 3\",IF(E164=\"NT\",MROUND(Inputs!$E$32*$AH$3*(1/(1+M164*(2-1))),1),MROUND(Inputs!$E$30*$AH$3*(1/(1+M164*(2-1))),1)),\nIF(G164=\"TRUE 4\",IF(E164=\"NT\",MROUND(Inputs!$F$32*$AI$3*(1/(1+M164*(2-1))),1),MROUND(Inputs!$F$30*$AI$3*(1/(1+M164*(2-1))),1)),\nMROUND(Inputs!$C$15*(1/(1+M164*(2-1)))*($AF$3+$AF$4),1)))))","v":4681},-854,0,{"$f":"(AH164/(1/(1+M164*(2-1))))*O164/LEFT(Inputs!$C$18,1)/5280","v":0},0,{"$f":"(AJ164/60)*((Inputs!$C$13*Calculations!AH164*(1-Calculations!M164))+(Inputs!$C$14*Calculations!AH164*Calculations!M164))","v":0},{"$f":"IF(AH164>0,($M$5/60)*(((L164*$M$3/(1-$M$3))*(1-M164)*Inputs!$C$13)+((L164*$M$3/(1-$M$3))*M164*Inputs!$C$14)),0)","v":0},0,null,"2019-08-07T09:00:00","","",{"$f":"IF(AND(AP164<>\"\",AQ164<>\"\"),MAX(INDIRECT(AP164):INDIRECT(AQ164)),\"\")","v":""},"",""]
["2019-08-07",4,"Wednesday","10:00:00",{"$f":"INDEX(Lists!$M$3:$M$26,MATCH(Calculations!D165,Lists!$L$3:$L$26,0))","v":"MD"},82,{"$f":"IF(INDEX(Inputs!$H$86:$H$253,MATCH(F165,Inputs!$D$86:$D$253,0)),\"TRUE 4\",\nIF(INDEX(Inputs!$G$86:$G$253,MATCH(F165,Inputs!$D$86:$D$253,0)),\"TRUE 3\",\nIF(INDEX(Inputs!$F$86:$F$253,MATCH(F165,Inputs!$D$86:$D$253,0)),\"TRUE 2\",\nIF(INDEX(Inputs!$E$86:$E$253,MATCH(F165,Inputs!$D$86:$D$253,0)),\"TRUE 1\",\nFALSE))))","v":"TRUE 1"},null,{"$f":"'Volume Import'!C156*'Volume Import'!$H$14*(1+'Volume Import'!$H$15)*(1-'Volume Import'!$H$16)","v":4850},{"$f":"IF(AND('Volume Import'!D156=0,'Volume Import'!C156=0),0,\nIF('Volume Import'!D156=0,INDEX('Volume Import'!$K$2:$Q$5,MATCH(E165,'Volume Import'!$R$2:$R$5,0),MATCH(C165,'Volume Import'!$K$1:$Q$1,0)),\n'Volume Import'!D156/'Volume Import'!C156))","v":0.1},null,{"$f":"'Volume Import'!E156*'Volume Import'!$I$14*(1+'Volume Import'!$I$15)*(1-'Volume Import'!$I$16)","v":3870},{"$f":"IF('Volume Import'!F156=0,J165,'Volume Import'!F156/'Volume Import'!E156)","v":0.1},null,{"$f":"IF(G165=\"TRUE 1\",IF(E165=\"NT\",Inputs!$C$35,Inputs!$C$34),\nIF(G165=\"TRUE 2\",IF(E165=\"NT\",Inputs!$D$35,Inputs!$D$34),\nIF(G165=\"TRUE 3\",IF(E165=\"NT\",Inputs!$E$35,Inputs!$E$34),\nIF(G165=\"TRUE 4\",IF(E165=\"NT\",Inputs!$F$35,Inputs!$F$34),\nO164))))","v":65.476687896673383},{"$f":"IF(G165=\"TRUE 1\",IF(E165=\"NT\",MROUND(Inputs!$C$32*$P$3*(1/(1+J165*(2-1))),1),MROUND(Inputs!$C$30*$P$3*(1/(1+J165*(2-1))),1)),\nIF(G165=\"TRUE 2\",IF(E165=\"NT\",MROUND(Inputs!$D$32*$Q$3*(1/(1+J165*(2-1))),1),MROUND(Inputs!$D$30*$Q$3*(1/(1+J165*(2-1))),1)),\nIF(G165=\"TRUE 3\",IF(E165=\"NT\",MROUND(Inputs!$E$32*$R$3*(1/(1+J165*(2-1))),1),MROUND(Inputs!$E$30*$R$3*(1/(1+J165*(2-1))),1)),\nIF(G165=\"TRUE 4\",IF(E165=\"NT\",MROUND(Inputs!$F$32*$S$3*(1/(1+J165*(2-1))),1),MROUND(Inputs!$F$30*$S$3*(1/(1+J165*(2-1))),1)),\nMROUND(Inputs!$C$15*(1/(1+J165*(2-1)))*($P$3+$P$4),1)))))","v":4681},169,437,{"$f":"(R165/(1/(1+J165*(2-1))))*O165/LEFT(Inputs!$C$18,1)/5280","v":1.4902766984815763},5.6013672292245245,{"$f":"(T165/60)*((Inputs!$C$13*Calculations!R165*(1-Calculations!J165))+(Inputs!$C$14*Calculations!R165*Calculations!J165))","v":938.64874001281771},{"$f":"IF(R165>0,($J$5/60)*(((I165*$J$3/(1-$J$3))*(1-J165)*Inputs!$C$13)+((I165*$J$3/(1-$J$3))*J165*Inputs!$C$14)),0)","v":0},938.64874001281771,null,"2019-08-07T10:00:00","S164","",{"$f":"IF(AND(Z165<>\"\",AA165<>\"\"),MAX(INDIRECT(Z165):INDIRECT(AA165)),\"\")","v":""},"Q","Q",null,{"$f":"IF(G165=\"TRUE 1\",IF(E165=\"NT\",MROUND(Inputs!$C$32*$AF$3*(1/(1+M165*(2-1))),1),MROUND(Inputs!$C$30*$AF$3*(1/(1+M165*(2-1))),1)),\nIF(G165=\"TRUE 2\",IF(E165=\"NT\",MROUND(Inputs!$D$32*$AG$3*(1/(1+M165*(2-1))),1),MROUND(Inputs!$D$30*$AG$3*(1/(1+M165*(2-1))),1)),\nIF(G165=\"TRUE 3\",IF(E165=\"NT\",MROUND(Inputs!$E$32*$AH$3*(1/(1+M165*(2-1))),1),MROUND(Inputs!$E$30*$AH$3*(1/(1+M165*(2-1))),1)),\nIF(G165=\"TRUE 4\",IF(E165=\"NT\",MROUND(Inputs!$F$32*$AI$3*(1/(1+M165*(2-1))),1),MROUND(Inputs!$F$30*$AI$3*(1/(1+M165*(2-1))),1)),\nMROUND(Inputs!$C$15*(1/(1+M165*(2-1)))*($AF$3+$AF$4),1)))))","v":4681},-811,0,{"$f":"(AH165/(1/(1+M165*(2-1))))*O165/LEFT(Inputs!$C$18,1)/5280","v":0},0,{"$f":"(AJ165/60)*((Inputs!$C$13*Calculations!AH165*(1-Calculations!M165))+(Inputs!$C$14*Calculations!AH165*Calculations!M165))","v":0},{"$f":"IF(AH165>0,($M$5/60)*(((L165*$M$3/(1-$M$3))*(1-M165)*Inputs!$C$13)+((L165*$M$3/(1-$M$3))*M165*Inputs!$C$14)),0)","v":0},0,null,"2019-08-07T10:00:00","","",{"$f":"IF(AND(AP165<>\"\",AQ165<>\"\"),MAX(INDIRECT(AP165):INDIRECT(AQ165)),\"\")","v":""},"",""]
["2019-08-07",4,"Wednesday","11:00:00",{"$f":"INDEX(Lists!$M$3:$M$26,MATCH(Calculations!D166,Lists!$L$3:$L$26,0))","v":"MD"},83,{"$f":"IF(INDEX(Inputs!$H$86:$H$253,MATCH(F166,Inputs!$D$86:$D$253,0)),\"TRUE 4\",\nIF(INDEX(Inputs!$G$86:$G$253,MATCH(F166,Inputs!$D$86:$D$253,0)),\"TRUE 3\",\nIF(INDEX(Inputs!$F$86:$F$253,MATCH(F166,Inputs!$D$86:$D$253,0)),\"TRUE 2\",\nIF(INDEX(Inputs!$E$86:$E$253,MATCH(F166,Inputs!$D$86:$D$253,0)),\"TRUE 1\",\nFALSE))))","v":"TRUE 1"},null,{"$f":"'Volume Import'!C157*'Volume Import'!$H$14*(1+'Volume Import'!$H$15)*(1-'Volume Import'!$H$16)","v":4617},{"$f":"IF(AND('Volume Import'!D157=0,'Volume Import'!C157=0),0,\nIF('Volume Import'!D157=0,INDEX('Volume Import'!$K$2:$Q$5,MATCH(E166,'Volume Import'!$R$2:$R$5,0),MATCH(C166,'Volume Import'!$K$1:$Q$1,0)),\n'Volume Import'!D157/'Volume Import'!C157))","v":0.1},null,{"$f":"'Volume Import'!E157*'Volume Import'!$I$14*(1+'Volume Import'!$I$15)*(1-'Volume Import'!$I$16)","v":4067},{"$f":"IF('Volume Import'!F157=0,J166,'Volume Import'!F157/'Volume Import'!E157)","v":0.1},null,{"$f":"IF(G166=\"TRUE 1\",IF(E166=\"NT\",Inputs!$C$35,Inputs!$C$34),\nIF(G166=\"TRUE 2\",IF(E166=\"NT\",Inputs!$D$35,Inputs!$D$34),\nIF(G166=\"TRUE 3\",IF(E166=\"NT\",Inputs!$E$35,Inputs!$E$34),\nIF(G166=\"TRUE 4\",IF(E166=\"NT\",Inputs!$F$35,Inputs!$F$34),\nO165))))","v":65.476687896673383},{"$f":"IF(G166=\"TRUE 1\",IF(E166=\"NT\",MROUND(Inputs!$C$32*$P$3*(1/(1+J166*(2-1))),1),MROUND(Inputs!$C$30*$P$3*(1/(1+J166*(2-1))),1)),\nIF(G166=\"TRUE 2\",IF(E166=\"NT\",MROUND(Inputs!$D$32*$Q$3*(1/(1+J166*(2-1))),1),MROUND(Inputs!$D$30*$Q$3*(1/(1+J166*(2-1))),1)),\nIF(G166=\"TRUE 3\",IF(E166=\"NT\",MROUND(Inputs!$E$32*$R$3*(1/(1+J166*(2-1))),1),MROUND(Inputs!$E$30*$R$3*(1/(1+J166*(2-1))),1)),\nIF(G166=\"TRUE 4\",IF(E166=\"NT\",MROUND(Inputs!$F$32*$S$3*(1/(1+J166*(2-1))),1),MROUND(Inputs!$F$30*$S$3*(1/(1+J166*(2-1))),1)),\nMROUND(Inputs!$C$15*(1/(1+J166*(2-1)))*($P$3+$P$4),1)))))","v":4681},-64,373,{"$f":"(R166/(1/(1+J166*(2-1))))*O166/LEFT(Inputs!$C$18,1)/5280","v":1.2720210721593319},4.7810296945097202,{"$f":"(T166/60)*((Inputs!$C$13*Calculations!R166*(1-Calculations!J166))+(Inputs!$C$14*Calculations!R166*Calculations!J166))","v":683.84533903012175},{"$f":"IF(R166>0,($J$5/60)*(((I166*$J$3/(1-$J$3))*(1-J166)*Inputs!$C$13)+((I166*$J$3/(1-$J$3))*J166*Inputs!$C$14)),0)","v":0},683.84533903012175,null,"2019-08-07T11:00:00","S164","",{"$f":"IF(AND(Z166<>\"\",AA166<>\"\"),MAX(INDIRECT(Z166):INDIRECT(AA166)),\"\")","v":""},"Q","Q",null,{"$f":"IF(G166=\"TRUE 1\",IF(E166=\"NT\",MROUND(Inputs!$C$32*$AF$3*(1/(1+M166*(2-1))),1),MROUND(Inputs!$C$30*$AF$3*(1/(1+M166*(2-1))),1)),\nIF(G166=\"TRUE 2\",IF(E166=\"NT\",MROUND(Inputs!$D$32*$AG$3*(1/(1+M166*(2-1))),1),MROUND(Inputs!$D$30*$AG$3*(1/(1+M166*(2-1))),1)),\nIF(G166=\"TRUE 3\",IF(E166=\"NT\",MROUND(Inputs!$E$32*$AH$3*(1/(1+M166*(2-1))),1),MROUND(Inputs!$E$30*$AH$3*(1/(1+M166*(2-1))),1)),\nIF(G166=\"TRUE 4\",IF(E166=\"NT\",MROUND(Inputs!$F$32*$AI$3*(1/(1+M166*(2-1))),1),MROUND(Inputs!$F$30*$AI$3*(1/(1+M166*(2-1))),1)),\nMROUND(Inputs!$C$15*(1/(1+M166*(2-1)))*($AF$3+$AF$4),1)))))","v":4681},-614,0,{"$f":"(AH166/(1/(1+M166*(2-1))))*O166/LEFT(Inputs!$C$18,1)/5280","v":0},0,{"$f":"(AJ166/60)*((Inputs!$C$13*Calculations!AH166*(1-Calculations!M166))+(Inputs!$C$14*Calculations!AH166*Calculations!M166))","v":0},{"$f":"IF(AH166>0,($M$5/60)*(((L166*$M$3/(1-$M$3))*(1-M166)*Inputs!$C$13)+((L166*$M$3/(1-$M$3))*M166*Inputs!$C$14)),0)","v":0},0,null,"2019-08-07T11:00:00","","",{"$f":"IF(AND(AP166<>\"\",AQ166<>\"\"),MAX(INDIRECT(AP166):INDIRECT(AQ166)),\"\")","v":""},"",""]
["2019-08-07",4,"Wednesday","12:00:00",{"$f":"INDEX(Lists!$M$3:$M$26,MATCH(Calculations!D167,Lists!$L$3:$L$26,0))","v":"MD"},84,{"$f":"IF(INDEX(Inputs!$H$86:$H$253,MATCH(F167,Inputs!$D$86:$D$253,0)),\"TRUE 4\",\nIF(INDEX(Inputs!$G$86:$G$253,MATCH(F167,Inputs!$D$86:$D$253,0)),\"TRUE 3\",\nIF(INDEX(Inputs!$F$86:$F$253,MATCH(F167,Inputs!$D$86:$D$253,0)),\"TRUE 2\",\nIF(INDEX(Inputs!$E$86:$E$253,MATCH(F167,Inputs!$D$86:$D$253,0)),\"TRUE 1\",\nFALSE))))","v":"TRUE 1"},null,{"$f":"'Volume Import'!C158*'Volume Import'!$H$14*(1+'Volume Import'!$H$15)*(1-'Volume Import'!$H$16)","v":4611},{"$f":"IF(AND('Volume Import'!D158=0,'Volume Import'!C158=0),0,\nIF('Volume Import'!D158=0,INDEX('Volume Import'!$K$2:$Q$5,MATCH(E167,'Volume Import'!$R$2:$R$5,0),MATCH(C167,'Volume Import'!$K$1:$Q$1,0)),\n'Volume Import'!D158/'Volume Import'!C158))","v":0.1},null,{"$f":"'Volume Import'!E158*'Volume Import'!$I$14*(1+'Volume Import'!$I$15)*(1-'Volume Import'!$I$16)","v":4488},{"$f":"IF('Volume Import'!F158=0,J167,'Volume Import'!F158/'Volume Import'!E158)","v":0.1},null,{"$f":"IF(G167=\"TRUE 1\",IF(E167=\"NT\",Inputs!$C$35,Inputs!$C$34),\nIF(G167=\"TRUE 2\",IF(E167=\"NT\",Inputs!$D$35,Inputs!$D$34),\nIF(G167=\"TRUE 3\",IF(E167=\"NT\",Inputs!$E$35,Inputs!$E$34),\nIF(G167=\"TRUE 4\",IF(E167=\"NT\",Inputs!$F$35,Inputs!$F$34),\nO166))))","v":65.476687896673383},{"$f":"IF(G167=\"TRUE 1\",IF(E167=\"NT\",MROUND(Inputs!$C$32*$P$3*(1/(1+J167*(2-1))),1),MROUND(Inputs!$C$30*$P$3*(1/(1+J167*(2-1))),1)),\nIF(G167=\"TRUE 2\",IF(E167=\"NT\",MROUND(Inputs!$D$32*$Q$3*(1/(1+J167*(2-1))),1),MROUND(Inputs!$D$30*$Q$3*(1/(1+J167*(2-1))),1)),\nIF(G167=\"TRUE 3\",IF(E167=\"NT\",MROUND(Inputs!$E$32*$R$3*(1/(1+J167*(2-1))),1),MROUND(Inputs!$E$30*$R$3*(1/(1+J167*(2-1))),1)),\nIF(G167=\"TRUE 4\",IF(E167=\"NT\",MROUND(Inputs!$F$32*$S$3*(1/(1+J167*(2-1))),1),MROUND(Inputs!$F$30*$S$3*(1/(1+J167*(2-1))),1)),\nMROUND(Inputs!$C$15*(1/(1+J167*(2-1)))*($P$3+$P$4),1)))))","v":4681},-70,303,{"$f":"(R167/(1/(1+J167*(2-1))))*O167/LEFT(Inputs!$C$18,1)/5280","v":1.0333039808693769},3.8837855159154029,{"$f":"(T167/60)*((Inputs!$C$13*Calculations!R167*(1-Calculations!J167))+(Inputs!$C$14*Calculations!R167*Calculations!J167))","v":451.25859260841702},{"$f":"IF(R167>0,($J$5/60)*(((I167*$J$3/(1-$J$3))*(1-J167)*Inputs!$C$13)+((I167*$J$3/(1-$J$3))*J167*Inputs!$C$14)),0)","v":0},451.25859260841702,null,"2019-08-07T12:00:00","S164","",{"$f":"IF(AND(Z167<>\"\",AA167<>\"\"),MAX(INDIRECT(Z167):INDIRECT(AA167)),\"\")","v":""},"Q","Q",null,{"$f":"IF(G167=\"TRUE 1\",IF(E167=\"NT\",MROUND(Inputs!$C$32*$AF$3*(1/(1+M167*(2-1))),1),MROUND(Inputs!$C$30*$AF$3*(1/(1+M167*(2-1))),1)),\nIF(G167=\"TRUE 2\",IF(E167=\"NT\",MROUND(Inputs!$D$32*$AG$3*(1/(1+M167*(2-1))),1),MROUND(Inputs!$D$30*$AG$3*(1/(1+M167*(2-1))),1)),\nIF(G167=\"TRUE 3\",IF(E167=\"NT\",MROUND(Inputs!$E$32*$AH$3*(1/(1+M167*(2-1))),1),MROUND(Inputs!$E$30*$AH$3*(1/(1+M167*(2-1))),1)),\nIF(G167=\"TRUE 4\",IF(E167=\"NT\",MROUND(Inputs!$F$32*$AI$3*(1/(1+M167*(2-1))),1),MROUND(Inputs!$F$30*$AI$3*(1/(1+M167*(2-1))),1)),\nMROUND(Inputs!$C$15*(1/(1+M167*(2-1)))*($AF$3+$AF$4),1)))))","v":4681},-193,0,{"$f":"(AH167/(1/(1+M167*(2-1))))*O167/LEFT(Inputs!$C$18,1)/5280","v":0},0,{"$f":"(AJ167/60)*((Inputs!$C$13*Calculations!AH167*(1-Calculations!M167))+(Inputs!$C$14*Calculations!AH167*Calculations!M167))","v":0},{"$f":"IF(AH167>0,($M$5/60)*(((L167*$M$3/(1-$M$3))*(1-M167)*Inputs!$C$13)+((L167*$M$3/(1-$M$3))*M167*Inputs!$C$14)),0)","v":0},0,null,"2019-08-07T12:00:00","","",{"$f":"IF(AND(AP167<>\"\",AQ167<>\"\"),MAX(INDIRECT(AP167):INDIRECT(AQ167)),\"\")","v":""},"",""]
["2019-08-07",4,"Wednesday","13:00:00",{"$f":"INDEX(Lists!$M$3:$M$26,MATCH(Calculations!D168,Lists!$L$3:$L$26,0))","v":"MD"},85,{"$f":"IF(INDEX(Inputs!$H$86:$H$253,MATCH(F168,Inputs!$D$86:$D$253,0)),\"TRUE 4\",\nIF(INDEX(Inputs!$G$86:$G$253,MATCH(F168,Inputs!$D$86:$D$253,0)),\"TRUE 3\",\nIF(INDEX(Inputs!$F$86:$F$253,MATCH(F168,Inputs!$D$86:$D$253,0)),\"TRUE 2\",\nIF(INDEX(Inputs!$E$86:$E$253,MATCH(F168,Inputs!$D$86:$D$253,0)),\"TRUE 1\",\nFALSE))))","v":"TRUE 1"},null,{"$f":"'Volume Import'!C159*'Volume Import'!$H$14*(1+'Volume Import'!$H$15)*(1-'Volume Import'!$H$16)","v":4489},{"$f":"IF(AND('Volume Import'!D159=0,'Volume Import'!C159=0),0,\nIF('Volume Import'!D159=0,INDEX('Volume Import'!$K$2:$Q$5,MATCH(E168,'Volume Import'!$R$2:$R$5,0),MATCH(C168,'Volume Import'!$K$1:$Q$1,0)),\n'Volume Import'!D159/'Volume Import'!C159))","v":0.1},null,{"$f":"'Volume Import'!E159*'Volume Import'!$I$14*(1+'Volume Import'!$I$15)*(1-'Volume Import'!$I$16)","v":4810},{"$f":"IF('Volume Import'!F159=0,J168,'Volume Import'!F159/'Volume Import'!E159)","v":0.1},null,{"$f":"IF(G168=\"TRUE 1\",IF(E168=\"NT\",Inputs!$C$35,Inputs!$C$34),\nIF(G168=\"TRUE 2\",IF(E168=\"NT\",Inputs!$D$35,Inputs!$D$34),\nIF(G168=\"TRUE 3\",IF(E168=\"NT\",Inputs!$E$35,Inputs!$E$34),\nIF(G168=\"TRUE 4\",IF(E168=\"NT\",Inputs!$F$35,Inputs!$F$34),\nO167))))","v":65.476687896673383},{"$f":"IF(G168=\"TRUE 1\",IF(E168=\"NT\",MROUND(Inputs!$C$32*$P$3*(1/(1+J168*(2-1))),1),MROUND(Inputs!$C$30*$P$3*(1/(1+J168*(2-1))),1)),\nIF(G168=\"TRUE 2\",IF(E168=\"NT\",MROUND(Inputs!$D$32*$Q$3*(1/(1+J168*(2-1))),1),MROUND(Inputs!$D$30*$Q$3*(1/(1+J168*(2-1))),1)),\nIF(G168=\"TRUE 3\",IF(E168=\"NT\",MROUND(Inputs!$E$32*$R$3*(1/(1+J168*(2-1))),1),MROUND(Inputs!$E$30*$R$3*(1/(1+J168*(2-1))),1)),\nIF(G168=\"TRUE 4\",IF(E168=\"NT\",MROUND(Inputs!$F$32*$S$3*(1/(1+J168*(2-1))),1),MROUND(Inputs!$F$30*$S$3*(1/(1+J168*(2-1))),1)),\nMROUND(Inputs!$C$15*(1/(1+J168*(2-1)))*($P$3+$P$4),1)))))","v":4681},-192,111,{"$f":"(R168/(1/(1+J168*(2-1))))*O168/LEFT(Inputs!$C$18,1)/5280","v":0.378537101902643},1.4227729117709891,{"$f":"(T168/60)*((Inputs!$C$13*Calculations!R168*(1-Calculations!J168))+(Inputs!$C$14*Calculations!R168*Calculations!J168))","v":60.560044434949795},{"$f":"IF(R168>0,($J$5/60)*(((I168*$J$3/(1-$J$3))*(1-J168)*Inputs!$C$13)+((I168*$J$3/(1-$J$3))*J168*Inputs!$C$14)),0)","v":0},60.560044434949795,null,"2019-08-07T13:00:00","S164","S168",{"$f":"IF(AND(Z168<>\"\",AA168<>\"\"),MAX(INDIRECT(Z168):INDIRECT(AA168)),\"\")","v":1.4902766984815763},"Q","2019-08-07T13:00:00",null,{"$f":"IF(G168=\"TRUE 1\",IF(E168=\"NT\",MROUND(Inputs!$C$32*$AF$3*(1/(1+M168*(2-1))),1),MROUND(Inputs!$C$30*$AF$3*(1/(1+M168*(2-1))),1)),\nIF(G168=\"TRUE 2\",IF(E168=\"NT\",MROUND(Inputs!$D$32*$AG$3*(1/(1+M168*(2-1))),1),MROUND(Inputs!$D$30*$AG$3*(1/(1+M168*(2-1))),1)),\nIF(G168=\"TRUE 3\",IF(E168=\"NT\",MROUND(Inputs!$E$32*$AH$3*(1/(1+M168*(2-1))),1),MROUND(Inputs!$E$30*$AH$3*(1/(1+M168*(2-1))),1)),\nIF(G168=\"TRUE 4\",IF(E168=\"NT\",MROUND(Inputs!$F$32*$AI$3*(1/(1+M168*(2-1))),1),MROUND(Inputs!$F$30*$AI$3*(1/(1+M168*(2-1))),1)),\nMROUND(Inputs!$C$15*(1/(1+M168*(2-1)))*($AF$3+$AF$4),1)))))","v":4681},129,129,{"$f":"(AH168/(1/(1+M168*(2-1))))*O168/LEFT(Inputs!$C$18,1)/5280","v":0.4399214968057743},1.653492843409528,{"$f":"(AJ168/60)*((Inputs!$C$13*Calculations!AH168*(1-Calculations!M168))+(Inputs!$C$14*Calculations!AH168*Calculations!M168))","v":81.793661183507808},{"$f":"IF(AH168>0,($M$5/60)*(((L168*$M$3/(1-$M$3))*(1-M168)*Inputs!$C$13)+((L168*$M$3/(1-$M$3))*M168*Inputs!$C$14)),0)","v":0},81.793661183507808,null,"2019-08-07T13:00:00","AI168","AI168",{"$f":"IF(AND(AP168<>\"\",AQ168<>\"\"),MAX(INDIRECT(AP168):INDIRECT(AQ168)),\"\")","v":0.4399214968057743},"2019-08-07T13:00:00","2019-08-07T13:00:00"]
["2019-08-07",4,"Wednesday","14:00:00",{"$f":"INDEX(Lists!$M$3:$M$26,MATCH(Calculations!D169,Lists!$L$3:$L$26,0))","v":"MD"},86,{"$f":"IF(INDEX(Inputs!$H$86:$H$253,MATCH(F169,Inputs!$D$86:$D$253,0)),\"TRUE 4\",\nIF(INDEX(Inputs!$G$86:$G$253,MATCH(F169,Inputs!$D$86:$D$253,0)),\"TRUE 3\",\nIF(INDEX(Inputs!$F$86:$F$253,MATCH(F169,Inputs!$D$86:$D$253,0)),\"TRUE 2\",\nIF(INDEX(Inputs!$E$86:$E$253,MATCH(F169,Inputs!$D$86:$D$253,0)),\"TRUE 1\",\nFALSE))))","v":false},null,{"$f":"'Volume Import'!C160*'Volume Import'!$H$14*(1+'Volume Import'!$H$15)*(1-'Volume Import'!$H$16)","v":5046},{"$f":"IF(AND('Volume Import'!D160=0,'Volume Import'!C160=0),0,\nIF('Volume Import'!D160=0,INDEX('Volume Import'!$K$2:$Q$5,MATCH(E169,'Volume Import'!$R$2:$R$5,0),MATCH(C169,'Volume Import'!$K$1:$Q$1,0)),\n'Volume Import'!D160/'Volume Import'!C160))","v":0.1},null,{"$f":"'Volume Import'!E160*'Volume Import'!$I$14*(1+'Volume Import'!$I$15)*(1-'Volume Import'!$I$16)","v":5910},{"$f":"IF('Volume Import'!F160=0,J169,'Volume Import'!F160/'Volume Import'!E160)","v":0.1},null,{"$f":"IF(G169=\"TRUE 1\",IF(E169=\"NT\",Inputs!$C$35,Inputs!$C$34),\nIF(G169=\"TRUE 2\",IF(E169=\"NT\",Inputs!$D$35,Inputs!$D$34),\nIF(G169=\"TRUE 3\",IF(E169=\"NT\",Inputs!$E$35,Inputs!$E$34),\nIF(G169=\"TRUE 4\",IF(E169=\"NT\",Inputs!$F$35,Inputs!$F$34),\nO168))))","v":65.476687896673383},{"$f":"IF(G169=\"TRUE 1\",IF(E169=\"NT\",MROUND(Inputs!$C$32*$P$3*(1/(1+J169*(2-1))),1),MROUND(Inputs!$C$30*$P$3*(1/(1+J169*(2-1))),1)),\nIF(G169=\"TRUE 2\",IF(E169=\"NT\",MROUND(Inputs!$D$32*$Q$3*(1/(1+J169*(2-1))),1),MROUND(Inputs!$D$30*$Q$3*(1/(1+J169*(2-1))),1)),\nIF(G169=\"TRUE 3\",IF(E169=\"NT\",MROUND(Inputs!$E$32*$R$3*(1/(1+J169*(2-1))),1),MROUND(Inputs!$E$30*$R$3*(1/(1+J169*(2-1))),1)),\nIF(G169=\"TRUE 4\",IF(E169=\"NT\",MROUND(Inputs!$F$32*$S$3*(1/(1+J169*(2-1))),1),MROUND(Inputs!$F$30*$S$3*(1/(1+J169*(2-1))),1)),\nMROUND(Inputs!$C$15*(1/(1+J169*(2-1)))*($P$3+$P$4),1)))))","v":8727},-3681,0,{"$f":"(R169/(1/(1+J169*(2-1))))*O169/LEFT(Inputs!$C$18,1)/5280","v":0},0,{"$f":"(T169/60)*((Inputs!$C$13*Calculations!R169*(1-Calculations!J169))+(Inputs!$C$14*Calculations!R169*Calculations!J169))","v":0},{"$f":"IF(R169>0,($J$5/60)*(((I169*$J$3/(1-$J$3))*(1-J169)*Inputs!$C$13)+((I169*$J$3/(1-$J$3))*J169*Inputs!$C$14)),0)","v":0},0,null,"2019-08-07T14:00:00","","",{"$f":"IF(AND(Z169<>\"\",AA169<>\"\"),MAX(INDIRECT(Z169):INDIRECT(AA169)),\"\")","v":""},"","",null,{"$f":"IF(G169=\"TRUE 1\",IF(E169=\"NT\",MROUND(Inputs!$C$32*$AF$3*(1/(1+M169*(2-1))),1),MROUND(Inputs!$C$30*$AF$3*(1/(1+M169*(2-1))),1)),\nIF(G169=\"TRUE 2\",IF(E169=\"NT\",MROUND(Inputs!$D$32*$AG$3*(1/(1+M169*(2-1))),1),MROUND(Inputs!$D$30*$AG$3*(1/(1+M169*(2-1))),1)),\nIF(G169=\"TRUE 3\",IF(E169=\"NT\",MROUND(Inputs!$E$32*$AH$3*(1/(1+M169*(2-1))),1),MROUND(Inputs!$E$30*$AH$3*(1/(1+M169*(2-1))),1)),\nIF(G169=\"TRUE 4\",IF(E169=\"NT\",MROUND(Inputs!$F$32*$AI$3*(1/(1+M169*(2-1))),1),MROUND(Inputs!$F$30*$AI$3*(1/(1+M169*(2-1))),1)),\nMROUND(Inputs!$C$15*(1/(1+M169*(2-1)))*($AF$3+$AF$4),1)))))","v":8727},-2817,0,{"$f":"(AH169/(1/(1+M169*(2-1))))*O169/LEFT(Inputs!$C$18,1)/5280","v":0},0,{"$f":"(AJ169/60)*((Inputs!$C$13*Calculations!AH169*(1-Calculations!M169))+(Inputs!$C$14*Calculations!AH169*Calculations!M169))","v":0},{"$f":"IF(AH169>0,($M$5/60)*(((L169*$M$3/(1-$M$3))*(1-M169)*Inputs!$C$13)+((L169*$M$3/(1-$M$3))*M169*Inputs!$C$14)),0)","v":0},0,null,"2019-08-07T14:00:00","","",{"$f":"IF(AND(AP169<>\"\",AQ169<>\"\"),MAX(INDIRECT(AP169):INDIRECT(AQ169)),\"\")","v":""},"",""]
["2019-08-07",4,"Wednesday","15:00:00",{"$f":"INDEX(Lists!$M$3:$M$26,MATCH(Calculations!D170,Lists!$L$3:$L$26,0))","v":"PM"},87,{"$f":"IF(INDEX(Inputs!$H$86:$H$253,MATCH(F170,Inputs!$D$86:$D$253,0)),\"TRUE 4\",\nIF(INDEX(Inputs!$G$86:$G$253,MATCH(F170,Inputs!$D$86:$D$253,0)),\"TRUE 3\",\nIF(INDEX(Inputs!$F$86:$F$253,MATCH(F170,Inputs!$D$86:$D$253,0)),\"TRUE 2\",\nIF(INDEX(Inputs!$E$86:$E$253,MATCH(F170,Inputs!$D$86:$D$253,0)),\"TRUE 1\",\nFALSE))))","v":false},null,{"$f":"'Volume Import'!C161*'Volume Import'!$H$14*(1+'Volume Import'!$H$15)*(1-'Volume Import'!$H$16)","v":5271},{"$f":"IF(AND('Volume Import'!D161=0,'Volume Import'!C161=0),0,\nIF('Volume Import'!D161=0,INDEX('Volume Import'!$K$2:$Q$5,MATCH(E170,'Volume Import'!$R$2:$R$5,0),MATCH(C170,'Volume Import'!$K$1:$Q$1,0)),\n'Volume Import'!D161/'Volume Import'!C161))","v":0.1},null,{"$f":"'Volume Import'!E161*'Volume Import'!$I$14*(1+'Volume Import'!$I$15)*(1-'Volume Import'!$I$16)","v":7086},{"$f":"IF('Volume Import'!F161=0,J170,'Volume Import'!F161/'Volume Import'!E161)","v":0.1},null,{"$f":"IF(G170=\"TRUE 1\",IF(E170=\"NT\",Inputs!$C$35,Inputs!$C$34),\nIF(G170=\"TRUE 2\",IF(E170=\"NT\",Inputs!$D$35,Inputs!$D$34),\nIF(G170=\"TRUE 3\",IF(E170=\"NT\",Inputs!$E$35,Inputs!$E$34),\nIF(G170=\"TRUE 4\",IF(E170=\"NT\",Inputs!$F$35,Inputs!$F$34),\nO169))))","v":65.476687896673383},{"$f":"IF(G170=\"TRUE 1\",IF(E170=\"NT\",MROUND(Inputs!$C$32*$P$3*(1/(1+J170*(2-1))),1),MROUND(Inputs!$C$30*$P$3*(1/(1+J170*(2-1))),1)),\nIF(G170=\"TRUE 2\",IF(E170=\"NT\",MROUND(Inputs!$D$32*$Q$3*(1/(1+J170*(2-1))),1),MROUND(Inputs!$D$30*$Q$3*(1/(1+J170*(2-1))),1)),\nIF(G170=\"TRUE 3\",IF(E170=\"NT\",MROUND(Inputs!$E$32*$R$3*(1/(1+J170*(2-1))),1),MROUND(Inputs!$E$30*$R$3*(1/(1+J170*(2-1))),1)),\nIF(G170=\"TRUE 4\",IF(E170=\"NT\",MROUND(Inputs!$F$32*$S$3*(1/(1+J170*(2-1))),1),MROUND(Inputs!$F$30*$S$3*(1/(1+J170*(2-1))),1)),\nMROUND(Inputs!$C$15*(1/(1+J170*(2-1)))*($P$3+$P$4),1)))))","v":8727},-3456,0,{"$f":"(R170/(1/(1+J170*(2-1))))*O170/LEFT(Inputs!$C$18,1)/5280","v":0},0,{"$f":"(T170/60)*((Inputs!$C$13*Calculations!R170*(1-Calculations!J170))+(Inputs!$C$14*Calculations!R170*Calculations!J170))","v":0},{"$f":"IF(R170>0,($J$5/60)*(((I170*$J$3/(1-$J$3))*(1-J170)*Inputs!$C$13)+((I170*$J$3/(1-$J$3))*J170*Inputs!$C$14)),0)","v":0},0,null,"2019-08-07T15:00:00","","",{"$f":"IF(AND(Z170<>\"\",AA170<>\"\"),MAX(INDIRECT(Z170):INDIRECT(AA170)),\"\")","v":""},"","",null,{"$f":"IF(G170=\"TRUE 1\",IF(E170=\"NT\",MROUND(Inputs!$C$32*$AF$3*(1/(1+M170*(2-1))),1),MROUND(Inputs!$C$30*$AF$3*(1/(1+M170*(2-1))),1)),\nIF(G170=\"TRUE 2\",IF(E170=\"NT\",MROUND(Inputs!$D$32*$AG$3*(1/(1+M170*(2-1))),1),MROUND(Inputs!$D$30*$AG$3*(1/(1+M170*(2-1))),1)),\nIF(G170=\"TRUE 3\",IF(E170=\"NT\",MROUND(Inputs!$E$32*$AH$3*(1/(1+M170*(2-1))),1),MROUND(Inputs!$E$30*$AH$3*(1/(1+M170*(2-1))),1)),\nIF(G170=\"TRUE 4\",IF(E170=\"NT\",MROUND(Inputs!$F$32*$AI$3*(1/(1+M170*(2-1))),1),MROUND(Inputs!$F$30*$AI$3*(1/(1+M170*(2-1))),1)),\nMROUND(Inputs!$C$15*(1/(1+M170*(2-1)))*($AF$3+$AF$4),1)))))","v":8727},-1641,0,{"$f":"(AH170/(1/(1+M170*(2-1))))*O170/LEFT(Inputs!$C$18,1)/5280","v":0},0,{"$f":"(AJ170/60)*((Inputs!$C$13*Calculations!AH170*(1-Calculations!M170))+(Inputs!$C$14*Calculations!AH170*Calculations!M170))","v":0},{"$f":"IF(AH170>0,($M$5/60)*(((L170*$M$3/(1-$M$3))*(1-M170)*Inputs!$C$13)+((L170*$M$3/(1-$M$3))*M170*Inputs!$C$14)),0)","v":0},0,null,"2019-08-07T15:00:00","","",{"$f":"IF(AND(AP170<>\"\",AQ170<>\"\"),MAX(INDIRECT(AP170):INDIRECT(AQ170)),\"\")","v":""},"",""]
["2019-08-07",4,"Wednesday","16:00:00",{"$f":"INDEX(Lists!$M$3:$M$26,MATCH(Calculations!D171,Lists!$L$3:$L$26,0))","v":"PM"},88,{"$f":"IF(INDEX(Inputs!$H$86:$H$253,MATCH(F171,Inputs!$D$86:$D$253,0)),\"TRUE 4\",\nIF(INDEX(Inputs!$G$86:$G$253,MATCH(F171,Inputs!$D$86:$D$253,0)),\"TRUE 3\",\nIF(INDEX(Inputs!$F$86:$F$253,MATCH(F171,Inputs!$D$86:$D$253,0)),\"TRUE 2\",\nIF(INDEX(Inputs!$E$86:$E$253,MATCH(F171,Inputs!$D$86:$D$253,0)),\"TRUE 1\",\nFALSE))))","v":false},null,{"$f":"'Volume Import'!C162*'Volume Import'!$H$14*(1+'Volume Import'!$H$15)*(1-'Volume Import'!$H$16)","v":5108},{"$f":"IF(AND('Volume Import'!D162=0,'Volume Import'!C162=0),0,\nIF('Volume Import'!D162=0,INDEX('Volume Import'!$K$2:$Q$5,MATCH(E171,'Volume Import'!$R$2:$R$5,0),MATCH(C171,'Volume Import'!$K$1:$Q$1,0)),\n'Volume Import'!D162/'Volume Import'!C162))","v":0.1},null,{"$f":"'Volume Import'!E162*'Volume Import'!$I$14*(1+'Volume Import'!$I$15)*(1-'Volume Import'!$I$16)","v":6916},{"$f":"IF('Volume Import'!F162=0,J171,'Volume Import'!F162/'Volume Import'!E162)","v":0.1},null,{"$f":"IF(G171=\"TRUE 1\",IF(E171=\"NT\",Inputs!$C$35,Inputs!$C$34),\nIF(G171=\"TRUE 2\",IF(E171=\"NT\",Inputs!$D$35,Inputs!$D$34),\nIF(G171=\"TRUE 3\",IF(E171=\"NT\",Inputs!$E$35,Inputs!$E$34),\nIF(G171=\"TRUE 4\",IF(E171=\"NT\",Inputs!$F$35,Inputs!$F$34),\nO170))))","v":65.476687896673383},{"$f":"IF(G171=\"TRUE 1\",IF(E171=\"NT\",MROUND(Inputs!$C$32*$P$3*(1/(1+J171*(2-1))),1),MROUND(Inputs!$C$30*$P$3*(1/(1+J171*(2-1))),1)),\nIF(G171=\"TRUE 2\",IF(E171=\"NT\",MROUND(Inputs!$D$32*$Q$3*(1/(1+J171*(2-1))),1),MROUND(Inputs!$D$30*$Q$3*(1/(1+J171*(2-1))),1)),\nIF(G171=\"TRUE 3\",IF(E171=\"NT\",MROUND(Inputs!$E$32*$R$3*(1/(1+J171*(2-1))),1),MROUND(Inputs!$E$30*$R$3*(1/(1+J171*(2-1))),1)),\nIF(G171=\"TRUE 4\",IF(E171=\"NT\",MROUND(Inputs!$F$32*$S$3*(1/(1+J171*(2-1))),1),MROUND(Inputs!$F$30*$S$3*(1/(1+J171*(2-1))),1)),\nMROUND(Inputs!$C$15*(1/(1+J171*(2-1)))*($P$3+$P$4),1)))))","v":8727},-3619,0,{"$f":"(R171/(1/(1+J171*(2-1))))*O171/LEFT(Inputs!$C$18,1)/5280","v":0},0,{"$f":"(T171/60)*((Inputs!$C$13*Calculations!R171*(1-Calculations!J171))+(Inputs!$C$14*Calculations!R171*Calculations!J171))","v":0},{"$f":"IF(R171>0,($J$5/60)*(((I171*$J$3/(1-$J$3))*(1-J171)*Inputs!$C$13)+((I171*$J$3/(1-$J$3))*J171*Inputs!$C$14)),0)","v":0},0,null,"2019-08-07T16:00:00","","",{"$f":"IF(AND(Z171<>\"\",AA171<>\"\"),MAX(INDIRECT(Z171):INDIRECT(AA171)),\"\")","v":""},"",{"$f":"IF(AND(S171>0,S172=0),$Y171,IF(AND(S171>0,S172>0),\"Q\",\"\"))","v":""},null,{"$f":"IF(G171=\"TRUE 1\",IF(E171=\"NT\",MROUND(Inputs!$C$32*$AF$3*(1/(1+M171*(2-1))),1),MROUND(Inputs!$C$30*$AF$3*(1/(1+M171*(2-1))),1)),\nIF(G171=\"TRUE 2\",IF(E171=\"NT\",MROUND(Inputs!$D$32*$AG$3*(1/(1+M171*(2-1))),1),MROUND(Inputs!$D$30*$AG$3*(1/(1+M171*(2-1))),1)),\nIF(G171=\"TRUE 3\",IF(E171=\"NT\",MROUND(Inputs!$E$32*$AH$3*(1/(1+M171*(2-1))),1),MROUND(Inputs!$E$30*$AH$3*(1/(1+M171*(2-1))),1)),\nIF(G171=\"TRUE 4\",IF(E171=\"NT\",MROUND(Inputs!$F$32*$AI$3*(1/(1+M171*(2-1))),1),MROUND(Inputs!$F$30*$AI$3*(1/(1+M171*(2-1))),1)),\nMROUND(Inputs!$C$15*(1/(1+M171*(2-1)))*($AF$3+$AF$4),1)))))","v":8727},-1811,0,{"$f":"(AH171/(1/(1+M171*(2-1))))*O171/LEFT(Inputs!$C$18,1)/5280","v":0},0,{"$f":"(AJ171/60)*((Inputs!$C$13*Calculations!AH171*(1-Calculations!M171))+(Inputs!$C$14*Calculations!AH171*Calculations!M171))","v":0},{"$f":"IF(AH171>0,($M$5/60)*(((L171*$M$3/(1-$M$3))*(1-M171)*Inputs!$C$13)+((L171*$M$3/(1-$M$3))*M171*Inputs!$C$14)),0)","v":0},0,null,"2019-08-07T16:00:00","","",{"$f":"IF(AND(AP171<>\"\",AQ171<>\"\"),MAX(INDIRECT(AP171):INDIRECT(AQ171)),\"\")","v":""},"",""]
["2019-08-07",4,"Wednesday","17:00:00",{"$f":"INDEX(Lists!$M$3:$M$26,MATCH(Calculations!D172,Lists!$L$3:$L$26,0))","v":"PM"},89,{"$f":"IF(INDEX(Inputs!$H$86:$H$253,MATCH(F172,Inputs!$D$86:$D$253,0)),\"TRUE 4\",\nIF(INDEX(Inputs!$G$86:$G$253,MATCH(F172,Inputs!$D$86:$D$253,0)),\"TRUE 3\",\nIF(INDEX(Inputs!$F$86:$F$253,MATCH(F172,Inputs!$D$86:$D$253,0)),\"TRUE 2\",\nIF(INDEX(Inputs!$E$86:$E$253,MATCH(F172,Inputs!$D$86:$D$253,0)),\"TRUE 1\",\nFALSE))))","v":false},null,{"$f":"'Volume Import'!C163*'Volume Import'!$H$14*(1+'Volume Import'!$H$15)*(1-'Volume Import'!$H$16)","v":4962},{"$f":"IF(AND('Volume Import'!D163=0,'Volume Import'!C163=0),0,\nIF('Volume Import'!D163=0,INDEX('Volume Import'!$K$2:$Q$5,MATCH(E172,'Volume Import'!$R$2:$R$5,0),MATCH(C172,'Volume Import'!$K$1:$Q$1,0)),\n'Volume Import'!D163/'Volume Import'!C163))","v":0.1},null,{"$f":"'Volume Import'!E163*'Volume Import'!$I$14*(1+'Volume Import'!$I$15)*(1-'Volume Import'!$I$16)","v":6791},{"$f":"IF('Volume Import'!F163=0,J172,'Volume Import'!F163/'Volume Import'!E163)","v":0.1},null,{"$f":"IF(G172=\"TRUE 1\",IF(E172=\"NT\",Inputs!$C$35,Inputs!$C$34),\nIF(G172=\"TRUE 2\",IF(E172=\"NT\",Inputs!$D$35,Inputs!$D$34),\nIF(G172=\"TRUE 3\",IF(E172=\"NT\",Inputs!$E$35,Inputs!$E$34),\nIF(G172=\"TRUE 4\",IF(E172=\"NT\",Inputs!$F$35,Inputs!$F$34),\nO171))))","v":65.476687896673383},{"$f":"IF(G172=\"TRUE 1\",IF(E172=\"NT\",MROUND(Inputs!$C$32*$P$3*(1/(1+J172*(2-1))),1),MROUND(Inputs!$C$30*$P$3*(1/(1+J172*(2-1))),1)),\nIF(G172=\"TRUE 2\",IF(E172=\"NT\",MROUND(Inputs!$D$32*$Q$3*(1/(1+J172*(2-1))),1),MROUND(Inputs!$D$30*$Q$3*(1/(1+J172*(2-1))),1)),\nIF(G172=\"TRUE 3\",IF(E172=\"NT\",MROUND(Inputs!$E$32*$R$3*(1/(1+J172*(2-1))),1),MROUND(Inputs!$E$30*$R$3*(1/(1+J172*(2-1))),1)),\nIF(G172=\"TRUE 4\",IF(E172=\"NT\",MROUND(Inputs!$F$32*$S$3*(1/(1+J172*(2-1))),1),MROUND(Inputs!$F$30*$S$3*(1/(1+J172*(2-1))),1)),\nMROUND(Inputs!$C$15*(1/(1+J172*(2-1)))*($P$3+$P$4),1)))))","v":8727},-3765,0,{"$f":"(R172/(1/(1+J172*(2-1))))*O172/LEFT(Inputs!$C$18,1)/5280","v":0},0,{"$f":"(T172/60)*((Inputs!$C$13*Calculations!R172*(1-Calculations!J172))+(Inputs!$C$14*Calculations!R172*Calculations!J172))","v":0},{"$f":"IF(R172>0,($J$5/60)*(((I172*$J$3/(1-$J$3))*(1-J172)*Inputs!$C$13)+((I172*$J$3/(1-$J$3))*J172*Inputs!$C$14)),0)","v":0},0,null,"2019-08-07T17:00:00","","",{"$f":"IF(AND(Z172<>\"\",AA172<>\"\"),MAX(INDIRECT(Z172):INDIRECT(AA172)),\"\")","v":""},{"$f":"IF(AND(S172>0,S171=0),$Y172,IF(AND(S172>0,S171>0),\"Q\",\"\"))","v":""},"",null,{"$f":"IF(G172=\"TRUE 1\",IF(E172=\"NT\",MROUND(Inputs!$C$32*$AF$3*(1/(1+M172*(2-1))),1),MROUND(Inputs!$C$30*$AF$3*(1/(1+M172*(2-1))),1)),\nIF(G172=\"TRUE 2\",IF(E172=\"NT\",MROUND(Inputs!$D$32*$AG$3*(1/(1+M172*(2-1))),1),MROUND(Inputs!$D$30*$AG$3*(1/(1+M172*(2-1))),1)),\nIF(G172=\"TRUE 3\",IF(E172=\"NT\",MROUND(Inputs!$E$32*$AH$3*(1/(1+M172*(2-1))),1),MROUND(Inputs!$E$30*$AH$3*(1/(1+M172*(2-1))),1)),\nIF(G172=\"TRUE 4\",IF(E172=\"NT\",MROUND(Inputs!$F$32*$AI$3*(1/(1+M172*(2-1))),1),MROUND(Inputs!$F$30*$AI$3*(1/(1+M172*(2-1))),1)),\nMROUND(Inputs!$C$15*(1/(1+M172*(2-1)))*($AF$3+$AF$4),1)))))","v":8727},-1936,0,{"$f":"(AH172/(1/(1+M172*(2-1))))*O172/LEFT(Inputs!$C$18,1)/5280","v":0},0,{"$f":"(AJ172/60)*((Inputs!$C$13*Calculations!AH172*(1-Calculations!M172))+(Inputs!$C$14*Calculations!AH172*Calculations!M172))","v":0},{"$f":"IF(AH172>0,($M$5/60)*(((L172*$M$3/(1-$M$3))*(1-M172)*Inputs!$C$13)+((L172*$M$3/(1-$M$3))*M172*Inputs!$C$14)),0)","v":0},0,null,"2019-08-07T17:00:00","","",{"$f":"IF(AND(AP172<>\"\",AQ172<>\"\"),MAX(INDIRECT(AP172):INDIRECT(AQ172)),\"\")","v":""},"",""]
["2019-08-07",4,"Wednesday","18:00:00",{"$f":"INDEX(Lists!$M$3:$M$26,MATCH(Calculations!D173,Lists!$L$3:$L$26,0))","v":"NT"},90,{"$f":"IF(INDEX(Inputs!$H$86:$H$253,MATCH(F173,Inputs!$D$86:$D$253,0)),\"TRUE 4\",\nIF(INDEX(Inputs!$G$86:$G$253,MATCH(F173,Inputs!$D$86:$D$253,0)),\"TRUE 3\",\nIF(INDEX(Inputs!$F$86:$F$253,MATCH(F173,Inputs!$D$86:$D$253,0)),\"TRUE 2\",\nIF(INDEX(Inputs!$E$86:$E$253,MATCH(F173,Inputs!$D$86:$D$253,0)),\"TRUE 1\",\nFALSE))))","v":false},null,{"$f":"'Volume Import'!C164*'Volume Import'!$H$14*(1+'Volume Import'!$H$15)*(1-'Volume Import'!$H$16)","v":4131},{"$f":"IF(AND('Volume Import'!D164=0,'Volume Import'!C164=0),0,\nIF('Volume Import'!D164=0,INDEX('Volume Import'!$K$2:$Q$5,MATCH(E173,'Volume Import'!$R$2:$R$5,0),MATCH(C173,'Volume Import'!$K$1:$Q$1,0)),\n'Volume Import'!D164/'Volume Import'!C164))","v":0.1},null,{"$f":"'Volume Import'!E164*'Volume Import'!$I$14*(1+'Volume Import'!$I$15)*(1-'Volume Import'!$I$16)","v":4843},{"$f":"IF('Volume Import'!F164=0,J173,'Volume Import'!F164/'Volume Import'!E164)","v":0.1},null,{"$f":"IF(G173=\"TRUE 1\",IF(E173=\"NT\",Inputs!$C$35,Inputs!$C$34),\nIF(G173=\"TRUE 2\",IF(E173=\"NT\",Inputs!$D$35,Inputs!$D$34),\nIF(G173=\"TRUE 3\",IF(E173=\"NT\",Inputs!$E$35,Inputs!$E$34),\nIF(G173=\"TRUE 4\",IF(E173=\"NT\",Inputs!$F$35,Inputs!$F$34),\nO172))))","v":65.476687896673383},{"$f":"IF(G173=\"TRUE 1\",IF(E173=\"NT\",MROUND(Inputs!$C$32*$P$3*(1/(1+J173*(2-1))),1),MROUND(Inputs!$C$30*$P$3*(1/(1+J173*(2-1))),1)),\nIF(G173=\"TRUE 2\",IF(E173=\"NT\",MROUND(Inputs!$D$32*$Q$3*(1/(1+J173*(2-1))),1),MROUND(Inputs!$D$30*$Q$3*(1/(1+J173*(2-1))),1)),\nIF(G173=\"TRUE 3\",IF(E173=\"NT\",MROUND(Inputs!$E$32*$R$3*(1/(1+J173*(2-1))),1),MROUND(Inputs!$E$30*$R$3*(1/(1+J173*(2-1))),1)),\nIF(G173=\"TRUE 4\",IF(E173=\"NT\",MROUND(Inputs!$F$32*$S$3*(1/(1+J173*(2-1))),1),MROUND(Inputs!$F$30*$S$3*(1/(1+J173*(2-1))),1)),\nMROUND(Inputs!$C$15*(1/(1+J173*(2-1)))*($P$3+$P$4),1)))))","v":8727},-4596,0,{"$f":"(R173/(1/(1+J173*(2-1))))*O173/LEFT(Inputs!$C$18,1)/5280","v":0},0,{"$f":"(T173/60)*((Inputs!$C$13*Calculations!R173*(1-Calculations!J173))+(Inputs!$C$14*Calculations!R173*Calculations!J173))","v":0},{"$f":"IF(R173>0,($J$5/60)*(((I173*$J$3/(1-$J$3))*(1-J173)*Inputs!$C$13)+((I173*$J$3/(1-$J$3))*J173*Inputs!$C$14)),0)","v":0},0,null,"2019-08-07T18:00:00","","",{"$f":"IF(AND(Z173<>\"\",AA173<>\"\"),MAX(INDIRECT(Z173):INDIRECT(AA173)),\"\")","v":""},"","",null,{"$f":"IF(G173=\"TRUE 1\",IF(E173=\"NT\",MROUND(Inputs!$C$32*$AF$3*(1/(1+M173*(2-1))),1),MROUND(Inputs!$C$30*$AF$3*(1/(1+M173*(2-1))),1)),\nIF(G173=\"TRUE 2\",IF(E173=\"NT\",MROUND(Inputs!$D$32*$AG$3*(1/(1+M173*(2-1))),1),MROUND(Inputs!$D$30*$AG$3*(1/(1+M173*(2-1))),1)),\nIF(G173=\"TRUE 3\",IF(E173=\"NT\",MROUND(Inputs!$E$32*$AH$3*(1/(1+M173*(2-1))),1),MROUND(Inputs!$E$30*$AH$3*(1/(1+M173*(2-1))),1)),\nIF(G173=\"TRUE 4\",IF(E173=\"NT\",MROUND(Inputs!$F$32*$AI$3*(1/(1+M173*(2-1))),1),MROUND(Inputs!$F$30*$AI$3*(1/(1+M173*(2-1))),1)),\nMROUND(Inputs!$C$15*(1/(1+M173*(2-1)))*($AF$3+$AF$4),1)))))","v":8727},-3884,0,{"$f":"(AH173/(1/(1+M173*(2-1))))*O173/LEFT(Inputs!$C$18,1)/5280","v":0},0,{"$f":"(AJ173/60)*((Inputs!$C$13*Calculations!AH173*(1-Calculations!M173))+(Inputs!$C$14*Calculations!AH173*Calculations!M173))","v":0},{"$f":"IF(AH173>0,($M$5/60)*(((L173*$M$3/(1-$M$3))*(1-M173)*Inputs!$C$13)+((L173*$M$3/(1-$M$3))*M173*Inputs!$C$14)),0)","v":0},0,null,"2019-08-07T18:00:00","","",{"$f":"IF(AND(AP173<>\"\",AQ173<>\"\"),MAX(INDIRECT(AP173):INDIRECT(AQ173)),\"\")","v":""},"",""]
["2019-08-07",4,"Wednesday","19:00:00",{"$f":"INDEX(Lists!$M$3:$M$26,MATCH(Calculations!D174,Lists!$L$3:$L$26,0))","v":"NT"},91,{"$f":"IF(INDEX(Inputs!$H$86:$H$253,MATCH(F174,Inputs!$D$86:$D$253,0)),\"TRUE 4\",\nIF(INDEX(Inputs!$G$86:$G$253,MATCH(F174,Inputs!$D$86:$D$253,0)),\"TRUE 3\",\nIF(INDEX(Inputs!$F$86:$F$253,MATCH(F174,Inputs!$D$86:$D$253,0)),\"TRUE 2\",\nIF(INDEX(Inputs!$E$86:$E$253,MATCH(F174,Inputs!$D$86:$D$253,0)),\"TRUE 1\",\nFALSE))))","v":false},null,{"$f":"'Volume Import'!C165*'Volume Import'!$H$14*(1+'Volume Import'!$H$15)*(1-'Volume Import'!$H$16)","v":2988},{"$f":"IF(AND('Volume Import'!D165=0,'Volume Import'!C165=0),0,\nIF('Volume Import'!D165=0,INDEX('Volume Import'!$K$2:$Q$5,MATCH(E174,'Volume Import'!$R$2:$R$5,0),MATCH(C174,'Volume Import'!$K$1:$Q$1,0)),\n'Volume Import'!D165/'Volume Import'!C165))","v":0.1},null,{"$f":"'Volume Import'!E165*'Volume Import'!$I$14*(1+'Volume Import'!$I$15)*(1-'Volume Import'!$I$16)","v":3673},{"$f":"IF('Volume Import'!F165=0,J174,'Volume Import'!F165/'Volume Import'!E165)","v":0.1},null,{"$f":"IF(G174=\"TRUE 1\",IF(E174=\"NT\",Inputs!$C$35,Inputs!$C$34),\nIF(G174=\"TRUE 2\",IF(E174=\"NT\",Inputs!$D$35,Inputs!$D$34),\nIF(G174=\"TRUE 3\",IF(E174=\"NT\",Inputs!$E$35,Inputs!$E$34),\nIF(G174=\"TRUE 4\",IF(E174=\"NT\",Inputs!$F$35,Inputs!$F$34),\nO173))))","v":65.476687896673383},{"$f":"IF(G174=\"TRUE 1\",IF(E174=\"NT\",MROUND(Inputs!$C$32*$P$3*(1/(1+J174*(2-1))),1),MROUND(Inputs!$C$30*$P$3*(1/(1+J174*(2-1))),1)),\nIF(G174=\"TRUE 2\",IF(E174=\"NT\",MROUND(Inputs!$D$32*$Q$3*(1/(1+J174*(2-1))),1),MROUND(Inputs!$D$30*$Q$3*(1/(1+J174*(2-1))),1)),\nIF(G174=\"TRUE 3\",IF(E174=\"NT\",MROUND(Inputs!$E$32*$R$3*(1/(1+J174*(2-1))),1),MROUND(Inputs!$E$30*$R$3*(1/(1+J174*(2-1))),1)),\nIF(G174=\"TRUE 4\",IF(E174=\"NT\",MROUND(Inputs!$F$32*$S$3*(1/(1+J174*(2-1))),1),MROUND(Inputs!$F$30*$S$3*(1/(1+J174*(2-1))),1)),\nMROUND(Inputs!$C$15*(1/(1+J174*(2-1)))*($P$3+$P$4),1)))))","v":8727},-5739,0,{"$f":"(R174/(1/(1+J174*(2-1))))*O174/LEFT(Inputs!$C$18,1)/5280","v":0},0,{"$f":"(T174/60)*((Inputs!$C$13*Calculations!R174*(1-Calculations!J174))+(Inputs!$C$14*Calculations!R174*Calculations!J174))","v":0},{"$f":"IF(R174>0,($J$5/60)*(((I174*$J$3/(1-$J$3))*(1-J174)*Inputs!$C$13)+((I174*$J$3/(1-$J$3))*J174*Inputs!$C$14)),0)","v":0},0,null,"2019-08-07T19:00:00","","",{"$f":"IF(AND(Z174<>\"\",AA174<>\"\"),MAX(INDIRECT(Z174):INDIRECT(AA174)),\"\")","v":""},"","",null,{"$f":"IF(G174=\"TRUE 1\",IF(E174=\"NT\",MROUND(Inputs!$C$32*$AF$3*(1/(1+M174*(2-1))),1),MROUND(Inputs!$C$30*$AF$3*(1/(1+M174*(2-1))),1)),\nIF(G174=\"TRUE 2\",IF(E174=\"NT\",MROUND(Inputs!$D$32*$AG$3*(1/(1+M174*(2-1))),1),MROUND(Inputs!$D$30*$AG$3*(1/(1+M174*(2-1))),1)),\nIF(G174=\"TRUE 3\",IF(E174=\"NT\",MROUND(Inputs!$E$32*$AH$3*(1/(1+M174*(2-1))),1),MROUND(Inputs!$E$30*$AH$3*(1/(1+M174*(2-1))),1)),\nIF(G174=\"TRUE 4\",IF(E174=\"NT\",MROUND(Inputs!$F$32*$AI$3*(1/(1+M174*(2-1))),1),MROUND(Inputs!$F$30*$AI$3*(1/(1+M174*(2-1))),1)),\nMROUND(Inputs!$C$15*(1/(1+M174*(2-1)))*($AF$3+$AF$4),1)))))","v":8727},-5054,0,{"$f":"(AH174/(1/(1+M174*(2-1))))*O174/LEFT(Inputs!$C$18,1)/5280","v":0},0,{"$f":"(AJ174/60)*((Inputs!$C$13*Calculations!AH174*(1-Calculations!M174))+(Inputs!$C$14*Calculations!AH174*Calculations!M174))","v":0},{"$f":"IF(AH174>0,($M$5/60)*(((L174*$M$3/(1-$M$3))*(1-M174)*Inputs!$C$13)+((L174*$M$3/(1-$M$3))*M174*Inputs!$C$14)),0)","v":0},0,null,"2019-08-07T19:00:00","","",{"$f":"IF(AND(AP174<>\"\",AQ174<>\"\"),MAX(INDIRECT(AP174):INDIRECT(AQ174)),\"\")","v":""},"",""]
["2019-08-07",4,"Wednesday","20:00:00",{"$f":"INDEX(Lists!$M$3:$M$26,MATCH(Calculations!D175,Lists!$L$3:$L$26,0))","v":"NT"},92,{"$f":"IF(INDEX(Inputs!$H$86:$H$253,MATCH(F175,Inputs!$D$86:$D$253,0)),\"TRUE 4\",\nIF(INDEX(Inputs!$G$86:$G$253,MATCH(F175,Inputs!$D$86:$D$253,0)),\"TRUE 3\",\nIF(INDEX(Inputs!$F$86:$F$253,MATCH(F175,Inputs!$D$86:$D$253,0)),\"TRUE 2\",\nIF(INDEX(Inputs!$E$86:$E$253,MATCH(F175,Inputs!$D$86:$D$253,0)),\"TRUE 1\",\nFALSE))))","v":false},null,{"$f":"'Volume Import'!C166*'Volume Import'!$H$14*(1+'Volume Import'!$H$15)*(1-'Volume Import'!$H$16)","v":2598},{"$f":"IF(AND('Volume Import'!D166=0,'Volume Import'!C166=0),0,\nIF('Volume Import'!D166=0,INDEX('Volume Import'!$K$2:$Q$5,MATCH(E175,'Volume Import'!$R$2:$R$5,0),MATCH(C175,'Volume Import'!$K$1:$Q$1,0)),\n'Volume Import'!D166/'Volume Import'!C166))","v":0.1},null,{"$f":"'Volume Import'!E166*'Volume Import'!$I$14*(1+'Volume Import'!$I$15)*(1-'Volume Import'!$I$16)","v":2952},{"$f":"IF('Volume Import'!F166=0,J175,'Volume Import'!F166/'Volume Import'!E166)","v":0.1},null,{"$f":"IF(G175=\"TRUE 1\",IF(E175=\"NT\",Inputs!$C$35,Inputs!$C$34),\nIF(G175=\"TRUE 2\",IF(E175=\"NT\",Inputs!$D$35,Inputs!$D$34),\nIF(G175=\"TRUE 3\",IF(E175=\"NT\",Inputs!$E$35,Inputs!$E$34),\nIF(G175=\"TRUE 4\",IF(E175=\"NT\",Inputs!$F$35,Inputs!$F$34),\nO174))))","v":65.476687896673383},{"$f":"IF(G175=\"TRUE 1\",IF(E175=\"NT\",MROUND(Inputs!$C$32*$P$3*(1/(1+J175*(2-1))),1),MROUND(Inputs!$C$30*$P$3*(1/(1+J175*(2-1))),1)),\nIF(G175=\"TRUE 2\",IF(E175=\"NT\",MROUND(Inputs!$D$32*$Q$3*(1/(1+J175*(2-1))),1),MROUND(Inputs!$D$30*$Q$3*(1/(1+J175*(2-1))),1)),\nIF(G175=\"TRUE 3\",IF(E175=\"NT\",MROUND(Inputs!$E$32*$R$3*(1/(1+J175*(2-1))),1),MROUND(Inputs!$E$30*$R$3*(1/(1+J175*(2-1))),1)),\nIF(G175=\"TRUE 4\",IF(E175=\"NT\",MROUND(Inputs!$F$32*$S$3*(1/(1+J175*(2-1))),1),MROUND(Inputs!$F$30*$S$3*(1/(1+J175*(2-1))),1)),\nMROUND(Inputs!$C$15*(1/(1+J175*(2-1)))*($P$3+$P$4),1)))))","v":8727},-6129,0,{"$f":"(R175/(1/(1+J175*(2-1))))*O175/LEFT(Inputs!$C$18,1)/5280","v":0},0,{"$f":"(T175/60)*((Inputs!$C$13*Calculations!R175*(1-Calculations!J175))+(Inputs!$C$14*Calculations!R175*Calculations!J175))","v":0},{"$f":"IF(R175>0,($J$5/60)*(((I175*$J$3/(1-$J$3))*(1-J175)*Inputs!$C$13)+((I175*$J$3/(1-$J$3))*J175*Inputs!$C$14)),0)","v":0},0,null,"2019-08-07T20:00:00","","",{"$f":"IF(AND(Z175<>\"\",AA175<>\"\"),MAX(INDIRECT(Z175):INDIRECT(AA175)),\"\")","v":""},"","",null,{"$f":"IF(G175=\"TRUE 1\",IF(E175=\"NT\",MROUND(Inputs!$C$32*$AF$3*(1/(1+M175*(2-1))),1),MROUND(Inputs!$C$30*$AF$3*(1/(1+M175*(2-1))),1)),\nIF(G175=\"TRUE 2\",IF(E175=\"NT\",MROUND(Inputs!$D$32*$AG$3*(1/(1+M175*(2-1))),1),MROUND(Inputs!$D$30*$AG$3*(1/(1+M175*(2-1))),1)),\nIF(G175=\"TRUE 3\",IF(E175=\"NT\",MROUND(Inputs!$E$32*$AH$3*(1/(1+M175*(2-1))),1),MROUND(Inputs!$E$30*$AH$3*(1/(1+M175*(2-1))),1)),\nIF(G175=\"TRUE 4\",IF(E175=\"NT\",MROUND(Inputs!$F$32*$AI$3*(1/(1+M175*(2-1))),1),MROUND(Inputs!$F$30*$AI$3*(1/(1+M175*(2-1))),1)),\nMROUND(Inputs!$C$15*(1/(1+M175*(2-1)))*($AF$3+$AF$4),1)))))","v":8727},-5775,0,{"$f":"(AH175/(1/(1+M175*(2-1))))*O175/LEFT(Inputs!$C$18,1)/5280","v":0},0,{"$f":"(AJ175/60)*((Inputs!$C$13*Calculations!AH175*(1-Calculations!M175))+(Inputs!$C$14*Calculations!AH175*Calculations!M175))","v":0},{"$f":"IF(AH175>0,($M$5/60)*(((L175*$M$3/(1-$M$3))*(1-M175)*Inputs!$C$13)+((L175*$M$3/(1-$M$3))*M175*Inputs!$C$14)),0)","v":0},0,null,"2019-08-07T20:00:00","","",{"$f":"IF(AND(AP175<>\"\",AQ175<>\"\"),MAX(INDIRECT(AP175):INDIRECT(AQ175)),\"\")","v":""},"",""]
["2019-08-07",4,"Wednesday","21:00:00",{"$f":"INDEX(Lists!$M$3:$M$26,MATCH(Calculations!D176,Lists!$L$3:$L$26,0))","v":"NT"},93,{"$f":"IF(INDEX(Inputs!$H$86:$H$253,MATCH(F176,Inputs!$D$86:$D$253,0)),\"TRUE 4\",\nIF(INDEX(Inputs!$G$86:$G$253,MATCH(F176,Inputs!$D$86:$D$253,0)),\"TRUE 3\",\nIF(INDEX(Inputs!$F$86:$F$253,MATCH(F176,Inputs!$D$86:$D$253,0)),\"TRUE 2\",\nIF(INDEX(Inputs!$E$86:$E$253,MATCH(F176,Inputs!$D$86:$D$253,0)),\"TRUE 1\",\nFALSE))))","v":false},null,{"$f":"'Volume Import'!C167*'Volume Import'!$H$14*(1+'Volume Import'!$H$15)*(1-'Volume Import'!$H$16)","v":2128},{"$f":"IF(AND('Volume Import'!D167=0,'Volume Import'!C167=0),0,\nIF('Volume Import'!D167=0,INDEX('Volume Import'!$K$2:$Q$5,MATCH(E176,'Volume Import'!$R$2:$R$5,0),MATCH(C176,'Volume Import'!$K$1:$Q$1,0)),\n'Volume Import'!D167/'Volume Import'!C167))","v":0.1},null,{"$f":"'Volume Import'!E167*'Volume Import'!$I$14*(1+'Volume Import'!$I$15)*(1-'Volume Import'!$I$16)","v":2379},{"$f":"IF('Volume Import'!F167=0,J176,'Volume Import'!F167/'Volume Import'!E167)","v":0.1},null,{"$f":"IF(G176=\"TRUE 1\",IF(E176=\"NT\",Inputs!$C$35,Inputs!$C$34),\nIF(G176=\"TRUE 2\",IF(E176=\"NT\",Inputs!$D$35,Inputs!$D$34),\nIF(G176=\"TRUE 3\",IF(E176=\"NT\",Inputs!$E$35,Inputs!$E$34),\nIF(G176=\"TRUE 4\",IF(E176=\"NT\",Inputs!$F$35,Inputs!$F$34),\nO175))))","v":65.476687896673383},{"$f":"IF(G176=\"TRUE 1\",IF(E176=\"NT\",MROUND(Inputs!$C$32*$P$3*(1/(1+J176*(2-1))),1),MROUND(Inputs!$C$30*$P$3*(1/(1+J176*(2-1))),1)),\nIF(G176=\"TRUE 2\",IF(E176=\"NT\",MROUND(Inputs!$D$32*$Q$3*(1/(1+J176*(2-1))),1),MROUND(Inputs!$D$30*$Q$3*(1/(1+J176*(2-1))),1)),\nIF(G176=\"TRUE 3\",IF(E176=\"NT\",MROUND(Inputs!$E$32*$R$3*(1/(1+J176*(2-1))),1),MROUND(Inputs!$E$30*$R$3*(1/(1+J176*(2-1))),1)),\nIF(G176=\"TRUE 4\",IF(E176=\"NT\",MROUND(Inputs!$F$32*$S$3*(1/(1+J176*(2-1))),1),MROUND(Inputs!$F$30*$S$3*(1/(1+J176*(2-1))),1)),\nMROUND(Inputs!$C$15*(1/(1+J176*(2-1)))*($P$3+$P$4),1)))))","v":8727},-6599,0,{"$f":"(R176/(1/(1+J176*(2-1))))*O176/LEFT(Inputs!$C$18,1)/5280","v":0},0,{"$f":"(T176/60)*((Inputs!$C$13*Calculations!R176*(1-Calculations!J176))+(Inputs!$C$14*Calculations!R176*Calculations!J176))","v":0},{"$f":"IF(R176>0,($J$5/60)*(((I176*$J$3/(1-$J$3))*(1-J176)*Inputs!$C$13)+((I176*$J$3/(1-$J$3))*J176*Inputs!$C$14)),0)","v":0},0,null,"2019-08-07T21:00:00","","",{"$f":"IF(AND(Z176<>\"\",AA176<>\"\"),MAX(INDIRECT(Z176):INDIRECT(AA176)),\"\")","v":""},"","",null,{"$f":"IF(G176=\"TRUE 1\",IF(E176=\"NT\",MROUND(Inputs!$C$32*$AF$3*(1/(1+M176*(2-1))),1),MROUND(Inputs!$C$30*$AF$3*(1/(1+M176*(2-1))),1)),\nIF(G176=\"TRUE 2\",IF(E176=\"NT\",MROUND(Inputs!$D$32*$AG$3*(1/(1+M176*(2-1))),1),MROUND(Inputs!$D$30*$AG$3*(1/(1+M176*(2-1))),1)),\nIF(G176=\"TRUE 3\",IF(E176=\"NT\",MROUND(Inputs!$E$32*$AH$3*(1/(1+M176*(2-1))),1),MROUND(Inputs!$E$30*$AH$3*(1/(1+M176*(2-1))),1)),\nIF(G176=\"TRUE 4\",IF(E176=\"NT\",MROUND(Inputs!$F$32*$AI$3*(1/(1+M176*(2-1))),1),MROUND(Inputs!$F$30*$AI$3*(1/(1+M176*(2-1))),1)),\nMROUND(Inputs!$C$15*(1/(1+M176*(2-1)))*($AF$3+$AF$4),1)))))","v":8727},-6348,0,{"$f":"(AH176/(1/(1+M176*(2-1))))*O176/LEFT(Inputs!$C$18,1)/5280","v":0},0,{"$f":"(AJ176/60)*((Inputs!$C$13*Calculations!AH176*(1-Calculations!M176))+(Inputs!$C$14*Calculations!AH176*Calculations!M176))","v":0},{"$f":"IF(AH176>0,($M$5/60)*(((L176*$M$3/(1-$M$3))*(1-M176)*Inputs!$C$13)+((L176*$M$3/(1-$M$3))*M176*Inputs!$C$14)),0)","v":0},0,null,"2019-08-07T21:00:00","","",{"$f":"IF(AND(AP176<>\"\",AQ176<>\"\"),MAX(INDIRECT(AP176):INDIRECT(AQ176)),\"\")","v":""},"",""]
["2019-08-07",4,"Wednesday","22:00:00",{"$f":"INDEX(Lists!$M$3:$M$26,MATCH(Calculations!D177,Lists!$L$3:$L$26,0))","v":"NT"},94,{"$f":"IF(INDEX(Inputs!$H$86:$H$253,MATCH(F177,Inputs!$D$86:$D$253,0)),\"TRUE 4\",\nIF(INDEX(Inputs!$G$86:$G$253,MATCH(F177,Inputs!$D$86:$D$253,0)),\"TRUE 3\",\nIF(INDEX(Inputs!$F$86:$F$253,MATCH(F177,Inputs!$D$86:$D$253,0)),\"TRUE 2\",\nIF(INDEX(Inputs!$E$86:$E$253,MATCH(F177,Inputs!$D$86:$D$253,0)),\"TRUE 1\",\nFALSE))))","v":false},null,{"$f":"'Volume Import'!C168*'Volume Import'!$H$14*(1+'Volume Import'!$H$15)*(1-'Volume Import'!$H$16)","v":1414},{"$f":"IF(AND('Volume Import'!D168=0,'Volume Import'!C168=0),0,\nIF('Volume Import'!D168=0,INDEX('Volume Import'!$K$2:$Q$5,MATCH(E177,'Volume Import'!$R$2:$R$5,0),MATCH(C177,'Volume Import'!$K$1:$Q$1,0)),\n'Volume Import'!D168/'Volume Import'!C168))","v":0.1},null,{"$f":"'Volume Import'!E168*'Volume Import'!$I$14*(1+'Volume Import'!$I$15)*(1-'Volume Import'!$I$16)","v":1675},{"$f":"IF('Volume Import'!F168=0,J177,'Volume Import'!F168/'Volume Import'!E168)","v":0.1},null,{"$f":"IF(G177=\"TRUE 1\",IF(E177=\"NT\",Inputs!$C$35,Inputs!$C$34),\nIF(G177=\"TRUE 2\",IF(E177=\"NT\",Inputs!$D$35,Inputs!$D$34),\nIF(G177=\"TRUE 3\",IF(E177=\"NT\",Inputs!$E$35,Inputs!$E$34),\nIF(G177=\"TRUE 4\",IF(E177=\"NT\",Inputs!$F$35,Inputs!$F$34),\nO176))))","v":65.476687896673383},{"$f":"IF(G177=\"TRUE 1\",IF(E177=\"NT\",MROUND(Inputs!$C$32*$P$3*(1/(1+J177*(2-1))),1),MROUND(Inputs!$C$30*$P$3*(1/(1+J177*(2-1))),1)),\nIF(G177=\"TRUE 2\",IF(E177=\"NT\",MROUND(Inputs!$D$32*$Q$3*(1/(1+J177*(2-1))),1),MROUND(Inputs!$D$30*$Q$3*(1/(1+J177*(2-1))),1)),\nIF(G177=\"TRUE 3\",IF(E177=\"NT\",MROUND(Inputs!$E$32*$R$3*(1/(1+J177*(2-1))),1),MROUND(Inputs!$E$30*$R$3*(1/(1+J177*(2-1))),1)),\nIF(G177=\"TRUE 4\",IF(E177=\"NT\",MROUND(Inputs!$F$32*$S$3*(1/(1+J177*(2-1))),1),MROUND(Inputs!$F$30*$S$3*(1/(1+J177*(2-1))),1)),\nMROUND(Inputs!$C$15*(1/(1+J177*(2-1)))*($P$3+$P$4),1)))))","v":8727},-7313,0,{"$f":"(R177/(1/(1+J177*(2-1))))*O177/LEFT(Inputs!$C$18,1)/5280","v":0},0,{"$f":"(T177/60)*((Inputs!$C$13*Calculations!R177*(1-Calculations!J177))+(Inputs!$C$14*Calculations!R177*Calculations!J177))","v":0},{"$f":"IF(R177>0,($J$5/60)*(((I177*$J$3/(1-$J$3))*(1-J177)*Inputs!$C$13)+((I177*$J$3/(1-$J$3))*J177*Inputs!$C$14)),0)","v":0},0,null,"2019-08-07T22:00:00","","",{"$f":"IF(AND(Z177<>\"\",AA177<>\"\"),MAX(INDIRECT(Z177):INDIRECT(AA177)),\"\")","v":""},"","",null,{"$f":"IF(G177=\"TRUE 1\",IF(E177=\"NT\",MROUND(Inputs!$C$32*$AF$3*(1/(1+M177*(2-1))),1),MROUND(Inputs!$C$30*$AF$3*(1/(1+M177*(2-1))),1)),\nIF(G177=\"TRUE 2\",IF(E177=\"NT\",MROUND(Inputs!$D$32*$AG$3*(1/(1+M177*(2-1))),1),MROUND(Inputs!$D$30*$AG$3*(1/(1+M177*(2-1))),1)),\nIF(G177=\"TRUE 3\",IF(E177=\"NT\",MROUND(Inputs!$E$32*$AH$3*(1/(1+M177*(2-1))),1),MROUND(Inputs!$E$30*$AH$3*(1/(1+M177*(2-1))),1)),\nIF(G177=\"TRUE 4\",IF(E177=\"NT\",MROUND(Inputs!$F$32*$AI$3*(1/(1+M177*(2-1))),1),MROUND(Inputs!$F$30*$AI$3*(1/(1+M177*(2-1))),1)),\nMROUND(Inputs!$C$15*(1/(1+M177*(2-1)))*($AF$3+$AF$4),1)))))","v":8727},-7052,0,{"$f":"(AH177/(1/(1+M177*(2-1))))*O177/LEFT(Inputs!$C$18,1)/5280","v":0},0,{"$f":"(AJ177/60)*((Inputs!$C$13*Calculations!AH177*(1-Calculations!M177))+(Inputs!$C$14*Calculations!AH177*Calculations!M177))","v":0},{"$f":"IF(AH177>0,($M$5/60)*(((L177*$M$3/(1-$M$3))*(1-M177)*Inputs!$C$13)+((L177*$M$3/(1-$M$3))*M177*Inputs!$C$14)),0)","v":0},0,null,"2019-08-07T22:00:00","","",{"$f":"IF(AND(AP177<>\"\",AQ177<>\"\"),MAX(INDIRECT(AP177):INDIRECT(AQ177)),\"\")","v":""},"",""]
["2019-08-07",4,"Wednesday","23:00:00",{"$f":"INDEX(Lists!$M$3:$M$26,MATCH(Calculations!D178,Lists!$L$3:$L$26,0))","v":"NT"},95,{"$f":"IF(INDEX(Inputs!$H$86:$H$253,MATCH(F178,Inputs!$D$86:$D$253,0)),\"TRUE 4\",\nIF(INDEX(Inputs!$G$86:$G$253,MATCH(F178,Inputs!$D$86:$D$253,0)),\"TRUE 3\",\nIF(INDEX(Inputs!$F$86:$F$253,MATCH(F178,Inputs!$D$86:$D$253,0)),\"TRUE 2\",\nIF(INDEX(Inputs!$E$86:$E$253,MATCH(F178,Inputs!$D$86:$D$253,0)),\"TRUE 1\",\nFALSE))))","v":false},null,{"$f":"'Volume Import'!C169*'Volume Import'!$H$14*(1+'Volume Import'!$H$15)*(1-'Volume Import'!$H$16)","v":898},{"$f":"IF(AND('Volume Import'!D169=0,'Volume Import'!C169=0),0,\nIF('Volume Import'!D169=0,INDEX('Volume Import'!$K$2:$Q$5,MATCH(E178,'Volume Import'!$R$2:$R$5,0),MATCH(C178,'Volume Import'!$K$1:$Q$1,0)),\n'Volume Import'!D169/'Volume Import'!C169))","v":0.1},null,{"$f":"'Volume Import'!E169*'Volume Import'!$I$14*(1+'Volume Import'!$I$15)*(1-'Volume Import'!$I$16)","v":1135},{"$f":"IF('Volume Import'!F169=0,J178,'Volume Import'!F169/'Volume Import'!E169)","v":0.1},null,{"$f":"IF(G178=\"TRUE 1\",IF(E178=\"NT\",Inputs!$C$35,Inputs!$C$34),\nIF(G178=\"TRUE 2\",IF(E178=\"NT\",Inputs!$D$35,Inputs!$D$34),\nIF(G178=\"TRUE 3\",IF(E178=\"NT\",Inputs!$E$35,Inputs!$E$34),\nIF(G178=\"TRUE 4\",IF(E178=\"NT\",Inputs!$F$35,Inputs!$F$34),\nO177))))","v":65.476687896673383},{"$f":"IF(G178=\"TRUE 1\",IF(E178=\"NT\",MROUND(Inputs!$C$32*$P$3*(1/(1+J178*(2-1))),1),MROUND(Inputs!$C$30*$P$3*(1/(1+J178*(2-1))),1)),\nIF(G178=\"TRUE 2\",IF(E178=\"NT\",MROUND(Inputs!$D$32*$Q$3*(1/(1+J178*(2-1))),1),MROUND(Inputs!$D$30*$Q$3*(1/(1+J178*(2-1))),1)),\nIF(G178=\"TRUE 3\",IF(E178=\"NT\",MROUND(Inputs!$E$32*$R$3*(1/(1+J178*(2-1))),1),MROUND(Inputs!$E$30*$R$3*(1/(1+J178*(2-1))),1)),\nIF(G178=\"TRUE 4\",IF(E178=\"NT\",MROUND(Inputs!$F$32*$S$3*(1/(1+J178*(2-1))),1),MROUND(Inputs!$F$30*$S$3*(1/(1+J178*(2-1))),1)),\nMROUND(Inputs!$C$15*(1/(1+J178*(2-1)))*($P$3+$P$4),1)))))","v":8727},-7829,0,{"$f":"(R178/(1/(1+J178*(2-1))))*O178/LEFT(Inputs!$C$18,1)/5280","v":0},0,{"$f":"(T178/60)*((Inputs!$C$13*Calculations!R178*(1-Calculations!J178))+(Inputs!$C$14*Calculations!R178*Calculations!J178))","v":0},{"$f":"IF(R178>0,($J$5/60)*(((I178*$J$3/(1-$J$3))*(1-J178)*Inputs!$C$13)+((I178*$J$3/(1-$J$3))*J178*Inputs!$C$14)),0)","v":0},0,null,"2019-08-07T23:00:00","","",{"$f":"IF(AND(Z178<>\"\",AA178<>\"\"),MAX(INDIRECT(Z178):INDIRECT(AA178)),\"\")","v":""},"","",null,{"$f":"IF(G178=\"TRUE 1\",IF(E178=\"NT\",MROUND(Inputs!$C$32*$AF$3*(1/(1+M178*(2-1))),1),MROUND(Inputs!$C$30*$AF$3*(1/(1+M178*(2-1))),1)),\nIF(G178=\"TRUE 2\",IF(E178=\"NT\",MROUND(Inputs!$D$32*$AG$3*(1/(1+M178*(2-1))),1),MROUND(Inputs!$D$30*$AG$3*(1/(1+M178*(2-1))),1)),\nIF(G178=\"TRUE 3\",IF(E178=\"NT\",MROUND(Inputs!$E$32*$AH$3*(1/(1+M178*(2-1))),1),MROUND(Inputs!$E$30*$AH$3*(1/(1+M178*(2-1))),1)),\nIF(G178=\"TRUE 4\",IF(E178=\"NT\",MROUND(Inputs!$F$32*$AI$3*(1/(1+M178*(2-1))),1),MROUND(Inputs!$F$30*$AI$3*(1/(1+M178*(2-1))),1)),\nMROUND(Inputs!$C$15*(1/(1+M178*(2-1)))*($AF$3+$AF$4),1)))))","v":8727},-7592,0,{"$f":"(AH178/(1/(1+M178*(2-1))))*O178/LEFT(Inputs!$C$18,1)/5280","v":0},0,{"$f":"(AJ178/60)*((Inputs!$C$13*Calculations!AH178*(1-Calculations!M178))+(Inputs!$C$14*Calculations!AH178*Calculations!M178))","v":0},{"$f":"IF(AH178>0,($M$5/60)*(((L178*$M$3/(1-$M$3))*(1-M178)*Inputs!$C$13)+((L178*$M$3/(1-$M$3))*M178*Inputs!$C$14)),0)","v":0},0,null,"2019-08-07T23:00:00","","",{"$f":"IF(AND(AP178<>\"\",AQ178<>\"\"),MAX(INDIRECT(AP178):INDIRECT(AQ178)),\"\")","v":""},"",""]

{"sheet":"Weekly Chart","index":3,"n_rows":80,"n_cols":54,"rows_kept":80,"cut":false,"hidden":false,"merged":[[70,2,72,14],[73,2,75,14],[76,2,78,14],[79,2,81,14],[43,1,45,3],[43,28,45,30],[56,1,58,3],[56,28,58,30],[0,37,0,44],[2,38,3,43],[2,11,3,16],[1,2,1,3],[0,2,0,3],[0,29,0,30],[1,29,1,30],[0,10,0,17],[43,9,44,17],[43,36,44,44],[4,51,4,52],[29,1,31,3],[3,28,5,30],[16,28,18,30],[29,28,31,30],[3,1,5,3],[16,1,18,3],[4,24,4,25]]}
[null,"Growth",0,null,null,null,null,null,null,null,"Weekly Summary",null,null,null,null,null,null,null,null,null,null,null,null,{"$f":"Inputs!$B$6&\": \"&Inputs!$C$6","v":"Region: Southeast"},null,null,null,null,"Growth",0,null,null,null,null,null,null,null,"Weekly Summary",null,null,null,null,null,null,null,null,null,null,null,null,{"$f":"Inputs!$B$6&\": \"&Inputs!$C$6","v":"Region: Southeast"}]
[null,"Diversion",0,null,null,null,null,null,null,null,null,null,null,null,null,null,null,null,null,null,null,null,null,{"$f":"Inputs!$B$7&\": \"&Inputs!$C$7","v":"County: Milwaukee"},null,null,null,null,"Diversion",0,null,null,null,null,null,null,null,null,null,null,null,null,null,null,null,null,null,null,null,null,{"$f":"Inputs!$B$7&\": \"&Inputs!$C$7","v":"County: Milwaukee"}]
[null,null,null,null,null,null,null,null,null,null,null,{"$f":"IF(LEFT(B4,2)=\"SB\",\"- - -  SOUTHBOUND  - - -\",IF(LEFT(B4,2)=\"NB\",\"- - -  NORTHBOUND  - - -\",IF(LEFT(B4,2)=\"EB\",\"- - -  EASTBOUND  - - -\",IF(LEFT(B4,2)=\"WB\",\"- - -  WESTBOUND  - - -\",\"\"))))","v":"- - -  NORTHBOUND  - - -"},null,null,null,null,null,null,null,null,null,null,null,{"$f":"Inputs!$B$8&\": \"&Inputs!$C$8","v":"Construction ID: 0000-00-00"},null,null,null,null,null,null,null,null,null,null,null,null,null,null,{"$f":"IF(LEFT(AC4,2)=\"SB\",\"- - -  SOUTHBOUND  - - -\",IF(LEFT(AC4,2)=\"NB\",\"- - -  NORTHBOUND  - - -\",IF(LEFT(AC4,2)=\"EB\",\"- - -  EASTBOUND  - - -\",IF(LEFT(AC4,2)=\"WB\",\"- - -  WESTBOUND  - - -\",\"\"))))","v":"- - -  SOUTHBOUND  - - -"},null,null,null,null,null,null,null,null,null,null,null,{"$f":"Inputs!$B$8&\": \"&Inputs!$C$8","v":"Construction ID: 0000-00-00"}]
[null,{"$f":"Calculations!I8&\" Queue Miles\"","v":"NB Queue Miles"},null,null,1.0000000000000001E-5,2,3,4,5,null,null,null,null,null,null,null,null,null,null,null,null,null,null,{"$f":"Inputs!$B$9&\": \"&Inputs!$C$9","v":"Highway: I-894"},null,null,null,null,{"$f":"Calculations!L8&\" Queue Miles\"","v":"SB Queue Miles"},null,null,{"$f":"E4","v":1.0000000000000001E-5},{"$f":"F4","v":2},{"$f":"G4","v":3},{"$f":"H4","v":4},{"$f":"I4","v":5},null,null,null,null,null,null,null,null,null,null,null,null,null,null,{"$f":"Inputs!$B$9&\": \"&Inputs!$C$9","v":"Highway: I-894"}]
[null,null,null,null,"  0-2 Mile","2-3 Mile","3-4 Mile","4-5 Mile","5+ Mile",null,null,null,null,null,null,null,null,null,null,null,null,null,null,{"$f":"CONCATENATE(\"User: \",Inputs!$C$2)","v":"User: "},{"$f":"Inputs!$C$3","v":"00:00:00"},null,null,null,null,null,null,{"$f":"E5","v":"  0-2 Mile"},"2-3 Mile","3-4 Mile","4-5 Mile","5+ Mile",null,null,null,null,null,null,null,null,null,null,null,null,null,null,{"$f":"CONCATENATE(\"User: \",Inputs!$C$2)","v":"User: "},{"$f":"Inputs!$C$3","v":"00:00:00"}]
[]
[null,"Day          Hr",0,1,2,3,4,5,6,7,8,9,10,11,12,13,14,15,16,17,18,19,20,21,22,23,null,null,"Day          Hr",0,1,2,3,4,5,6,7,8,9,10,11,12,13,14,15,16,17,18,19,20,21,22,23]
[2,{"$f":"CHOOSE(WEEKDAY($A8),\"Sunday\",\"Monday\",\"Tuesday\",\"Wednesday\",\"Thursday\",\"Friday\",\"Saturday\")","v":"Monday"},{"$f":"INDEX(Calculations!$S$11:$S$178,MATCH('Weekly Chart'!C$7+('Weekly Chart'!$A8*24-24),Calculations!$F$11:$F$178,0))","v":0},{"$f":"INDEX(Calculations!$S$11:$S$178,MATCH('Weekly Chart'!D$7+('Weekly Chart'!$A8*24-24),Calculations!$F$11:$F$178,0))","v":0},{"$f":"INDEX(Calculations!$S$11:$S$178,MATCH('Weekly Chart'!E$7+('Weekly Chart'!$A8*24-24),Calculations!$F$11:$F$178,0))","v":0},{"$f":"INDEX(Calculations!$S$11:$S$178,MATCH('Weekly Chart'!F$7+('Weekly Chart'!$A8*24-24),Calculations!$F$11:$F$178,0))","v":0},{"$f":"INDEX(Calculations!$S$11:$S$178,MATCH('Weekly Chart'!G$7+('Weekly Chart'!$A8*24-24),Calculations!$F$11:$F$178,0))","v":0},{"$f":"INDEX(Calculations!$S$11:$S$178,MATCH('Weekly Chart'!H$7+('Weekly Chart'!$A8*24-24),Calculations!$F$11:$F$178,0))","v":0},{"$f":"INDEX(Calculations!$S$11:$S$178,MATCH('Weekly Chart'!I$7+('Weekly Chart'!$A8*24-24),Calculations!$F$11:$F$178,0))","v":0},{"$f":"INDEX(Calculations!$S$11:$S$178,MATCH('Weekly Chart'!J$7+('Weekly Chart'!$A8*24-24),Calculations!$F$11:$F$178,0))","v":0},{"$f":"INDEX(Calculations!$S$11:$S$178,MATCH('Weekly Chart'!K$7+('Weekly Chart'!$A8*24-24),Calculations!$F$11:$F$178,0))","v":0},{"$f":"INDEX(Calculations!$S$11:$S$178,MATCH('Weekly Chart'!L$7+('Weekly Chart'!$A8*24-24),Calculations!$F$11:$F$178,0))","v":0},{"$f":"INDEX(Calculations!$S$11:$S$178,MATCH('Weekly Chart'!M$7+('Weekly Chart'!$A8*24-24),Calculations!$F$11:$F$178,0))","v":0},{"$f":"INDEX(Calculations!$S$11:$S$178,MATCH('Weekly Chart'!N$7+('Weekly Chart'!$A8*24-24),Calculations!$F$11:$F$178,0))","v":0},{"$f":"INDEX(Calculations!$S$11:$S$178,MATCH('Weekly Chart'!O$7+('Weekly Chart'!$A8*24-24),Calculations!$F$11:$F$178,0))","v":0},{"$f":"INDEX(Calculations!$S$11:$S$178,MATCH('Weekly Chart'!P$7+('Weekly Chart'!$A8*24-24),Calculations!$F$11:$F$178,0))","v":0},{"$f":"INDEX(Calculations!$S$11:$S$178,MATCH('Weekly Chart'!Q$7+('Weekly Chart'!$A8*24-24),Calculations!$F$11:$F$178,0))","v":0},{"$f":"INDEX(Calculations!$S$11:$S$178,MATCH('Weekly Chart'!R$7+('Weekly Chart'!$A8*24-24),Calculations!$F$11:$F$178,0))","v":0},{"$f":"INDEX(Calculations!$S$11:$S$178,MATCH('Weekly Chart'!S$7+('Weekly Chart'!$A8*24-24),Calculations!$F$11:$F$178,0))","v":0},{"$f":"INDEX(Calculations!$S$11:$S$178,MATCH('Weekly Chart'!T$7+('Weekly Chart'!$A8*24-24),Calculations!$F$11:$F$178,0))","v":0},{"$f":"INDEX(Calculations!$S$11:$S$178,MATCH('Weekly Chart'!U$7+('Weekly Chart'!$A8*24-24),Calculations!$F$11:$F$178,0))","v":0},{"$f":"INDEX(Calculations!$S$11:$S$178,MATCH('Weekly Chart'!V$7+('Weekly Chart'!$A8*24-24),Calculations!$F$11:$F$178,0))","v":0},{"$f":"INDEX(Calculations!$S$11:$S$178,MATCH('Weekly Chart'!W$7+('Weekly Chart'!$A8*24-24),Calculations!$F$11:$F$178,0))","v":0},{"$f":"INDEX(Calculations!$S$11:$S$178,MATCH('Weekly Chart'!X$7+('Weekly Chart'!$A8*24-24),Calculations!$F$11:$F$178,0))","v":0},{"$f":"INDEX(Calculations!$S$11:$S$178,MATCH('Weekly Chart'!Y$7+('Weekly Chart'!$A8*24-24),Calculations!$F$11:$F$178,0))","v":0},{"$f":"INDEX(Calculations!$S$11:$S$178,MATCH('Weekly Chart'!Z$7+('Weekly Chart'!$A8*24-24),Calculations!$F$11:$F$178,0))","v":0},null,null,{"$f":"CHOOSE(WEEKDAY($A8),\"Sunday\",\"Monday\",\"Tuesday\",\"Wednesday\",\"Thursday\",\"Friday\",\"Saturday\")","v":"Monday"},{"$f":"INDEX(Calculations!$AI$11:$AI$178,MATCH('Weekly Chart'!AD$7+('Weekly Chart'!$A8*24-24),Calculations!$F$11:$F$178,0))","v":0},{"$f":"INDEX(Calculations!$AI$11:$AI$178,MATCH('Weekly Chart'!AE$7+('Weekly Chart'!$A8*24-24),Calculations!$F$11:$F$178,0))","v":0},{"$f":"INDEX(Calculations!$AI$11:$AI$178,MATCH('Weekly Chart'!AF$7+('Weekly Chart'!$A8*24-24),Calculations!$F$11:$F$178,0))","v":0},{"$f":"INDEX(Calculations!$AI$11:$AI$178,MATCH('Weekly Chart'!AG$7+('Weekly Chart'!$A8*24-24),Calculations!$F$11:$F$178,0))","v":0},{"$f":"INDEX(Calculations!$AI$11:$AI$178,MATCH('Weekly Chart'!AH$7+('Weekly Chart'!$A8*24-24),Calculations!$F$11:$F$178,0))","v":0},{"$f":"INDEX(Calculations!$AI$11:$AI$178,MATCH('Weekly Chart'!AI$7+('Weekly Chart'!$A8*24-24),Calculations!$F$11:$F$178,0))","v":0},{"$f":"INDEX(Calculations!$AI$11:$AI$178,MATCH('Weekly Chart'!AJ$7+('Weekly Chart'!$A8*24-24),Calculations!$F$11:$F$178,0))","v":0},{"$f":"INDEX(Calculations!$AI$11:$AI$178,MATCH('Weekly Chart'!AK$7+('Weekly Chart'!$A8*24-24),Calculations!$F$11:$F$178,0))","v":0},{"$f":"INDEX(Calculations!$AI$11:$AI$178,MATCH('Weekly Chart'!AL$7+('Weekly Chart'!$A8*24-24),Calculations!$F$11:$F$178,0))","v":0},{"$f":"INDEX(Calculations!$AI$11:$AI$178,MATCH('Weekly Chart'!AM$7+('Weekly Chart'!$A8*24-24),Calculations!$F$11:$F$178,0))","v":0},{"$f":"INDEX(Calculations!$AI$11:$AI$178,MATCH('Weekly Chart'!AN$7+('Weekly Chart'!$A8*24-24),Calculations!$F$11:$F$178,0))","v":0},{"$f":"INDEX(Calculations!$AI$11:$AI$178,MATCH('Weekly Chart'!AO$7+('Weekly Chart'!$A8*24-24),Calculations!$F$11:$F$178,0))","v":0},{"$f":"INDEX(Calculations!$AI$11:$AI$178,MATCH('Weekly Chart'!AP$7+('Weekly Chart'!$A8*24-24),Calculations!$F$11:$F$178,0))","v":0},{"$f":"INDEX(Calculations!$AI$11:$AI$178,MATCH('Weekly Chart'!AQ$7+('Weekly Chart'!$A8*24-24),Calculations!$F$11:$F$178,0))","v":0},{"$f":"INDEX(Calculations!$AI$11:$AI$178,MATCH('Weekly Chart'!AR$7+('Weekly Chart'!$A8*24-24),Calculations!$F$11:$F$178,0))","v":0},{"$f":"INDEX(Calculations!$AI$11:$AI$178,MATCH('Weekly Chart'!AS$7+('Weekly Chart'!$A8*24-24),Calculations!$F$11:$F$178,0))","v":0},{"$f":"INDEX(Calculations!$AI$11:$AI$178,MATCH('Weekly Chart'!AT$7+('Weekly Chart'!$A8*24-24),Calculations!$F$11:$F$178,0))","v":0},{"$f":"INDEX(Calculations!$AI$11:$AI$178,MATCH('Weekly Chart'!AU$7+('Weekly Chart'!$A8*24-24),Calculations!$F$11:$F$178,0))","v":0},{"$f":"INDEX(Calculations!$AI$11:$AI$178,MATCH('Weekly Chart'!AV$7+('Weekly Chart'!$A8*24-24),Calculations!$F$11:$F$178,0))","v":0},{"$f":"INDEX(Calculations!$AI$11:$AI$178,MATCH('Weekly Chart'!AW$7+('Weekly Chart'!$A8*24-24),Calculations!$F$11:$F$178,0))","v":0},{"$f":"INDEX(Calculations!$AI$11:$AI$178,MATCH('Weekly Chart'!AX$7+('Weekly Chart'!$A8*24-24),Calculations!$F$11:$F$178,0))","v":0},{"$f":"INDEX(Calculations!$AI$11:$AI$178,MATCH('Weekly Chart'!AY$7+('Weekly Chart'!$A8*24-24),Calculations!$F$11:$F$178,0))","v":0},{"$f":"INDEX(Calculations!$AI$11:$AI$178,MATCH('Weekly Chart'!AZ$7+('Weekly Chart'!$A8*24-24),Calculations!$F$11:$F$178,0))","v":0},{"$f":"INDEX(Calculations!$AI$11:$AI$178,MATCH('Weekly Chart'!BA$7+('Weekly Chart'!$A8*24-24),Calculations!$F$11:$F$178,0))","v":0}]
[3,{"$f":"CHOOSE(WEEKDAY($A9),\"Sunday\",\"Monday\",\"Tuesday\",\"Wednesday\",\"Thursday\",\"Friday\",\"Saturday\")","v":"Tuesday"},{"$f":"INDEX(Calculations!$S$11:$S$178,MATCH('Weekly Chart'!C$7+('Weekly Chart'!$A9*24-24),Calculations!$F$11:$F$178,0))","v":0},{"$f":"INDEX(Calculations!$S$11:$S$178,MATCH('Weekly Chart'!D$7+('Weekly Chart'!$A9*24-24),Calculations!$F$11:$F$178,0))","v":0},{"$f":"INDEX(Calculations!$S$11:$S$178,MATCH('Weekly Chart'!E$7+('Weekly Chart'!$A9*24-24),Calculations!$F$11:$F$178,0))","v":0},{"$f":"INDEX(Calculations!$S$11:$S$178,MATCH('Weekly Chart'!F$7+('Weekly Chart'!$A9*24-24),Calculations!$F$11:$F$178,0))","v":0},{"$f":"INDEX(Calculations!$S$11:$S$178,MATCH('Weekly Chart'!G$7+('Weekly Chart'!$A9*24-24),Calculations!$F$11:$F$178,0))","v":0},{"$f":"INDEX(Calculations!$S$11:$S$178,MATCH('Weekly Chart'!H$7+('Weekly Chart'!$A9*24-24),Calculations!$F$11:$F$178,0))","v":0},{"$f":"INDEX(Calculations!$S$11:$S$178,MATCH('Weekly Chart'!I$7+('Weekly Chart'!$A9*24-24),Calculations!$F$11:$F$178,0))","v":0},{"$f":"INDEX(Calculations!$S$11:$S$178,MATCH('Weekly Chart'!J$7+('Weekly Chart'!$A9*24-24),Calculations!$F$11:$F$178,0))","v":0},{"$f":"INDEX(Calculations!$S$11:$S$178,MATCH('Weekly Chart'!K$7+('Weekly Chart'!$A9*24-24),Calculations!$F$11:$F$178,0))","v":0},{"$f":"INDEX(Calculations!$S$11:$S$178,MATCH('Weekly Chart'!L$7+('Weekly Chart'!$A9*24-24),Calculations!$F$11:$F$178,0))","v":0.94463763267596501},{"$f":"INDEX(Calculations!$S$11:$S$178,MATCH('Weekly Chart'!M$7+('Weekly Chart'!$A9*24-24),Calculations!$F$11:$F$178,0))","v":0.7638946921278561},{"$f":"INDEX(Calculations!$S$11:$S$178,MATCH('Weekly Chart'!N$7+('Weekly Chart'!$A9*24-24),Calculations!$F$11:$F$178,0))","v":0},{"$f":"INDEX(Calculations!$S$11:$S$178,MATCH('Weekly Chart'!O$7+('Weekly Chart'!$A9*24-24),Calculations!$F$11:$F$178,0))","v":0},{"$f":"INDEX(Calculations!$S$11:$S$178,MATCH('Weekly Chart'!P$7+('Weekly Chart'!$A9*24-24),Calculations!$F$11:$F$178,0))","v":0},{"$f":"INDEX(Calculations!$S$11:$S$178,MATCH('Weekly Chart'!Q$7+('Weekly Chart'!$A9*24-24),Calculations!$F$11:$F$178,0))","v":0},{"$f":"INDEX(Calculations!$S$11:$S$178,MATCH('Weekly Chart'!R$7+('Weekly Chart'!$A9*24-24),Calculations!$F$11:$F$178,0))","v":0},{"$f":"INDEX(Calculations!$S$11:$S$178,MATCH('Weekly Chart'!S$7+('Weekly Chart'!$A9*24-24),Calculations!$F$11:$F$178,0))","v":0},{"$f":"INDEX(Calculations!$S$11:$S$178,MATCH('Weekly Chart'!T$7+('Weekly Chart'!$A9*24-24),Calculations!$F$11:$F$178,0))","v":0},{"$f":"INDEX(Calculations!$S$11:$S$178,MATCH('Weekly Chart'!U$7+('Weekly Chart'!$A9*24-24),Calculations!$F$11:$F$178,0))","v":0},{"$f":"INDEX(Calculations!$S$11:$S$178,MATCH('Weekly Chart'!V$7+('Weekly Chart'!$A9*24-24),Calculations!$F$11:$F$178,0))","v":0},{"$f":"INDEX(Calculations!$S$11:$S$178,MATCH('Weekly Chart'!W$7+('Weekly Chart'!$A9*24-24),Calculations!$F$11:$F$178,0))","v":0},{"$f":"INDEX(Calculations!$S$11:$S$178,MATCH('Weekly Chart'!X$7+('Weekly Chart'!$A9*24-24),Calculations!$F$11:$F$178,0))","v":0},{"$f":"INDEX(Calculations!$S$11:$S$178,MATCH('Weekly Chart'!Y$7+('Weekly Chart'!$A9*24-24),Calculations!$F$11:$F$178,0))","v":0},{"$f":"INDEX(Calculations!$S$11:$S$178,MATCH('Weekly Chart'!Z$7+('Weekly Chart'!$A9*24-24),Calculations!$F$11:$F$178,0))","v":0},null,null,{"$f":"CHOOSE(WEEKDAY($A9),\"Sunday\",\"Monday\",\"Tuesday\",\"Wednesday\",\"Thursday\",\"Friday\",\"Saturday\")","v":"Tuesday"},{"$f":"INDEX(Calculations!$AI$11:$AI$178,MATCH('Weekly Chart'!AD$7+('Weekly Chart'!$A9*24-24),Calculations!$F$11:$F$178,0))","v":0},{"$f":"INDEX(Calculations!$AI$11:$AI$178,MATCH('Weekly Chart'!AE$7+('Weekly Chart'!$A9*24-24),Calculations!$F$11:$F$178,0))","v":0},{"$f":"INDEX(Calculations!$AI$11:$AI$178,MATCH('Weekly Chart'!AF$7+('Weekly Chart'!$A9*24-24),Calculations!$F$11:$F$178,0))","v":0},{"$f":"INDEX(Calculations!$AI$11:$AI$178,MATCH('Weekly Chart'!AG$7+('Weekly Chart'!$A9*24-24),Calculations!$F$11:$F$178,0))","v":0},{"$f":"INDEX(Calculations!$AI$11:$AI$178,MATCH('Weekly Chart'!AH$7+('Weekly Chart'!$A9*24-24),Calculations!$F$11:$F$178,0))","v":0},{"$f":"INDEX(Calculations!$AI$11:$AI$178,MATCH('Weekly Chart'!AI$7+('Weekly Chart'!$A9*24-24),Calculations!$F$11:$F$178,0))","v":0},{"$f":"INDEX(Calculations!$AI$11:$AI$178,MATCH('Weekly Chart'!AJ$7+('Weekly Chart'!$A9*24-24),Calculations!$F$11:$F$178,0))","v":0},{"$f":"INDEX(Calculations!$AI$11:$AI$178,MATCH('Weekly Chart'!AK$7+('Weekly Chart'!$A9*24-24),Calculations!$F$11:$F$178,0))","v":0},{"$f":"INDEX(Calculations!$AI$11:$AI$178,MATCH('Weekly Chart'!AL$7+('Weekly Chart'!$A9*24-24),Calculations!$F$11:$F$178,0))","v":0},{"$f":"INDEX(Calculations!$AI$11:$AI$178,MATCH('Weekly Chart'!AM$7+('Weekly Chart'!$A9*24-24),Calculations!$F$11:$F$178,0))","v":0},{"$f":"INDEX(Calculations!$AI$11:$AI$178,MATCH('Weekly Chart'!AN$7+('Weekly Chart'!$A9*24-24),Calculations!$F$11:$F$178,0))","v":0},{"$f":"INDEX(Calculations!$AI$11:$AI$178,MATCH('Weekly Chart'!AO$7+('Weekly Chart'!$A9*24-24),Calculations!$F$11:$F$178,0))","v":0},{"$f":"INDEX(Calculations!$AI$11:$AI$178,MATCH('Weekly Chart'!AP$7+('Weekly Chart'!$A9*24-24),Calculations!$F$11:$F$178,0))","v":0},{"$f":"INDEX(Calculations!$AI$11:$AI$178,MATCH('Weekly Chart'!AQ$7+('Weekly Chart'!$A9*24-24),Calculations!$F$11:$F$178,0))","v":0},{"$f":"INDEX(Calculations!$AI$11:$AI$178,MATCH('Weekly Chart'!AR$7+('Weekly Chart'!$A9*24-24),Calculations!$F$11:$F$178,0))","v":0},{"$f":"INDEX(Calculations!$AI$11:$AI$178,MATCH('Weekly Chart'!AS$7+('Weekly Chart'!$A9*24-24),Calculations!$F$11:$F$178,0))","v":0},{"$f":"INDEX(Calculations!$AI$11:$AI$178,MATCH('Weekly Chart'!AT$7+('Weekly Chart'!$A9*24-24),Calculations!$F$11:$F$178,0))","v":0},{"$f":"INDEX(Calculations!$AI$11:$AI$178,MATCH('Weekly Chart'!AU$7+('Weekly Chart'!$A9*24-24),Calculations!$F$11:$F$178,0))","v":0},{"$f":"INDEX(Calculations!$AI$11:$AI$178,MATCH('Weekly Chart'!AV$7+('Weekly Chart'!$A9*24-24),Calculations!$F$11:$F$178,0))","v":0},{"$f":"INDEX(Calculations!$AI$11:$AI$178,MATCH('Weekly Chart'!AW$7+('Weekly Chart'!$A9*24-24),Calculations!$F$11:$F$178,0))","v":0},{"$f":"INDEX(Calculations!$AI$11:$AI$178,MATCH('Weekly Chart'!AX$7+('Weekly Chart'!$A9*24-24),Calculations!$F$11:$F$178,0))","v":0},{"$f":"INDEX(Calculations!$AI$11:$AI$178,MATCH('Weekly Chart'!AY$7+('Weekly Chart'!$A9*24-24),Calculations!$F$11:$F$178,0))","v":0},{"$f":"INDEX(Calculations!$AI$11:$AI$178,MATCH('Weekly Chart'!AZ$7+('Weekly Chart'!$A9*24-24),Calculations!$F$11:$F$178,0))","v":0},{"$f":"INDEX(Calculations!$AI$11:$AI$178,MATCH('Weekly Chart'!BA$7+('Weekly Chart'!$A9*24-24),Calculations!$F$11:$F$178,0))","v":0}]
[4,"Wednesday",{"$f":"INDEX(Calculations!$S$11:$S$178,MATCH('Weekly Chart'!C$7+('Weekly Chart'!$A10*24-24),Calculations!$F$11:$F$178,0))","v":0},{"$f":"INDEX(Calculations!$S$11:$S$178,MATCH('Weekly Chart'!D$7+('Weekly Chart'!$A10*24-24),Calculations!$F$11:$F$178,0))","v":0},{"$f":"INDEX(Calculations!$S$11:$S$178,MATCH('Weekly Chart'!E$7+('Weekly Chart'!$A10*24-24),Calculations!$F$11:$F$178,0))","v":0},{"$f":"INDEX(Calculations!$S$11:$S$178,MATCH('Weekly Chart'!F$7+('Weekly Chart'!$A10*24-24),Calculations!$F$11:$F$178,0))","v":0},{"$f":"INDEX(Calculations!$S$11:$S$178,MATCH('Weekly Chart'!G$7+('Weekly Chart'!$A10*24-24),Calculations!$F$11:$F$178,0))","v":0},{"$f":"INDEX(Calculations!$S$11:$S$178,MATCH('Weekly Chart'!H$7+('Weekly Chart'!$A10*24-24),Calculations!$F$11:$F$178,0))","v":0},{"$f":"INDEX(Calculations!$S$11:$S$178,MATCH('Weekly Chart'!I$7+('Weekly Chart'!$A10*24-24),Calculations!$F$11:$F$178,0))","v":0},{"$f":"INDEX(Calculations!$S$11:$S$178,MATCH('Weekly Chart'!J$7+('Weekly Chart'!$A10*24-24),Calculations!$F$11:$F$178,0))","v":0},{"$f":"INDEX(Calculations!$S$11:$S$178,MATCH('Weekly Chart'!K$7+('Weekly Chart'!$A10*24-24),Calculations!$F$11:$F$178,0))","v":0},{"$f":"INDEX(Calculations!$S$11:$S$178,MATCH('Weekly Chart'!L$7+('Weekly Chart'!$A10*24-24),Calculations!$F$11:$F$178,0))","v":0.91394543522439931},{"$f":"INDEX(Calculations!$S$11:$S$178,MATCH('Weekly Chart'!M$7+('Weekly Chart'!$A10*24-24),Calculations!$F$11:$F$178,0))","v":1.4902766984815763},{"$f":"INDEX(Calculations!$S$11:$S$178,MATCH('Weekly Chart'!N$7+('Weekly Chart'!$A10*24-24),Calculations!$F$11:$F$178,0))","v":1.2720210721593319},{"$f":"INDEX(Calculations!$S$11:$S$178,MATCH('Weekly Chart'!O$7+('Weekly Chart'!$A10*24-24),Calculations!$F$11:$F$178,0))","v":1.0333039808693769},{"$f":"INDEX(Calculations!$S$11:$S$178,MATCH('Weekly Chart'!P$7+('Weekly Chart'!$A10*24-24),Calculations!$F$11:$F$178,0))","v":0.378537101902643},{"$f":"INDEX(Calculations!$S$11:$S$178,MATCH('Weekly Chart'!Q$7+('Weekly Chart'!$A10*24-24),Calculations!$F$11:$F$178,0))","v":0},{"$f":"INDEX(Calculations!$S$11:$S$178,MATCH('Weekly Chart'!R$7+('Weekly Chart'!$A10*24-24),Calculations!$F$11:$F$178,0))","v":0},{"$f":"INDEX(Calculations!$S$11:$S$178,MATCH('Weekly Chart'!S$7+('Weekly Chart'!$A10*24-24),Calculations!$F$11:$F$178,0))","v":0},{"$f":"INDEX(Calculations!$S$11:$S$178,MATCH('Weekly Chart'!T$7+('Weekly Chart'!$A10*24-24),Calculations!$F$11:$F$178,0))","v":0},{"$f":"INDEX(Calculations!$S$11:$S$178,MATCH('Weekly Chart'!U$7+('Weekly Chart'!$A10*24-24),Calculations!$F$11:$F$178,0))","v":0},{"$f":"INDEX(Calculations!$S$11:$S$178,MATCH('Weekly Chart'!V$7+('Weekly Chart'!$A10*24-24),Calculations!$F$11:$F$178,0))","v":0},{"$f":"INDEX(Calculations!$S$11:$S$178,MATCH('Weekly Chart'!W$7+('Weekly Chart'!$A10*24-24),Calculations!$F$11:$F$178,0))","v":0},{"$f":"INDEX(Calculations!$S$11:$S$178,MATCH('Weekly Chart'!X$7+('Weekly Chart'!$A10*24-24),Calculations!$F$11:$F$178,0))","v":0},{"$f":"INDEX(Calculations!$S$11:$S$178,MATCH('Weekly Chart'!Y$7+('Weekly Chart'!$A10*24-24),Calculations!$F$11:$F$178,0))","v":0},{"$f":"INDEX(Calculations!$S$11:$S$178,MATCH('Weekly Chart'!Z$7+('Weekly Chart'!$A10*24-24),Calculations!$F$11:$F$178,0))","v":0},null,null,"Wednesday",{"$f":"INDEX(Calculations!$AI$11:$AI$178,MATCH('Weekly Chart'!AD$7+('Weekly Chart'!$A10*24-24),Calculations!$F$11:$F$178,0))","v":0},{"$f":"INDEX(Calculations!$AI$11:$AI$178,MATCH('Weekly Chart'!AE$7+('Weekly Chart'!$A10*24-24),Calculations!$F$11:$F$178,0))","v":0},{"$f":"INDEX(Calculations!$AI$11:$AI$178,MATCH('Weekly Chart'!AF$7+('Weekly Chart'!$A10*24-24),Calculations!$F$11:$F$178,0))","v":0},{"$f":"INDEX(Calculations!$AI$11:$AI$178,MATCH('Weekly Chart'!AG$7+('Weekly Chart'!$A10*24-24),Calculations!$F$11:$F$178,0))","v":0},{"$f":"INDEX(Calculations!$AI$11:$AI$178,MATCH('Weekly Chart'!AH$7+('Weekly Chart'!$A10*24-24),Calculations!$F$11:$F$178,0))","v":0},{"$f":"INDEX(Calculations!$AI$11:$AI$178,MATCH('Weekly Chart'!AI$7+('Weekly Chart'!$A10*24-24),Calculations!$F$11:$F$178,0))","v":0},{"$f":"INDEX(Calculations!$AI$11:$AI$178,MATCH('Weekly Chart'!AJ$7+('Weekly Chart'!$A10*24-24),Calculations!$F$11:$F$178,0))","v":0},{"$f":"INDEX(Calculations!$AI$11:$AI$178,MATCH('Weekly Chart'!AK$7+('Weekly Chart'!$A10*24-24),Calculations!$F$11:$F$178,0))","v":0},{"$f":"INDEX(Calculations!$AI$11:$AI$178,MATCH('Weekly Chart'!AL$7+('Weekly Chart'!$A10*24-24),Calculations!$F$11:$F$178,0))","v":0},{"$f":"INDEX(Calculations!$AI$11:$AI$178,MATCH('Weekly Chart'!AM$7+('Weekly Chart'!$A10*24-24),Calculations!$F$11:$F$178,0))","v":0},{"$f":"INDEX(Calculations!$AI$11:$AI$178,MATCH('Weekly Chart'!AN$7+('Weekly Chart'!$A10*24-24),Calculations!$F$11:$F$178,0))","v":0},{"$f":"INDEX(Calculations!$AI$11:$AI$178,MATCH('Weekly Chart'!AO$7+('Weekly Chart'!$A10*24-24),Calculations!$F$11:$F$178,0))","v":0},{"$f":"INDEX(Calculations!$AI$11:$AI$178,MATCH('Weekly Chart'!AP$7+('Weekly Chart'!$A10*24-24),Calculations!$F$11:$F$178,0))","v":0},{"$f":"INDEX(Calculations!$AI$11:$AI$178,MATCH('Weekly Chart'!AQ$7+('Weekly Chart'!$A10*24-24),Calculations!$F$11:$F$178,0))","v":0.4399214968057743},{"$f":"INDEX(Calculations!$AI$11:$AI$178,MATCH('Weekly Chart'!AR$7+('Weekly Chart'!$A10*24-24),Calculations!$F$11:$F$178,0))","v":0},{"$f":"INDEX(Calculations!$AI$11:$AI$178,MATCH('Weekly Chart'!AS$7+('Weekly Chart'!$A10*24-24),Calculations!$F$11:$F$178,0))","v":0},{"$f":"INDEX(Calculations!$AI$11:$AI$178,MATCH('Weekly Chart'!AT$7+('Weekly Chart'!$A10*24-24),Calculations!$F$11:$F$178,0))","v":0},{"$f":"INDEX(Calculations!$AI$11:$AI$178,MATCH('Weekly Chart'!AU$7+('Weekly Chart'!$A10*24-24),Calculations!$F$11:$F$178,0))","v":0},{"$f":"INDEX(Calculations!$AI$11:$AI$178,MATCH('Weekly Chart'!AV$7+('Weekly Chart'!$A10*24-24),Calculations!$F$11:$F$178,0))","v":0},{"$f":"INDEX(Calculations!$AI$11:$AI$178,MATCH('Weekly Chart'!AW$7+('Weekly Chart'!$A10*24-24),Calculations!$F$11:$F$178,0))","v":0},{"$f":"INDEX(Calculations!$AI$11:$AI$178,MATCH('Weekly Chart'!AX$7+('Weekly Chart'!$A10*24-24),Calculations!$F$11:$F$178,0))","v":0},{"$f":"INDEX(Calculations!$AI$11:$AI$178,MATCH('Weekly Chart'!AY$7+('Weekly Chart'!$A10*24-24),Calculations!$F$11:$F$178,0))","v":0},{"$f":"INDEX(Calculations!$AI$11:$AI$178,MATCH('Weekly Chart'!AZ$7+('Weekly Chart'!$A10*24-24),Calculations!$F$11:$F$178,0))","v":0},{"$f":"INDEX(Calculations!$AI$11:$AI$178,MATCH('Weekly Chart'!BA$7+('Weekly Chart'!$A10*24-24),Calculations!$F$11:$F$178,0))","v":0}]
[5,"Thursday",{"$f":"INDEX(Calculations!$S$11:$S$178,MATCH('Weekly Chart'!C$7+('Weekly Chart'!$A11*24-24),Calculations!$F$11:$F$178,0))","v":0},{"$f":"INDEX(Calculations!$S$11:$S$178,MATCH('Weekly Chart'!D$7+('Weekly Chart'!$A11*24-24),Calculations!$F$11:$F$178,0))","v":0},{"$f":"INDEX(Calculations!$S$11:$S$178,MATCH('Weekly Chart'!E$7+('Weekly Chart'!$A11*24-24),Calculations!$F$11:$F$178,0))","v":0},{"$f":"INDEX(Calculations!$S$11:$S$178,MATCH('Weekly Chart'!F$7+('Weekly Chart'!$A11*24-24),Calculations!$F$11:$F$178,0))","v":0},{"$f":"INDEX(Calculations!$S$11:$S$178,MATCH('Weekly Chart'!G$7+('Weekly Chart'!$A11*24-24),Calculations!$F$11:$F$178,0))","v":0},{"$f":"INDEX(Calculations!$S$11:$S$178,MATCH('Weekly Chart'!H$7+('Weekly Chart'!$A11*24-24),Calculations!$F$11:$F$178,0))","v":0},{"$f":"INDEX(Calculations!$S$11:$S$178,MATCH('Weekly Chart'!I$7+('Weekly Chart'!$A11*24-24),Calculations!$F$11:$F$178,0))","v":0},{"$f":"INDEX(Calculations!$S$11:$S$178,MATCH('Weekly Chart'!J$7+('Weekly Chart'!$A11*24-24),Calculations!$F$11:$F$178,0))","v":0},{"$f":"INDEX(Calculations!$S$11:$S$178,MATCH('Weekly Chart'!K$7+('Weekly Chart'!$A11*24-24),Calculations!$F$11:$F$178,0))","v":0},{"$f":"INDEX(Calculations!$S$11:$S$178,MATCH('Weekly Chart'!L$7+('Weekly Chart'!$A11*24-24),Calculations!$F$11:$F$178,0))","v":1.2208674097400558},{"$f":"INDEX(Calculations!$S$11:$S$178,MATCH('Weekly Chart'!M$7+('Weekly Chart'!$A11*24-24),Calculations!$F$11:$F$178,0))","v":2.2950943205448535},{"$f":"INDEX(Calculations!$S$11:$S$178,MATCH('Weekly Chart'!N$7+('Weekly Chart'!$A11*24-24),Calculations!$F$11:$F$178,0))","v":2.2644021230932876},{"$f":"INDEX(Calculations!$S$11:$S$178,MATCH('Weekly Chart'!O$7+('Weekly Chart'!$A11*24-24),Calculations!$F$11:$F$178,0))","v":2.598606050899225},{"$f":"INDEX(Calculations!$S$11:$S$178,MATCH('Weekly Chart'!P$7+('Weekly Chart'!$A11*24-24),Calculations!$F$11:$F$178,0))","v":2.8952972929310259},{"$f":"INDEX(Calculations!$S$11:$S$178,MATCH('Weekly Chart'!Q$7+('Weekly Chart'!$A11*24-24),Calculations!$F$11:$F$178,0))","v":0},{"$f":"INDEX(Calculations!$S$11:$S$178,MATCH('Weekly Chart'!R$7+('Weekly Chart'!$A11*24-24),Calculations!$F$11:$F$178,0))","v":0},{"$f":"INDEX(Calculations!$S$11:$S$178,MATCH('Weekly Chart'!S$7+('Weekly Chart'!$A11*24-24),Calculations!$F$11:$F$178,0))","v":0},{"$f":"INDEX(Calculations!$S$11:$S$178,MATCH('Weekly Chart'!T$7+('Weekly Chart'!$A11*24-24),Calculations!$F$11:$F$178,0))","v":0},{"$f":"INDEX(Calculations!$S$11:$S$178,MATCH('Weekly Chart'!U$7+('Weekly Chart'!$A11*24-24),Calculations!$F$11:$F$178,0))","v":0},{"$f":"INDEX(Calculations!$S$11:$S$178,MATCH('Weekly Chart'!V$7+('Weekly Chart'!$A11*24-24),Calculations!$F$11:$F$178,0))","v":0},{"$f":"INDEX(Calculations!$S$11:$S$178,MATCH('Weekly Chart'!W$7+('Weekly Chart'!$A11*24-24),Calculations!$F$11:$F$178,0))","v":0},{"$f":"INDEX(Calculations!$S$11:$S$178,MATCH('Weekly Chart'!X$7+('Weekly Chart'!$A11*24-24),Calculations!$F$11:$F$178,0))","v":0},{"$f":"INDEX(Calculations!$S$11:$S$178,MATCH('Weekly Chart'!Y$7+('Weekly Chart'!$A11*24-24),Calculations!$F$11:$F$178,0))","v":0},{"$f":"INDEX(Calculations!$S$11:$S$178,MATCH('Weekly Chart'!Z$7+('Weekly Chart'!$A11*24-24),Calculations!$F$11:$F$178,0))","v":0},null,null,"Thursday",{"$f":"INDEX(Calculations!$AI$11:$AI$178,MATCH('Weekly Chart'!AD$7+('Weekly Chart'!$A11*24-24),Calculations!$F$11:$F$178,0))","v":0},{"$f":"INDEX(Calculations!$AI$11:$AI$178,MATCH('Weekly Chart'!AE$7+('Weekly Chart'!$A11*24-24),Calculations!$F$11:$F$178,0))","v":0},{"$f":"INDEX(Calculations!$AI$11:$AI$178,MATCH('Weekly Chart'!AF$7+('Weekly Chart'!$A11*24-24),Calculations!$F$11:$F$178,0))","v":0},{"$f":"INDEX(Calculations!$AI$11:$AI$178,MATCH('Weekly Chart'!AG$7+('Weekly Chart'!$A11*24-24),Calculations!$F$11:$F$178,0))","v":0},{"$f":"INDEX(Calculations!$AI$11:$AI$178,MATCH('Weekly Chart'!AH$7+('Weekly Chart'!$A11*24-24),Calculations!$F$11:$F$178,0))","v":0},{"$f":"INDEX(Calculations!$AI$11:$AI$178,MATCH('Weekly Chart'!AI$7+('Weekly Chart'!$A11*24-24),Calculations!$F$11:$F$178,0))","v":0},{"$f":"INDEX(Calculations!$AI$11:$AI$178,MATCH('Weekly Chart'!AJ$7+('Weekly Chart'!$A11*24-24),Calculations!$F$11:$F$178,0))","v":0},{"$f":"INDEX(Calculations!$AI$11:$AI$178,MATCH('Weekly Chart'!AK$7+('Weekly Chart'!$A11*24-24),Calculations!$F$11:$F$178,0))","v":0},{"$f":"INDEX(Calculations!$AI$11:$AI$178,MATCH('Weekly Chart'!AL$7+('Weekly Chart'!$A11*24-24),Calculations!$F$11:$F$178,0))","v":0},{"$f":"INDEX(Calculations!$AI$11:$AI$178,MATCH('Weekly Chart'!AM$7+('Weekly Chart'!$A11*24-24),Calculations!$F$11:$F$178,0))","v":0},{"$f":"INDEX(Calculations!$AI$11:$AI$178,MATCH('Weekly Chart'!AN$7+('Weekly Chart'!$A11*24-24),Calculations!$F$11:$F$178,0))","v":0},{"$f":"INDEX(Calculations!$AI$11:$AI$178,MATCH('Weekly Chart'!AO$7+('Weekly Chart'!$A11*24-24),Calculations!$F$11:$F$178,0))","v":0},{"$f":"INDEX(Calculations!$AI$11:$AI$178,MATCH('Weekly Chart'!AP$7+('Weekly Chart'!$A11*24-24),Calculations!$F$11:$F$178,0))","v":0},{"$f":"INDEX(Calculations!$AI$11:$AI$178,MATCH('Weekly Chart'!AQ$7+('Weekly Chart'!$A11*24-24),Calculations!$F$11:$F$178,0))","v":0},{"$f":"INDEX(Calculations!$AI$11:$AI$178,MATCH('Weekly Chart'!AR$7+('Weekly Chart'!$A11*24-24),Calculations!$F$11:$F$178,0))","v":0},{"$f":"INDEX(Calculations!$AI$11:$AI$178,MATCH('Weekly Chart'!AS$7+('Weekly Chart'!$A11*24-24),Calculations!$F$11:$F$178,0))","v":0},{"$f":"INDEX(Calculations!$AI$11:$AI$178,MATCH('Weekly Chart'!AT$7+('Weekly Chart'!$A11*24-24),Calculations!$F$11:$F$178,0))","v":0},{"$f":"INDEX(Calculations!$AI$11:$AI$178,MATCH('Weekly Chart'!AU$7+('Weekly Chart'!$A11*24-24),Calculations!$F$11:$F$178,0))","v":0},{"$f":"INDEX(Calculations!$AI$11:$AI$178,MATCH('Weekly Chart'!AV$7+('Weekly Chart'!$A11*24-24),Calculations!$F$11:$F$178,0))","v":0},{"$f":"INDEX(Calculations!$AI$11:$AI$178,MATCH('Weekly Chart'!AW$7+('Weekly Chart'!$A11*24-24),Calculations!$F$11:$F$178,0))","v":0},{"$f":"INDEX(Calculations!$AI$11:$AI$178,MATCH('Weekly Chart'!AX$7+('Weekly Chart'!$A11*24-24),Calculations!$F$11:$F$178,0))","v":0},{"$f":"INDEX(Calculations!$AI$11:$AI$178,MATCH('Weekly Chart'!AY$7+('Weekly Chart'!$A11*24-24),Calculations!$F$11:$F$178,0))","v":0},{"$f":"INDEX(Calculations!$AI$11:$AI$178,MATCH('Weekly Chart'!AZ$7+('Weekly Chart'!$A11*24-24),Calculations!$F$11:$F$178,0))","v":0},{"$f":"INDEX(Calculations!$AI$11:$AI$178,MATCH('Weekly Chart'!BA$7+('Weekly Chart'!$A11*24-24),Calculations!$F$11:$F$178,0))","v":0}]
[6,"Friday",{"$f":"INDEX(Calculations!$S$11:$S$178,MATCH('Weekly Chart'!C$7+('Weekly Chart'!$A12*24-24),Calculations!$F$11:$F$178,0))","v":0},{"$f":"INDEX(Calculations!$S$11:$S$178,MATCH('Weekly Chart'!D$7+('Weekly Chart'!$A12*24-24),Calculations!$F$11:$F$178,0))","v":0},{"$f":"INDEX(Calculations!$S$11:$S$178,MATCH('Weekly Chart'!E$7+('Weekly Chart'!$A12*24-24),Calculations!$F$11:$F$178,0))","v":0},{"$f":"INDEX(Calculations!$S$11:$S$178,MATCH('Weekly Chart'!F$7+('Weekly Chart'!$A12*24-24),Calculations!$F$11:$F$178,0))","v":0},{"$f":"INDEX(Calculations!$S$11:$S$178,MATCH('Weekly Chart'!G$7+('Weekly Chart'!$A12*24-24),Calculations!$F$11:$F$178,0))","v":0},{"$f":"INDEX(Calculations!$S$11:$S$178,MATCH('Weekly Chart'!H$7+('Weekly Chart'!$A12*24-24),Calculations!$F$11:$F$178,0))","v":0},{"$f":"INDEX(Calculations!$S$11:$S$178,MATCH('Weekly Chart'!I$7+('Weekly Chart'!$A12*24-24),Calculations!$F$11:$F$178,0))","v":0},{"$f":"INDEX(Calculations!$S$11:$S$178,MATCH('Weekly Chart'!J$7+('Weekly Chart'!$A12*24-24),Calculations!$F$11:$F$178,0))","v":0},{"$f":"INDEX(Calculations!$S$11:$S$178,MATCH('Weekly Chart'!K$7+('Weekly Chart'!$A12*24-24),Calculations!$F$11:$F$178,0))","v":0},{"$f":"INDEX(Calculations!$S$11:$S$178,MATCH('Weekly Chart'!L$7+('Weekly Chart'!$A12*24-24),Calculations!$F$11:$F$178,0))","v":1.5550713375459928},{"$f":"INDEX(Calculations!$S$11:$S$178,MATCH('Weekly Chart'!M$7+('Weekly Chart'!$A12*24-24),Calculations!$F$11:$F$178,0))","v":3.3318085455755155},{"$f":"INDEX(Calculations!$S$11:$S$178,MATCH('Weekly Chart'!N$7+('Weekly Chart'!$A12*24-24),Calculations!$F$11:$F$178,0))","v":5.1596994160243135},{"$f":"INDEX(Calculations!$S$11:$S$178,MATCH('Weekly Chart'!O$7+('Weekly Chart'!$A12*24-24),Calculations!$F$11:$F$178,0))","v":7.1103590762793747},{"$f":"INDEX(Calculations!$S$11:$S$178,MATCH('Weekly Chart'!P$7+('Weekly Chart'!$A12*24-24),Calculations!$F$11:$F$178,0))","v":9.5077607216627804},{"$f":"INDEX(Calculations!$S$11:$S$178,MATCH('Weekly Chart'!Q$7+('Weekly Chart'!$A12*24-24),Calculations!$F$11:$F$178,0))","v":0},{"$f":"INDEX(Calculations!$S$11:$S$178,MATCH('Weekly Chart'!R$7+('Weekly Chart'!$A12*24-24),Calculations!$F$11:$F$178,0))","v":0},{"$f":"INDEX(Calculations!$S$11:$S$178,MATCH('Weekly Chart'!S$7+('Weekly Chart'!$A12*24-24),Calculations!$F$11:$F$178,0))","v":0},{"$f":"INDEX(Calculations!$S$11:$S$178,MATCH('Weekly Chart'!T$7+('Weekly Chart'!$A12*24-24),Calculations!$F$11:$F$178,0))","v":0},{"$f":"INDEX(Calculations!$S$11:$S$178,MATCH('Weekly Chart'!U$7+('Weekly Chart'!$A12*24-24),Calculations!$F$11:$F$178,0))","v":0},{"$f":"INDEX(Calculations!$S$11:$S$178,MATCH('Weekly Chart'!V$7+('Weekly Chart'!$A12*24-24),Calculations!$F$11:$F$178,0))","v":0},{"$f":"INDEX(Calculations!$S$11:$S$178,MATCH('Weekly Chart'!W$7+('Weekly Chart'!$A12*24-24),Calculations!$F$11:$F$178,0))","v":0},{"$f":"INDEX(Calculations!$S$11:$S$178,MATCH('Weekly Chart'!X$7+('Weekly Chart'!$A12*24-24),Calculations!$F$11:$F$178,0))","v":0},{"$f":"INDEX(Calculations!$S$11:$S$178,MATCH('Weekly Chart'!Y$7+('Weekly Chart'!$A12*24-24),Calculations!$F$11:$F$178,0))","v":0},{"$f":"INDEX(Calculations!$S$11:$S$178,MATCH('Weekly Chart'!Z$7+('Weekly Chart'!$A12*24-24),Calculations!$F$11:$F$178,0))","v":0},null,null,"Friday",{"$f":"INDEX(Calculations!$AI$11:$AI$178,MATCH('Weekly Chart'!AD$7+('Weekly Chart'!$A12*24-24),Calculations!$F$11:$F$178,0))","v":0},{"$f":"INDEX(Calculations!$AI$11:$AI$178,MATCH('Weekly Chart'!AE$7+('Weekly Chart'!$A12*24-24),Calculations!$F$11:$F$178,0))","v":0},{"$f":"INDEX(Calculations!$AI$11:$AI$178,MATCH('Weekly Chart'!AF$7+('Weekly Chart'!$A12*24-24),Calculations!$F$11:$F$178,0))","v":0},{"$f":"INDEX(Calculations!$AI$11:$AI$178,MATCH('Weekly Chart'!AG$7+('Weekly Chart'!$A12*24-24),Calculations!$F$11:$F$178,0))","v":0},{"$f":"INDEX(Calculations!$AI$11:$AI$178,MATCH('Weekly Chart'!AH$7+('Weekly Chart'!$A12*24-24),Calculations!$F$11:$F$178,0))","v":0},{"$f":"INDEX(Calculations!$AI$11:$AI$178,MATCH('Weekly Chart'!AI$7+('Weekly Chart'!$A12*24-24),Calculations!$F$11:$F$178,0))","v":0},{"$f":"INDEX(Calculations!$AI$11:$AI$178,MATCH('Weekly Chart'!AJ$7+('Weekly Chart'!$A12*24-24),Calculations!$F$11:$F$178,0))","v":0},{"$f":"INDEX(Calculations!$AI$11:$AI$178,MATCH('Weekly Chart'!AK$7+('Weekly Chart'!$A12*24-24),Calculations!$F$11:$F$178,0))","v":0},{"$f":"INDEX(Calculations!$AI$11:$AI$178,MATCH('Weekly Chart'!AL$7+('Weekly Chart'!$A12*24-24),Calculations!$F$11:$F$178,0))","v":0},{"$f":"INDEX(Calculations!$AI$11:$AI$178,MATCH('Weekly Chart'!AM$7+('Weekly Chart'!$A12*24-24),Calculations!$F$11:$F$178,0))","v":0},{"$f":"INDEX(Calculations!$AI$11:$AI$178,MATCH('Weekly Chart'!AN$7+('Weekly Chart'!$A12*24-24),Calculations!$F$11:$F$178,0))","v":0},{"$f":"INDEX(Calculations!$AI$11:$AI$178,MATCH('Weekly Chart'!AO$7+('Weekly Chart'!$A12*24-24),Calculations!$F$11:$F$178,0))","v":0},{"$f":"INDEX(Calculations!$AI$11:$AI$178,MATCH('Weekly Chart'!AP$7+('Weekly Chart'!$A12*24-24),Calculations!$F$11:$F$178,0))","v":1.1083293524176483},{"$f":"INDEX(Calculations!$AI$11:$AI$178,MATCH('Weekly Chart'!AQ$7+('Weekly Chart'!$A12*24-24),Calculations!$F$11:$F$178,0))","v":3.1817578024789719},{"$f":"INDEX(Calculations!$AI$11:$AI$178,MATCH('Weekly Chart'!AR$7+('Weekly Chart'!$A12*24-24),Calculations!$F$11:$F$178,0))","v":0},{"$f":"INDEX(Calculations!$AI$11:$AI$178,MATCH('Weekly Chart'!AS$7+('Weekly Chart'!$A12*24-24),Calculations!$F$11:$F$178,0))","v":0},{"$f":"INDEX(Calculations!$AI$11:$AI$178,MATCH('Weekly Chart'!AT$7+('Weekly Chart'!$A12*24-24),Calculations!$F$11:$F$178,0))","v":0},{"$f":"INDEX(Calculations!$AI$11:$AI$178,MATCH('Weekly Chart'!AU$7+('Weekly Chart'!$A12*24-24),Calculations!$F$11:$F$178,0))","v":0},{"$f":"INDEX(Calculations!$AI$11:$AI$178,MATCH('Weekly Chart'!AV$7+('Weekly Chart'!$A12*24-24),Calculations!$F$11:$F$178,0))","v":0},{"$f":"INDEX(Calculations!$AI$11:$AI$178,MATCH('Weekly Chart'!AW$7+('Weekly Chart'!$A12*24-24),Calculations!$F$11:$F$178,0))","v":0},{"$f":"INDEX(Calculations!$AI$11:$AI$178,MATCH('Weekly Chart'!AX$7+('Weekly Chart'!$A12*24-24),Calculations!$F$11:$F$178,0))","v":0},{"$f":"INDEX(Calculations!$AI$11:$AI$178,MATCH('Weekly Chart'!AY$7+('Weekly Chart'!$A12*24-24),Calculations!$F$11:$F$178,0))","v":0},{"$f":"INDEX(Calculations!$AI$11:$AI$178,MATCH('Weekly Chart'!AZ$7+('Weekly Chart'!$A12*24-24),Calculations!$F$11:$F$178,0))","v":0},{"$f":"INDEX(Calculations!$AI$11:$AI$178,MATCH('Weekly Chart'!BA$7+('Weekly Chart'!$A12*24-24),Calculations!$F$11:$F$178,0))","v":0}]
[7,"Saturday",{"$f":"INDEX(Calculations!$S$11:$S$178,MATCH('Weekly Chart'!C$7+('Weekly Chart'!$A13*24-24),Calculations!$F$11:$F$178,0))","v":0},{"$f":"INDEX(Calculations!$S$11:$S$178,MATCH('Weekly Chart'!D$7+('Weekly Chart'!$A13*24-24),Calculations!$F$11:$F$178,0))","v":0},{"$f":"INDEX(Calculations!$S$11:$S$178,MATCH('Weekly Chart'!E$7+('Weekly Chart'!$A13*24-24),Calculations!$F$11:$F$178,0))","v":0},{"$f":"INDEX(Calculations!$S$11:$S$178,MATCH('Weekly Chart'!F$7+('Weekly Chart'!$A13*24-24),Calculations!$F$11:$F$178,0))","v":0},{"$f":"INDEX(Calculations!$S$11:$S$178,MATCH('Weekly Chart'!G$7+('Weekly Chart'!$A13*24-24),Calculations!$F$11:$F$178,0))","v":0},{"$f":"INDEX(Calculations!$S$11:$S$178,MATCH('Weekly Chart'!H$7+('Weekly Chart'!$A13*24-24),Calculations!$F$11:$F$178,0))","v":0},{"$f":"INDEX(Calculations!$S$11:$S$178,MATCH('Weekly Chart'!I$7+('Weekly Chart'!$A13*24-24),Calculations!$F$11:$F$178,0))","v":0},{"$f":"INDEX(Calculations!$S$11:$S$178,MATCH('Weekly Chart'!J$7+('Weekly Chart'!$A13*24-24),Calculations!$F$11:$F$178,0))","v":0},{"$f":"INDEX(Calculations!$S$11:$S$178,MATCH('Weekly Chart'!K$7+('Weekly Chart'!$A13*24-24),Calculations!$F$11:$F$178,0))","v":0},{"$f":"INDEX(Calculations!$S$11:$S$178,MATCH('Weekly Chart'!L$7+('Weekly Chart'!$A13*24-24),Calculations!$F$11:$F$178,0))","v":0},{"$f":"INDEX(Calculations!$S$11:$S$178,MATCH('Weekly Chart'!M$7+('Weekly Chart'!$A13*24-24),Calculations!$F$11:$F$178,0))","v":0},{"$f":"INDEX(Calculations!$S$11:$S$178,MATCH('Weekly Chart'!N$7+('Weekly Chart'!$A13*24-24),Calculations!$F$11:$F$178,0))","v":0},{"$f":"INDEX(Calculations!$S$11:$S$178,MATCH('Weekly Chart'!O$7+('Weekly Chart'!$A13*24-24),Calculations!$F$11:$F$178,0))","v":0},{"$f":"INDEX(Calculations!$S$11:$S$178,MATCH('Weekly Chart'!P$7+('Weekly Chart'!$A13*24-24),Calculations!$F$11:$F$178,0))","v":0},{"$f":"INDEX(Calculations!$S$11:$S$178,MATCH('Weekly Chart'!Q$7+('Weekly Chart'!$A13*24-24),Calculations!$F$11:$F$178,0))","v":0},{"$f":"INDEX(Calculations!$S$11:$S$178,MATCH('Weekly Chart'!R$7+('Weekly Chart'!$A13*24-24),Calculations!$F$11:$F$178,0))","v":0},{"$f":"INDEX(Calculations!$S$11:$S$178,MATCH('Weekly Chart'!S$7+('Weekly Chart'!$A13*24-24),Calculations!$F$11:$F$178,0))","v":0},{"$f":"INDEX(Calculations!$S$11:$S$178,MATCH('Weekly Chart'!T$7+('Weekly Chart'!$A13*24-24),Calculations!$F$11:$F$178,0))","v":0},{"$f":"INDEX(Calculations!$S$11:$S$178,MATCH('Weekly Chart'!U$7+('Weekly Chart'!$A13*24-24),Calculations!$F$11:$F$178,0))","v":0},{"$f":"INDEX(Calculations!$S$11:$S$178,MATCH('Weekly Chart'!V$7+('Weekly Chart'!$A13*24-24),Calculations!$F$11:$F$178,0))","v":0},{"$f":"INDEX(Calculations!$S$11:$S$178,MATCH('Weekly Chart'!W$7+('Weekly Chart'!$A13*24-24),Calculations!$F$11:$F$178,0))","v":0},{"$f":"INDEX(Calculations!$S$11:$S$178,MATCH('Weekly Chart'!X$7+('Weekly Chart'!$A13*24-24),Calculations!$F$11:$F$178,0))","v":0},{"$f":"INDEX(Calculations!$S$11:$S$178,MATCH('Weekly Chart'!Y$7+('Weekly Chart'!$A13*24-24),Calculations!$F$11:$F$178,0))","v":0},{"$f":"INDEX(Calculations!$S$11:$S$178,MATCH('Weekly Chart'!Z$7+('Weekly Chart'!$A13*24-24),Calculations!$F$11:$F$178,0))","v":0},null,null,"Saturday",{"$f":"INDEX(Calculations!$AI$11:$AI$178,MATCH('Weekly Chart'!AD$7+('Weekly Chart'!$A13*24-24),Calculations!$F$11:$F$178,0))","v":0},{"$f":"INDEX(Calculations!$AI$11:$AI$178,MATCH('Weekly Chart'!AE$7+('Weekly Chart'!$A13*24-24),Calculations!$F$11:$F$178,0))","v":0},{"$f":"INDEX(Calculations!$AI$11:$AI$178,MATCH('Weekly Chart'!AF$7+('Weekly Chart'!$A13*24-24),Calculations!$F$11:$F$178,0))","v":0},{"$f":"INDEX(Calculations!$AI$11:$AI$178,MATCH('Weekly Chart'!AG$7+('Weekly Chart'!$A13*24-24),Calculations!$F$11:$F$178,0))","v":0},{"$f":"INDEX(Calculations!$AI$11:$AI$178,MATCH('Weekly Chart'!AH$7+('Weekly Chart'!$A13*24-24),Calculations!$F$11:$F$178,0))","v":0},{"$f":"INDEX(Calculations!$AI$11:$AI$178,MATCH('Weekly Chart'!AI$7+('Weekly Chart'!$A13*24-24),Calculations!$F$11:$F$178,0))","v":0},{"$f":"INDEX(Calculations!$AI$11:$AI$178,MATCH('Weekly Chart'!AJ$7+('Weekly Chart'!$A13*24-24),Calculations!$F$11:$F$178,0))","v":0},{"$f":"INDEX(Calculations!$AI$11:$AI$178,MATCH('Weekly Chart'!AK$7+('Weekly Chart'!$A13*24-24),Calculations!$F$11:$F$178,0))","v":0},{"$f":"INDEX(Calculations!$AI$11:$AI$178,MATCH('Weekly Chart'!AL$7+('Weekly Chart'!$A13*24-24),Calculations!$F$11:$F$178,0))","v":0},{"$f":"INDEX(Calculations!$AI$11:$AI$178,MATCH('Weekly Chart'!AM$7+('Weekly Chart'!$A13*24-24),Calculations!$F$11:$F$178,0))","v":0},{"$f":"INDEX(Calculations!$AI$11:$AI$178,MATCH('Weekly Chart'!AN$7+('Weekly Chart'!$A13*24-24),Calculations!$F$11:$F$178,0))","v":0},{"$f":"INDEX(Calculations!$AI$11:$AI$178,MATCH('Weekly Chart'!AO$7+('Weekly Chart'!$A13*24-24),Calculations!$F$11:$F$178,0))","v":0},{"$f":"INDEX(Calculations!$AI$11:$AI$178,MATCH('Weekly Chart'!AP$7+('Weekly Chart'!$A13*24-24),Calculations!$F$11:$F$178,0))","v":0},{"$f":"INDEX(Calculations!$AI$11:$AI$178,MATCH('Weekly Chart'!AQ$7+('Weekly Chart'!$A13*24-24),Calculations!$F$11:$F$178,0))","v":0},{"$f":"INDEX(Calculations!$AI$11:$AI$178,MATCH('Weekly Chart'!AR$7+('Weekly Chart'!$A13*24-24),Calculations!$F$11:$F$178,0))","v":0},{"$f":"INDEX(Calculations!$AI$11:$AI$178,MATCH('Weekly Chart'!AS$7+('Weekly Chart'!$A13*24-24),Calculations!$F$11:$F$178,0))","v":0},{"$f":"INDEX(Calculations!$AI$11:$AI$178,MATCH('Weekly Chart'!AT$7+('Weekly Chart'!$A13*24-24),Calculations!$F$11:$F$178,0))","v":0},{"$f":"INDEX(Calculations!$AI$11:$AI$178,MATCH('Weekly Chart'!AU$7+('Weekly Chart'!$A13*24-24),Calculations!$F$11:$F$178,0))","v":0},{"$f":"INDEX(Calculations!$AI$11:$AI$178,MATCH('Weekly Chart'!AV$7+('Weekly Chart'!$A13*24-24),Calculations!$F$11:$F$178,0))","v":0},{"$f":"INDEX(Calculations!$AI$11:$AI$178,MATCH('Weekly Chart'!AW$7+('Weekly Chart'!$A13*24-24),Calculations!$F$11:$F$178,0))","v":0},{"$f":"INDEX(Calculations!$AI$11:$AI$178,MATCH('Weekly Chart'!AX$7+('Weekly Chart'!$A13*24-24),Calculations!$F$11:$F$178,0))","v":0},{"$f":"INDEX(Calculations!$AI$11:$AI$178,MATCH('Weekly Chart'!AY$7+('Weekly Chart'!$A13*24-24),Calculations!$F$11:$F$178,0))","v":0},{"$f":"INDEX(Calculations!$AI$11:$AI$178,MATCH('Weekly Chart'!AZ$7+('Weekly Chart'!$A13*24-24),Calculations!$F$11:$F$178,0))","v":0},{"$f":"INDEX(Calculations!$AI$11:$AI$178,MATCH('Weekly Chart'!BA$7+('Weekly Chart'!$A13*24-24),Calculations!$F$11:$F$178,0))","v":0}]
[1,"Sunday",{"$f":"INDEX(Calculations!$S$11:$S$178,MATCH('Weekly Chart'!C$7+('Weekly Chart'!$A14*24-24),Calculations!$F$11:$F$178,0))","v":0},{"$f":"INDEX(Calculations!$S$11:$S$178,MATCH('Weekly Chart'!D$7+('Weekly Chart'!$A14*24-24),Calculations!$F$11:$F$178,0))","v":0},{"$f":"INDEX(Calculations!$S$11:$S$178,MATCH('Weekly Chart'!E$7+('Weekly Chart'!$A14*24-24),Calculations!$F$11:$F$178,0))","v":0},{"$f":"INDEX(Calculations!$S$11:$S$178,MATCH('Weekly Chart'!F$7+('Weekly Chart'!$A14*24-24),Calculations!$F$11:$F$178,0))","v":0},{"$f":"INDEX(Calculations!$S$11:$S$178,MATCH('Weekly Chart'!G$7+('Weekly Chart'!$A14*24-24),Calculations!$F$11:$F$178,0))","v":0},{"$f":"INDEX(Calculations!$S$11:$S$178,MATCH('Weekly Chart'!H$7+('Weekly Chart'!$A14*24-24),Calculations!$F$11:$F$178,0))","v":0},{"$f":"INDEX(Calculations!$S$11:$S$178,MATCH('Weekly Chart'!I$7+('Weekly Chart'!$A14*24-24),Calculations!$F$11:$F$178,0))","v":0},{"$f":"INDEX(Calculations!$S$11:$S$178,MATCH('Weekly Chart'!J$7+('Weekly Chart'!$A14*24-24),Calculations!$F$11:$F$178,0))","v":0},{"$f":"INDEX(Calculations!$S$11:$S$178,MATCH('Weekly Chart'!K$7+('Weekly Chart'!$A14*24-24),Calculations!$F$11:$F$178,0))","v":0},{"$f":"INDEX(Calculations!$S$11:$S$178,MATCH('Weekly Chart'!L$7+('Weekly Chart'!$A14*24-24),Calculations!$F$11:$F$178,0))","v":0},{"$f":"INDEX(Calculations!$S$11:$S$178,MATCH('Weekly Chart'!M$7+('Weekly Chart'!$A14*24-24),Calculations!$F$11:$F$178,0))","v":0},{"$f":"INDEX(Calculations!$S$11:$S$178,MATCH('Weekly Chart'!N$7+('Weekly Chart'!$A14*24-24),Calculations!$F$11:$F$178,0))","v":0},{"$f":"INDEX(Calculations!$S$11:$S$178,MATCH('Weekly Chart'!O$7+('Weekly Chart'!$A14*24-24),Calculations!$F$11:$F$178,0))","v":0},{"$f":"INDEX(Calculations!$S$11:$S$178,MATCH('Weekly Chart'!P$7+('Weekly Chart'!$A14*24-24),Calculations!$F$11:$F$178,0))","v":0},{"$f":"INDEX(Calculations!$S$11:$S$178,MATCH('Weekly Chart'!Q$7+('Weekly Chart'!$A14*24-24),Calculations!$F$11:$F$178,0))","v":0},{"$f":"INDEX(Calculations!$S$11:$S$178,MATCH('Weekly Chart'!R$7+('Weekly Chart'!$A14*24-24),Calculations!$F$11:$F$178,0))","v":0},{"$f":"INDEX(Calculations!$S$11:$S$178,MATCH('Weekly Chart'!S$7+('Weekly Chart'!$A14*24-24),Calculations!$F$11:$F$178,0))","v":0},{"$f":"INDEX(Calculations!$S$11:$S$178,MATCH('Weekly Chart'!T$7+('Weekly Chart'!$A14*24-24),Calculations!$F$11:$F$178,0))","v":0},{"$f":"INDEX(Calculations!$S$11:$S$178,MATCH('Weekly Chart'!U$7+('Weekly Chart'!$A14*24-24),Calculations!$F$11:$F$178,0))","v":0},{"$f":"INDEX(Calculations!$S$11:$S$178,MATCH('Weekly Chart'!V$7+('Weekly Chart'!$A14*24-24),Calculations!$F$11:$F$178,0))","v":0},{"$f":"INDEX(Calculations!$S$11:$S$178,MATCH('Weekly Chart'!W$7+('Weekly Chart'!$A14*24-24),Calculations!$F$11:$F$178,0))","v":0},{"$f":"INDEX(Calculations!$S$11:$S$178,MATCH('Weekly Chart'!X$7+('Weekly Chart'!$A14*24-24),Calculations!$F$11:$F$178,0))","v":0},{"$f":"INDEX(Calculations!$S$11:$S$178,MATCH('Weekly Chart'!Y$7+('Weekly Chart'!$A14*24-24),Calculations!$F$11:$F$178,0))","v":0},{"$f":"INDEX(Calculations!$S$11:$S$178,MATCH('Weekly Chart'!Z$7+('Weekly Chart'!$A14*24-24),Calculations!$F$11:$F$178,0))","v":0},null,null,"Sunday",{"$f":"INDEX(Calculations!$AI$11:$AI$178,MATCH('Weekly Chart'!AD$7+('Weekly Chart'!$A14*24-24),Calculations!$F$11:$F$178,0))","v":0},{"$f":"INDEX(Calculations!$AI$11:$AI$178,MATCH('Weekly Chart'!AE$7+('Weekly Chart'!$A14*24-24),Calculations!$F$11:$F$178,0))","v":0},{"$f":"INDEX(Calculations!$AI$11:$AI$178,MATCH('Weekly Chart'!AF$7+('Weekly Chart'!$A14*24-24),Calculations!$F$11:$F$178,0))","v":0},{"$f":"INDEX(Calculations!$AI$11:$AI$178,MATCH('Weekly Chart'!AG$7+('Weekly Chart'!$A14*24-24),Calculations!$F$11:$F$178,0))","v":0},{"$f":"INDEX(Calculations!$AI$11:$AI$178,MATCH('Weekly Chart'!AH$7+('Weekly Chart'!$A14*24-24),Calculations!$F$11:$F$178,0))","v":0},{"$f":"INDEX(Calculations!$AI$11:$AI$178,MATCH('Weekly Chart'!AI$7+('Weekly Chart'!$A14*24-24),Calculations!$F$11:$F$178,0))","v":0},{"$f":"INDEX(Calculations!$AI$11:$AI$178,MATCH('Weekly Chart'!AJ$7+('Weekly Chart'!$A14*24-24),Calculations!$F$11:$F$178,0))","v":0},{"$f":"INDEX(Calculations!$AI$11:$AI$178,MATCH('Weekly Chart'!AK$7+('Weekly Chart'!$A14*24-24),Calculations!$F$11:$F$178,0))","v":0},{"$f":"INDEX(Calculations!$AI$11:$AI$178,MATCH('Weekly Chart'!AL$7+('Weekly Chart'!$A14*24-24),Calculations!$F$11:$F$178,0))","v":0},{"$f":"INDEX(Calculations!$AI$11:$AI$178,MATCH('Weekly Chart'!AM$7+('Weekly Chart'!$A14*24-24),Calculations!$F$11:$F$178,0))","v":0},{"$f":"INDEX(Calculations!$AI$11:$AI$178,MATCH('Weekly Chart'!AN$7+('Weekly Chart'!$A14*24-24),Calculations!$F$11:$F$178,0))","v":0},{"$f":"INDEX(Calculations!$AI$11:$AI$178,MATCH('Weekly Chart'!AO$7+('Weekly Chart'!$A14*24-24),Calculations!$F$11:$F$178,0))","v":0},{"$f":"INDEX(Calculations!$AI$11:$AI$178,MATCH('Weekly Chart'!AP$7+('Weekly Chart'!$A14*24-24),Calculations!$F$11:$F$178,0))","v":0},{"$f":"INDEX(Calculations!$AI$11:$AI$178,MATCH('Weekly Chart'!AQ$7+('Weekly Chart'!$A14*24-24),Calculations!$F$11:$F$178,0))","v":0},{"$f":"INDEX(Calculations!$AI$11:$AI$178,MATCH('Weekly Chart'!AR$7+('Weekly Chart'!$A14*24-24),Calculations!$F$11:$F$178,0))","v":0},{"$f":"INDEX(Calculations!$AI$11:$AI$178,MATCH('Weekly Chart'!AS$7+('Weekly Chart'!$A14*24-24),Calculations!$F$11:$F$178,0))","v":0},{"$f":"INDEX(Calculations!$AI$11:$AI$178,MATCH('Weekly Chart'!AT$7+('Weekly Chart'!$A14*24-24),Calculations!$F$11:$F$178,0))","v":0},{"$f":"INDEX(Calculations!$AI$11:$AI$178,MATCH('Weekly Chart'!AU$7+('Weekly Chart'!$A14*24-24),Calculations!$F$11:$F$178,0))","v":0},{"$f":"INDEX(Calculations!$AI$11:$AI$178,MATCH('Weekly Chart'!AV$7+('Weekly Chart'!$A14*24-24),Calculations!$F$11:$F$178,0))","v":0},{"$f":"INDEX(Calculations!$AI$11:$AI$178,MATCH('Weekly Chart'!AW$7+('Weekly Chart'!$A14*24-24),Calculations!$F$11:$F$178,0))","v":0},{"$f":"INDEX(Calculations!$AI$11:$AI$178,MATCH('Weekly Chart'!AX$7+('Weekly Chart'!$A14*24-24),Calculations!$F$11:$F$178,0))","v":0},{"$f":"INDEX(Calculations!$AI$11:$AI$178,MATCH('Weekly Chart'!AY$7+('Weekly Chart'!$A14*24-24),Calculations!$F$11:$F$178,0))","v":0},{"$f":"INDEX(Calculations!$AI$11:$AI$178,MATCH('Weekly Chart'!AZ$7+('Weekly Chart'!$A14*24-24),Calculations!$F$11:$F$178,0))","v":0},{"$f":"INDEX(Calculations!$AI$11:$AI$178,MATCH('Weekly Chart'!BA$7+('Weekly Chart'!$A14*24-24),Calculations!$F$11:$F$178,0))","v":0}]
[null,null,"00:00:00","01:00:00","02:00:00","03:00:00","04:00:00","05:00:00","06:00:00","07:00:00","08:00:00","09:00:00","10:00:00","11:00:00","12:00:00","13:00:00","14:00:00","15:00:00","16:00:00","17:00:00","18:00:00","19:00:00","20:00:00","21:00:00","22:00:00","23:00:00",null,null,null,"00:00:00","01:00:00","02:00:00","03:00:00","04:00:00","05:00:00","06:00:00","07:00:00","08:00:00","09:00:00","10:00:00","11:00:00","12:00:00","13:00:00","14:00:00","15:00:00","16:00:00","17:00:00","18:00:00","19:00:00","20:00:00","21:00:00","22:00:00","23:00:00"]
[]
[null,{"$f":"Calculations!I8&\" Queue Minutes           per Vehicle\"","v":"NB Queue Minutes           per Vehicle"},null,null,1.0000000000000001E-5,15,30,60,120,null,null,null,null,null,null,null,null,null,null,null,null,null,null,null,null,null,null,null,{"$f":"Calculations!L8&\" Queue Minutes           per Vehicle\"","v":"SB Queue Minutes           per Vehicle"},null,null,{"$f":"E17","v":1.0000000000000001E-5},{"$f":"F17","v":15},{"$f":"G17","v":30},{"$f":"H17","v":60},{"$f":"I17","v":120}]
[null,null,null,null,"<15","15-30","30-60","60-120",">120",null,null,null,null,null,null,null,null,null,null,null,null,null,null,null,null,null,null,null,null,null,null,"<15","15-30","30-60","60-120",">120"]
[]
[null,"Day          Hr",0,1,2,3,4,5,6,7,8,9,10,11,12,13,14,15,16,17,18,19,20,21,22,23,null,null,"Day          Hr",0,1,2,3,4,5,6,7,8,9,10,11,12,13,14,15,16,17,18,19,20,21,22,23]
[{"$f":"$A$8","v":2},{"$f":"CHOOSE(WEEKDAY($A21),\"Sunday\",\"Monday\",\"Tuesday\",\"Wednesday\",\"Thursday\",\"Friday\",\"Saturday\")","v":"Monday"},{"$f":"INDEX(Calculations!$T$11:$T$178,MATCH('Weekly Chart'!C$7+('Weekly Chart'!$A21*24-24),Calculations!$F$11:$F$178,0))","v":0},{"$f":"INDEX(Calculations!$T$11:$T$178,MATCH('Weekly Chart'!D$7+('Weekly Chart'!$A21*24-24),Calculations!$F$11:$F$178,0))","v":0},{"$f":"INDEX(Calculations!$T$11:$T$178,MATCH('Weekly Chart'!E$7+('Weekly Chart'!$A21*24-24),Calculations!$F$11:$F$178,0))","v":0},{"$f":"INDEX(Calculations!$T$11:$T$178,MATCH('Weekly Chart'!F$7+('Weekly Chart'!$A21*24-24),Calculations!$F$11:$F$178,0))","v":0},{"$f":"INDEX(Calculations!$T$11:$T$178,MATCH('Weekly Chart'!G$7+('Weekly Chart'!$A21*24-24),Calculations!$F$11:$F$178,0))","v":0},{"$f":"INDEX(Calculations!$T$11:$T$178,MATCH('Weekly Chart'!H$7+('Weekly Chart'!$A21*24-24),Calculations!$F$11:$F$178,0))","v":0},{"$f":"INDEX(Calculations!$T$11:$T$178,MATCH('Weekly Chart'!I$7+('Weekly Chart'!$A21*24-24),Calculations!$F$11:$F$178,0))","v":0},{"$f":"INDEX(Calculations!$T$11:$T$178,MATCH('Weekly Chart'!J$7+('Weekly Chart'!$A21*24-24),Calculations!$F$11:$F$178,0))","v":0},{"$f":"INDEX(Calculations!$T$11:$T$178,MATCH('Weekly Chart'!K$7+('Weekly Chart'!$A21*24-24),Calculations!$F$11:$F$178,0))","v":0},{"$f":"INDEX(Calculations!$T$11:$T$178,MATCH('Weekly Chart'!L$7+('Weekly Chart'!$A21*24-24),Calculations!$F$11:$F$178,0))","v":0},{"$f":"INDEX(Calculations!$T$11:$T$178,MATCH('Weekly Chart'!M$7+('Weekly Chart'!$A21*24-24),Calculations!$F$11:$F$178,0))","v":0},{"$f":"INDEX(Calculations!$T$11:$T$178,MATCH('Weekly Chart'!N$7+('Weekly Chart'!$A21*24-24),Calculations!$F$11:$F$178,0))","v":0},{"$f":"INDEX(Calculations!$T$11:$T$178,MATCH('Weekly Chart'!O$7+('Weekly Chart'!$A21*24-24),Calculations!$F$11:$F$178,0))","v":0},{"$f":"INDEX(Calculations!$T$11:$T$178,MATCH('Weekly Chart'!P$7+('Weekly Chart'!$A21*24-24),Calculations!$F$11:$F$178,0))","v":0},{"$f":"INDEX(Calculations!$T$11:$T$178,MATCH('Weekly Chart'!Q$7+('Weekly Chart'!$A21*24-24),Calculations!$F$11:$F$178,0))","v":0},{"$f":"INDEX(Calculations!$T$11:$T$178,MATCH('Weekly Chart'!R$7+('Weekly Chart'!$A21*24-24),Calculations!$F$11:$F$178,0))","v":0},{"$f":"INDEX(Calculations!$T$11:$T$178,MATCH('Weekly Chart'!S$7+('Weekly Chart'!$A21*24-24),Calculations!$F$11:$F$178,0))","v":0},{"$f":"INDEX(Calculations!$T$11:$T$178,MATCH('Weekly Chart'!T$7+('Weekly Chart'!$A21*24-24),Calculations!$F$11:$F$178,0))","v":0},{"$f":"INDEX(Calculations!$T$11:$T$178,MATCH('Weekly Chart'!U$7+('Weekly Chart'!$A21*24-24),Calculations!$F$11:$F$178,0))","v":0},{"$f":"INDEX(Calculations!$T$11:$T$178,MATCH('Weekly Chart'!V$7+('Weekly Chart'!$A21*24-24),Calculations!$F$11:$F$178,0))","v":0},{"$f":"INDEX(Calculations!$T$11:$T$178,MATCH('Weekly Chart'!W$7+('Weekly Chart'!$A21*24-24),Calculations!$F$11:$F$178,0))","v":0},{"$f":"INDEX(Calculations!$T$11:$T$178,MATCH('Weekly Chart'!X$7+('Weekly Chart'!$A21*24-24),Calculations!$F$11:$F$178,0))","v":0},{"$f":"INDEX(Calculations!$T$11:$T$178,MATCH('Weekly Chart'!Y$7+('Weekly Chart'!$A21*24-24),Calculations!$F$11:$F$178,0))","v":0},{"$f":"INDEX(Calculations!$T$11:$T$178,MATCH('Weekly Chart'!Z$7+('Weekly Chart'!$A21*24-24),Calculations!$F$11:$F$178,0))","v":0},null,null,{"$f":"CHOOSE(WEEKDAY($A21),\"Sunday\",\"Monday\",\"Tuesday\",\"Wednesday\",\"Thursday\",\"Friday\",\"Saturday\")","v":"Monday"},{"$f":"INDEX(Calculations!$AJ$11:$AJ$178,MATCH('Weekly Chart'!AD$7+('Weekly Chart'!$A21*24-24),Calculations!$F$11:$F$178,0))","v":0},{"$f":"INDEX(Calculations!$AJ$11:$AJ$178,MATCH('Weekly Chart'!AE$7+('Weekly Chart'!$A21*24-24),Calculations!$F$11:$F$178,0))","v":0},{"$f":"INDEX(Calculations!$AJ$11:$AJ$178,MATCH('Weekly Chart'!AF$7+('Weekly Chart'!$A21*24-24),Calculations!$F$11:$F$178,0))","v":0},{"$f":"INDEX(Calculations!$AJ$11:$AJ$178,MATCH('Weekly Chart'!AG$7+('Weekly Chart'!$A21*24-24),Calculations!$F$11:$F$178,0))","v":0},{"$f":"INDEX(Calculations!$AJ$11:$AJ$178,MATCH('Weekly Chart'!AH$7+('Weekly Chart'!$A21*24-24),Calculations!$F$11:$F$178,0))","v":0},{"$f":"INDEX(Calculations!$AJ$11:$AJ$178,MATCH('Weekly Chart'!AI$7+('Weekly Chart'!$A21*24-24),Calculations!$F$11:$F$178,0))","v":0},{"$f":"INDEX(Calculations!$AJ$11:$AJ$178,MATCH('Weekly Chart'!AJ$7+('Weekly Chart'!$A21*24-24),Calculations!$F$11:$F$178,0))","v":0},{"$f":"INDEX(Calculations!$AJ$11:$AJ$178,MATCH('Weekly Chart'!AK$7+('Weekly Chart'!$A21*24-24),Calculations!$F$11:$F$178,0))","v":0},{"$f":"INDEX(Calculations!$AJ$11:$AJ$178,MATCH('Weekly Chart'!AL$7+('Weekly Chart'!$A21*24-24),Calculations!$F$11:$F$178,0))","v":0},{"$f":"INDEX(Calculations!$AJ$11:$AJ$178,MATCH('Weekly Chart'!AM$7+('Weekly Chart'!$A21*24-24),Calculations!$F$11:$F$178,0))","v":0},{"$f":"INDEX(Calculations!$AJ$11:$AJ$178,MATCH('Weekly Chart'!AN$7+('Weekly Chart'!$A21*24-24),Calculations!$F$11:$F$178,0))","v":0},{"$f":"INDEX(Calculations!$AJ$11:$AJ$178,MATCH('Weekly Chart'!AO$7+('Weekly Chart'!$A21*24-24),Calculations!$F$11:$F$178,0))","v":0},{"$f":"INDEX(Calculations!$AJ$11:$AJ$178,MATCH('Weekly Chart'!AP$7+('Weekly Chart'!$A21*24-24),Calculations!$F$11:$F$178,0))","v":0},{"$f":"INDEX(Calculations!$AJ$11:$AJ$178,MATCH('Weekly Chart'!AQ$7+('Weekly Chart'!$A21*24-24),Calculations!$F$11:$F$178,0))","v":0},{"$f":"INDEX(Calculations!$AJ$11:$AJ$178,MATCH('Weekly Chart'!AR$7+('Weekly Chart'!$A21*24-24),Calculations!$F$11:$F$178,0))","v":0},{"$f":"INDEX(Calculations!$AJ$11:$AJ$178,MATCH('Weekly Chart'!AS$7+('Weekly Chart'!$A21*24-24),Calculations!$F$11:$F$178,0))","v":0},{"$f":"INDEX(Calculations!$AJ$11:$AJ$178,MATCH('Weekly Chart'!AT$7+('Weekly Chart'!$A21*24-24),Calculations!$F$11:$F$178,0))","v":0},{"$f":"INDEX(Calculations!$AJ$11:$AJ$178,MATCH('Weekly Chart'!AU$7+('Weekly Chart'!$A21*24-24),Calculations!$F$11:$F$178,0))","v":0},{"$f":"INDEX(Calculations!$AJ$11:$AJ$178,MATCH('Weekly Chart'!AV$7+('Weekly Chart'!$A21*24-24),Calculations!$F$11:$F$178,0))","v":0},{"$f":"INDEX(Calculations!$AJ$11:$AJ$178,MATCH('Weekly Chart'!AW$7+('Weekly Chart'!$A21*24-24),Calculations!$F$11:$F$178,0))","v":0},{"$f":"INDEX(Calculations!$AJ$11:$AJ$178,MATCH('Weekly Chart'!AX$7+('Weekly Chart'!$A21*24-24),Calculations!$F$11:$F$178,0))","v":0},{"$f":"INDEX(Calculations!$AJ$11:$AJ$178,MATCH('Weekly Chart'!AY$7+('Weekly Chart'!$A21*24-24),Calculations!$F$11:$F$178,0))","v":0},{"$f":"INDEX(Calculations!$AJ$11:$AJ$178,MATCH('Weekly Chart'!AZ$7+('Weekly Chart'!$A21*24-24),Calculations!$F$11:$F$178,0))","v":0},{"$f":"INDEX(Calculations!$AJ$11:$AJ$178,MATCH('Weekly Chart'!BA$7+('Weekly Chart'!$A21*24-24),Calculations!$F$11:$F$178,0))","v":0}]
[{"$f":"$A$9","v":3},"Tuesday",{"$f":"INDEX(Calculations!$T$11:$T$178,MATCH('Weekly Chart'!C$7+('Weekly Chart'!$A22*24-24),Calculations!$F$11:$F$178,0))","v":0},{"$f":"INDEX(Calculations!$T$11:$T$178,MATCH('Weekly Chart'!D$7+('Weekly Chart'!$A22*24-24),Calculations!$F$11:$F$178,0))","v":0},{"$f":"INDEX(Calculations!$T$11:$T$178,MATCH('Weekly Chart'!E$7+('Weekly Chart'!$A22*24-24),Calculations!$F$11:$F$178,0))","v":0},{"$f":"INDEX(Calculations!$T$11:$T$178,MATCH('Weekly Chart'!F$7+('Weekly Chart'!$A22*24-24),Calculations!$F$11:$F$178,0))","v":0},{"$f":"INDEX(Calculations!$T$11:$T$178,MATCH('Weekly Chart'!G$7+('Weekly Chart'!$A22*24-24),Calculations!$F$11:$F$178,0))","v":0},{"$f":"INDEX(Calculations!$T$11:$T$178,MATCH('Weekly Chart'!H$7+('Weekly Chart'!$A22*24-24),Calculations!$F$11:$F$178,0))","v":0},{"$f":"INDEX(Calculations!$T$11:$T$178,MATCH('Weekly Chart'!I$7+('Weekly Chart'!$A22*24-24),Calculations!$F$11:$F$178,0))","v":0},{"$f":"INDEX(Calculations!$T$11:$T$178,MATCH('Weekly Chart'!J$7+('Weekly Chart'!$A22*24-24),Calculations!$F$11:$F$178,0))","v":0},{"$f":"INDEX(Calculations!$T$11:$T$178,MATCH('Weekly Chart'!K$7+('Weekly Chart'!$A22*24-24),Calculations!$F$11:$F$178,0))","v":0},{"$f":"INDEX(Calculations!$T$11:$T$178,MATCH('Weekly Chart'!L$7+('Weekly Chart'!$A22*24-24),Calculations!$F$11:$F$178,0))","v":3.5505233924375132},{"$f":"INDEX(Calculations!$T$11:$T$178,MATCH('Weekly Chart'!M$7+('Weekly Chart'!$A22*24-24),Calculations!$F$11:$F$178,0))","v":2.871181371501816},{"$f":"INDEX(Calculations!$T$11:$T$178,MATCH('Weekly Chart'!N$7+('Weekly Chart'!$A22*24-24),Calculations!$F$11:$F$178,0))","v":0},{"$f":"INDEX(Calculations!$T$11:$T$178,MATCH('Weekly Chart'!O$7+('Weekly Chart'!$A22*24-24),Calculations!$F$11:$F$178,0))","v":0},{"$f":"INDEX(Calculations!$T$11:$T$178,MATCH('Weekly Chart'!P$7+('Weekly Chart'!$A22*24-24),Calculations!$F$11:$F$178,0))","v":0},{"$f":"INDEX(Calculations!$T$11:$T$178,MATCH('Weekly Chart'!Q$7+('Weekly Chart'!$A22*24-24),Calculations!$F$11:$F$178,0))","v":0},{"$f":"INDEX(Calculations!$T$11:$T$178,MATCH('Weekly Chart'!R$7+('Weekly Chart'!$A22*24-24),Calculations!$F$11:$F$178,0))","v":0},{"$f":"INDEX(Calculations!$T$11:$T$178,MATCH('Weekly Chart'!S$7+('Weekly Chart'!$A22*24-24),Calculations!$F$11:$F$178,0))","v":0},{"$f":"INDEX(Calculations!$T$11:$T$178,MATCH('Weekly Chart'!T$7+('Weekly Chart'!$A22*24-24),Calculations!$F$11:$F$178,0))","v":0},{"$f":"INDEX(Calculations!$T$11:$T$178,MATCH('Weekly Chart'!U$7+('Weekly Chart'!$A22*24-24),Calculations!$F$11:$F$178,0))","v":0},{"$f":"INDEX(Calculations!$T$11:$T$178,MATCH('Weekly Chart'!V$7+('Weekly Chart'!$A22*24-24),Calculations!$F$11:$F$178,0))","v":0},{"$f":"INDEX(Calculations!$T$11:$T$178,MATCH('Weekly Chart'!W$7+('Weekly Chart'!$A22*24-24),Calculations!$F$11:$F$178,0))","v":0},{"$f":"INDEX(Calculations!$T$11:$T$178,MATCH('Weekly Chart'!X$7+('Weekly Chart'!$A22*24-24),Calculations!$F$11:$F$178,0))","v":0},{"$f":"INDEX(Calculations!$T$11:$T$178,MATCH('Weekly Chart'!Y$7+('Weekly Chart'!$A22*24-24),Calculations!$F$11:$F$178,0))","v":0},{"$f":"INDEX(Calculations!$T$11:$T$178,MATCH('Weekly Chart'!Z$7+('Weekly Chart'!$A22*24-24),Calculations!$F$11:$F$178,0))","v":0},null,null,{"$f":"CHOOSE(WEEKDAY($A22),\"Sunday\",\"Monday\",\"Tuesday\",\"Wednesday\",\"Thursday\",\"Friday\",\"Saturday\")","v":"Tuesday"},{"$f":"INDEX(Calculations!$AJ$11:$AJ$178,MATCH('Weekly Chart'!AD$7+('Weekly Chart'!$A22*24-24),Calculations!$F$11:$F$178,0))","v":0},{"$f":"INDEX(Calculations!$AJ$11:$AJ$178,MATCH('Weekly Chart'!AE$7+('Weekly Chart'!$A22*24-24),Calculations!$F$11:$F$178,0))","v":0},{"$f":"INDEX(Calculations!$AJ$11:$AJ$178,MATCH('Weekly Chart'!AF$7+('Weekly Chart'!$A22*24-24),Calculations!$F$11:$F$178,0))","v":0},{"$f":"INDEX(Calculations!$AJ$11:$AJ$178,MATCH('Weekly Chart'!AG$7+('Weekly Chart'!$A22*24-24),Calculations!$F$11:$F$178,0))","v":0},{"$f":"INDEX(Calculations!$AJ$11:$AJ$178,MATCH('Weekly Chart'!AH$7+('Weekly Chart'!$A22*24-24),Calculations!$F$11:$F$178,0))","v":0},{"$f":"INDEX(Calculations!$AJ$11:$AJ$178,MATCH('Weekly Chart'!AI$7+('Weekly Chart'!$A22*24-24),Calculations!$F$11:$F$178,0))","v":0},{"$f":"INDEX(Calculations!$AJ$11:$AJ$178,MATCH('Weekly Chart'!AJ$7+('Weekly Chart'!$A22*24-24),Calculations!$F$11:$F$178,0))","v":0},{"$f":"INDEX(Calculations!$AJ$11:$AJ$178,MATCH('Weekly Chart'!AK$7+('Weekly Chart'!$A22*24-24),Calculations!$F$11:$F$178,0))","v":0},{"$f":"INDEX(Calculations!$AJ$11:$AJ$178,MATCH('Weekly Chart'!AL$7+('Weekly Chart'!$A22*24-24),Calculations!$F$11:$F$178,0))","v":0},{"$f":"INDEX(Calculations!$AJ$11:$AJ$178,MATCH('Weekly Chart'!AM$7+('Weekly Chart'!$A22*24-24),Calculations!$F$11:$F$178,0))","v":0},{"$f":"INDEX(Calculations!$AJ$11:$AJ$178,MATCH('Weekly Chart'!AN$7+('Weekly Chart'!$A22*24-24),Calculations!$F$11:$F$178,0))","v":0},{"$f":"INDEX(Calculations!$AJ$11:$AJ$178,MATCH('Weekly Chart'!AO$7+('Weekly Chart'!$A22*24-24),Calculations!$F$11:$F$178,0))","v":0},{"$f":"INDEX(Calculations!$AJ$11:$AJ$178,MATCH('Weekly Chart'!AP$7+('Weekly Chart'!$A22*24-24),Calculations!$F$11:$F$178,0))","v":0},{"$f":"INDEX(Calculations!$AJ$11:$AJ$178,MATCH('Weekly Chart'!AQ$7+('Weekly Chart'!$A22*24-24),Calculations!$F$11:$F$178,0))","v":0},{"$f":"INDEX(Calculations!$AJ$11:$AJ$178,MATCH('Weekly Chart'!AR$7+('Weekly Chart'!$A22*24-24),Calculations!$F$11:$F$178,0))","v":0},{"$f":"INDEX(Calculations!$AJ$11:$AJ$178,MATCH('Weekly Chart'!AS$7+('Weekly Chart'!$A22*24-24),Calculations!$F$11:$F$178,0))","v":0},{"$f":"INDEX(Calculations!$AJ$11:$AJ$178,MATCH('Weekly Chart'!AT$7+('Weekly Chart'!$A22*24-24),Calculations!$F$11:$F$178,0))","v":0},{"$f":"INDEX(Calculations!$AJ$11:$AJ$178,MATCH('Weekly Chart'!AU$7+('Weekly Chart'!$A22*24-24),Calculations!$F$11:$F$178,0))","v":0},{"$f":"INDEX(Calculations!$AJ$11:$AJ$178,MATCH('Weekly Chart'!AV$7+('Weekly Chart'!$A22*24-24),Calculations!$F$11:$F$178,0))","v":0},{"$f":"INDEX(Calculations!$AJ$11:$AJ$178,MATCH('Weekly Chart'!AW$7+('Weekly Chart'!$A22*24-24),Calculations!$F$11:$F$178,0))","v":0},{"$f":"INDEX(Calculations!$AJ$11:$AJ$178,MATCH('Weekly Chart'!AX$7+('Weekly Chart'!$A22*24-24),Calculations!$F$11:$F$178,0))","v":0},{"$f":"INDEX(Calculations!$AJ$11:$AJ$178,MATCH('Weekly Chart'!AY$7+('Weekly Chart'!$A22*24-24),Calculations!$F$11:$F$178,0))","v":0},{"$f":"INDEX(Calculations!$AJ$11:$AJ$178,MATCH('Weekly Chart'!AZ$7+('Weekly Chart'!$A22*24-24),Calculations!$F$11:$F$178,0))","v":0},{"$f":"INDEX(Calculations!$AJ$11:$AJ$178,MATCH('Weekly Chart'!BA$7+('Weekly Chart'!$A22*24-24),Calculations!$F$11:$F$178,0))","v":0}]
[{"$f":"$A$10","v":4},"Wednesday",{"$f":"INDEX(Calculations!$T$11:$T$178,MATCH('Weekly Chart'!C$7+('Weekly Chart'!$A23*24-24),Calculations!$F$11:$F$178,0))","v":0},{"$f":"INDEX(Calculations!$T$11:$T$178,MATCH('Weekly Chart'!D$7+('Weekly Chart'!$A23*24-24),Calculations!$F$11:$F$178,0))","v":0},{"$f":"INDEX(Calculations!$T$11:$T$178,MATCH('Weekly Chart'!E$7+('Weekly Chart'!$A23*24-24),Calculations!$F$11:$F$178,0))","v":0},{"$f":"INDEX(Calculations!$T$11:$T$178,MATCH('Weekly Chart'!F$7+('Weekly Chart'!$A23*24-24),Calculations!$F$11:$F$178,0))","v":0},{"$f":"INDEX(Calculations!$T$11:$T$178,MATCH('Weekly Chart'!G$7+('Weekly Chart'!$A23*24-24),Calculations!$F$11:$F$178,0))","v":0},{"$f":"INDEX(Calculations!$T$11:$T$178,MATCH('Weekly Chart'!H$7+('Weekly Chart'!$A23*24-24),Calculations!$F$11:$F$178,0))","v":0},{"$f":"INDEX(Calculations!$T$11:$T$178,MATCH('Weekly Chart'!I$7+('Weekly Chart'!$A23*24-24),Calculations!$F$11:$F$178,0))","v":0},{"$f":"INDEX(Calculations!$T$11:$T$178,MATCH('Weekly Chart'!J$7+('Weekly Chart'!$A23*24-24),Calculations!$F$11:$F$178,0))","v":0},{"$f":"INDEX(Calculations!$T$11:$T$178,MATCH('Weekly Chart'!K$7+('Weekly Chart'!$A23*24-24),Calculations!$F$11:$F$178,0))","v":0},{"$f":"INDEX(Calculations!$T$11:$T$178,MATCH('Weekly Chart'!L$7+('Weekly Chart'!$A23*24-24),Calculations!$F$11:$F$178,0))","v":3.435163426618244},{"$f":"INDEX(Calculations!$T$11:$T$178,MATCH('Weekly Chart'!M$7+('Weekly Chart'!$A23*24-24),Calculations!$F$11:$F$178,0))","v":5.6013672292245245},{"$f":"INDEX(Calculations!$T$11:$T$178,MATCH('Weekly Chart'!N$7+('Weekly Chart'!$A23*24-24),Calculations!$F$11:$F$178,0))","v":4.7810296945097202},{"$f":"INDEX(Calculations!$T$11:$T$178,MATCH('Weekly Chart'!O$7+('Weekly Chart'!$A23*24-24),Calculations!$F$11:$F$178,0))","v":3.8837855159154029},{"$f":"INDEX(Calculations!$T$11:$T$178,MATCH('Weekly Chart'!P$7+('Weekly Chart'!$A23*24-24),Calculations!$F$11:$F$178,0))","v":1.4227729117709891},{"$f":"INDEX(Calculations!$T$11:$T$178,MATCH('Weekly Chart'!Q$7+('Weekly Chart'!$A23*24-24),Calculations!$F$11:$F$178,0))","v":0},{"$f":"INDEX(Calculations!$T$11:$T$178,MATCH('Weekly Chart'!R$7+('Weekly Chart'!$A23*24-24),Calculations!$F$11:$F$178,0))","v":0},{"$f":"INDEX(Calculations!$T$11:$T$178,MATCH('Weekly Chart'!S$7+('Weekly Chart'!$A23*24-24),Calculations!$F$11:$F$178,0))","v":0},{"$f":"INDEX(Calculations!$T$11:$T$178,MATCH('Weekly Chart'!T$7+('Weekly Chart'!$A23*24-24),Calculations!$F$11:$F$178,0))","v":0},{"$f":"INDEX(Calculations!$T$11:$T$178,MATCH('Weekly Chart'!U$7+('Weekly Chart'!$A23*24-24),Calculations!$F$11:$F$178,0))","v":0},{"$f":"INDEX(Calculations!$T$11:$T$178,MATCH('Weekly Chart'!V$7+('Weekly Chart'!$A23*24-24),Calculations!$F$11:$F$178,0))","v":0},{"$f":"INDEX(Calculations!$T$11:$T$178,MATCH('Weekly Chart'!W$7+('Weekly Chart'!$A23*24-24),Calculations!$F$11:$F$178,0))","v":0},{"$f":"INDEX(Calculations!$T$11:$T$178,MATCH('Weekly Chart'!X$7+('Weekly Chart'!$A23*24-24),Calculations!$F$11:$F$178,0))","v":0},{"$f":"INDEX(Calculations!$T$11:$T$178,MATCH('Weekly Chart'!Y$7+('Weekly Chart'!$A23*24-24),Calculations!$F$11:$F$178,0))","v":0},{"$f":"INDEX(Calculations!$T$11:$T$178,MATCH('Weekly Chart'!Z$7+('Weekly Chart'!$A23*24-24),Calculations!$F$11:$F$178,0))","v":0},null,null,"Wednesday",{"$f":"INDEX(Calculations!$AJ$11:$AJ$178,MATCH('Weekly Chart'!AD$7+('Weekly Chart'!$A23*24-24),Calculations!$F$11:$F$178,0))","v":0},{"$f":"INDEX(Calculations!$AJ$11:$AJ$178,MATCH('Weekly Chart'!AE$7+('Weekly Chart'!$A23*24-24),Calculations!$F$11:$F$178,0))","v":0},{"$f":"INDEX(Calculations!$AJ$11:$AJ$178,MATCH('Weekly Chart'!AF$7+('Weekly Chart'!$A23*24-24),Calculations!$F$11:$F$178,0))","v":0},{"$f":"INDEX(Calculations!$AJ$11:$AJ$178,MATCH('Weekly Chart'!AG$7+('Weekly Chart'!$A23*24-24),Calculations!$F$11:$F$178,0))","v":0},{"$f":"INDEX(Calculations!$AJ$11:$AJ$178,MATCH('Weekly Chart'!AH$7+('Weekly Chart'!$A23*24-24),Calculations!$F$11:$F$178,0))","v":0},{"$f":"INDEX(Calculations!$AJ$11:$AJ$178,MATCH('Weekly Chart'!AI$7+('Weekly Chart'!$A23*24-24),Calculations!$F$11:$F$178,0))","v":0},{"$f":"INDEX(Calculations!$AJ$11:$AJ$178,MATCH('Weekly Chart'!AJ$7+('Weekly Chart'!$A23*24-24),Calculations!$F$11:$F$178,0))","v":0},{"$f":"INDEX(Calculations!$AJ$11:$AJ$178,MATCH('Weekly Chart'!AK$7+('Weekly Chart'!$A23*24-24),Calculations!$F$11:$F$178,0))","v":0},{"$f":"INDEX(Calculations!$AJ$11:$AJ$178,MATCH('Weekly Chart'!AL$7+('Weekly Chart'!$A23*24-24),Calculations!$F$11:$F$178,0))","v":0},{"$f":"INDEX(Calculations!$AJ$11:$AJ$178,MATCH('Weekly Chart'!AM$7+('Weekly Chart'!$A23*24-24),Calculations!$F$11:$F$178,0))","v":0},{"$f":"INDEX(Calculations!$AJ$11:$AJ$178,MATCH('Weekly Chart'!AN$7+('Weekly Chart'!$A23*24-24),Calculations!$F$11:$F$178,0))","v":0},{"$f":"INDEX(Calculations!$AJ$11:$AJ$178,MATCH('Weekly Chart'!AO$7+('Weekly Chart'!$A23*24-24),Calculations!$F$11:$F$178,0))","v":0},{"$f":"INDEX(Calculations!$AJ$11:$AJ$178,MATCH('Weekly Chart'!AP$7+('Weekly Chart'!$A23*24-24),Calculations!$F$11:$F$178,0))","v":0},{"$f":"INDEX(Calculations!$AJ$11:$AJ$178,MATCH('Weekly Chart'!AQ$7+('Weekly Chart'!$A23*24-24),Calculations!$F$11:$F$178,0))","v":1.653492843409528},{"$f":"INDEX(Calculations!$AJ$11:$AJ$178,MATCH('Weekly Chart'!AR$7+('Weekly Chart'!$A23*24-24),Calculations!$F$11:$F$178,0))","v":0},{"$f":"INDEX(Calculations!$AJ$11:$AJ$178,MATCH('Weekly Chart'!AS$7+('Weekly Chart'!$A23*24-24),Calculations!$F$11:$F$178,0))","v":0},{"$f":"INDEX(Calculations!$AJ$11:$AJ$178,MATCH('Weekly Chart'!AT$7+('Weekly Chart'!$A23*24-24),Calculations!$F$11:$F$178,0))","v":0},{"$f":"INDEX(Calculations!$AJ$11:$AJ$178,MATCH('Weekly Chart'!AU$7+('Weekly Chart'!$A23*24-24),Calculations!$F$11:$F$178,0))","v":0},{"$f":"INDEX(Calculations!$AJ$11:$AJ$178,MATCH('Weekly Chart'!AV$7+('Weekly Chart'!$A23*24-24),Calculations!$F$11:$F$178,0))","v":0},{"$f":"INDEX(Calculations!$AJ$11:$AJ$178,MATCH('Weekly Chart'!AW$7+('Weekly Chart'!$A23*24-24),Calculations!$F$11:$F$178,0))","v":0},{"$f":"INDEX(Calculations!$AJ$11:$AJ$178,MATCH('Weekly Chart'!AX$7+('Weekly Chart'!$A23*24-24),Calculations!$F$11:$F$178,0))","v":0},{"$f":"INDEX(Calculations!$AJ$11:$AJ$178,MATCH('Weekly Chart'!AY$7+('Weekly Chart'!$A23*24-24),Calculations!$F$11:$F$178,0))","v":0},{"$f":"INDEX(Calculations!$AJ$11:$AJ$178,MATCH('Weekly Chart'!AZ$7+('Weekly Chart'!$A23*24-24),Calculations!$F$11:$F$178,0))","v":0},{"$f":"INDEX(Calculations!$AJ$11:$AJ$178,MATCH('Weekly Chart'!BA$7+('Weekly Chart'!$A23*24-24),Calculations!$F$11:$F$178,0))","v":0}]
[{"$f":"$A$11","v":5},"Thursday",{"$f":"INDEX(Calculations!$T$11:$T$178,MATCH('Weekly Chart'!C$7+('Weekly Chart'!$A24*24-24),Calculations!$F$11:$F$178,0))","v":0},{"$f":"INDEX(Calculations!$T$11:$T$178,MATCH('Weekly Chart'!D$7+('Weekly Chart'!$A24*24-24),Calculations!$F$11:$F$178,0))","v":0},{"$f":"INDEX(Calculations!$T$11:$T$178,MATCH('Weekly Chart'!E$7+('Weekly Chart'!$A24*24-24),Calculations!$F$11:$F$178,0))","v":0},{"$f":"INDEX(Calculations!$T$11:$T$178,MATCH('Weekly Chart'!F$7+('Weekly Chart'!$A24*24-24),Calculations!$F$11:$F$178,0))","v":0},{"$f":"INDEX(Calculations!$T$11:$T$178,MATCH('Weekly Chart'!G$7+('Weekly Chart'!$A24*24-24),Calculations!$F$11:$F$178,0))","v":0},{"$f":"INDEX(Calculations!$T$11:$T$178,MATCH('Weekly Chart'!H$7+('Weekly Chart'!$A24*24-24),Calculations!$F$11:$F$178,0))","v":0},{"$f":"INDEX(Calculations!$T$11:$T$178,MATCH('Weekly Chart'!I$7+('Weekly Chart'!$A24*24-24),Calculations!$F$11:$F$178,0))","v":0},{"$f":"INDEX(Calculations!$T$11:$T$178,MATCH('Weekly Chart'!J$7+('Weekly Chart'!$A24*24-24),Calculations!$F$11:$F$178,0))","v":0},{"$f":"INDEX(Calculations!$T$11:$T$178,MATCH('Weekly Chart'!K$7+('Weekly Chart'!$A24*24-24),Calculations!$F$11:$F$178,0))","v":0},{"$f":"INDEX(Calculations!$T$11:$T$178,MATCH('Weekly Chart'!L$7+('Weekly Chart'!$A24*24-24),Calculations!$F$11:$F$178,0))","v":4.588763084810938},{"$f":"INDEX(Calculations!$T$11:$T$178,MATCH('Weekly Chart'!M$7+('Weekly Chart'!$A24*24-24),Calculations!$F$11:$F$178,0))","v":8.6263618884853663},{"$f":"INDEX(Calculations!$T$11:$T$178,MATCH('Weekly Chart'!N$7+('Weekly Chart'!$A24*24-24),Calculations!$F$11:$F$178,0))","v":8.5110019226660967},{"$f":"INDEX(Calculations!$T$11:$T$178,MATCH('Weekly Chart'!O$7+('Weekly Chart'!$A24*24-24),Calculations!$F$11:$F$178,0))","v":9.7671437726981427},{"$f":"INDEX(Calculations!$T$11:$T$178,MATCH('Weekly Chart'!P$7+('Weekly Chart'!$A24*24-24),Calculations!$F$11:$F$178,0))","v":10.882290108951079},{"$f":"INDEX(Calculations!$T$11:$T$178,MATCH('Weekly Chart'!Q$7+('Weekly Chart'!$A24*24-24),Calculations!$F$11:$F$178,0))","v":0},{"$f":"INDEX(Calculations!$T$11:$T$178,MATCH('Weekly Chart'!R$7+('Weekly Chart'!$A24*24-24),Calculations!$F$11:$F$178,0))","v":0},{"$f":"INDEX(Calculations!$T$11:$T$178,MATCH('Weekly Chart'!S$7+('Weekly Chart'!$A24*24-24),Calculations!$F$11:$F$178,0))","v":0},{"$f":"INDEX(Calculations!$T$11:$T$178,MATCH('Weekly Chart'!T$7+('Weekly Chart'!$A24*24-24),Calculations!$F$11:$F$178,0))","v":0},{"$f":"INDEX(Calculations!$T$11:$T$178,MATCH('Weekly Chart'!U$7+('Weekly Chart'!$A24*24-24),Calculations!$F$11:$F$178,0))","v":0},{"$f":"INDEX(Calculations!$T$11:$T$178,MATCH('Weekly Chart'!V$7+('Weekly Chart'!$A24*24-24),Calculations!$F$11:$F$178,0))","v":0},{"$f":"INDEX(Calculations!$T$11:$T$178,MATCH('Weekly Chart'!W$7+('Weekly Chart'!$A24*24-24),Calculations!$F$11:$F$178,0))","v":0},{"$f":"INDEX(Calculations!$T$11:$T$178,MATCH('Weekly Chart'!X$7+('Weekly Chart'!$A24*24-24),Calculations!$F$11:$F$178,0))","v":0},{"$f":"INDEX(Calculations!$T$11:$T$178,MATCH('Weekly Chart'!Y$7+('Weekly Chart'!$A24*24-24),Calculations!$F$11:$F$178,0))","v":0},{"$f":"INDEX(Calculations!$T$11:$T$178,MATCH('Weekly Chart'!Z$7+('Weekly Chart'!$A24*24-24),Calculations!$F$11:$F$178,0))","v":0},null,null,"Thursday",{"$f":"INDEX(Calculations!$AJ$11:$AJ$178,MATCH('Weekly Chart'!AD$7+('Weekly Chart'!$A24*24-24),Calculations!$F$11:$F$178,0))","v":0},{"$f":"INDEX(Calculations!$AJ$11:$AJ$178,MATCH('Weekly Chart'!AE$7+('Weekly Chart'!$A24*24-24),Calculations!$F$11:$F$178,0))","v":0},{"$f":"INDEX(Calculations!$AJ$11:$AJ$178,MATCH('Weekly Chart'!AF$7+('Weekly Chart'!$A24*24-24),Calculations!$F$11:$F$178,0))","v":0},{"$f":"INDEX(Calculations!$AJ$11:$AJ$178,MATCH('Weekly Chart'!AG$7+('Weekly Chart'!$A24*24-24),Calculations!$F$11:$F$178,0))","v":0},{"$f":"INDEX(Calculations!$AJ$11:$AJ$178,MATCH('Weekly Chart'!AH$7+('Weekly Chart'!$A24*24-24),Calculations!$F$11:$F$178,0))","v":0},{"$f":"INDEX(Calculations!$AJ$11:$AJ$178,MATCH('Weekly Chart'!AI$7+('Weekly Chart'!$A24*24-24),Calculations!$F$11:$F$178,0))","v":0},{"$f":"INDEX(Calculations!$AJ$11:$AJ$178,MATCH('Weekly Chart'!AJ$7+('Weekly Chart'!$A24*24-24),Calculations!$F$11:$F$178,0))","v":0},{"$f":"INDEX(Calculations!$AJ$11:$AJ$178,MATCH('Weekly Chart'!AK$7+('Weekly Chart'!$A24*24-24),Calculations!$F$11:$F$178,0))","v":0},{"$f":"INDEX(Calculations!$AJ$11:$AJ$178,MATCH('Weekly Chart'!AL$7+('Weekly Chart'!$A24*24-24),Calculations!$F$11:$F$178,0))","v":0},{"$f":"INDEX(Calculations!$AJ$11:$AJ$178,MATCH('Weekly Chart'!AM$7+('Weekly Chart'!$A24*24-24),Calculations!$F$11:$F$178,0))","v":0},{"$f":"INDEX(Calculations!$AJ$11:$AJ$178,MATCH('Weekly Chart'!AN$7+('Weekly Chart'!$A24*24-24),Calculations!$F$11:$F$178,0))","v":0},{"$f":"INDEX(Calculations!$AJ$11:$AJ$178,MATCH('Weekly Chart'!AO$7+('Weekly Chart'!$A24*24-24),Calculations!$F$11:$F$178,0))","v":0},{"$f":"INDEX(Calculations!$AJ$11:$AJ$178,MATCH('Weekly Chart'!AP$7+('Weekly Chart'!$A24*24-24),Calculations!$F$11:$F$178,0))","v":0},{"$f":"INDEX(Calculations!$AJ$11:$AJ$178,MATCH('Weekly Chart'!AQ$7+('Weekly Chart'!$A24*24-24),Calculations!$F$11:$F$178,0))","v":0},{"$f":"INDEX(Calculations!$AJ$11:$AJ$178,MATCH('Weekly Chart'!AR$7+('Weekly Chart'!$A24*24-24),Calculations!$F$11:$F$178,0))","v":0},{"$f":"INDEX(Calculations!$AJ$11:$AJ$178,MATCH('Weekly Chart'!AS$7+('Weekly Chart'!$A24*24-24),Calculations!$F$11:$F$178,0))","v":0},{"$f":"INDEX(Calculations!$AJ$11:$AJ$178,MATCH('Weekly Chart'!AT$7+('Weekly Chart'!$A24*24-24),Calculations!$F$11:$F$178,0))","v":0},{"$f":"INDEX(Calculations!$AJ$11:$AJ$178,MATCH('Weekly Chart'!AU$7+('Weekly Chart'!$A24*24-24),Calculations!$F$11:$F$178,0))","v":0},{"$f":"INDEX(Calculations!$AJ$11:$AJ$178,MATCH('Weekly Chart'!AV$7+('Weekly Chart'!$A24*24-24),Calculations!$F$11:$F$178,0))","v":0},{"$f":"INDEX(Calculations!$AJ$11:$AJ$178,MATCH('Weekly Chart'!AW$7+('Weekly Chart'!$A24*24-24),Calculations!$F$11:$F$178,0))","v":0},{"$f":"INDEX(Calculations!$AJ$11:$AJ$178,MATCH('Weekly Chart'!AX$7+('Weekly Chart'!$A24*24-24),Calculations!$F$11:$F$178,0))","v":0},{"$f":"INDEX(Calculations!$AJ$11:$AJ$178,MATCH('Weekly Chart'!AY$7+('Weekly Chart'!$A24*24-24),Calculations!$F$11:$F$178,0))","v":0},{"$f":"INDEX(Calculations!$AJ$11:$AJ$178,MATCH('Weekly Chart'!AZ$7+('Weekly Chart'!$A24*24-24),Calculations!$F$11:$F$178,0))","v":0},{"$f":"INDEX(Calculations!$AJ$11:$AJ$178,MATCH('Weekly Chart'!BA$7+('Weekly Chart'!$A24*24-24),Calculations!$F$11:$F$178,0))","v":0}]
[{"$f":"$A$12","v":6},"Friday",{"$f":"INDEX(Calculations!$T$11:$T$178,MATCH('Weekly Chart'!C$7+('Weekly Chart'!$A25*24-24),Calculations!$F$11:$F$178,0))","v":0},{"$f":"INDEX(Calculations!$T$11:$T$178,MATCH('Weekly Chart'!D$7+('Weekly Chart'!$A25*24-24),Calculations!$F$11:$F$178,0))","v":0},{"$f":"INDEX(Calculations!$T$11:$T$178,MATCH('Weekly Chart'!E$7+('Weekly Chart'!$A25*24-24),Calculations!$F$11:$F$178,0))","v":0},{"$f":"INDEX(Calculations!$T$11:$T$178,MATCH('Weekly Chart'!F$7+('Weekly Chart'!$A25*24-24),Calculations!$F$11:$F$178,0))","v":0},{"$f":"INDEX(Calculations!$T$11:$T$178,MATCH('Weekly Chart'!G$7+('Weekly Chart'!$A25*24-24),Calculations!$F$11:$F$178,0))","v":0},{"$f":"INDEX(Calculations!$T$11:$T$178,MATCH('Weekly Chart'!H$7+('Weekly Chart'!$A25*24-24),Calculations!$F$11:$F$178,0))","v":0},{"$f":"INDEX(Calculations!$T$11:$T$178,MATCH('Weekly Chart'!I$7+('Weekly Chart'!$A25*24-24),Calculations!$F$11:$F$178,0))","v":0},{"$f":"INDEX(Calculations!$T$11:$T$178,MATCH('Weekly Chart'!J$7+('Weekly Chart'!$A25*24-24),Calculations!$F$11:$F$178,0))","v":0},{"$f":"INDEX(Calculations!$T$11:$T$178,MATCH('Weekly Chart'!K$7+('Weekly Chart'!$A25*24-24),Calculations!$F$11:$F$178,0))","v":0},{"$f":"INDEX(Calculations!$T$11:$T$178,MATCH('Weekly Chart'!L$7+('Weekly Chart'!$A25*24-24),Calculations!$F$11:$F$178,0))","v":5.8449049348429831},{"$f":"INDEX(Calculations!$T$11:$T$178,MATCH('Weekly Chart'!M$7+('Weekly Chart'!$A25*24-24),Calculations!$F$11:$F$178,0))","v":12.522965178380689},{"$f":"INDEX(Calculations!$T$11:$T$178,MATCH('Weekly Chart'!N$7+('Weekly Chart'!$A25*24-24),Calculations!$F$11:$F$178,0))","v":19.393292031617175},{"$f":"INDEX(Calculations!$T$11:$T$178,MATCH('Weekly Chart'!O$7+('Weekly Chart'!$A25*24-24),Calculations!$F$11:$F$178,0))","v":26.725058748130742},{"$f":"INDEX(Calculations!$T$11:$T$178,MATCH('Weekly Chart'!P$7+('Weekly Chart'!$A25*24-24),Calculations!$F$11:$F$178,0))","v":35.735953856013666},{"$f":"INDEX(Calculations!$T$11:$T$178,MATCH('Weekly Chart'!Q$7+('Weekly Chart'!$A25*24-24),Calculations!$F$11:$F$178,0))","v":0},{"$f":"INDEX(Calculations!$T$11:$T$178,MATCH('Weekly Chart'!R$7+('Weekly Chart'!$A25*24-24),Calculations!$F$11:$F$178,0))","v":0},{"$f":"INDEX(Calculations!$T$11:$T$178,MATCH('Weekly Chart'!S$7+('Weekly Chart'!$A25*24-24),Calculations!$F$11:$F$178,0))","v":0},{"$f":"INDEX(Calculations!$T$11:$T$178,MATCH('Weekly Chart'!T$7+('Weekly Chart'!$A25*24-24),Calculations!$F$11:$F$178,0))","v":0},{"$f":"INDEX(Calculations!$T$11:$T$178,MATCH('Weekly Chart'!U$7+('Weekly Chart'!$A25*24-24),Calculations!$F$11:$F$178,0))","v":0},{"$f":"INDEX(Calculations!$T$11:$T$178,MATCH('Weekly Chart'!V$7+('Weekly Chart'!$A25*24-24),Calculations!$F$11:$F$178,0))","v":0},{"$f":"INDEX(Calculations!$T$11:$T$178,MATCH('Weekly Chart'!W$7+('Weekly Chart'!$A25*24-24),Calculations!$F$11:$F$178,0))","v":0},{"$f":"INDEX(Calculations!$T$11:$T$178,MATCH('Weekly Chart'!X$7+('Weekly Chart'!$A25*24-24),Calculations!$F$11:$F$178,0))","v":0},{"$f":"INDEX(Calculations!$T$11:$T$178,MATCH('Weekly Chart'!Y$7+('Weekly Chart'!$A25*24-24),Calculations!$F$11:$F$178,0))","v":0},{"$f":"INDEX(Calculations!$T$11:$T$178,MATCH('Weekly Chart'!Z$7+('Weekly Chart'!$A25*24-24),Calculations!$F$11:$F$178,0))","v":0},null,null,"Friday",{"$f":"INDEX(Calculations!$AJ$11:$AJ$178,MATCH('Weekly Chart'!AD$7+('Weekly Chart'!$A25*24-24),Calculations!$F$11:$F$178,0))","v":0},{"$f":"INDEX(Calculations!$AJ$11:$AJ$178,MATCH('Weekly Chart'!AE$7+('Weekly Chart'!$A25*24-24),Calculations!$F$11:$F$178,0))","v":0},{"$f":"INDEX(Calculations!$AJ$11:$AJ$178,MATCH('Weekly Chart'!AF$7+('Weekly Chart'!$A25*24-24),Calculations!$F$11:$F$178,0))","v":0},{"$f":"INDEX(Calculations!$AJ$11:$AJ$178,MATCH('Weekly Chart'!AG$7+('Weekly Chart'!$A25*24-24),Calculations!$F$11:$F$178,0))","v":0},{"$f":"INDEX(Calculations!$AJ$11:$AJ$178,MATCH('Weekly Chart'!AH$7+('Weekly Chart'!$A25*24-24),Calculations!$F$11:$F$178,0))","v":0},{"$f":"INDEX(Calculations!$AJ$11:$AJ$178,MATCH('Weekly Chart'!AI$7+('Weekly Chart'!$A25*24-24),Calculations!$F$11:$F$178,0))","v":0},{"$f":"INDEX(Calculations!$AJ$11:$AJ$178,MATCH('Weekly Chart'!AJ$7+('Weekly Chart'!$A25*24-24),Calculations!$F$11:$F$178,0))","v":0},{"$f":"INDEX(Calculations!$AJ$11:$AJ$178,MATCH('Weekly Chart'!AK$7+('Weekly Chart'!$A25*24-24),Calculations!$F$11:$F$178,0))","v":0},{"$f":"INDEX(Calculations!$AJ$11:$AJ$178,MATCH('Weekly Chart'!AL$7+('Weekly Chart'!$A25*24-24),Calculations!$F$11:$F$178,0))","v":0},{"$f":"INDEX(Calculations!$AJ$11:$AJ$178,MATCH('Weekly Chart'!AM$7+('Weekly Chart'!$A25*24-24),Calculations!$F$11:$F$178,0))","v":0},{"$f":"INDEX(Calculations!$AJ$11:$AJ$178,MATCH('Weekly Chart'!AN$7+('Weekly Chart'!$A25*24-24),Calculations!$F$11:$F$178,0))","v":0},{"$f":"INDEX(Calculations!$AJ$11:$AJ$178,MATCH('Weekly Chart'!AO$7+('Weekly Chart'!$A25*24-24),Calculations!$F$11:$F$178,0))","v":0},{"$f":"INDEX(Calculations!$AJ$11:$AJ$178,MATCH('Weekly Chart'!AP$7+('Weekly Chart'!$A25*24-24),Calculations!$F$11:$F$178,0))","v":4.1657765434736165},{"$f":"INDEX(Calculations!$AJ$11:$AJ$178,MATCH('Weekly Chart'!AQ$7+('Weekly Chart'!$A25*24-24),Calculations!$F$11:$F$178,0))","v":11.958983123264259},{"$f":"INDEX(Calculations!$AJ$11:$AJ$178,MATCH('Weekly Chart'!AR$7+('Weekly Chart'!$A25*24-24),Calculations!$F$11:$F$178,0))","v":0},{"$f":"INDEX(Calculations!$AJ$11:$AJ$178,MATCH('Weekly Chart'!AS$7+('Weekly Chart'!$A25*24-24),Calculations!$F$11:$F$178,0))","v":0},{"$f":"INDEX(Calculations!$AJ$11:$AJ$178,MATCH('Weekly Chart'!AT$7+('Weekly Chart'!$A25*24-24),Calculations!$F$11:$F$178,0))","v":0},{"$f":"INDEX(Calculations!$AJ$11:$AJ$178,MATCH('Weekly Chart'!AU$7+('Weekly Chart'!$A25*24-24),Calculations!$F$11:$F$178,0))","v":0},{"$f":"INDEX(Calculations!$AJ$11:$AJ$178,MATCH('Weekly Chart'!AV$7+('Weekly Chart'!$A25*24-24),Calculations!$F$11:$F$178,0))","v":0},{"$f":"INDEX(Calculations!$AJ$11:$AJ$178,MATCH('Weekly Chart'!AW$7+('Weekly Chart'!$A25*24-24),Calculations!$F$11:$F$178,0))","v":0},{"$f":"INDEX(Calculations!$AJ$11:$AJ$178,MATCH('Weekly Chart'!AX$7+('Weekly Chart'!$A25*24-24),Calculations!$F$11:$F$178,0))","v":0},{"$f":"INDEX(Calculations!$AJ$11:$AJ$178,MATCH('Weekly Chart'!AY$7+('Weekly Chart'!$A25*24-24),Calculations!$F$11:$F$178,0))","v":0},{"$f":"INDEX(Calculations!$AJ$11:$AJ$178,MATCH('Weekly Chart'!AZ$7+('Weekly Chart'!$A25*24-24),Calculations!$F$11:$F$178,0))","v":0},{"$f":"INDEX(Calculations!$AJ$11:$AJ$178,MATCH('Weekly Chart'!BA$7+('Weekly Chart'!$A25*24-24),Calculations!$F$11:$F$178,0))","v":0}]
[{"$f":"$A$13","v":7},"Saturday",{"$f":"INDEX(Calculations!$T$11:$T$178,MATCH('Weekly Chart'!C$7+('Weekly Chart'!$A26*24-24),Calculations!$F$11:$F$178,0))","v":0},{"$f":"INDEX(Calculations!$T$11:$T$178,MATCH('Weekly Chart'!D$7+('Weekly Chart'!$A26*24-24),Calculations!$F$11:$F$178,0))","v":0},{"$f":"INDEX(Calculations!$T$11:$T$178,MATCH('Weekly Chart'!E$7+('Weekly Chart'!$A26*24-24),Calculations!$F$11:$F$178,0))","v":0},{"$f":"INDEX(Calculations!$T$11:$T$178,MATCH('Weekly Chart'!F$7+('Weekly Chart'!$A26*24-24),Calculations!$F$11:$F$178,0))","v":0},{"$f":"INDEX(Calculations!$T$11:$T$178,MATCH('Weekly Chart'!G$7+('Weekly Chart'!$A26*24-24),Calculations!$F$11:$F$178,0))","v":0},{"$f":"INDEX(Calculations!$T$11:$T$178,MATCH('Weekly Chart'!H$7+('Weekly Chart'!$A26*24-24),Calculations!$F$11:$F$178,0))","v":0},{"$f":"INDEX(Calculations!$T$11:$T$178,MATCH('Weekly Chart'!I$7+('Weekly Chart'!$A26*24-24),Calculations!$F$11:$F$178,0))","v":0},{"$f":"INDEX(Calculations!$T$11:$T$178,MATCH('Weekly Chart'!J$7+('Weekly Chart'!$A26*24-24),Calculations!$F$11:$F$178,0))","v":0},{"$f":"INDEX(Calculations!$T$11:$T$178,MATCH('Weekly Chart'!K$7+('Weekly Chart'!$A26*24-24),Calculations!$F$11:$F$178,0))","v":0},{"$f":"INDEX(Calculations!$T$11:$T$178,MATCH('Weekly Chart'!L$7+('Weekly Chart'!$A26*24-24),Calculations!$F$11:$F$178,0))","v":0},{"$f":"INDEX(Calculations!$T$11:$T$178,MATCH('Weekly Chart'!M$7+('Weekly Chart'!$A26*24-24),Calculations!$F$11:$F$178,0))","v":0},{"$f":"INDEX(Calculations!$T$11:$T$178,MATCH('Weekly Chart'!N$7+('Weekly Chart'!$A26*24-24),Calculations!$F$11:$F$178,0))","v":0},{"$f":"INDEX(Calculations!$T$11:$T$178,MATCH('Weekly Chart'!O$7+('Weekly Chart'!$A26*24-24),Calculations!$F$11:$F$178,0))","v":0},{"$f":"INDEX(Calculations!$T$11:$T$178,MATCH('Weekly Chart'!P$7+('Weekly Chart'!$A26*24-24),Calculations!$F$11:$F$178,0))","v":0},{"$f":"INDEX(Calculations!$T$11:$T$178,MATCH('Weekly Chart'!Q$7+('Weekly Chart'!$A26*24-24),Calculations!$F$11:$F$178,0))","v":0},{"$f":"INDEX(Calculations!$T$11:$T$178,MATCH('Weekly Chart'!R$7+('Weekly Chart'!$A26*24-24),Calculations!$F$11:$F$178,0))","v":0},{"$f":"INDEX(Calculations!$T$11:$T$178,MATCH('Weekly Chart'!S$7+('Weekly Chart'!$A26*24-24),Calculations!$F$11:$F$178,0))","v":0},{"$f":"INDEX(Calculations!$T$11:$T$178,MATCH('Weekly Chart'!T$7+('Weekly Chart'!$A26*24-24),Calculations!$F$11:$F$178,0))","v":0},{"$f":"INDEX(Calculations!$T$11:$T$178,MATCH('Weekly Chart'!U$7+('Weekly Chart'!$A26*24-24),Calculations!$F$11:$F$178,0))","v":0},{"$f":"INDEX(Calculations!$T$11:$T$178,MATCH('Weekly Chart'!V$7+('Weekly Chart'!$A26*24-24),Calculations!$F$11:$F$178,0))","v":0},{"$f":"INDEX(Calculations!$T$11:$T$178,MATCH('Weekly Chart'!W$7+('Weekly Chart'!$A26*24-24),Calculations!$F$11:$F$178,0))","v":0},{"$f":"INDEX(Calculations!$T$11:$T$178,MATCH('Weekly Chart'!X$7+('Weekly Chart'!$A26*24-24),Calculations!$F$11:$F$178,0))","v":0},{"$f":"INDEX(Calculations!$T$11:$T$178,MATCH('Weekly Chart'!Y$7+('Weekly Chart'!$A26*24-24),Calculations!$F$11:$F$178,0))","v":0},{"$f":"INDEX(Calculations!$T$11:$T$178,MATCH('Weekly Chart'!Z$7+('Weekly Chart'!$A26*24-24),Calculations!$F$11:$F$178,0))","v":0},null,null,"Saturday",{"$f":"INDEX(Calculations!$AJ$11:$AJ$178,MATCH('Weekly Chart'!AD$7+('Weekly Chart'!$A26*24-24),Calculations!$F$11:$F$178,0))","v":0},{"$f":"INDEX(Calculations!$AJ$11:$AJ$178,MATCH('Weekly Chart'!AE$7+('Weekly Chart'!$A26*24-24),Calculations!$F$11:$F$178,0))","v":0},{"$f":"INDEX(Calculations!$AJ$11:$AJ$178,MATCH('Weekly Chart'!AF$7+('Weekly Chart'!$A26*24-24),Calculations!$F$11:$F$178,0))","v":0},{"$f":"INDEX(Calculations!$AJ$11:$AJ$178,MATCH('Weekly Chart'!AG$7+('Weekly Chart'!$A26*24-24),Calculations!$F$11:$F$178,0))","v":0},{"$f":"INDEX(Calculations!$AJ$11:$AJ$178,MATCH('Weekly Chart'!AH$7+('Weekly Chart'!$A26*24-24),Calculations!$F$11:$F$178,0))","v":0},{"$f":"INDEX(Calculations!$AJ$11:$AJ$178,MATCH('Weekly Chart'!AI$7+('Weekly Chart'!$A26*24-24),Calculations!$F$11:$F$178,0))","v":0},{"$f":"INDEX(Calculations!$AJ$11:$AJ$178,MATCH('Weekly Chart'!AJ$7+('Weekly Chart'!$A26*24-24),Calculations!$F$11:$F$178,0))","v":0},{"$f":"INDEX(Calculations!$AJ$11:$AJ$178,MATCH('Weekly Chart'!AK$7+('Weekly Chart'!$A26*24-24),Calculations!$F$11:$F$178,0))","v":0},{"$f":"INDEX(Calculations!$AJ$11:$AJ$178,MATCH('Weekly Chart'!AL$7+('Weekly Chart'!$A26*24-24),Calculations!$F$11:$F$178,0))","v":0},{"$f":"INDEX(Calculations!$AJ$11:$AJ$178,MATCH('Weekly Chart'!AM$7+('Weekly Chart'!$A26*24-24),Calculations!$F$11:$F$178,0))","v":0},{"$f":"INDEX(Calculations!$AJ$11:$AJ$178,MATCH('Weekly Chart'!AN$7+('Weekly Chart'!$A26*24-24),Calculations!$F$11:$F$178,0))","v":0},{"$f":"INDEX(Calculations!$AJ$11:$AJ$178,MATCH('Weekly Chart'!AO$7+('Weekly Chart'!$A26*24-24),Calculations!$F$11:$F$178,0))","v":0},{"$f":"INDEX(Calculations!$AJ$11:$AJ$178,MATCH('Weekly Chart'!AP$7+('Weekly Chart'!$A26*24-24),Calculations!$F$11:$F$178,0))","v":0},{"$f":"INDEX(Calculations!$AJ$11:$AJ$178,MATCH('Weekly Chart'!AQ$7+('Weekly Chart'!$A26*24-24),Calculations!$F$11:$F$178,0))","v":0},{"$f":"INDEX(Calculations!$AJ$11:$AJ$178,MATCH('Weekly Chart'!AR$7+('Weekly Chart'!$A26*24-24),Calculations!$F$11:$F$178,0))","v":0},{"$f":"INDEX(Calculations!$AJ$11:$AJ$178,MATCH('Weekly Chart'!AS$7+('Weekly Chart'!$A26*24-24),Calculations!$F$11:$F$178,0))","v":0},{"$f":"INDEX(Calculations!$AJ$11:$AJ$178,MATCH('Weekly Chart'!AT$7+('Weekly Chart'!$A26*24-24),Calculations!$F$11:$F$178,0))","v":0},{"$f":"INDEX(Calculations!$AJ$11:$AJ$178,MATCH('Weekly Chart'!AU$7+('Weekly Chart'!$A26*24-24),Calculations!$F$11:$F$178,0))","v":0},{"$f":"INDEX(Calculations!$AJ$11:$AJ$178,MATCH('Weekly Chart'!AV$7+('Weekly Chart'!$A26*24-24),Calculations!$F$11:$F$178,0))","v":0},{"$f":"INDEX(Calculations!$AJ$11:$AJ$178,MATCH('Weekly Chart'!AW$7+('Weekly Chart'!$A26*24-24),Calculations!$F$11:$F$178,0))","v":0},{"$f":"INDEX(Calculations!$AJ$11:$AJ$178,MATCH('Weekly Chart'!AX$7+('Weekly Chart'!$A26*24-24),Calculations!$F$11:$F$178,0))","v":0},{"$f":"INDEX(Calculations!$AJ$11:$AJ$178,MATCH('Weekly Chart'!AY$7+('Weekly Chart'!$A26*24-24),Calculations!$F$11:$F$178,0))","v":0},{"$f":"INDEX(Calculations!$AJ$11:$AJ$178,MATCH('Weekly Chart'!AZ$7+('Weekly Chart'!$A26*24-24),Calculations!$F$11:$F$178,0))","v":0},{"$f":"INDEX(Calculations!$AJ$11:$AJ$178,MATCH('Weekly Chart'!BA$7+('Weekly Chart'!$A26*24-24),Calculations!$F$11:$F$178,0))","v":0}]
[{"$f":"$A$14","v":1},"Sunday",{"$f":"INDEX(Calculations!$T$11:$T$178,MATCH('Weekly Chart'!C$7+('Weekly Chart'!$A27*24-24),Calculations!$F$11:$F$178,0))","v":0},{"$f":"INDEX(Calculations!$T$11:$T$178,MATCH('Weekly Chart'!D$7+('Weekly Chart'!$A27*24-24),Calculations!$F$11:$F$178,0))","v":0},{"$f":"INDEX(Calculations!$T$11:$T$178,MATCH('Weekly Chart'!E$7+('Weekly Chart'!$A27*24-24),Calculations!$F$11:$F$178,0))","v":0},{"$f":"INDEX(Calculations!$T$11:$T$178,MATCH('Weekly Chart'!F$7+('Weekly Chart'!$A27*24-24),Calculations!$F$11:$F$178,0))","v":0},{"$f":"INDEX(Calculations!$T$11:$T$178,MATCH('Weekly Chart'!G$7+('Weekly Chart'!$A27*24-24),Calculations!$F$11:$F$178,0))","v":0},{"$f":"INDEX(Calculations!$T$11:$T$178,MATCH('Weekly Chart'!H$7+('Weekly Chart'!$A27*24-24),Calculations!$F$11:$F$178,0))","v":0},{"$f":"INDEX(Calculations!$T$11:$T$178,MATCH('Weekly Chart'!I$7+('Weekly Chart'!$A27*24-24),Calculations!$F$11:$F$178,0))","v":0},{"$f":"INDEX(Calculations!$T$11:$T$178,MATCH('Weekly Chart'!J$7+('Weekly Chart'!$A27*24-24),Calculations!$F$11:$F$178,0))","v":0},{"$f":"INDEX(Calculations!$T$11:$T$178,MATCH('Weekly Chart'!K$7+('Weekly Chart'!$A27*24-24),Calculations!$F$11:$F$178,0))","v":0},{"$f":"INDEX(Calculations!$T$11:$T$178,MATCH('Weekly Chart'!L$7+('Weekly Chart'!$A27*24-24),Calculations!$F$11:$F$178,0))","v":0},{"$f":"INDEX(Calculations!$T$11:$T$178,MATCH('Weekly Chart'!M$7+('Weekly Chart'!$A27*24-24),Calculations!$F$11:$F$178,0))","v":0},{"$f":"INDEX(Calculations!$T$11:$T$178,MATCH('Weekly Chart'!N$7+('Weekly Chart'!$A27*24-24),Calculations!$F$11:$F$178,0))","v":0},{"$f":"INDEX(Calculations!$T$11:$T$178,MATCH('Weekly Chart'!O$7+('Weekly Chart'!$A27*24-24),Calculations!$F$11:$F$178,0))","v":0},{"$f":"INDEX(Calculations!$T$11:$T$178,MATCH('Weekly Chart'!P$7+('Weekly Chart'!$A27*24-24),Calculations!$F$11:$F$178,0))","v":0},{"$f":"INDEX(Calculations!$T$11:$T$178,MATCH('Weekly Chart'!Q$7+('Weekly Chart'!$A27*24-24),Calculations!$F$11:$F$178,0))","v":0},{"$f":"INDEX(Calculations!$T$11:$T$178,MATCH('Weekly Chart'!R$7+('Weekly Chart'!$A27*24-24),Calculations!$F$11:$F$178,0))","v":0},{"$f":"INDEX(Calculations!$T$11:$T$178,MATCH('Weekly Chart'!S$7+('Weekly Chart'!$A27*24-24),Calculations!$F$11:$F$178,0))","v":0},{"$f":"INDEX(Calculations!$T$11:$T$178,MATCH('Weekly Chart'!T$7+('Weekly Chart'!$A27*24-24),Calculations!$F$11:$F$178,0))","v":0},{"$f":"INDEX(Calculations!$T$11:$T$178,MATCH('Weekly Chart'!U$7+('Weekly Chart'!$A27*24-24),Calculations!$F$11:$F$178,0))","v":0},{"$f":"INDEX(Calculations!$T$11:$T$178,MATCH('Weekly Chart'!V$7+('Weekly Chart'!$A27*24-24),Calculations!$F$11:$F$178,0))","v":0},{"$f":"INDEX(Calculations!$T$11:$T$178,MATCH('Weekly Chart'!W$7+('Weekly Chart'!$A27*24-24),Calculations!$F$11:$F$178,0))","v":0},{"$f":"INDEX(Calculations!$T$11:$T$178,MATCH('Weekly Chart'!X$7+('Weekly Chart'!$A27*24-24),Calculations!$F$11:$F$178,0))","v":0},{"$f":"INDEX(Calculations!$T$11:$T$178,MATCH('Weekly Chart'!Y$7+('Weekly Chart'!$A27*24-24),Calculations!$F$11:$F$178,0))","v":0},{"$f":"INDEX(Calculations!$T$11:$T$178,MATCH('Weekly Chart'!Z$7+('Weekly Chart'!$A27*24-24),Calculations!$F$11:$F$178,0))","v":0},null,null,"Sunday",{"$f":"INDEX(Calculations!$AJ$11:$AJ$178,MATCH('Weekly Chart'!AD$7+('Weekly Chart'!$A27*24-24),Calculations!$F$11:$F$178,0))","v":0},{"$f":"INDEX(Calculations!$AJ$11:$AJ$178,MATCH('Weekly Chart'!AE$7+('Weekly Chart'!$A27*24-24),Calculations!$F$11:$F$178,0))","v":0},{"$f":"INDEX(Calculations!$AJ$11:$AJ$178,MATCH('Weekly Chart'!AF$7+('Weekly Chart'!$A27*24-24),Calculations!$F$11:$F$178,0))","v":0},{"$f":"INDEX(Calculations!$AJ$11:$AJ$178,MATCH('Weekly Chart'!AG$7+('Weekly Chart'!$A27*24-24),Calculations!$F$11:$F$178,0))","v":0},{"$f":"INDEX(Calculations!$AJ$11:$AJ$178,MATCH('Weekly Chart'!AH$7+('Weekly Chart'!$A27*24-24),Calculations!$F$11:$F$178,0))","v":0},{"$f":"INDEX(Calculations!$AJ$11:$AJ$178,MATCH('Weekly Chart'!AI$7+('Weekly Chart'!$A27*24-24),Calculations!$F$11:$F$178,0))","v":0},{"$f":"INDEX(Calculations!$AJ$11:$AJ$178,MATCH('Weekly Chart'!AJ$7+('Weekly Chart'!$A27*24-24),Calculations!$F$11:$F$178,0))","v":0},{"$f":"INDEX(Calculations!$AJ$11:$AJ$178,MATCH('Weekly Chart'!AK$7+('Weekly Chart'!$A27*24-24),Calculations!$F$11:$F$178,0))","v":0},{"$f":"INDEX(Calculations!$AJ$11:$AJ$178,MATCH('Weekly Chart'!AL$7+('Weekly Chart'!$A27*24-24),Calculations!$F$11:$F$178,0))","v":0},{"$f":"INDEX(Calculations!$AJ$11:$AJ$178,MATCH('Weekly Chart'!AM$7+('Weekly Chart'!$A27*24-24),Calculations!$F$11:$F$178,0))","v":0},{"$f":"INDEX(Calculations!$AJ$11:$AJ$178,MATCH('Weekly Chart'!AN$7+('Weekly Chart'!$A27*24-24),Calculations!$F$11:$F$178,0))","v":0},{"$f":"INDEX(Calculations!$AJ$11:$AJ$178,MATCH('Weekly Chart'!AO$7+('Weekly Chart'!$A27*24-24),Calculations!$F$11:$F$178,0))","v":0},{"$f":"INDEX(Calculations!$AJ$11:$AJ$178,MATCH('Weekly Chart'!AP$7+('Weekly Chart'!$A27*24-24),Calculations!$F$11:$F$178,0))","v":0},{"$f":"INDEX(Calculations!$AJ$11:$AJ$178,MATCH('Weekly Chart'!AQ$7+('Weekly Chart'!$A27*24-24),Calculations!$F$11:$F$178,0))","v":0},{"$f":"INDEX(Calculations!$AJ$11:$AJ$178,MATCH('Weekly Chart'!AR$7+('Weekly Chart'!$A27*24-24),Calculations!$F$11:$F$178,0))","v":0},{"$f":"INDEX(Calculations!$AJ$11:$AJ$178,MATCH('Weekly Chart'!AS$7+('Weekly Chart'!$A27*24-24),Calculations!$F$11:$F$178,0))","v":0},{"$f":"INDEX(Calculations!$AJ$11:$AJ$178,MATCH('Weekly Chart'!AT$7+('Weekly Chart'!$A27*24-24),Calculations!$F$11:$F$178,0))","v":0},{"$f":"INDEX(Calculations!$AJ$11:$AJ$178,MATCH('Weekly Chart'!AU$7+('Weekly Chart'!$A27*24-24),Calculations!$F$11:$F$178,0))","v":0},{"$f":"INDEX(Calculations!$AJ$11:$AJ$178,MATCH('Weekly Chart'!AV$7+('Weekly Chart'!$A27*24-24),Calculations!$F$11:$F$178,0))","v":0},{"$f":"INDEX(Calculations!$AJ$11:$AJ$178,MATCH('Weekly Chart'!AW$7+('Weekly Chart'!$A27*24-24),Calculations!$F$11:$F$178,0))","v":0},{"$f":"INDEX(Calculations!$AJ$11:$AJ$178,MATCH('Weekly Chart'!AX$7+('Weekly Chart'!$A27*24-24),Calculations!$F$11:$F$178,0))","v":0},{"$f":"INDEX(Calculations!$AJ$11:$AJ$178,MATCH('Weekly Chart'!AY$7+('Weekly Chart'!$A27*24-24),Calculations!$F$11:$F$178,0))","v":0},{"$f":"INDEX(Calculations!$AJ$11:$AJ$178,MATCH('Weekly Chart'!AZ$7+('Weekly Chart'!$A27*24-24),Calculations!$F$11:$F$178,0))","v":0},{"$f":"INDEX(Calculations!$AJ$11:$AJ$178,MATCH('Weekly Chart'!BA$7+('Weekly Chart'!$A27*24-24),Calculations!$F$11:$F$178,0))","v":0}]
[null,null,"00:00:00","01:00:00","02:00:00","03:00:00","04:00:00","05:00:00","06:00:00","07:00:00","08:00:00","09:00:00","10:00:00","11:00:00","12:00:00","13:00:00","14:00:00","15:00:00","16:00:00","17:00:00","18:00:00","19:00:00","20:00:00","21:00:00","22:00:00","23:00:00",null,null,null,"00:00:00","01:00:00","02:00:00","03:00:00","04:00:00","05:00:00","06:00:00","07:00:00","08:00:00","09:00:00","10:00:00","11:00:00","12:00:00","13:00:00","14:00:00","15:00:00","16:00:00","17:00:00","18:00:00","19:00:00","20:00:00","21:00:00","22:00:00","23:00:00"]
[]
[null,{"$f":"Calculations!I8&\" Total Costs       (Queue + Diversion)\"","v":"NB Total Costs       (Queue + Diversion)"},null,null,9.9999999999999995E-7,10,25,50,100,null,null,null,null,null,null,null,null,null,null,null,null,null,null,null,null,null,null,null,{"$f":"Calculations!L8&\" Total Costs       (Queue + Diversion)\"","v":"SB Total Costs       (Queue + Diversion)"},null,null,{"$f":"E30","v":9.9999999999999995E-7},{"$f":"F30","v":10},{"$f":"G30","v":25},{"$f":"H30","v":50},{"$f":"I30","v":100}]
[null,null,null,null,"<10k","10-25k","25-50k","50-100k",">100k",null,null,null,null,null,null,null,null,null,null,null,null,null,null,null,null,null,null,null,null,null,null,"<10k","10-25k","25-50k","50-100k",">100k"]
[]
[null,"Day          Hr",0,1,2,3,4,5,6,7,8,9,10,11,12,13,14,15,16,17,18,19,20,21,22,23,"Totals",null,"Day          Hr",0,1,2,3,4,5,6,7,8,9,10,11,12,13,14,15,16,17,18,19,20,21,22,23,"Totals"]
[{"$f":"$A$8","v":2},{"$f":"CHOOSE(WEEKDAY($A34),\"Sunday\",\"Monday\",\"Tuesday\",\"Wednesday\",\"Thursday\",\"Friday\",\"Saturday\")","v":"Monday"},{"$f":"INDEX(Calculations!$W$11:$W$178,MATCH('Weekly Chart'!C$7+('Weekly Chart'!$A34*24-24),Calculations!$F$11:$F$178,0))/1000","v":0},{"$f":"INDEX(Calculations!$W$11:$W$178,MATCH('Weekly Chart'!D$7+('Weekly Chart'!$A34*24-24),Calculations!$F$11:$F$178,0))/1000","v":0},{"$f":"INDEX(Calculations!$W$11:$W$178,MATCH('Weekly Chart'!E$7+('Weekly Chart'!$A34*24-24),Calculations!$F$11:$F$178,0))/1000","v":0},{"$f":"INDEX(Calculations!$W$11:$W$178,MATCH('Weekly Chart'!F$7+('Weekly Chart'!$A34*24-24),Calculations!$F$11:$F$178,0))/1000","v":0},{"$f":"INDEX(Calculations!$W$11:$W$178,MATCH('Weekly Chart'!G$7+('Weekly Chart'!$A34*24-24),Calculations!$F$11:$F$178,0))/1000","v":0},{"$f":"INDEX(Calculations!$W$11:$W$178,MATCH('Weekly Chart'!H$7+('Weekly Chart'!$A34*24-24),Calculations!$F$11:$F$178,0))/1000","v":0},{"$f":"INDEX(Calculations!$W$11:$W$178,MATCH('Weekly Chart'!I$7+('Weekly Chart'!$A34*24-24),Calculations!$F$11:$F$178,0))/1000","v":0},{"$f":"INDEX(Calculations!$W$11:$W$178,MATCH('Weekly Chart'!J$7+('Weekly Chart'!$A34*24-24),Calculations!$F$11:$F$178,0))/1000","v":0},{"$f":"INDEX(Calculations!$W$11:$W$178,MATCH('Weekly Chart'!K$7+('Weekly Chart'!$A34*24-24),Calculations!$F$11:$F$178,0))/1000","v":0},{"$f":"INDEX(Calculations!$W$11:$W$178,MATCH('Weekly Chart'!L$7+('Weekly Chart'!$A34*24-24),Calculations!$F$11:$F$178,0))/1000","v":0},{"$f":"INDEX(Calculations!$W$11:$W$178,MATCH('Weekly Chart'!M$7+('Weekly Chart'!$A34*24-24),Calculations!$F$11:$F$178,0))/1000","v":0},{"$f":"INDEX(Calculations!$W$11:$W$178,MATCH('Weekly Chart'!N$7+('Weekly Chart'!$A34*24-24),Calculations!$F$11:$F$178,0))/1000","v":0},{"$f":"INDEX(Calculations!$W$11:$W$178,MATCH('Weekly Chart'!O$7+('Weekly Chart'!$A34*24-24),Calculations!$F$11:$F$178,0))/1000","v":0},{"$f":"INDEX(Calculations!$W$11:$W$178,MATCH('Weekly Chart'!P$7+('Weekly Chart'!$A34*24-24),Calculations!$F$11:$F$178,0))/1000","v":0},{"$f":"INDEX(Calculations!$W$11:$W$178,MATCH('Weekly Chart'!Q$7+('Weekly Chart'!$A34*24-24),Calculations!$F$11:$F$178,0))/1000","v":0},{"$f":"INDEX(Calculations!$W$11:$W$178,MATCH('Weekly Chart'!R$7+('Weekly Chart'!$A34*24-24),Calculations!$F$11:$F$178,0))/1000","v":0},{"$f":"INDEX(Calculations!$W$11:$W$178,MATCH('Weekly Chart'!S$7+('Weekly Chart'!$A34*24-24),Calculations!$F$11:$F$178,0))/1000","v":0},{"$f":"INDEX(Calculations!$W$11:$W$178,MATCH('Weekly Chart'!T$7+('Weekly Chart'!$A34*24-24),Calculations!$F$11:$F$178,0))/1000","v":0},{"$f":"INDEX(Calculations!$W$11:$W$178,MATCH('Weekly Chart'!U$7+('Weekly Chart'!$A34*24-24),Calculations!$F$11:$F$178,0))/1000","v":0},{"$f":"INDEX(Calculations!$W$11:$W$178,MATCH('Weekly Chart'!V$7+('Weekly Chart'!$A34*24-24),Calculations!$F$11:$F$178,0))/1000","v":0},{"$f":"INDEX(Calculations!$W$11:$W$178,MATCH('Weekly Chart'!W$7+('Weekly Chart'!$A34*24-24),Calculations!$F$11:$F$178,0))/1000","v":0},{"$f":"INDEX(Calculations!$W$11:$W$178,MATCH('Weekly Chart'!X$7+('Weekly Chart'!$A34*24-24),Calculations!$F$11:$F$178,0))/1000","v":0},{"$f":"INDEX(Calculations!$W$11:$W$178,MATCH('Weekly Chart'!Y$7+('Weekly Chart'!$A34*24-24),Calculations!$F$11:$F$178,0))/1000","v":0},{"$f":"INDEX(Calculations!$W$11:$W$178,MATCH('Weekly Chart'!Z$7+('Weekly Chart'!$A34*24-24),Calculations!$F$11:$F$178,0))/1000","v":0},{"$f":"SUM(C34:Z34)","v":0},null,{"$f":"CHOOSE(WEEKDAY($A34),\"Sunday\",\"Monday\",\"Tuesday\",\"Wednesday\",\"Thursday\",\"Friday\",\"Saturday\")","v":"Monday"},{"$f":"INDEX(Calculations!$AM$11:$AM$178,MATCH('Weekly Chart'!AD$7+('Weekly Chart'!$A34*24-24),Calculations!$F$11:$F$178,0))/1000","v":0},{"$f":"INDEX(Calculations!$AM$11:$AM$178,MATCH('Weekly Chart'!AE$7+('Weekly Chart'!$A34*24-24),Calculations!$F$11:$F$178,0))/1000","v":0},{"$f":"INDEX(Calculations!$AM$11:$AM$178,MATCH('Weekly Chart'!AF$7+('Weekly Chart'!$A34*24-24),Calculations!$F$11:$F$178,0))/1000","v":0},{"$f":"INDEX(Calculations!$AM$11:$AM$178,MATCH('Weekly Chart'!AG$7+('Weekly Chart'!$A34*24-24),Calculations!$F$11:$F$178,0))/1000","v":0},{"$f":"INDEX(Calculations!$AM$11:$AM$178,MATCH('Weekly Chart'!AH$7+('Weekly Chart'!$A34*24-24),Calculations!$F$11:$F$178,0))/1000","v":0},{"$f":"INDEX(Calculations!$AM$11:$AM$178,MATCH('Weekly Chart'!AI$7+('Weekly Chart'!$A34*24-24),Calculations!$F$11:$F$178,0))/1000","v":0},{"$f":"INDEX(Calculations!$AM$11:$AM$178,MATCH('Weekly Chart'!AJ$7+('Weekly Chart'!$A34*24-24),Calculations!$F$11:$F$178,0))/1000","v":0},{"$f":"INDEX(Calculations!$AM$11:$AM$178,MATCH('Weekly Chart'!AK$7+('Weekly Chart'!$A34*24-24),Calculations!$F$11:$F$178,0))/1000","v":0},{"$f":"INDEX(Calculations!$AM$11:$AM$178,MATCH('Weekly Chart'!AL$7+('Weekly Chart'!$A34*24-24),Calculations!$F$11:$F$178,0))/1000","v":0},{"$f":"INDEX(Calculations!$AM$11:$AM$178,MATCH('Weekly Chart'!AM$7+('Weekly Chart'!$A34*24-24),Calculations!$F$11:$F$178,0))/1000","v":0},{"$f":"INDEX(Calculations!$AM$11:$AM$178,MATCH('Weekly Chart'!AN$7+('Weekly Chart'!$A34*24-24),Calculations!$F$11:$F$178,0))/1000","v":0},{"$f":"INDEX(Calculations!$AM$11:$AM$178,MATCH('Weekly Chart'!AO$7+('Weekly Chart'!$A34*24-24),Calculations!$F$11:$F$178,0))/1000","v":0},{"$f":"INDEX(Calculations!$AM$11:$AM$178,MATCH('Weekly Chart'!AP$7+('Weekly Chart'!$A34*24-24),Calculations!$F$11:$F$178,0))/1000","v":0},{"$f":"INDEX(Calculations!$AM$11:$AM$178,MATCH('Weekly Chart'!AQ$7+('Weekly Chart'!$A34*24-24),Calculations!$F$11:$F$178,0))/1000","v":0},{"$f":"INDEX(Calculations!$AM$11:$AM$178,MATCH('Weekly Chart'!AR$7+('Weekly Chart'!$A34*24-24),Calculations!$F$11:$F$178,0))/1000","v":0},{"$f":"INDEX(Calculations!$AM$11:$AM$178,MATCH('Weekly Chart'!AS$7+('Weekly Chart'!$A34*24-24),Calculations!$F$11:$F$178,0))/1000","v":0},{"$f":"INDEX(Calculations!$AM$11:$AM$178,MATCH('Weekly Chart'!AT$7+('Weekly Chart'!$A34*24-24),Calculations!$F$11:$F$178,0))/1000","v":0},{"$f":"INDEX(Calculations!$AM$11:$AM$178,MATCH('Weekly Chart'!AU$7+('Weekly Chart'!$A34*24-24),Calculations!$F$11:$F$178,0))/1000","v":0},{"$f":"INDEX(Calculations!$AM$11:$AM$178,MATCH('Weekly Chart'!AV$7+('Weekly Chart'!$A34*24-24),Calculations!$F$11:$F$178,0))/1000","v":0},{"$f":"INDEX(Calculations!$AM$11:$AM$178,MATCH('Weekly Chart'!AW$7+('Weekly Chart'!$A34*24-24),Calculations!$F$11:$F$178,0))/1000","v":0},{"$f":"INDEX(Calculations!$AM$11:$AM$178,MATCH('Weekly Chart'!AX$7+('Weekly Chart'!$A34*24-24),Calculations!$F$11:$F$178,0))/1000","v":0},{"$f":"INDEX(Calculations!$AM$11:$AM$178,MATCH('Weekly Chart'!AY$7+('Weekly Chart'!$A34*24-24),Calculations!$F$11:$F$178,0))/1000","v":0},{"$f":"INDEX(Calculations!$AM$11:$AM$178,MATCH('Weekly Chart'!AZ$7+('Weekly Chart'!$A34*24-24),Calculations!$F$11:$F$178,0))/1000","v":0},{"$f":"INDEX(Calculations!$AM$11:$AM$178,MATCH('Weekly Chart'!BA$7+('Weekly Chart'!$A34*24-24),Calculations!$F$11:$F$178,0))/1000","v":0},{"$f":"SUM(AD34:BA34)","v":0}]
[{"$f":"$A$9","v":3},"Tuesday",{"$f":"INDEX(Calculations!$W$11:$W$178,MATCH('Weekly Chart'!C$7+('Weekly Chart'!$A35*24-24),Calculations!$F$11:$F$178,0))/1000","v":0},{"$f":"INDEX(Calculations!$W$11:$W$178,MATCH('Weekly Chart'!D$7+('Weekly Chart'!$A35*24-24),Calculations!$F$11:$F$178,0))/1000","v":0},{"$f":"INDEX(Calculations!$W$11:$W$178,MATCH('Weekly Chart'!E$7+('Weekly Chart'!$A35*24-24),Calculations!$F$11:$F$178,0))/1000","v":0},{"$f":"INDEX(Calculations!$W$11:$W$178,MATCH('Weekly Chart'!F$7+('Weekly Chart'!$A35*24-24),Calculations!$F$11:$F$178,0))/1000","v":0},{"$f":"INDEX(Calculations!$W$11:$W$178,MATCH('Weekly Chart'!G$7+('Weekly Chart'!$A35*24-24),Calculations!$F$11:$F$178,0))/1000","v":0},{"$f":"INDEX(Calculations!$W$11:$W$178,MATCH('Weekly Chart'!H$7+('Weekly Chart'!$A35*24-24),Calculations!$F$11:$F$178,0))/1000","v":0},{"$f":"INDEX(Calculations!$W$11:$W$178,MATCH('Weekly Chart'!I$7+('Weekly Chart'!$A35*24-24),Calculations!$F$11:$F$178,0))/1000","v":0},{"$f":"INDEX(Calculations!$W$11:$W$178,MATCH('Weekly Chart'!J$7+('Weekly Chart'!$A35*24-24),Calculations!$F$11:$F$178,0))/1000","v":0},{"$f":"INDEX(Calculations!$W$11:$W$178,MATCH('Weekly Chart'!K$7+('Weekly Chart'!$A35*24-24),Calculations!$F$11:$F$178,0))/1000","v":0},{"$f":"INDEX(Calculations!$W$11:$W$178,MATCH('Weekly Chart'!L$7+('Weekly Chart'!$A35*24-24),Calculations!$F$11:$F$178,0))/1000","v":0.37713754155095069},{"$f":"INDEX(Calculations!$W$11:$W$178,MATCH('Weekly Chart'!M$7+('Weekly Chart'!$A35*24-24),Calculations!$F$11:$F$178,0))/1000","v":0.2466245263832515},{"$f":"INDEX(Calculations!$W$11:$W$178,MATCH('Weekly Chart'!N$7+('Weekly Chart'!$A35*24-24),Calculations!$F$11:$F$178,0))/1000","v":0},{"$f":"INDEX(Calculations!$W$11:$W$178,MATCH('Weekly Chart'!O$7+('Weekly Chart'!$A35*24-24),Calculations!$F$11:$F$178,0))/1000","v":0},{"$f":"INDEX(Calculations!$W$11:$W$178,MATCH('Weekly Chart'!P$7+('Weekly Chart'!$A35*24-24),Calculations!$F$11:$F$178,0))/1000","v":0},{"$f":"INDEX(Calculations!$W$11:$W$178,MATCH('Weekly Chart'!Q$7+('Weekly Chart'!$A35*24-24),Calculations!$F$11:$F$178,0))/1000","v":0},{"$f":"INDEX(Calculations!$W$11:$W$178,MATCH('Weekly Chart'!R$7+('Weekly Chart'!$A35*24-24),Calculations!$F$11:$F$178,0))/1000","v":0},{"$f":"INDEX(Calculations!$W$11:$W$178,MATCH('Weekly Chart'!S$7+('Weekly Chart'!$A35*24-24),Calculations!$F$11:$F$178,0))/1000","v":0},{"$f":"INDEX(Calculations!$W$11:$W$178,MATCH('Weekly Chart'!T$7+('Weekly Chart'!$A35*24-24),Calculations!$F$11:$F$178,0))/1000","v":0},{"$f":"INDEX(Calculations!$W$11:$W$178,MATCH('Weekly Chart'!U$7+('Weekly Chart'!$A35*24-24),Calculations!$F$11:$F$178,0))/1000","v":0},{"$f":"INDEX(Calculations!$W$11:$W$178,MATCH('Weekly Chart'!V$7+('Weekly Chart'!$A35*24-24),Calculations!$F$11:$F$178,0))/1000","v":0},{"$f":"INDEX(Calculations!$W$11:$W$178,MATCH('Weekly Chart'!W$7+('Weekly Chart'!$A35*24-24),Calculations!$F$11:$F$178,0))/1000","v":0},{"$f":"INDEX(Calculations!$W$11:$W$178,MATCH('Weekly Chart'!X$7+('Weekly Chart'!$A35*24-24),Calculations!$F$11:$F$178,0))/1000","v":0},{"$f":"INDEX(Calculations!$W$11:$W$178,MATCH('Weekly Chart'!Y$7+('Weekly Chart'!$A35*24-24),Calculations!$F$11:$F$178,0))/1000","v":0},{"$f":"INDEX(Calculations!$W$11:$W$178,MATCH('Weekly Chart'!Z$7+('Weekly Chart'!$A35*24-24),Calculations!$F$11:$F$178,0))/1000","v":0},{"$f":"SUM(C35:Z35)","v":0.62376206793420219},null,{"$f":"CHOOSE(WEEKDAY($A35),\"Sunday\",\"Monday\",\"Tuesday\",\"Wednesday\",\"Thursday\",\"Friday\",\"Saturday\")","v":"Tuesday"},{"$f":"INDEX(Calculations!$AM$11:$AM$178,MATCH('Weekly Chart'!AD$7+('Weekly Chart'!$A35*24-24),Calculations!$F$11:$F$178,0))/1000","v":0},{"$f":"INDEX(Calculations!$AM$11:$AM$178,MATCH('Weekly Chart'!AE$7+('Weekly Chart'!$A35*24-24),Calculations!$F$11:$F$178,0))/1000","v":0},{"$f":"INDEX(Calculations!$AM$11:$AM$178,MATCH('Weekly Chart'!AF$7+('Weekly Chart'!$A35*24-24),Calculations!$F$11:$F$178,0))/1000","v":0},{"$f":"INDEX(Calculations!$AM$11:$AM$178,MATCH('Weekly Chart'!AG$7+('Weekly Chart'!$A35*24-24),Calculations!$F$11:$F$178,0))/1000","v":0},{"$f":"INDEX(Calculations!$AM$11:$AM$178,MATCH('Weekly Chart'!AH$7+('Weekly Chart'!$A35*24-24),Calculations!$F$11:$F$178,0))/1000","v":0},{"$f":"INDEX(Calculations!$AM$11:$AM$178,MATCH('Weekly Chart'!AI$7+('Weekly Chart'!$A35*24-24),Calculations!$F$11:$F$178,0))/1000","v":0},{"$f":"INDEX(Calculations!$AM$11:$AM$178,MATCH('Weekly Chart'!AJ$7+('Weekly Chart'!$A35*24-24),Calculations!$F$11:$F$178,0))/1000","v":0},{"$f":"INDEX(Calculations!$AM$11:$AM$178,MATCH('Weekly Chart'!AK$7+('Weekly Chart'!$A35*24-24),Calculations!$F$11:$F$178,0))/1000","v":0},{"$f":"INDEX(Calculations!$AM$11:$AM$178,MATCH('Weekly Chart'!AL$7+('Weekly Chart'!$A35*24-24),Calculations!$F$11:$F$178,0))/1000","v":0},{"$f":"INDEX(Calculations!$AM$11:$AM$178,MATCH('Weekly Chart'!AM$7+('Weekly Chart'!$A35*24-24),Calculations!$F$11:$F$178,0))/1000","v":0},{"$f":"INDEX(Calculations!$AM$11:$AM$178,MATCH('Weekly Chart'!AN$7+('Weekly Chart'!$A35*24-24),Calculations!$F$11:$F$178,0))/1000","v":0},{"$f":"INDEX(Calculations!$AM$11:$AM$178,MATCH('Weekly Chart'!AO$7+('Weekly Chart'!$A35*24-24),Calculations!$F$11:$F$178,0))/1000","v":0},{"$f":"INDEX(Calculations!$AM$11:$AM$178,MATCH('Weekly Chart'!AP$7+('Weekly Chart'!$A35*24-24),Calculations!$F$11:$F$178,0))/1000","v":0},{"$f":"INDEX(Calculations!$AM$11:$AM$178,MATCH('Weekly Chart'!AQ$7+('Weekly Chart'!$A35*24-24),Calculations!$F$11:$F$178,0))/1000","v":0},{"$f":"INDEX(Calculations!$AM$11:$AM$178,MATCH('Weekly Chart'!AR$7+('Weekly Chart'!$A35*24-24),Calculations!$F$11:$F$178,0))/1000","v":0},{"$f":"INDEX(Calculations!$AM$11:$AM$178,MATCH('Weekly Chart'!AS$7+('Weekly Chart'!$A35*24-24),Calculations!$F$11:$F$178,0))/1000","v":0},{"$f":"INDEX(Calculations!$AM$11:$AM$178,MATCH('Weekly Chart'!AT$7+('Weekly Chart'!$A35*24-24),Calculations!$F$11:$F$178,0))/1000","v":0},{"$f":"INDEX(Calculations!$AM$11:$AM$178,MATCH('Weekly Chart'!AU$7+('Weekly Chart'!$A35*24-24),Calculations!$F$11:$F$178,0))/1000","v":0},{"$f":"INDEX(Calculations!$AM$11:$AM$178,MATCH('Weekly Chart'!AV$7+('Weekly Chart'!$A35*24-24),Calculations!$F$11:$F$178,0))/1000","v":0},{"$f":"INDEX(Calculations!$AM$11:$AM$178,MATCH('Weekly Chart'!AW$7+('Weekly Chart'!$A35*24-24),Calculations!$F$11:$F$178,0))/1000","v":0},{"$f":"INDEX(Calculations!$AM$11:$AM$178,MATCH('Weekly Chart'!AX$7+('Weekly Chart'!$A35*24-24),Calculations!$F$11:$F$178,0))/1000","v":0},{"$f":"INDEX(Calculations!$AM$11:$AM$178,MATCH('Weekly Chart'!AY$7+('Weekly Chart'!$A35*24-24),Calculations!$F$11:$F$178,0))/1000","v":0},{"$f":"INDEX(Calculations!$AM$11:$AM$178,MATCH('Weekly Chart'!AZ$7+('Weekly Chart'!$A35*24-24),Calculations!$F$11:$F$178,0))/1000","v":0},{"$f":"INDEX(Calculations!$AM$11:$AM$178,MATCH('Weekly Chart'!BA$7+('Weekly Chart'!$A35*24-24),Calculations!$F$11:$F$178,0))/1000","v":0},{"$f":"SUM(AD35:BA35)","v":0}]
[{"$f":"$A$10","v":4},"Wednesday",{"$f":"INDEX(Calculations!$W$11:$W$178,MATCH('Weekly Chart'!C$7+('Weekly Chart'!$A36*24-24),Calculations!$F$11:$F$178,0))/1000","v":0},{"$f":"INDEX(Calculations!$W$11:$W$178,MATCH('Weekly Chart'!D$7+('Weekly Chart'!$A36*24-24),Calculations!$F$11:$F$178,0))/1000","v":0},{"$f":"INDEX(Calculations!$W$11:$W$178,MATCH('Weekly Chart'!E$7+('Weekly Chart'!$A36*24-24),Calculations!$F$11:$F$178,0))/1000","v":0},{"$f":"INDEX(Calculations!$W$11:$W$178,MATCH('Weekly Chart'!F$7+('Weekly Chart'!$A36*24-24),Calculations!$F$11:$F$178,0))/1000","v":0},{"$f":"INDEX(Calculations!$W$11:$W$178,MATCH('Weekly Chart'!G$7+('Weekly Chart'!$A36*24-24),Calculations!$F$11:$F$178,0))/1000","v":0},{"$f":"INDEX(Calculations!$W$11:$W$178,MATCH('Weekly Chart'!H$7+('Weekly Chart'!$A36*24-24),Calculations!$F$11:$F$178,0))/1000","v":0},{"$f":"INDEX(Calculations!$W$11:$W$178,MATCH('Weekly Chart'!I$7+('Weekly Chart'!$A36*24-24),Calculations!$F$11:$F$178,0))/1000","v":0},{"$f":"INDEX(Calculations!$W$11:$W$178,MATCH('Weekly Chart'!J$7+('Weekly Chart'!$A36*24-24),Calculations!$F$11:$F$178,0))/1000","v":0},{"$f":"INDEX(Calculations!$W$11:$W$178,MATCH('Weekly Chart'!K$7+('Weekly Chart'!$A36*24-24),Calculations!$F$11:$F$178,0))/1000","v":0},{"$f":"INDEX(Calculations!$W$11:$W$178,MATCH('Weekly Chart'!L$7+('Weekly Chart'!$A36*24-24),Calculations!$F$11:$F$178,0))/1000","v":0.35302853920102545},{"$f":"INDEX(Calculations!$W$11:$W$178,MATCH('Weekly Chart'!M$7+('Weekly Chart'!$A36*24-24),Calculations!$F$11:$F$178,0))/1000","v":0.93864874001281773},{"$f":"INDEX(Calculations!$W$11:$W$178,MATCH('Weekly Chart'!N$7+('Weekly Chart'!$A36*24-24),Calculations!$F$11:$F$178,0))/1000","v":0.68384533903012179},{"$f":"INDEX(Calculations!$W$11:$W$178,MATCH('Weekly Chart'!O$7+('Weekly Chart'!$A36*24-24),Calculations!$F$11:$F$178,0))/1000","v":0.451258592608417},{"$f":"INDEX(Calculations!$W$11:$W$178,MATCH('Weekly Chart'!P$7+('Weekly Chart'!$A36*24-24),Calculations!$F$11:$F$178,0))/1000","v":6.0560044434949792E-2},{"$f":"INDEX(Calculations!$W$11:$W$178,MATCH('Weekly Chart'!Q$7+('Weekly Chart'!$A36*24-24),Calculations!$F$11:$F$178,0))/1000","v":0},{"$f":"INDEX(Calculations!$W$11:$W$178,MATCH('Weekly Chart'!R$7+('Weekly Chart'!$A36*24-24),Calculations!$F$11:$F$178,0))/1000","v":0},{"$f":"INDEX(Calculations!$W$11:$W$178,MATCH('Weekly Chart'!S$7+('Weekly Chart'!$A36*24-24),Calculations!$F$11:$F$178,0))/1000","v":0},{"$f":"INDEX(Calculations!$W$11:$W$178,MATCH('Weekly Chart'!T$7+('Weekly Chart'!$A36*24-24),Calculations!$F$11:$F$178,0))/1000","v":0},{"$f":"INDEX(Calculations!$W$11:$W$178,MATCH('Weekly Chart'!U$7+('Weekly Chart'!$A36*24-24),Calculations!$F$11:$F$178,0))/1000","v":0},{"$f":"INDEX(Calculations!$W$11:$W$178,MATCH('Weekly Chart'!V$7+('Weekly Chart'!$A36*24-24),Calculations!$F$11:$F$178,0))/1000","v":0},{"$f":"INDEX(Calculations!$W$11:$W$178,MATCH('Weekly Chart'!W$7+('Weekly Chart'!$A36*24-24),Calculations!$F$11:$F$178,0))/1000","v":0},{"$f":"INDEX(Calculations!$W$11:$W$178,MATCH('Weekly Chart'!X$7+('Weekly Chart'!$A36*24-24),Calculations!$F$11:$F$178,0))/1000","v":0},{"$f":"INDEX(Calculations!$W$11:$W$178,MATCH('Weekly Chart'!Y$7+('Weekly Chart'!$A36*24-24),Calculations!$F$11:$F$178,0))/1000","v":0},{"$f":"INDEX(Calculations!$W$11:$W$178,MATCH('Weekly Chart'!Z$7+('Weekly Chart'!$A36*24-24),Calculations!$F$11:$F$178,0))/1000","v":0},2.4873412552873315,null,"Wednesday",{"$f":"INDEX(Calculations!$AM$11:$AM$178,MATCH('Weekly Chart'!AD$7+('Weekly Chart'!$A36*24-24),Calculations!$F$11:$F$178,0))/1000","v":0},{"$f":"INDEX(Calculations!$AM$11:$AM$178,MATCH('Weekly Chart'!AE$7+('Weekly Chart'!$A36*24-24),Calculations!$F$11:$F$178,0))/1000","v":0},{"$f":"INDEX(Calculations!$AM$11:$AM$178,MATCH('Weekly Chart'!AF$7+('Weekly Chart'!$A36*24-24),Calculations!$F$11:$F$178,0))/1000","v":0},{"$f":"INDEX(Calculations!$AM$11:$AM$178,MATCH('Weekly Chart'!AG$7+('Weekly Chart'!$A36*24-24),Calculations!$F$11:$F$178,0))/1000","v":0},{"$f":"INDEX(Calculations!$AM$11:$AM$178,MATCH('Weekly Chart'!AH$7+('Weekly Chart'!$A36*24-24),Calculations!$F$11:$F$178,0))/1000","v":0},{"$f":"INDEX(Calculations!$AM$11:$AM$178,MATCH('Weekly Chart'!AI$7+('Weekly Chart'!$A36*24-24),Calculations!$F$11:$F$178,0))/1000","v":0},{"$f":"INDEX(Calculations!$AM$11:$AM$178,MATCH('Weekly Chart'!AJ$7+('Weekly Chart'!$A36*24-24),Calculations!$F$11:$F$178,0))/1000","v":0},{"$f":"INDEX(Calculations!$AM$11:$AM$178,MATCH('Weekly Chart'!AK$7+('Weekly Chart'!$A36*24-24),Calculations!$F$11:$F$178,0))/1000","v":0},{"$f":"INDEX(Calculations!$AM$11:$AM$178,MATCH('Weekly Chart'!AL$7+('Weekly Chart'!$A36*24-24),Calculations!$F$11:$F$178,0))/1000","v":0},{"$f":"INDEX(Calculations!$AM$11:$AM$178,MATCH('Weekly Chart'!AM$7+('Weekly Chart'!$A36*24-24),Calculations!$F$11:$F$178,0))/1000","v":0},{"$f":"INDEX(Calculations!$AM$11:$AM$178,MATCH('Weekly Chart'!AN$7+('Weekly Chart'!$A36*24-24),Calculations!$F$11:$F$178,0))/1000","v":0},{"$f":"INDEX(Calculations!$AM$11:$AM$178,MATCH('Weekly Chart'!AO$7+('Weekly Chart'!$A36*24-24),Calculations!$F$11:$F$178,0))/1000","v":0},{"$f":"INDEX(Calculations!$AM$11:$AM$178,MATCH('Weekly Chart'!AP$7+('Weekly Chart'!$A36*24-24),Calculations!$F$11:$F$178,0))/1000","v":0},{"$f":"INDEX(Calculations!$AM$11:$AM$178,MATCH('Weekly Chart'!AQ$7+('Weekly Chart'!$A36*24-24),Calculations!$F$11:$F$178,0))/1000","v":8.179366118350781E-2},{"$f":"INDEX(Calculations!$AM$11:$AM$178,MATCH('Weekly Chart'!AR$7+('Weekly Chart'!$A36*24-24),Calculations!$F$11:$F$178,0))/1000","v":0},{"$f":"INDEX(Calculations!$AM$11:$AM$178,MATCH('Weekly Chart'!AS$7+('Weekly Chart'!$A36*24-24),Calculations!$F$11:$F$178,0))/1000","v":0},{"$f":"INDEX(Calculations!$AM$11:$AM$178,MATCH('Weekly Chart'!AT$7+('Weekly Chart'!$A36*24-24),Calculations!$F$11:$F$178,0))/1000","v":0},{"$f":"INDEX(Calculations!$AM$11:$AM$178,MATCH('Weekly Chart'!AU$7+('Weekly Chart'!$A36*24-24),Calculations!$F$11:$F$178,0))/1000","v":0},{"$f":"INDEX(Calculations!$AM$11:$AM$178,MATCH('Weekly Chart'!AV$7+('Weekly Chart'!$A36*24-24),Calculations!$F$11:$F$178,0))/1000","v":0},{"$f":"INDEX(Calculations!$AM$11:$AM$178,MATCH('Weekly Chart'!AW$7+('Weekly Chart'!$A36*24-24),Calculations!$F$11:$F$178,0))/1000","v":0},{"$f":"INDEX(Calculations!$AM$11:$AM$178,MATCH('Weekly Chart'!AX$7+('Weekly Chart'!$A36*24-24),Calculations!$F$11:$F$178,0))/1000","v":0},{"$f":"INDEX(Calculations!$AM$11:$AM$178,MATCH('Weekly Chart'!AY$7+('Weekly Chart'!$A36*24-24),Calculations!$F$11:$F$178,0))/1000","v":0},{"$f":"INDEX(Calculations!$AM$11:$AM$178,MATCH('Weekly Chart'!AZ$7+('Weekly Chart'!$A36*24-24),Calculations!$F$11:$F$178,0))/1000","v":0},{"$f":"INDEX(Calculations!$AM$11:$AM$178,MATCH('Weekly Chart'!BA$7+('Weekly Chart'!$A36*24-24),Calculations!$F$11:$F$178,0))/1000","v":0},8.179366118350781E-2]
[{"$f":"$A$11","v":5},"Thursday",{"$f":"INDEX(Calculations!$W$11:$W$178,MATCH('Weekly Chart'!C$7+('Weekly Chart'!$A37*24-24),Calculations!$F$11:$F$178,0))/1000","v":0},{"$f":"INDEX(Calculations!$W$11:$W$178,MATCH('Weekly Chart'!D$7+('Weekly Chart'!$A37*24-24),Calculations!$F$11:$F$178,0))/1000","v":0},{"$f":"INDEX(Calculations!$W$11:$W$178,MATCH('Weekly Chart'!E$7+('Weekly Chart'!$A37*24-24),Calculations!$F$11:$F$178,0))/1000","v":0},{"$f":"INDEX(Calculations!$W$11:$W$178,MATCH('Weekly Chart'!F$7+('Weekly Chart'!$A37*24-24),Calculations!$F$11:$F$178,0))/1000","v":0},{"$f":"INDEX(Calculations!$W$11:$W$178,MATCH('Weekly Chart'!G$7+('Weekly Chart'!$A37*24-24),Calculations!$F$11:$F$178,0))/1000","v":0},{"$f":"INDEX(Calculations!$W$11:$W$178,MATCH('Weekly Chart'!H$7+('Weekly Chart'!$A37*24-24),Calculations!$F$11:$F$178,0))/1000","v":0},{"$f":"INDEX(Calculations!$W$11:$W$178,MATCH('Weekly Chart'!I$7+('Weekly Chart'!$A37*24-24),Calculations!$F$11:$F$178,0))/1000","v":0},{"$f":"INDEX(Calculations!$W$11:$W$178,MATCH('Weekly Chart'!J$7+('Weekly Chart'!$A37*24-24),Calculations!$F$11:$F$178,0))/1000","v":0},{"$f":"INDEX(Calculations!$W$11:$W$178,MATCH('Weekly Chart'!K$7+('Weekly Chart'!$A37*24-24),Calculations!$F$11:$F$178,0))/1000","v":0},{"$f":"INDEX(Calculations!$W$11:$W$178,MATCH('Weekly Chart'!L$7+('Weekly Chart'!$A37*24-24),Calculations!$F$11:$F$178,0))/1000","v":0.62995029096346944},{"$f":"INDEX(Calculations!$W$11:$W$178,MATCH('Weekly Chart'!M$7+('Weekly Chart'!$A37*24-24),Calculations!$F$11:$F$178,0))/1000","v":2.2262316667378768},{"$f":"INDEX(Calculations!$W$11:$W$178,MATCH('Weekly Chart'!N$7+('Weekly Chart'!$A37*24-24),Calculations!$F$11:$F$178,0))/1000","v":2.1670871967528305},{"$f":"INDEX(Calculations!$W$11:$W$178,MATCH('Weekly Chart'!O$7+('Weekly Chart'!$A37*24-24),Calculations!$F$11:$F$178,0))/1000","v":2.8539750378124338},{"$f":"INDEX(Calculations!$W$11:$W$178,MATCH('Weekly Chart'!P$7+('Weekly Chart'!$A37*24-24),Calculations!$F$11:$F$178,0))/1000","v":3.5428731911984626},{"$f":"INDEX(Calculations!$W$11:$W$178,MATCH('Weekly Chart'!Q$7+('Weekly Chart'!$A37*24-24),Calculations!$F$11:$F$178,0))/1000","v":0},{"$f":"INDEX(Calculations!$W$11:$W$178,MATCH('Weekly Chart'!R$7+('Weekly Chart'!$A37*24-24),Calculations!$F$11:$F$178,0))/1000","v":0},{"$f":"INDEX(Calculations!$W$11:$W$178,MATCH('Weekly Chart'!S$7+('Weekly Chart'!$A37*24-24),Calculations!$F$11:$F$178,0))/1000","v":0},{"$f":"INDEX(Calculations!$W$11:$W$178,MATCH('Weekly Chart'!T$7+('Weekly Chart'!$A37*24-24),Calculations!$F$11:$F$178,0))/1000","v":0},{"$f":"INDEX(Calculations!$W$11:$W$178,MATCH('Weekly Chart'!U$7+('Weekly Chart'!$A37*24-24),Calculations!$F$11:$F$178,0))/1000","v":0},{"$f":"INDEX(Calculations!$W$11:$W$178,MATCH('Weekly Chart'!V$7+('Weekly Chart'!$A37*24-24),Calculations!$F$11:$F$178,0))/1000","v":0},{"$f":"INDEX(Calculations!$W$11:$W$178,MATCH('Weekly Chart'!W$7+('Weekly Chart'!$A37*24-24),Calculations!$F$11:$F$178,0))/1000","v":0},{"$f":"INDEX(Calculations!$W$11:$W$178,MATCH('Weekly Chart'!X$7+('Weekly Chart'!$A37*24-24),Calculations!$F$11:$F$178,0))/1000","v":0},{"$f":"INDEX(Calculations!$W$11:$W$178,MATCH('Weekly Chart'!Y$7+('Weekly Chart'!$A37*24-24),Calculations!$F$11:$F$178,0))/1000","v":0},{"$f":"INDEX(Calculations!$W$11:$W$178,MATCH('Weekly Chart'!Z$7+('Weekly Chart'!$A37*24-24),Calculations!$F$11:$F$178,0))/1000","v":0},11.420117383465072,null,"Thursday",{"$f":"INDEX(Calculations!$AM$11:$AM$178,MATCH('Weekly Chart'!AD$7+('Weekly Chart'!$A37*24-24),Calculations!$F$11:$F$178,0))/1000","v":0},{"$f":"INDEX(Calculations!$AM$11:$AM$178,MATCH('Weekly Chart'!AE$7+('Weekly Chart'!$A37*24-24),Calculations!$F$11:$F$178,0))/1000","v":0},{"$f":"INDEX(Calculations!$AM$11:$AM$178,MATCH('Weekly Chart'!AF$7+('Weekly Chart'!$A37*24-24),Calculations!$F$11:$F$178,0))/1000","v":0},{"$f":"INDEX(Calculations!$AM$11:$AM$178,MATCH('Weekly Chart'!AG$7+('Weekly Chart'!$A37*24-24),Calculations!$F$11:$F$178,0))/1000","v":0},{"$f":"INDEX(Calculations!$AM$11:$AM$178,MATCH('Weekly Chart'!AH$7+('Weekly Chart'!$A37*24-24),Calculations!$F$11:$F$178,0))/1000","v":0},{"$f":"INDEX(Calculations!$AM$11:$AM$178,MATCH('Weekly Chart'!AI$7+('Weekly Chart'!$A37*24-24),Calculations!$F$11:$F$178,0))/1000","v":0},{"$f":"INDEX(Calculations!$AM$11:$AM$178,MATCH('Weekly Chart'!AJ$7+('Weekly Chart'!$A37*24-24),Calculations!$F$11:$F$178,0))/1000","v":0},{"$f":"INDEX(Calculations!$AM$11:$AM$178,MATCH('Weekly Chart'!AK$7+('Weekly Chart'!$A37*24-24),Calculations!$F$11:$F$178,0))/1000","v":0},{"$f":"INDEX(Calculations!$AM$11:$AM$178,MATCH('Weekly Chart'!AL$7+('Weekly Chart'!$A37*24-24),Calculations!$F$11:$F$178,0))/1000","v":0},{"$f":"INDEX(Calculations!$AM$11:$AM$178,MATCH('Weekly Chart'!AM$7+('Weekly Chart'!$A37*24-24),Calculations!$F$11:$F$178,0))/1000","v":0},{"$f":"INDEX(Calculations!$AM$11:$AM$178,MATCH('Weekly Chart'!AN$7+('Weekly Chart'!$A37*24-24),Calculations!$F$11:$F$178,0))/1000","v":0},{"$f":"INDEX(Calculations!$AM$11:$AM$178,MATCH('Weekly Chart'!AO$7+('Weekly Chart'!$A37*24-24),Calculations!$F$11:$F$178,0))/1000","v":0},{"$f":"INDEX(Calculations!$AM$11:$AM$178,MATCH('Weekly Chart'!AP$7+('Weekly Chart'!$A37*24-24),Calculations!$F$11:$F$178,0))/1000","v":0},{"$f":"INDEX(Calculations!$AM$11:$AM$178,MATCH('Weekly Chart'!AQ$7+('Weekly Chart'!$A37*24-24),Calculations!$F$11:$F$178,0))/1000","v":0},{"$f":"INDEX(Calculations!$AM$11:$AM$178,MATCH('Weekly Chart'!AR$7+('Weekly Chart'!$A37*24-24),Calculations!$F$11:$F$178,0))/1000","v":0},{"$f":"INDEX(Calculations!$AM$11:$AM$178,MATCH('Weekly Chart'!AS$7+('Weekly Chart'!$A37*24-24),Calculations!$F$11:$F$178,0))/1000","v":0},{"$f":"INDEX(Calculations!$AM$11:$AM$178,MATCH('Weekly Chart'!AT$7+('Weekly Chart'!$A37*24-24),Calculations!$F$11:$F$178,0))/1000","v":0},{"$f":"INDEX(Calculations!$AM$11:$AM$178,MATCH('Weekly Chart'!AU$7+('Weekly Chart'!$A37*24-24),Calculations!$F$11:$F$178,0))/1000","v":0},{"$f":"INDEX(Calculations!$AM$11:$AM$178,MATCH('Weekly Chart'!AV$7+('Weekly Chart'!$A37*24-24),Calculations!$F$11:$F$178,0))/1000","v":0},{"$f":"INDEX(Calculations!$AM$11:$AM$178,MATCH('Weekly Chart'!AW$7+('Weekly Chart'!$A37*24-24),Calculations!$F$11:$F$178,0))/1000","v":0},{"$f":"INDEX(Calculations!$AM$11:$AM$178,MATCH('Weekly Chart'!AX$7+('Weekly Chart'!$A37*24-24),Calculations!$F$11:$F$178,0))/1000","v":0},{"$f":"INDEX(Calculations!$AM$11:$AM$178,MATCH('Weekly Chart'!AY$7+('Weekly Chart'!$A37*24-24),Calculations!$F$11:$F$178,0))/1000","v":0},{"$f":"INDEX(Calculations!$AM$11:$AM$178,MATCH('Weekly Chart'!AZ$7+('Weekly Chart'!$A37*24-24),Calculations!$F$11:$F$178,0))/1000","v":0},{"$f":"INDEX(Calculations!$AM$11:$AM$178,MATCH('Weekly Chart'!BA$7+('Weekly Chart'!$A37*24-24),Calculations!$F$11:$F$178,0))/1000","v":0},0]
[{"$f":"$A$12","v":6},"Friday",{"$f":"INDEX(Calculations!$W$11:$W$178,MATCH('Weekly Chart'!C$7+('Weekly Chart'!$A38*24-24),Calculations!$F$11:$F$178,0))/1000","v":0},{"$f":"INDEX(Calculations!$W$11:$W$178,MATCH('Weekly Chart'!D$7+('Weekly Chart'!$A38*24-24),Calculations!$F$11:$F$178,0))/1000","v":0},{"$f":"INDEX(Calculations!$W$11:$W$178,MATCH('Weekly Chart'!E$7+('Weekly Chart'!$A38*24-24),Calculations!$F$11:$F$178,0))/1000","v":0},{"$f":"INDEX(Calculations!$W$11:$W$178,MATCH('Weekly Chart'!F$7+('Weekly Chart'!$A38*24-24),Calculations!$F$11:$F$178,0))/1000","v":0},{"$f":"INDEX(Calculations!$W$11:$W$178,MATCH('Weekly Chart'!G$7+('Weekly Chart'!$A38*24-24),Calculations!$F$11:$F$178,0))/1000","v":0},{"$f":"INDEX(Calculations!$W$11:$W$178,MATCH('Weekly Chart'!H$7+('Weekly Chart'!$A38*24-24),Calculations!$F$11:$F$178,0))/1000","v":0},{"$f":"INDEX(Calculations!$W$11:$W$178,MATCH('Weekly Chart'!I$7+('Weekly Chart'!$A38*24-24),Calculations!$F$11:$F$178,0))/1000","v":0},{"$f":"INDEX(Calculations!$W$11:$W$178,MATCH('Weekly Chart'!J$7+('Weekly Chart'!$A38*24-24),Calculations!$F$11:$F$178,0))/1000","v":0},{"$f":"INDEX(Calculations!$W$11:$W$178,MATCH('Weekly Chart'!K$7+('Weekly Chart'!$A38*24-24),Calculations!$F$11:$F$178,0))/1000","v":0},{"$f":"INDEX(Calculations!$W$11:$W$178,MATCH('Weekly Chart'!L$7+('Weekly Chart'!$A38*24-24),Calculations!$F$11:$F$178,0))/1000","v":1.0220447528305918},{"$f":"INDEX(Calculations!$W$11:$W$178,MATCH('Weekly Chart'!M$7+('Weekly Chart'!$A38*24-24),Calculations!$F$11:$F$178,0))/1000","v":4.691690500320445},{"$f":"INDEX(Calculations!$W$11:$W$178,MATCH('Weekly Chart'!N$7+('Weekly Chart'!$A38*24-24),Calculations!$F$11:$F$178,0))/1000","v":11.251698430249945},{"$f":"INDEX(Calculations!$W$11:$W$178,MATCH('Weekly Chart'!O$7+('Weekly Chart'!$A38*24-24),Calculations!$F$11:$F$178,0))/1000","v":21.367432770775473},{"$f":"INDEX(Calculations!$W$11:$W$178,MATCH('Weekly Chart'!P$7+('Weekly Chart'!$A38*24-24),Calculations!$F$11:$F$178,0))/1000","v":38.205489329630417},{"$f":"INDEX(Calculations!$W$11:$W$178,MATCH('Weekly Chart'!Q$7+('Weekly Chart'!$A38*24-24),Calculations!$F$11:$F$178,0))/1000","v":0},{"$f":"INDEX(Calculations!$W$11:$W$178,MATCH('Weekly Chart'!R$7+('Weekly Chart'!$A38*24-24),Calculations!$F$11:$F$178,0))/1000","v":0},{"$f":"INDEX(Calculations!$W$11:$W$178,MATCH('Weekly Chart'!S$7+('Weekly Chart'!$A38*24-24),Calculations!$F$11:$F$178,0))/1000","v":0},{"$f":"INDEX(Calculations!$W$11:$W$178,MATCH('Weekly Chart'!T$7+('Weekly Chart'!$A38*24-24),Calculations!$F$11:$F$178,0))/1000","v":0},{"$f":"INDEX(Calculations!$W$11:$W$178,MATCH('Weekly Chart'!U$7+('Weekly Chart'!$A38*24-24),Calculations!$F$11:$F$178,0))/1000","v":0},{"$f":"INDEX(Calculations!$W$11:$W$178,MATCH('Weekly Chart'!V$7+('Weekly Chart'!$A38*24-24),Calculations!$F$11:$F$178,0))/1000","v":0},{"$f":"INDEX(Calculations!$W$11:$W$178,MATCH('Weekly Chart'!W$7+('Weekly Chart'!$A38*24-24),Calculations!$F$11:$F$178,0))/1000","v":0},{"$f":"INDEX(Calculations!$W$11:$W$178,MATCH('Weekly Chart'!X$7+('Weekly Chart'!$A38*24-24),Calculations!$F$11:$F$178,0))/1000","v":0},{"$f":"INDEX(Calculations!$W$11:$W$178,MATCH('Weekly Chart'!Y$7+('Weekly Chart'!$A38*24-24),Calculations!$F$11:$F$178,0))/1000","v":0},{"$f":"INDEX(Calculations!$W$11:$W$178,MATCH('Weekly Chart'!Z$7+('Weekly Chart'!$A38*24-24),Calculations!$F$11:$F$178,0))/1000","v":0},76.538355783806878,null,"Friday",{"$f":"INDEX(Calculations!$AM$11:$AM$178,MATCH('Weekly Chart'!AD$7+('Weekly Chart'!$A38*24-24),Calculations!$F$11:$F$178,0))/1000","v":0},{"$f":"INDEX(Calculations!$AM$11:$AM$178,MATCH('Weekly Chart'!AE$7+('Weekly Chart'!$A38*24-24),Calculations!$F$11:$F$178,0))/1000","v":0},{"$f":"INDEX(Calculations!$AM$11:$AM$178,MATCH('Weekly Chart'!AF$7+('Weekly Chart'!$A38*24-24),Calculations!$F$11:$F$178,0))/1000","v":0},{"$f":"INDEX(Calculations!$AM$11:$AM$178,MATCH('Weekly Chart'!AG$7+('Weekly Chart'!$A38*24-24),Calculations!$F$11:$F$178,0))/1000","v":0},{"$f":"INDEX(Calculations!$AM$11:$AM$178,MATCH('Weekly Chart'!AH$7+('Weekly Chart'!$A38*24-24),Calculations!$F$11:$F$178,0))/1000","v":0},{"$f":"INDEX(Calculations!$AM$11:$AM$178,MATCH('Weekly Chart'!AI$7+('Weekly Chart'!$A38*24-24),Calculations!$F$11:$F$178,0))/1000","v":0},{"$f":"INDEX(Calculations!$AM$11:$AM$178,MATCH('Weekly Chart'!AJ$7+('Weekly Chart'!$A38*24-24),Calculations!$F$11:$F$178,0))/1000","v":0},{"$f":"INDEX(Calculations!$AM$11:$AM$178,MATCH('Weekly Chart'!AK$7+('Weekly Chart'!$A38*24-24),Calculations!$F$11:$F$178,0))/1000","v":0},{"$f":"INDEX(Calculations!$AM$11:$AM$178,MATCH('Weekly Chart'!AL$7+('Weekly Chart'!$A38*24-24),Calculations!$F$11:$F$178,0))/1000","v":0},{"$f":"INDEX(Calculations!$AM$11:$AM$178,MATCH('Weekly Chart'!AM$7+('Weekly Chart'!$A38*24-24),Calculations!$F$11:$F$178,0))/1000","v":0},{"$f":"INDEX(Calculations!$AM$11:$AM$178,MATCH('Weekly Chart'!AN$7+('Weekly Chart'!$A38*24-24),Calculations!$F$11:$F$178,0))/1000","v":0},{"$f":"INDEX(Calculations!$AM$11:$AM$178,MATCH('Weekly Chart'!AO$7+('Weekly Chart'!$A38*24-24),Calculations!$F$11:$F$178,0))/1000","v":0},{"$f":"INDEX(Calculations!$AM$11:$AM$178,MATCH('Weekly Chart'!AP$7+('Weekly Chart'!$A38*24-24),Calculations!$F$11:$F$178,0))/1000","v":0.51916684469130525},{"$f":"INDEX(Calculations!$AM$11:$AM$178,MATCH('Weekly Chart'!AQ$7+('Weekly Chart'!$A38*24-24),Calculations!$F$11:$F$178,0))/1000","v":4.2786180115359977},{"$f":"INDEX(Calculations!$AM$11:$AM$178,MATCH('Weekly Chart'!AR$7+('Weekly Chart'!$A38*24-24),Calculations!$F$11:$F$178,0))/1000","v":0},{"$f":"INDEX(Calculations!$AM$11:$AM$178,MATCH('Weekly Chart'!AS$7+('Weekly Chart'!$A38*24-24),Calculations!$F$11:$F$178,0))/1000","v":0},{"$f":"INDEX(Calculations!$AM$11:$AM$178,MATCH('Weekly Chart'!AT$7+('Weekly Chart'!$A38*24-24),Calculations!$F$11:$F$178,0))/1000","v":0},{"$f":"INDEX(Calculations!$AM$11:$AM$178,MATCH('Weekly Chart'!AU$7+('Weekly Chart'!$A38*24-24),Calculations!$F$11:$F$178,0))/1000","v":0},{"$f":"INDEX(Calculations!$AM$11:$AM$178,MATCH('Weekly Chart'!AV$7+('Weekly Chart'!$A38*24-24),Calculations!$F$11:$F$178,0))/1000","v":0},{"$f":"INDEX(Calculations!$AM$11:$AM$178,MATCH('Weekly Chart'!AW$7+('Weekly Chart'!$A38*24-24),Calculations!$F$11:$F$178,0))/1000","v":0},{"$f":"INDEX(Calculations!$AM$11:$AM$178,MATCH('Weekly Chart'!AX$7+('Weekly Chart'!$A38*24-24),Calculations!$F$11:$F$178,0))/1000","v":0},{"$f":"INDEX(Calculations!$AM$11:$AM$178,MATCH('Weekly Chart'!AY$7+('Weekly Chart'!$A38*24-24),Calculations!$F$11:$F$178,0))/1000","v":0},{"$f":"INDEX(Calculations!$AM$11:$AM$178,MATCH('Weekly Chart'!AZ$7+('Weekly Chart'!$A38*24-24),Calculations!$F$11:$F$178,0))/1000","v":0},{"$f":"INDEX(Calculations!$AM$11:$AM$178,MATCH('Weekly Chart'!BA$7+('Weekly Chart'!$A38*24-24),Calculations!$F$11:$F$178,0))/1000","v":0},4.7977848562273033]
[{"$f":"$A$13","v":7},"Saturday",{"$f":"INDEX(Calculations!$W$11:$W$178,MATCH('Weekly Chart'!C$7+('Weekly Chart'!$A39*24-24),Calculations!$F$11:$F$178,0))/1000","v":0},{"$f":"INDEX(Calculations!$W$11:$W$178,MATCH('Weekly Chart'!D$7+('Weekly Chart'!$A39*24-24),Calculations!$F$11:$F$178,0))/1000","v":0},{"$f":"INDEX(Calculations!$W$11:$W$178,MATCH('Weekly Chart'!E$7+('Weekly Chart'!$A39*24-24),Calculations!$F$11:$F$178,0))/1000","v":0},{"$f":"INDEX(Calculations!$W$11:$W$178,MATCH('Weekly Chart'!F$7+('Weekly Chart'!$A39*24-24),Calculations!$F$11:$F$178,0))/1000","v":0},{"$f":"INDEX(Calculations!$W$11:$W$178,MATCH('Weekly Chart'!G$7+('Weekly Chart'!$A39*24-24),Calculations!$F$11:$F$178,0))/1000","v":0},{"$f":"INDEX(Calculations!$W$11:$W$178,MATCH('Weekly Chart'!H$7+('Weekly Chart'!$A39*24-24),Calculations!$F$11:$F$178,0))/1000","v":0},{"$f":"INDEX(Calculations!$W$11:$W$178,MATCH('Weekly Chart'!I$7+('Weekly Chart'!$A39*24-24),Calculations!$F$11:$F$178,0))/1000","v":0},{"$f":"INDEX(Calculations!$W$11:$W$178,MATCH('Weekly Chart'!J$7+('Weekly Chart'!$A39*24-24),Calculations!$F$11:$F$178,0))/1000","v":0},{"$f":"INDEX(Calculations!$W$11:$W$178,MATCH('Weekly Chart'!K$7+('Weekly Chart'!$A39*24-24),Calculations!$F$11:$F$178,0))/1000","v":0},{"$f":"INDEX(Calculations!$W$11:$W$178,MATCH('Weekly Chart'!L$7+('Weekly Chart'!$A39*24-24),Calculations!$F$11:$F$178,0))/1000","v":0},{"$f":"INDEX(Calculations!$W$11:$W$178,MATCH('Weekly Chart'!M$7+('Weekly Chart'!$A39*24-24),Calculations!$F$11:$F$178,0))/1000","v":0},{"$f":"INDEX(Calculations!$W$11:$W$178,MATCH('Weekly Chart'!N$7+('Weekly Chart'!$A39*24-24),Calculations!$F$11:$F$178,0))/1000","v":0},{"$f":"INDEX(Calculations!$W$11:$W$178,MATCH('Weekly Chart'!O$7+('Weekly Chart'!$A39*24-24),Calculations!$F$11:$F$178,0))/1000","v":0},{"$f":"INDEX(Calculations!$W$11:$W$178,MATCH('Weekly Chart'!P$7+('Weekly Chart'!$A39*24-24),Calculations!$F$11:$F$178,0))/1000","v":0},{"$f":"INDEX(Calculations!$W$11:$W$178,MATCH('Weekly Chart'!Q$7+('Weekly Chart'!$A39*24-24),Calculations!$F$11:$F$178,0))/1000","v":0},{"$f":"INDEX(Calculations!$W$11:$W$178,MATCH('Weekly Chart'!R$7+('Weekly Chart'!$A39*24-24),Calculations!$F$11:$F$178,0))/1000","v":0},{"$f":"INDEX(Calculations!$W$11:$W$178,MATCH('Weekly Chart'!S$7+('Weekly Chart'!$A39*24-24),Calculations!$F$11:$F$178,0))/1000","v":0},{"$f":"INDEX(Calculations!$W$11:$W$178,MATCH('Weekly Chart'!T$7+('Weekly Chart'!$A39*24-24),Calculations!$F$11:$F$178,0))/1000","v":0},{"$f":"INDEX(Calculations!$W$11:$W$178,MATCH('Weekly Chart'!U$7+('Weekly Chart'!$A39*24-24),Calculations!$F$11:$F$178,0))/1000","v":0},{"$f":"INDEX(Calculations!$W$11:$W$178,MATCH('Weekly Chart'!V$7+('Weekly Chart'!$A39*24-24),Calculations!$F$11:$F$178,0))/1000","v":0},{"$f":"INDEX(Calculations!$W$11:$W$178,MATCH('Weekly Chart'!W$7+('Weekly Chart'!$A39*24-24),Calculations!$F$11:$F$178,0))/1000","v":0},{"$f":"INDEX(Calculations!$W$11:$W$178,MATCH('Weekly Chart'!X$7+('Weekly Chart'!$A39*24-24),Calculations!$F$11:$F$178,0))/1000","v":0},{"$f":"INDEX(Calculations!$W$11:$W$178,MATCH('Weekly Chart'!Y$7+('Weekly Chart'!$A39*24-24),Calculations!$F$11:$F$178,0))/1000","v":0},{"$f":"INDEX(Calculations!$W$11:$W$178,MATCH('Weekly Chart'!Z$7+('Weekly Chart'!$A39*24-24),Calculations!$F$11:$F$178,0))/1000","v":0},0,null,"Saturday",{"$f":"INDEX(Calculations!$AM$11:$AM$178,MATCH('Weekly Chart'!AD$7+('Weekly Chart'!$A39*24-24),Calculations!$F$11:$F$178,0))/1000","v":0},{"$f":"INDEX(Calculations!$AM$11:$AM$178,MATCH('Weekly Chart'!AE$7+('Weekly Chart'!$A39*24-24),Calculations!$F$11:$F$178,0))/1000","v":0},{"$f":"INDEX(Calculations!$AM$11:$AM$178,MATCH('Weekly Chart'!AF$7+('Weekly Chart'!$A39*24-24),Calculations!$F$11:$F$178,0))/1000","v":0},{"$f":"INDEX(Calculations!$AM$11:$AM$178,MATCH('Weekly Chart'!AG$7+('Weekly Chart'!$A39*24-24),Calculations!$F$11:$F$178,0))/1000","v":0},{"$f":"INDEX(Calculations!$AM$11:$AM$178,MATCH('Weekly Chart'!AH$7+('Weekly Chart'!$A39*24-24),Calculations!$F$11:$F$178,0))/1000","v":0},{"$f":"INDEX(Calculations!$AM$11:$AM$178,MATCH('Weekly Chart'!AI$7+('Weekly Chart'!$A39*24-24),Calculations!$F$11:$F$178,0))/1000","v":0},{"$f":"INDEX(Calculations!$AM$11:$AM$178,MATCH('Weekly Chart'!AJ$7+('Weekly Chart'!$A39*24-24),Calculations!$F$11:$F$178,0))/1000","v":0},{"$f":"INDEX(Calculations!$AM$11:$AM$178,MATCH('Weekly Chart'!AK$7+('Weekly Chart'!$A39*24-24),Calculations!$F$11:$F$178,0))/1000","v":0},{"$f":"INDEX(Calculations!$AM$11:$AM$178,MATCH('Weekly Chart'!AL$7+('Weekly Chart'!$A39*24-24),Calculations!$F$11:$F$178,0))/1000","v":0},{"$f":"INDEX(Calculations!$AM$11:$AM$178,MATCH('Weekly Chart'!AM$7+('Weekly Chart'!$A39*24-24),Calculations!$F$11:$F$178,0))/1000","v":0},{"$f":"INDEX(Calculations!$AM$11:$AM$178,MATCH('Weekly Chart'!AN$7+('Weekly Chart'!$A39*24-24),Calculations!$F$11:$F$178,0))/1000","v":0},{"$f":"INDEX(Calculations!$AM$11:$AM$178,MATCH('Weekly Chart'!AO$7+('Weekly Chart'!$A39*24-24),Calculations!$F$11:$F$178,0))/1000","v":0},{"$f":"INDEX(Calculations!$AM$11:$AM$178,MATCH('Weekly Chart'!AP$7+('Weekly Chart'!$A39*24-24),Calculations!$F$11:$F$178,0))/1000","v":0},{"$f":"INDEX(Calculations!$AM$11:$AM$178,MATCH('Weekly Chart'!AQ$7+('Weekly Chart'!$A39*24-24),Calculations!$F$11:$F$178,0))/1000","v":0},{"$f":"INDEX(Calculations!$AM$11:$AM$178,MATCH('Weekly Chart'!AR$7+('Weekly Chart'!$A39*24-24),Calculations!$F$11:$F$178,0))/1000","v":0},{"$f":"INDEX(Calculations!$AM$11:$AM$178,MATCH('Weekly Chart'!AS$7+('Weekly Chart'!$A39*24-24),Calculations!$F$11:$F$178,0))/1000","v":0},{"$f":"INDEX(Calculations!$AM$11:$AM$178,MATCH('Weekly Chart'!AT$7+('Weekly Chart'!$A39*24-24),Calculations!$F$11:$F$178,0))/1000","v":0},{"$f":"INDEX(Calculations!$AM$11:$AM$178,MATCH('Weekly Chart'!AU$7+('Weekly Chart'!$A39*24-24),Calculations!$F$11:$F$178,0))/1000","v":0},{"$f":"INDEX(Calculations!$AM$11:$AM$178,MATCH('Weekly Chart'!AV$7+('Weekly Chart'!$A39*24-24),Calculations!$F$11:$F$178,0))/1000","v":0},{"$f":"INDEX(Calculations!$AM$11:$AM$178,MATCH('Weekly Chart'!AW$7+('Weekly Chart'!$A39*24-24),Calculations!$F$11:$F$178,0))/1000","v":0},{"$f":"INDEX(Calculations!$AM$11:$AM$178,MATCH('Weekly Chart'!AX$7+('Weekly Chart'!$A39*24-24),Calculations!$F$11:$F$178,0))/1000","v":0},{"$f":"INDEX(Calculations!$AM$11:$AM$178,MATCH('Weekly Chart'!AY$7+('Weekly Chart'!$A39*24-24),Calculations!$F$11:$F$178,0))/1000","v":0},{"$f":"INDEX(Calculations!$AM$11:$AM$178,MATCH('Weekly Chart'!AZ$7+('Weekly Chart'!$A39*24-24),Calculations!$F$11:$F$178,0))/1000","v":0},{"$f":"INDEX(Calculations!$AM$11:$AM$178,MATCH('Weekly Chart'!BA$7+('Weekly Chart'!$A39*24-24),Calculations!$F$11:$F$178,0))/1000","v":0},0]
[{"$f":"$A$14","v":1},"Sunday",{"$f":"INDEX(Calculations!$W$11:$W$178,MATCH('Weekly Chart'!C$7+('Weekly Chart'!$A40*24-24),Calculations!$F$11:$F$178,0))/1000","v":0},{"$f":"INDEX(Calculations!$W$11:$W$178,MATCH('Weekly Chart'!D$7+('Weekly Chart'!$A40*24-24),Calculations!$F$11:$F$178,0))/1000","v":0},{"$f":"INDEX(Calculations!$W$11:$W$178,MATCH('Weekly Chart'!E$7+('Weekly Chart'!$A40*24-24),Calculations!$F$11:$F$178,0))/1000","v":0},{"$f":"INDEX(Calculations!$W$11:$W$178,MATCH('Weekly Chart'!F$7+('Weekly Chart'!$A40*24-24),Calculations!$F$11:$F$178,0))/1000","v":0},{"$f":"INDEX(Calculations!$W$11:$W$178,MATCH('Weekly Chart'!G$7+('Weekly Chart'!$A40*24-24),Calculations!$F$11:$F$178,0))/1000","v":0},{"$f":"INDEX(Calculations!$W$11:$W$178,MATCH('Weekly Chart'!H$7+('Weekly Chart'!$A40*24-24),Calculations!$F$11:$F$178,0))/1000","v":0},{"$f":"INDEX(Calculations!$W$11:$W$178,MATCH('Weekly Chart'!I$7+('Weekly Chart'!$A40*24-24),Calculations!$F$11:$F$178,0))/1000","v":0},{"$f":"INDEX(Calculations!$W$11:$W$178,MATCH('Weekly Chart'!J$7+('Weekly Chart'!$A40*24-24),Calculations!$F$11:$F$178,0))/1000","v":0},{"$f":"INDEX(Calculations!$W$11:$W$178,MATCH('Weekly Chart'!K$7+('Weekly Chart'!$A40*24-24),Calculations!$F$11:$F$178,0))/1000","v":0},{"$f":"INDEX(Calculations!$W$11:$W$178,MATCH('Weekly Chart'!L$7+('Weekly Chart'!$A40*24-24),Calculations!$F$11:$F$178,0))/1000","v":0},{"$f":"INDEX(Calculations!$W$11:$W$178,MATCH('Weekly Chart'!M$7+('Weekly Chart'!$A40*24-24),Calculations!$F$11:$F$178,0))/1000","v":0},{"$f":"INDEX(Calculations!$W$11:$W$178,MATCH('Weekly Chart'!N$7+('Weekly Chart'!$A40*24-24),Calculations!$F$11:$F$178,0))/1000","v":0},{"$f":"INDEX(Calculations!$W$11:$W$178,MATCH('Weekly Chart'!O$7+('Weekly Chart'!$A40*24-24),Calculations!$F$11:$F$178,0))/1000","v":0},{"$f":"INDEX(Calculations!$W$11:$W$178,MATCH('Weekly Chart'!P$7+('Weekly Chart'!$A40*24-24),Calculations!$F$11:$F$178,0))/1000","v":0},{"$f":"INDEX(Calculations!$W$11:$W$178,MATCH('Weekly Chart'!Q$7+('Weekly Chart'!$A40*24-24),Calculations!$F$11:$F$178,0))/1000","v":0},{"$f":"INDEX(Calculations!$W$11:$W$178,MATCH('Weekly Chart'!R$7+('Weekly Chart'!$A40*24-24),Calculations!$F$11:$F$178,0))/1000","v":0},{"$f":"INDEX(Calculations!$W$11:$W$178,MATCH('Weekly Chart'!S$7+('Weekly Chart'!$A40*24-24),Calculations!$F$11:$F$178,0))/1000","v":0},{"$f":"INDEX(Calculations!$W$11:$W$178,MATCH('Weekly Chart'!T$7+('Weekly Chart'!$A40*24-24),Calculations!$F$11:$F$178,0))/1000","v":0},{"$f":"INDEX(Calculations!$W$11:$W$178,MATCH('Weekly Chart'!U$7+('Weekly Chart'!$A40*24-24),Calculations!$F$11:$F$178,0))/1000","v":0},{"$f":"INDEX(Calculations!$W$11:$W$178,MATCH('Weekly Chart'!V$7+('Weekly Chart'!$A40*24-24),Calculations!$F$11:$F$178,0))/1000","v":0},{"$f":"INDEX(Calculations!$W$11:$W$178,MATCH('Weekly Chart'!W$7+('Weekly Chart'!$A40*24-24),Calculations!$F$11:$F$178,0))/1000","v":0},{"$f":"INDEX(Calculations!$W$11:$W$178,MATCH('Weekly Chart'!X$7+('Weekly Chart'!$A40*24-24),Calculations!$F$11:$F$178,0))/1000","v":0},{"$f":"INDEX(Calculations!$W$11:$W$178,MATCH('Weekly Chart'!Y$7+('Weekly Chart'!$A40*24-24),Calculations!$F$11:$F$178,0))/1000","v":0},{"$f":"INDEX(Calculations!$W$11:$W$178,MATCH('Weekly Chart'!Z$7+('Weekly Chart'!$A40*24-24),Calculations!$F$11:$F$178,0))/1000","v":0},0,null,"Sunday",{"$f":"INDEX(Calculations!$AM$11:$AM$178,MATCH('Weekly Chart'!AD$7+('Weekly Chart'!$A40*24-24),Calculations!$F$11:$F$178,0))/1000","v":0},{"$f":"INDEX(Calculations!$AM$11:$AM$178,MATCH('Weekly Chart'!AE$7+('Weekly Chart'!$A40*24-24),Calculations!$F$11:$F$178,0))/1000","v":0},{"$f":"INDEX(Calculations!$AM$11:$AM$178,MATCH('Weekly Chart'!AF$7+('Weekly Chart'!$A40*24-24),Calculations!$F$11:$F$178,0))/1000","v":0},{"$f":"INDEX(Calculations!$AM$11:$AM$178,MATCH('Weekly Chart'!AG$7+('Weekly Chart'!$A40*24-24),Calculations!$F$11:$F$178,0))/1000","v":0},{"$f":"INDEX(Calculations!$AM$11:$AM$178,MATCH('Weekly Chart'!AH$7+('Weekly Chart'!$A40*24-24),Calculations!$F$11:$F$178,0))/1000","v":0},{"$f":"INDEX(Calculations!$AM$11:$AM$178,MATCH('Weekly Chart'!AI$7+('Weekly Chart'!$A40*24-24),Calculations!$F$11:$F$178,0))/1000","v":0},{"$f":"INDEX(Calculations!$AM$11:$AM$178,MATCH('Weekly Chart'!AJ$7+('Weekly Chart'!$A40*24-24),Calculations!$F$11:$F$178,0))/1000","v":0},{"$f":"INDEX(Calculations!$AM$11:$AM$178,MATCH('Weekly Chart'!AK$7+('Weekly Chart'!$A40*24-24),Calculations!$F$11:$F$178,0))/1000","v":0},{"$f":"INDEX(Calculations!$AM$11:$AM$178,MATCH('Weekly Chart'!AL$7+('Weekly Chart'!$A40*24-24),Calculations!$F$11:$F$178,0))/1000","v":0},{"$f":"INDEX(Calculations!$AM$11:$AM$178,MATCH('Weekly Chart'!AM$7+('Weekly Chart'!$A40*24-24),Calculations!$F$11:$F$178,0))/1000","v":0},{"$f":"INDEX(Calculations!$AM$11:$AM$178,MATCH('Weekly Chart'!AN$7+('Weekly Chart'!$A40*24-24),Calculations!$F$11:$F$178,0))/1000","v":0},{"$f":"INDEX(Calculations!$AM$11:$AM$178,MATCH('Weekly Chart'!AO$7+('Weekly Chart'!$A40*24-24),Calculations!$F$11:$F$178,0))/1000","v":0},{"$f":"INDEX(Calculations!$AM$11:$AM$178,MATCH('Weekly Chart'!AP$7+('Weekly Chart'!$A40*24-24),Calculations!$F$11:$F$178,0))/1000","v":0},{"$f":"INDEX(Calculations!$AM$11:$AM$178,MATCH('Weekly Chart'!AQ$7+('Weekly Chart'!$A40*24-24),Calculations!$F$11:$F$178,0))/1000","v":0},{"$f":"INDEX(Calculations!$AM$11:$AM$178,MATCH('Weekly Chart'!AR$7+('Weekly Chart'!$A40*24-24),Calculations!$F$11:$F$178,0))/1000","v":0},{"$f":"INDEX(Calculations!$AM$11:$AM$178,MATCH('Weekly Chart'!AS$7+('Weekly Chart'!$A40*24-24),Calculations!$F$11:$F$178,0))/1000","v":0},{"$f":"INDEX(Calculations!$AM$11:$AM$178,MATCH('Weekly Chart'!AT$7+('Weekly Chart'!$A40*24-24),Calculations!$F$11:$F$178,0))/1000","v":0},{"$f":"INDEX(Calculations!$AM$11:$AM$178,MATCH('Weekly Chart'!AU$7+('Weekly Chart'!$A40*24-24),Calculations!$F$11:$F$178,0))/1000","v":0},{"$f":"INDEX(Calculations!$AM$11:$AM$178,MATCH('Weekly Chart'!AV$7+('Weekly Chart'!$A40*24-24),Calculations!$F$11:$F$178,0))/1000","v":0},{"$f":"INDEX(Calculations!$AM$11:$AM$178,MATCH('Weekly Chart'!AW$7+('Weekly Chart'!$A40*24-24),Calculations!$F$11:$F$178,0))/1000","v":0},{"$f":"INDEX(Calculations!$AM$11:$AM$178,MATCH('Weekly Chart'!AX$7+('Weekly Chart'!$A40*24-24),Calculations!$F$11:$F$178,0))/1000","v":0},{"$f":"INDEX(Calculations!$AM$11:$AM$178,MATCH('Weekly Chart'!AY$7+('Weekly Chart'!$A40*24-24),Calculations!$F$11:$F$178,0))/1000","v":0},{"$f":"INDEX(Calculations!$AM$11:$AM$178,MATCH('Weekly Chart'!AZ$7+('Weekly Chart'!$A40*24-24),Calculations!$F$11:$F$178,0))/1000","v":0},{"$f":"INDEX(Calculations!$AM$11:$AM$178,MATCH('Weekly Chart'!BA$7+('Weekly Chart'!$A40*24-24),Calculations!$F$11:$F$178,0))/1000","v":0},0]
[null,"Totals",{"$f":"SUM(C34:C40)","v":0},{"$f":"SUM(D34:D40)","v":0},0,0,0,0,0,0,0,2.3821611245460375,8.1031954334543919,14.102630966032898,24.672666401196324,41.808922565263828,0,0,0,0,0,0,0,0,0,0,{"$f":"SUM(C34:Z40)","v":91.069576490493489},null,"Totals",{"$f":"SUM(AD34:AD40)","v":0},{"$f":"SUM(AE34:AE40)","v":0},0,0,0,0,0,0,0,0,0,0,0.51916684469130525,4.3604116727195059,0,0,0,0,0,0,0,0,0,0,{"$f":"SUM(AD34:BA40)","v":4.8795785174108106}]
[null,null,"00:00:00","01:00:00","02:00:00","03:00:00","04:00:00","05:00:00","06:00:00","07:00:00","08:00:00","09:00:00","10:00:00","11:00:00","12:00:00","13:00:00","14:00:00","15:00:00","16:00:00","17:00:00","18:00:00","19:00:00","20:00:00","21:00:00","22:00:00","23:00:00",null,null,null,"00:00:00","01:00:00","02:00:00","03:00:00","04:00:00","05:00:00","06:00:00","07:00:00","08:00:00","09:00:00","10:00:00","11:00:00","12:00:00","13:00:00","14:00:00","15:00:00","16:00:00","17:00:00","18:00:00","19:00:00","20:00:00","21:00:00","22:00:00","23:00:00"]
[]
[null,{"$f":"Calculations!I8&\" Adjusted Volumes (veh/hr)\"","v":"NB Adjusted Volumes (veh/hr)"},null,null,1,1.25,1.5,1.75,2,"Highlighted based on comparison to estimated capacity.",null,null,null,null,null,null,null,null,null,null,null,null,null,null,null,null,null,null,{"$f":"Calculations!L8&\" Adjusted Volumes (veh/hr)\"","v":"SB Adjusted Volumes (veh/hr)"},null,null,{"$f":"E44","v":1},{"$f":"F44","v":1.25},{"$f":"G44","v":1.5},{"$f":"H44","v":1.75},{"$f":"I44","v":2},"Highlighted based on comparison to estimated capacity."]
[null,null,null,null,1,1.25,1.5,1.75,2,null,null,null,null,null,null,null,null,null,null,null,null,null,null,null,null,null,null,null,null,null,null,{"$f":"E45","v":1},1.25,1.5,1.75,2]
[]
[null,"Day          Hr",0,1,2,3,4,5,6,7,8,9,10,11,12,13,14,15,16,17,18,19,20,21,22,23,null,null,"Day          Hr",0,1,2,3,4,5,6,7,8,9,10,11,12,13,14,15,16,17,18,19,20,21,22,23]
[{"$f":"$A$8","v":2},{"$f":"CHOOSE(WEEKDAY($A48),\"Sunday\",\"Monday\",\"Tuesday\",\"Wednesday\",\"Thursday\",\"Friday\",\"Saturday\")","v":"Monday"},{"$f":"INDEX(Calculations!$I$11:$I$178,MATCH('Weekly Chart'!C$47+('Weekly Chart'!$A48*24-24),Calculations!$F$11:$F$178,0))","v":658},{"$f":"INDEX(Calculations!$I$11:$I$178,MATCH('Weekly Chart'!D$47+('Weekly Chart'!$A48*24-24),Calculations!$F$11:$F$178,0))","v":420},{"$f":"INDEX(Calculations!$I$11:$I$178,MATCH('Weekly Chart'!E$47+('Weekly Chart'!$A48*24-24),Calculations!$F$11:$F$178,0))","v":351},{"$f":"INDEX(Calculations!$I$11:$I$178,MATCH('Weekly Chart'!F$47+('Weekly Chart'!$A48*24-24),Calculations!$F$11:$F$178,0))","v":535},{"$f":"INDEX(Calculations!$I$11:$I$178,MATCH('Weekly Chart'!G$47+('Weekly Chart'!$A48*24-24),Calculations!$F$11:$F$178,0))","v":1291},{"$f":"INDEX(Calculations!$I$11:$I$178,MATCH('Weekly Chart'!H$47+('Weekly Chart'!$A48*24-24),Calculations!$F$11:$F$178,0))","v":3675},{"$f":"INDEX(Calculations!$I$11:$I$178,MATCH('Weekly Chart'!I$47+('Weekly Chart'!$A48*24-24),Calculations!$F$11:$F$178,0))","v":6137},{"$f":"INDEX(Calculations!$I$11:$I$178,MATCH('Weekly Chart'!J$47+('Weekly Chart'!$A48*24-24),Calculations!$F$11:$F$178,0))","v":6696},{"$f":"INDEX(Calculations!$I$11:$I$178,MATCH('Weekly Chart'!K$47+('Weekly Chart'!$A48*24-24),Calculations!$F$11:$F$178,0))","v":5708},{"$f":"INDEX(Calculations!$I$11:$I$178,MATCH('Weekly Chart'!L$47+('Weekly Chart'!$A48*24-24),Calculations!$F$11:$F$178,0))","v":4668},{"$f":"INDEX(Calculations!$I$11:$I$178,MATCH('Weekly Chart'!M$47+('Weekly Chart'!$A48*24-24),Calculations!$F$11:$F$178,0))","v":4540},{"$f":"INDEX(Calculations!$I$11:$I$178,MATCH('Weekly Chart'!N$47+('Weekly Chart'!$A48*24-24),Calculations!$F$11:$F$178,0))","v":4400},{"$f":"INDEX(Calculations!$I$11:$I$178,MATCH('Weekly Chart'!O$47+('Weekly Chart'!$A48*24-24),Calculations!$F$11:$F$178,0))","v":4377},{"$f":"INDEX(Calculations!$I$11:$I$178,MATCH('Weekly Chart'!P$47+('Weekly Chart'!$A48*24-24),Calculations!$F$11:$F$178,0))","v":4352},{"$f":"INDEX(Calculations!$I$11:$I$178,MATCH('Weekly Chart'!Q$47+('Weekly Chart'!$A48*24-24),Calculations!$F$11:$F$178,0))","v":4794},{"$f":"INDEX(Calculations!$I$11:$I$178,MATCH('Weekly Chart'!R$47+('Weekly Chart'!$A48*24-24),Calculations!$F$11:$F$178,0))","v":4996},{"$f":"INDEX(Calculations!$I$11:$I$178,MATCH('Weekly Chart'!S$47+('Weekly Chart'!$A48*24-24),Calculations!$F$11:$F$178,0))","v":5052},{"$f":"INDEX(Calculations!$I$11:$I$178,MATCH('Weekly Chart'!T$47+('Weekly Chart'!$A48*24-24),Calculations!$F$11:$F$178,0))","v":4769},{"$f":"INDEX(Calculations!$I$11:$I$178,MATCH('Weekly Chart'!U$47+('Weekly Chart'!$A48*24-24),Calculations!$F$11:$F$178,0))","v":3830},{"$f":"INDEX(Calculations!$I$11:$I$178,MATCH('Weekly Chart'!V$47+('Weekly Chart'!$A48*24-24),Calculations!$F$11:$F$178,0))","v":2702},{"$f":"INDEX(Calculations!$I$11:$I$178,MATCH('Weekly Chart'!W$47+('Weekly Chart'!$A48*24-24),Calculations!$F$11:$F$178,0))","v":2252},{"$f":"INDEX(Calculations!$I$11:$I$178,MATCH('Weekly Chart'!X$47+('Weekly Chart'!$A48*24-24),Calculations!$F$11:$F$178,0))","v":1883},{"$f":"INDEX(Calculations!$I$11:$I$178,MATCH('Weekly Chart'!Y$47+('Weekly Chart'!$A48*24-24),Calculations!$F$11:$F$178,0))","v":1243},{"$f":"INDEX(Calculations!$I$11:$I$178,MATCH('Weekly Chart'!Z$47+('Weekly Chart'!$A48*24-24),Calculations!$F$11:$F$178,0))","v":839},null,null,{"$f":"CHOOSE(WEEKDAY($A48),\"Sunday\",\"Monday\",\"Tuesday\",\"Wednesday\",\"Thursday\",\"Friday\",\"Saturday\")","v":"Monday"},{"$f":"INDEX(Calculations!$L$11:$L$178,MATCH('Weekly Chart'!AD$47+('Weekly Chart'!$A48*24-24),Calculations!$F$11:$F$178,0))","v":468},{"$f":"INDEX(Calculations!$L$11:$L$178,MATCH('Weekly Chart'!AE$47+('Weekly Chart'!$A48*24-24),Calculations!$F$11:$F$178,0))","v":311},{"$f":"INDEX(Calculations!$L$11:$L$178,MATCH('Weekly Chart'!AF$47+('Weekly Chart'!$A48*24-24),Calculations!$F$11:$F$178,0))","v":292},{"$f":"INDEX(Calculations!$L$11:$L$178,MATCH('Weekly Chart'!AG$47+('Weekly Chart'!$A48*24-24),Calculations!$F$11:$F$178,0))","v":463},{"$f":"INDEX(Calculations!$L$11:$L$178,MATCH('Weekly Chart'!AH$47+('Weekly Chart'!$A48*24-24),Calculations!$F$11:$F$178,0))","v":1021},{"$f":"INDEX(Calculations!$L$11:$L$178,MATCH('Weekly Chart'!AI$47+('Weekly Chart'!$A48*24-24),Calculations!$F$11:$F$178,0))","v":2211},{"$f":"INDEX(Calculations!$L$11:$L$178,MATCH('Weekly Chart'!AJ$47+('Weekly Chart'!$A48*24-24),Calculations!$F$11:$F$178,0))","v":3586},{"$f":"INDEX(Calculations!$L$11:$L$178,MATCH('Weekly Chart'!AK$47+('Weekly Chart'!$A48*24-24),Calculations!$F$11:$F$178,0))","v":4527},{"$f":"INDEX(Calculations!$L$11:$L$178,MATCH('Weekly Chart'!AL$47+('Weekly Chart'!$A48*24-24),Calculations!$F$11:$F$178,0))","v":3863},{"$f":"INDEX(Calculations!$L$11:$L$178,MATCH('Weekly Chart'!AM$47+('Weekly Chart'!$A48*24-24),Calculations!$F$11:$F$178,0))","v":3662},{"$f":"INDEX(Calculations!$L$11:$L$178,MATCH('Weekly Chart'!AN$47+('Weekly Chart'!$A48*24-24),Calculations!$F$11:$F$178,0))","v":3780},{"$f":"INDEX(Calculations!$L$11:$L$178,MATCH('Weekly Chart'!AO$47+('Weekly Chart'!$A48*24-24),Calculations!$F$11:$F$178,0))","v":4117},{"$f":"INDEX(Calculations!$L$11:$L$178,MATCH('Weekly Chart'!AP$47+('Weekly Chart'!$A48*24-24),Calculations!$F$11:$F$178,0))","v":4419},{"$f":"INDEX(Calculations!$L$11:$L$178,MATCH('Weekly Chart'!AQ$47+('Weekly Chart'!$A48*24-24),Calculations!$F$11:$F$178,0))","v":4536},{"$f":"INDEX(Calculations!$L$11:$L$178,MATCH('Weekly Chart'!AR$47+('Weekly Chart'!$A48*24-24),Calculations!$F$11:$F$178,0))","v":5739},{"$f":"INDEX(Calculations!$L$11:$L$178,MATCH('Weekly Chart'!AS$47+('Weekly Chart'!$A48*24-24),Calculations!$F$11:$F$178,0))","v":6678},{"$f":"INDEX(Calculations!$L$11:$L$178,MATCH('Weekly Chart'!AT$47+('Weekly Chart'!$A48*24-24),Calculations!$F$11:$F$178,0))","v":6860},{"$f":"INDEX(Calculations!$L$11:$L$178,MATCH('Weekly Chart'!AU$47+('Weekly Chart'!$A48*24-24),Calculations!$F$11:$F$178,0))","v":6633},{"$f":"INDEX(Calculations!$L$11:$L$178,MATCH('Weekly Chart'!AV$47+('Weekly Chart'!$A48*24-24),Calculations!$F$11:$F$178,0))","v":4580},{"$f":"INDEX(Calculations!$L$11:$L$178,MATCH('Weekly Chart'!AW$47+('Weekly Chart'!$A48*24-24),Calculations!$F$11:$F$178,0))","v":3338},{"$f":"INDEX(Calculations!$L$11:$L$178,MATCH('Weekly Chart'!AX$47+('Weekly Chart'!$A48*24-24),Calculations!$F$11:$F$178,0))","v":2707},{"$f":"INDEX(Calculations!$L$11:$L$178,MATCH('Weekly Chart'!AY$47+('Weekly Chart'!$A48*24-24),Calculations!$F$11:$F$178,0))","v":2108},{"$f":"INDEX(Calculations!$L$11:$L$178,MATCH('Weekly Chart'!AZ$47+('Weekly Chart'!$A48*24-24),Calculations!$F$11:$F$178,0))","v":1468},{"$f":"INDEX(Calculations!$L$11:$L$178,MATCH('Weekly Chart'!BA$47+('Weekly Chart'!$A48*24-24),Calculations!$F$11:$F$178,0))","v":1007}]
[{"$f":"$A$9","v":3},"Tuesday",{"$f":"INDEX(Calculations!$I$11:$I$178,MATCH('Weekly Chart'!C$47+('Weekly Chart'!$A49*24-24),Calculations!$F$11:$F$178,0))","v":565},{"$f":"INDEX(Calculations!$I$11:$I$178,MATCH('Weekly Chart'!D$47+('Weekly Chart'!$A49*24-24),Calculations!$F$11:$F$178,0))","v":444},{"$f":"INDEX(Calculations!$I$11:$I$178,MATCH('Weekly Chart'!E$47+('Weekly Chart'!$A49*24-24),Calculations!$F$11:$F$178,0))","v":385},{"$f":"INDEX(Calculations!$I$11:$I$178,MATCH('Weekly Chart'!F$47+('Weekly Chart'!$A49*24-24),Calculations!$F$11:$F$178,0))","v":561},{"$f":"INDEX(Calculations!$I$11:$I$178,MATCH('Weekly Chart'!G$47+('Weekly Chart'!$A49*24-24),Calculations!$F$11:$F$178,0))","v":1318},{"$f":"INDEX(Calculations!$I$11:$I$178,MATCH('Weekly Chart'!H$47+('Weekly Chart'!$A49*24-24),Calculations!$F$11:$F$178,0))","v":3813},{"$f":"INDEX(Calculations!$I$11:$I$178,MATCH('Weekly Chart'!I$47+('Weekly Chart'!$A49*24-24),Calculations!$F$11:$F$178,0))","v":6480},{"$f":"INDEX(Calculations!$I$11:$I$178,MATCH('Weekly Chart'!J$47+('Weekly Chart'!$A49*24-24),Calculations!$F$11:$F$178,0))","v":7068},{"$f":"INDEX(Calculations!$I$11:$I$178,MATCH('Weekly Chart'!K$47+('Weekly Chart'!$A49*24-24),Calculations!$F$11:$F$178,0))","v":5956},{"$f":"INDEX(Calculations!$I$11:$I$178,MATCH('Weekly Chart'!L$47+('Weekly Chart'!$A49*24-24),Calculations!$F$11:$F$178,0))","v":4958},{"$f":"INDEX(Calculations!$I$11:$I$178,MATCH('Weekly Chart'!M$47+('Weekly Chart'!$A49*24-24),Calculations!$F$11:$F$178,0))","v":4628},{"$f":"INDEX(Calculations!$I$11:$I$178,MATCH('Weekly Chart'!N$47+('Weekly Chart'!$A49*24-24),Calculations!$F$11:$F$178,0))","v":4455},{"$f":"INDEX(Calculations!$I$11:$I$178,MATCH('Weekly Chart'!O$47+('Weekly Chart'!$A49*24-24),Calculations!$F$11:$F$178,0))","v":4477},{"$f":"INDEX(Calculations!$I$11:$I$178,MATCH('Weekly Chart'!P$47+('Weekly Chart'!$A49*24-24),Calculations!$F$11:$F$178,0))","v":4473},{"$f":"INDEX(Calculations!$I$11:$I$178,MATCH('Weekly Chart'!Q$47+('Weekly Chart'!$A49*24-24),Calculations!$F$11:$F$178,0))","v":5080},{"$f":"INDEX(Calculations!$I$11:$I$178,MATCH('Weekly Chart'!R$47+('Weekly Chart'!$A49*24-24),Calculations!$F$11:$F$178,0))","v":5224},{"$f":"INDEX(Calculations!$I$11:$I$178,MATCH('Weekly Chart'!S$47+('Weekly Chart'!$A49*24-24),Calculations!$F$11:$F$178,0))","v":5268},{"$f":"INDEX(Calculations!$I$11:$I$178,MATCH('Weekly Chart'!T$47+('Weekly Chart'!$A49*24-24),Calculations!$F$11:$F$178,0))","v":5039},{"$f":"INDEX(Calculations!$I$11:$I$178,MATCH('Weekly Chart'!U$47+('Weekly Chart'!$A49*24-24),Calculations!$F$11:$F$178,0))","v":3964},{"$f":"INDEX(Calculations!$I$11:$I$178,MATCH('Weekly Chart'!V$47+('Weekly Chart'!$A49*24-24),Calculations!$F$11:$F$178,0))","v":2791},{"$f":"INDEX(Calculations!$I$11:$I$178,MATCH('Weekly Chart'!W$47+('Weekly Chart'!$A49*24-24),Calculations!$F$11:$F$178,0))","v":2434},{"$f":"INDEX(Calculations!$I$11:$I$178,MATCH('Weekly Chart'!X$47+('Weekly Chart'!$A49*24-24),Calculations!$F$11:$F$178,0))","v":2018},{"$f":"INDEX(Calculations!$I$11:$I$178,MATCH('Weekly Chart'!Y$47+('Weekly Chart'!$A49*24-24),Calculations!$F$11:$F$178,0))","v":1329},{"$f":"INDEX(Calculations!$I$11:$I$178,MATCH('Weekly Chart'!Z$47+('Weekly Chart'!$A49*24-24),Calculations!$F$11:$F$178,0))","v":915},null,null,"Tuesday",{"$f":"INDEX(Calculations!$L$11:$L$178,MATCH('Weekly Chart'!AD$47+('Weekly Chart'!$A49*24-24),Calculations!$F$11:$F$178,0))","v":590},{"$f":"INDEX(Calculations!$L$11:$L$178,MATCH('Weekly Chart'!AE$47+('Weekly Chart'!$A49*24-24),Calculations!$F$11:$F$178,0))","v":392},{"$f":"INDEX(Calculations!$L$11:$L$178,MATCH('Weekly Chart'!AF$47+('Weekly Chart'!$A49*24-24),Calculations!$F$11:$F$178,0))","v":357},{"$f":"INDEX(Calculations!$L$11:$L$178,MATCH('Weekly Chart'!AG$47+('Weekly Chart'!$A49*24-24),Calculations!$F$11:$F$178,0))","v":492},{"$f":"INDEX(Calculations!$L$11:$L$178,MATCH('Weekly Chart'!AH$47+('Weekly Chart'!$A49*24-24),Calculations!$F$11:$F$178,0))","v":1001},{"$f":"INDEX(Calculations!$L$11:$L$178,MATCH('Weekly Chart'!AI$47+('Weekly Chart'!$A49*24-24),Calculations!$F$11:$F$178,0))","v":2184},{"$f":"INDEX(Calculations!$L$11:$L$178,MATCH('Weekly Chart'!AJ$47+('Weekly Chart'!$A49*24-24),Calculations!$F$11:$F$178,0))","v":3693},{"$f":"INDEX(Calculations!$L$11:$L$178,MATCH('Weekly Chart'!AK$47+('Weekly Chart'!$A49*24-24),Calculations!$F$11:$F$178,0))","v":4721},{"$f":"INDEX(Calculations!$L$11:$L$178,MATCH('Weekly Chart'!AL$47+('Weekly Chart'!$A49*24-24),Calculations!$F$11:$F$178,0))","v":4325},{"$f":"INDEX(Calculations!$L$11:$L$178,MATCH('Weekly Chart'!AM$47+('Weekly Chart'!$A49*24-24),Calculations!$F$11:$F$178,0))","v":3766},{"$f":"INDEX(Calculations!$L$11:$L$178,MATCH('Weekly Chart'!AN$47+('Weekly Chart'!$A49*24-24),Calculations!$F$11:$F$178,0))","v":3747},{"$f":"INDEX(Calculations!$L$11:$L$178,MATCH('Weekly Chart'!AO$47+('Weekly Chart'!$A49*24-24),Calculations!$F$11:$F$178,0))","v":4012},{"$f":"INDEX(Calculations!$L$11:$L$178,MATCH('Weekly Chart'!AP$47+('Weekly Chart'!$A49*24-24),Calculations!$F$11:$F$178,0))","v":4339},{"$f":"INDEX(Calculations!$L$11:$L$178,MATCH('Weekly Chart'!AQ$47+('Weekly Chart'!$A49*24-24),Calculations!$F$11:$F$178,0))","v":4604},{"$f":"INDEX(Calculations!$L$11:$L$178,MATCH('Weekly Chart'!AR$47+('Weekly Chart'!$A49*24-24),Calculations!$F$11:$F$178,0))","v":5842},{"$f":"INDEX(Calculations!$L$11:$L$178,MATCH('Weekly Chart'!AS$47+('Weekly Chart'!$A49*24-24),Calculations!$F$11:$F$178,0))","v":6888},{"$f":"INDEX(Calculations!$L$11:$L$178,MATCH('Weekly Chart'!AT$47+('Weekly Chart'!$A49*24-24),Calculations!$F$11:$F$178,0))","v":7300},{"$f":"INDEX(Calculations!$L$11:$L$178,MATCH('Weekly Chart'!AU$47+('Weekly Chart'!$A49*24-24),Calculations!$F$11:$F$178,0))","v":6742},{"$f":"INDEX(Calculations!$L$11:$L$178,MATCH('Weekly Chart'!AV$47+('Weekly Chart'!$A49*24-24),Calculations!$F$11:$F$178,0))","v":4899},{"$f":"INDEX(Calculations!$L$11:$L$178,MATCH('Weekly Chart'!AW$47+('Weekly Chart'!$A49*24-24),Calculations!$F$11:$F$178,0))","v":3511},{"$f":"INDEX(Calculations!$L$11:$L$178,MATCH('Weekly Chart'!AX$47+('Weekly Chart'!$A49*24-24),Calculations!$F$11:$F$178,0))","v":2963},{"$f":"INDEX(Calculations!$L$11:$L$178,MATCH('Weekly Chart'!AY$47+('Weekly Chart'!$A49*24-24),Calculations!$F$11:$F$178,0))","v":2445},{"$f":"INDEX(Calculations!$L$11:$L$178,MATCH('Weekly Chart'!AZ$47+('Weekly Chart'!$A49*24-24),Calculations!$F$11:$F$178,0))","v":1838},{"$f":"INDEX(Calculations!$L$11:$L$178,MATCH('Weekly Chart'!BA$47+('Weekly Chart'!$A49*24-24),Calculations!$F$11:$F$178,0))","v":1301}]
[{"$f":"$A$10","v":4},"Wednesday",{"$f":"INDEX(Calculations!$I$11:$I$178,MATCH('Weekly Chart'!C$47+('Weekly Chart'!$A50*24-24),Calculations!$F$11:$F$178,0))","v":619},{"$f":"INDEX(Calculations!$I$11:$I$178,MATCH('Weekly Chart'!D$47+('Weekly Chart'!$A50*24-24),Calculations!$F$11:$F$178,0))","v":447},{"$f":"INDEX(Calculations!$I$11:$I$178,MATCH('Weekly Chart'!E$47+('Weekly Chart'!$A50*24-24),Calculations!$F$11:$F$178,0))","v":388},{"$f":"INDEX(Calculations!$I$11:$I$178,MATCH('Weekly Chart'!F$47+('Weekly Chart'!$A50*24-24),Calculations!$F$11:$F$178,0))","v":547},{"$f":"INDEX(Calculations!$I$11:$I$178,MATCH('Weekly Chart'!G$47+('Weekly Chart'!$A50*24-24),Calculations!$F$11:$F$178,0))","v":1320},{"$f":"INDEX(Calculations!$I$11:$I$178,MATCH('Weekly Chart'!H$47+('Weekly Chart'!$A50*24-24),Calculations!$F$11:$F$178,0))","v":3860},{"$f":"INDEX(Calculations!$I$11:$I$178,MATCH('Weekly Chart'!I$47+('Weekly Chart'!$A50*24-24),Calculations!$F$11:$F$178,0))","v":6482},{"$f":"INDEX(Calculations!$I$11:$I$178,MATCH('Weekly Chart'!J$47+('Weekly Chart'!$A50*24-24),Calculations!$F$11:$F$178,0))","v":6624},{"$f":"INDEX(Calculations!$I$11:$I$178,MATCH('Weekly Chart'!K$47+('Weekly Chart'!$A50*24-24),Calculations!$F$11:$F$178,0))","v":5517},{"$f":"INDEX(Calculations!$I$11:$I$178,MATCH('Weekly Chart'!L$47+('Weekly Chart'!$A50*24-24),Calculations!$F$11:$F$178,0))","v":4949},{"$f":"INDEX(Calculations!$I$11:$I$178,MATCH('Weekly Chart'!M$47+('Weekly Chart'!$A50*24-24),Calculations!$F$11:$F$178,0))","v":4850},{"$f":"INDEX(Calculations!$I$11:$I$178,MATCH('Weekly Chart'!N$47+('Weekly Chart'!$A50*24-24),Calculations!$F$11:$F$178,0))","v":4617},{"$f":"INDEX(Calculations!$I$11:$I$178,MATCH('Weekly Chart'!O$47+('Weekly Chart'!$A50*24-24),Calculations!$F$11:$F$178,0))","v":4611},{"$f":"INDEX(Calculations!$I$11:$I$178,MATCH('Weekly Chart'!P$47+('Weekly Chart'!$A50*24-24),Calculations!$F$11:$F$178,0))","v":4489},{"$f":"INDEX(Calculations!$I$11:$I$178,MATCH('Weekly Chart'!Q$47+('Weekly Chart'!$A50*24-24),Calculations!$F$11:$F$178,0))","v":5046},{"$f":"INDEX(Calculations!$I$11:$I$178,MATCH('Weekly Chart'!R$47+('Weekly Chart'!$A50*24-24),Calculations!$F$11:$F$178,0))","v":5271},{"$f":"INDEX(Calculations!$I$11:$I$178,MATCH('Weekly Chart'!S$47+('Weekly Chart'!$A50*24-24),Calculations!$F$11:$F$178,0))","v":5108},{"$f":"INDEX(Calculations!$I$11:$I$178,MATCH('Weekly Chart'!T$47+('Weekly Chart'!$A50*24-24),Calculations!$F$11:$F$178,0))","v":4962},{"$f":"INDEX(Calculations!$I$11:$I$178,MATCH('Weekly Chart'!U$47+('Weekly Chart'!$A50*24-24),Calculations!$F$11:$F$178,0))","v":4131},{"$f":"INDEX(Calculations!$I$11:$I$178,MATCH('Weekly Chart'!V$47+('Weekly Chart'!$A50*24-24),Calculations!$F$11:$F$178,0))","v":2988},{"$f":"INDEX(Calculations!$I$11:$I$178,MATCH('Weekly Chart'!W$47+('Weekly Chart'!$A50*24-24),Calculations!$F$11:$F$178,0))","v":2598},{"$f":"INDEX(Calculations!$I$11:$I$178,MATCH('Weekly Chart'!X$47+('Weekly Chart'!$A50*24-24),Calculations!$F$11:$F$178,0))","v":2128},{"$f":"INDEX(Calculations!$I$11:$I$178,MATCH('Weekly Chart'!Y$47+('Weekly Chart'!$A50*24-24),Calculations!$F$11:$F$178,0))","v":1414},{"$f":"INDEX(Calculations!$I$11:$I$178,MATCH('Weekly Chart'!Z$47+('Weekly Chart'!$A50*24-24),Calculations!$F$11:$F$178,0))","v":898},null,null,"Wednesday",{"$f":"INDEX(Calculations!$L$11:$L$178,MATCH('Weekly Chart'!AD$47+('Weekly Chart'!$A50*24-24),Calculations!$F$11:$F$178,0))","v":649},{"$f":"INDEX(Calculations!$L$11:$L$178,MATCH('Weekly Chart'!AE$47+('Weekly Chart'!$A50*24-24),Calculations!$F$11:$F$178,0))","v":409},{"$f":"INDEX(Calculations!$L$11:$L$178,MATCH('Weekly Chart'!AF$47+('Weekly Chart'!$A50*24-24),Calculations!$F$11:$F$178,0))","v":394},{"$f":"INDEX(Calculations!$L$11:$L$178,MATCH('Weekly Chart'!AG$47+('Weekly Chart'!$A50*24-24),Calculations!$F$11:$F$178,0))","v":506},{"$f":"INDEX(Calculations!$L$11:$L$178,MATCH('Weekly Chart'!AH$47+('Weekly Chart'!$A50*24-24),Calculations!$F$11:$F$178,0))","v":949},{"$f":"INDEX(Calculations!$L$11:$L$178,MATCH('Weekly Chart'!AI$47+('Weekly Chart'!$A50*24-24),Calculations!$F$11:$F$178,0))","v":2185},{"$f":"INDEX(Calculations!$L$11:$L$178,MATCH('Weekly Chart'!AJ$47+('Weekly Chart'!$A50*24-24),Calculations!$F$11:$F$178,0))","v":3620},{"$f":"INDEX(Calculations!$L$11:$L$178,MATCH('Weekly Chart'!AK$47+('Weekly Chart'!$A50*24-24),Calculations!$F$11:$F$178,0))","v":4706},{"$f":"INDEX(Calculations!$L$11:$L$178,MATCH('Weekly Chart'!AL$47+('Weekly Chart'!$A50*24-24),Calculations!$F$11:$F$178,0))","v":4317},{"$f":"INDEX(Calculations!$L$11:$L$178,MATCH('Weekly Chart'!AM$47+('Weekly Chart'!$A50*24-24),Calculations!$F$11:$F$178,0))","v":3827},{"$f":"INDEX(Calculations!$L$11:$L$178,MATCH('Weekly Chart'!AN$47+('Weekly Chart'!$A50*24-24),Calculations!$F$11:$F$178,0))","v":3870},{"$f":"INDEX(Calculations!$L$11:$L$178,MATCH('Weekly Chart'!AO$47+('Weekly Chart'!$A50*24-24),Calculations!$F$11:$F$178,0))","v":4067},{"$f":"INDEX(Calculations!$L$11:$L$178,MATCH('Weekly Chart'!AP$47+('Weekly Chart'!$A50*24-24),Calculations!$F$11:$F$178,0))","v":4488},{"$f":"INDEX(Calculations!$L$11:$L$178,MATCH('Weekly Chart'!AQ$47+('Weekly Chart'!$A50*24-24),Calculations!$F$11:$F$178,0))","v":4810},{"$f":"INDEX(Calculations!$L$11:$L$178,MATCH('Weekly Chart'!AR$47+('Weekly Chart'!$A50*24-24),Calculations!$F$11:$F$178,0))","v":5910},{"$f":"INDEX(Calculations!$L$11:$L$178,MATCH('Weekly Chart'!AS$47+('Weekly Chart'!$A50*24-24),Calculations!$F$11:$F$178,0))","v":7086},{"$f":"INDEX(Calculations!$L$11:$L$178,MATCH('Weekly Chart'!AT$47+('Weekly Chart'!$A50*24-24),Calculations!$F$11:$F$178,0))","v":6916},{"$f":"INDEX(Calculations!$L$11:$L$178,MATCH('Weekly Chart'!AU$47+('Weekly Chart'!$A50*24-24),Calculations!$F$11:$F$178,0))","v":6791},{"$f":"INDEX(Calculations!$L$11:$L$178,MATCH('Weekly Chart'!AV$47+('Weekly Chart'!$A50*24-24),Calculations!$F$11:$F$178,0))","v":4843},{"$f":"INDEX(Calculations!$L$11:$L$178,MATCH('Weekly Chart'!AW$47+('Weekly Chart'!$A50*24-24),Calculations!$F$11:$F$178,0))","v":3673},{"$f":"INDEX(Calculations!$L$11:$L$178,MATCH('Weekly Chart'!AX$47+('Weekly Chart'!$A50*24-24),Calculations!$F$11:$F$178,0))","v":2952},{"$f":"INDEX(Calculations!$L$11:$L$178,MATCH('Weekly Chart'!AY$47+('Weekly Chart'!$A50*24-24),Calculations!$F$11:$F$178,0))","v":2379},{"$f":"INDEX(Calculations!$L$11:$L$178,MATCH('Weekly Chart'!AZ$47+('Weekly Chart'!$A50*24-24),Calculations!$F$11:$F$178,0))","v":1675},{"$f":"INDEX(Calculations!$L$11:$L$178,MATCH('Weekly Chart'!BA$47+('Weekly Chart'!$A50*24-24),Calculations!$F$11:$F$178,0))","v":1135}]
[{"$f":"$A$11","v":5},"Thursday",{"$f":"INDEX(Calculations!$I$11:$I$178,MATCH('Weekly Chart'!C$47+('Weekly Chart'!$A51*24-24),Calculations!$F$11:$F$178,0))","v":618},{"$f":"INDEX(Calculations!$I$11:$I$178,MATCH('Weekly Chart'!D$47+('Weekly Chart'!$A51*24-24),Calculations!$F$11:$F$178,0))","v":488},{"$f":"INDEX(Calculations!$I$11:$I$178,MATCH('Weekly Chart'!E$47+('Weekly Chart'!$A51*24-24),Calculations!$F$11:$F$178,0))","v":412},{"$f":"INDEX(Calculations!$I$11:$I$178,MATCH('Weekly Chart'!F$47+('Weekly Chart'!$A51*24-24),Calculations!$F$11:$F$178,0))","v":535},{"$f":"INDEX(Calculations!$I$11:$I$178,MATCH('Weekly Chart'!G$47+('Weekly Chart'!$A51*24-24),Calculations!$F$11:$F$178,0))","v":1343},{"$f":"INDEX(Calculations!$I$11:$I$178,MATCH('Weekly Chart'!H$47+('Weekly Chart'!$A51*24-24),Calculations!$F$11:$F$178,0))","v":3771},{"$f":"INDEX(Calculations!$I$11:$I$178,MATCH('Weekly Chart'!I$47+('Weekly Chart'!$A51*24-24),Calculations!$F$11:$F$178,0))","v":6470},{"$f":"INDEX(Calculations!$I$11:$I$178,MATCH('Weekly Chart'!J$47+('Weekly Chart'!$A51*24-24),Calculations!$F$11:$F$178,0))","v":6752},{"$f":"INDEX(Calculations!$I$11:$I$178,MATCH('Weekly Chart'!K$47+('Weekly Chart'!$A51*24-24),Calculations!$F$11:$F$178,0))","v":5885},{"$f":"INDEX(Calculations!$I$11:$I$178,MATCH('Weekly Chart'!L$47+('Weekly Chart'!$A51*24-24),Calculations!$F$11:$F$178,0))","v":5039},{"$f":"INDEX(Calculations!$I$11:$I$178,MATCH('Weekly Chart'!M$47+('Weekly Chart'!$A51*24-24),Calculations!$F$11:$F$178,0))","v":4996},{"$f":"INDEX(Calculations!$I$11:$I$178,MATCH('Weekly Chart'!N$47+('Weekly Chart'!$A51*24-24),Calculations!$F$11:$F$178,0))","v":4672},{"$f":"INDEX(Calculations!$I$11:$I$178,MATCH('Weekly Chart'!O$47+('Weekly Chart'!$A51*24-24),Calculations!$F$11:$F$178,0))","v":4779},{"$f":"INDEX(Calculations!$I$11:$I$178,MATCH('Weekly Chart'!P$47+('Weekly Chart'!$A51*24-24),Calculations!$F$11:$F$178,0))","v":4768},{"$f":"INDEX(Calculations!$I$11:$I$178,MATCH('Weekly Chart'!Q$47+('Weekly Chart'!$A51*24-24),Calculations!$F$11:$F$178,0))","v":5330},{"$f":"INDEX(Calculations!$I$11:$I$178,MATCH('Weekly Chart'!R$47+('Weekly Chart'!$A51*24-24),Calculations!$F$11:$F$178,0))","v":5481},{"$f":"INDEX(Calculations!$I$11:$I$178,MATCH('Weekly Chart'!S$47+('Weekly Chart'!$A51*24-24),Calculations!$F$11:$F$178,0))","v":5031},{"$f":"INDEX(Calculations!$I$11:$I$178,MATCH('Weekly Chart'!T$47+('Weekly Chart'!$A51*24-24),Calculations!$F$11:$F$178,0))","v":4965},{"$f":"INDEX(Calculations!$I$11:$I$178,MATCH('Weekly Chart'!U$47+('Weekly Chart'!$A51*24-24),Calculations!$F$11:$F$178,0))","v":4233},{"$f":"INDEX(Calculations!$I$11:$I$178,MATCH('Weekly Chart'!V$47+('Weekly Chart'!$A51*24-24),Calculations!$F$11:$F$178,0))","v":3177},{"$f":"INDEX(Calculations!$I$11:$I$178,MATCH('Weekly Chart'!W$47+('Weekly Chart'!$A51*24-24),Calculations!$F$11:$F$178,0))","v":2740},{"$f":"INDEX(Calculations!$I$11:$I$178,MATCH('Weekly Chart'!X$47+('Weekly Chart'!$A51*24-24),Calculations!$F$11:$F$178,0))","v":2331},{"$f":"INDEX(Calculations!$I$11:$I$178,MATCH('Weekly Chart'!Y$47+('Weekly Chart'!$A51*24-24),Calculations!$F$11:$F$178,0))","v":1585},{"$f":"INDEX(Calculations!$I$11:$I$178,MATCH('Weekly Chart'!Z$47+('Weekly Chart'!$A51*24-24),Calculations!$F$11:$F$178,0))","v":1051},null,null,"Thursday",{"$f":"INDEX(Calculations!$L$11:$L$178,MATCH('Weekly Chart'!AD$47+('Weekly Chart'!$A51*24-24),Calculations!$F$11:$F$178,0))","v":609},{"$f":"INDEX(Calculations!$L$11:$L$178,MATCH('Weekly Chart'!AE$47+('Weekly Chart'!$A51*24-24),Calculations!$F$11:$F$178,0))","v":420},{"$f":"INDEX(Calculations!$L$11:$L$178,MATCH('Weekly Chart'!AF$47+('Weekly Chart'!$A51*24-24),Calculations!$F$11:$F$178,0))","v":402},{"$f":"INDEX(Calculations!$L$11:$L$178,MATCH('Weekly Chart'!AG$47+('Weekly Chart'!$A51*24-24),Calculations!$F$11:$F$178,0))","v":534},{"$f":"INDEX(Calculations!$L$11:$L$178,MATCH('Weekly Chart'!AH$47+('Weekly Chart'!$A51*24-24),Calculations!$F$11:$F$178,0))","v":964},{"$f":"INDEX(Calculations!$L$11:$L$178,MATCH('Weekly Chart'!AI$47+('Weekly Chart'!$A51*24-24),Calculations!$F$11:$F$178,0))","v":2170},{"$f":"INDEX(Calculations!$L$11:$L$178,MATCH('Weekly Chart'!AJ$47+('Weekly Chart'!$A51*24-24),Calculations!$F$11:$F$178,0))","v":3592},{"$f":"INDEX(Calculations!$L$11:$L$178,MATCH('Weekly Chart'!AK$47+('Weekly Chart'!$A51*24-24),Calculations!$F$11:$F$178,0))","v":4528},{"$f":"INDEX(Calculations!$L$11:$L$178,MATCH('Weekly Chart'!AL$47+('Weekly Chart'!$A51*24-24),Calculations!$F$11:$F$178,0))","v":4292},{"$f":"INDEX(Calculations!$L$11:$L$178,MATCH('Weekly Chart'!AM$47+('Weekly Chart'!$A51*24-24),Calculations!$F$11:$F$178,0))","v":3952},{"$f":"INDEX(Calculations!$L$11:$L$178,MATCH('Weekly Chart'!AN$47+('Weekly Chart'!$A51*24-24),Calculations!$F$11:$F$178,0))","v":3938},{"$f":"INDEX(Calculations!$L$11:$L$178,MATCH('Weekly Chart'!AO$47+('Weekly Chart'!$A51*24-24),Calculations!$F$11:$F$178,0))","v":3553},{"$f":"INDEX(Calculations!$L$11:$L$178,MATCH('Weekly Chart'!AP$47+('Weekly Chart'!$A51*24-24),Calculations!$F$11:$F$178,0))","v":3621},{"$f":"INDEX(Calculations!$L$11:$L$178,MATCH('Weekly Chart'!AQ$47+('Weekly Chart'!$A51*24-24),Calculations!$F$11:$F$178,0))","v":3982},{"$f":"INDEX(Calculations!$L$11:$L$178,MATCH('Weekly Chart'!AR$47+('Weekly Chart'!$A51*24-24),Calculations!$F$11:$F$178,0))","v":5542},{"$f":"INDEX(Calculations!$L$11:$L$178,MATCH('Weekly Chart'!AS$47+('Weekly Chart'!$A51*24-24),Calculations!$F$11:$F$178,0))","v":6961},{"$f":"INDEX(Calculations!$L$11:$L$178,MATCH('Weekly Chart'!AT$47+('Weekly Chart'!$A51*24-24),Calculations!$F$11:$F$178,0))","v":6811},{"$f":"INDEX(Calculations!$L$11:$L$178,MATCH('Weekly Chart'!AU$47+('Weekly Chart'!$A51*24-24),Calculations!$F$11:$F$178,0))","v":6584},{"$f":"INDEX(Calculations!$L$11:$L$178,MATCH('Weekly Chart'!AV$47+('Weekly Chart'!$A51*24-24),Calculations!$F$11:$F$178,0))","v":4865},{"$f":"INDEX(Calculations!$L$11:$L$178,MATCH('Weekly Chart'!AW$47+('Weekly Chart'!$A51*24-24),Calculations!$F$11:$F$178,0))","v":3681},{"$f":"INDEX(Calculations!$L$11:$L$178,MATCH('Weekly Chart'!AX$47+('Weekly Chart'!$A51*24-24),Calculations!$F$11:$F$178,0))","v":3127},{"$f":"INDEX(Calculations!$L$11:$L$178,MATCH('Weekly Chart'!AY$47+('Weekly Chart'!$A51*24-24),Calculations!$F$11:$F$178,0))","v":2517},{"$f":"INDEX(Calculations!$L$11:$L$178,MATCH('Weekly Chart'!AZ$47+('Weekly Chart'!$A51*24-24),Calculations!$F$11:$F$178,0))","v":1992},{"$f":"INDEX(Calculations!$L$11:$L$178,MATCH('Weekly Chart'!BA$47+('Weekly Chart'!$A51*24-24),Calculations!$F$11:$F$178,0))","v":1443}]
[{"$f":"$A$12","v":6},"Friday",{"$f":"INDEX(Calculations!$I$11:$I$178,MATCH('Weekly Chart'!C$47+('Weekly Chart'!$A52*24-24),Calculations!$F$11:$F$178,0))","v":665},{"$f":"INDEX(Calculations!$I$11:$I$178,MATCH('Weekly Chart'!D$47+('Weekly Chart'!$A52*24-24),Calculations!$F$11:$F$178,0))","v":532},{"$f":"INDEX(Calculations!$I$11:$I$178,MATCH('Weekly Chart'!E$47+('Weekly Chart'!$A52*24-24),Calculations!$F$11:$F$178,0))","v":424},{"$f":"INDEX(Calculations!$I$11:$I$178,MATCH('Weekly Chart'!F$47+('Weekly Chart'!$A52*24-24),Calculations!$F$11:$F$178,0))","v":559},{"$f":"INDEX(Calculations!$I$11:$I$178,MATCH('Weekly Chart'!G$47+('Weekly Chart'!$A52*24-24),Calculations!$F$11:$F$178,0))","v":1249},{"$f":"INDEX(Calculations!$I$11:$I$178,MATCH('Weekly Chart'!H$47+('Weekly Chart'!$A52*24-24),Calculations!$F$11:$F$178,0))","v":3477},{"$f":"INDEX(Calculations!$I$11:$I$178,MATCH('Weekly Chart'!I$47+('Weekly Chart'!$A52*24-24),Calculations!$F$11:$F$178,0))","v":5982},{"$f":"INDEX(Calculations!$I$11:$I$178,MATCH('Weekly Chart'!J$47+('Weekly Chart'!$A52*24-24),Calculations!$F$11:$F$178,0))","v":6938},{"$f":"INDEX(Calculations!$I$11:$I$178,MATCH('Weekly Chart'!K$47+('Weekly Chart'!$A52*24-24),Calculations!$F$11:$F$178,0))","v":5543},{"$f":"INDEX(Calculations!$I$11:$I$178,MATCH('Weekly Chart'!L$47+('Weekly Chart'!$A52*24-24),Calculations!$F$11:$F$178,0))","v":5137},{"$f":"INDEX(Calculations!$I$11:$I$178,MATCH('Weekly Chart'!M$47+('Weekly Chart'!$A52*24-24),Calculations!$F$11:$F$178,0))","v":5202},{"$f":"INDEX(Calculations!$I$11:$I$178,MATCH('Weekly Chart'!N$47+('Weekly Chart'!$A52*24-24),Calculations!$F$11:$F$178,0))","v":5217},{"$f":"INDEX(Calculations!$I$11:$I$178,MATCH('Weekly Chart'!O$47+('Weekly Chart'!$A52*24-24),Calculations!$F$11:$F$178,0))","v":5253},{"$f":"INDEX(Calculations!$I$11:$I$178,MATCH('Weekly Chart'!P$47+('Weekly Chart'!$A52*24-24),Calculations!$F$11:$F$178,0))","v":5384},{"$f":"INDEX(Calculations!$I$11:$I$178,MATCH('Weekly Chart'!Q$47+('Weekly Chart'!$A52*24-24),Calculations!$F$11:$F$178,0))","v":5656},{"$f":"INDEX(Calculations!$I$11:$I$178,MATCH('Weekly Chart'!R$47+('Weekly Chart'!$A52*24-24),Calculations!$F$11:$F$178,0))","v":5672},{"$f":"INDEX(Calculations!$I$11:$I$178,MATCH('Weekly Chart'!S$47+('Weekly Chart'!$A52*24-24),Calculations!$F$11:$F$178,0))","v":5285},{"$f":"INDEX(Calculations!$I$11:$I$178,MATCH('Weekly Chart'!T$47+('Weekly Chart'!$A52*24-24),Calculations!$F$11:$F$178,0))","v":4991},{"$f":"INDEX(Calculations!$I$11:$I$178,MATCH('Weekly Chart'!U$47+('Weekly Chart'!$A52*24-24),Calculations!$F$11:$F$178,0))","v":4666},{"$f":"INDEX(Calculations!$I$11:$I$178,MATCH('Weekly Chart'!V$47+('Weekly Chart'!$A52*24-24),Calculations!$F$11:$F$178,0))","v":3610},{"$f":"INDEX(Calculations!$I$11:$I$178,MATCH('Weekly Chart'!W$47+('Weekly Chart'!$A52*24-24),Calculations!$F$11:$F$178,0))","v":2883},{"$f":"INDEX(Calculations!$I$11:$I$178,MATCH('Weekly Chart'!X$47+('Weekly Chart'!$A52*24-24),Calculations!$F$11:$F$178,0))","v":2514},{"$f":"INDEX(Calculations!$I$11:$I$178,MATCH('Weekly Chart'!Y$47+('Weekly Chart'!$A52*24-24),Calculations!$F$11:$F$178,0))","v":1923},{"$f":"INDEX(Calculations!$I$11:$I$178,MATCH('Weekly Chart'!Z$47+('Weekly Chart'!$A52*24-24),Calculations!$F$11:$F$178,0))","v":1433},null,null,"Friday",{"$f":"INDEX(Calculations!$L$11:$L$178,MATCH('Weekly Chart'!AD$47+('Weekly Chart'!$A52*24-24),Calculations!$F$11:$F$178,0))","v":740},{"$f":"INDEX(Calculations!$L$11:$L$178,MATCH('Weekly Chart'!AE$47+('Weekly Chart'!$A52*24-24),Calculations!$F$11:$F$178,0))","v":485},{"$f":"INDEX(Calculations!$L$11:$L$178,MATCH('Weekly Chart'!AF$47+('Weekly Chart'!$A52*24-24),Calculations!$F$11:$F$178,0))","v":437},{"$f":"INDEX(Calculations!$L$11:$L$178,MATCH('Weekly Chart'!AG$47+('Weekly Chart'!$A52*24-24),Calculations!$F$11:$F$178,0))","v":545},{"$f":"INDEX(Calculations!$L$11:$L$178,MATCH('Weekly Chart'!AH$47+('Weekly Chart'!$A52*24-24),Calculations!$F$11:$F$178,0))","v":959},{"$f":"INDEX(Calculations!$L$11:$L$178,MATCH('Weekly Chart'!AI$47+('Weekly Chart'!$A52*24-24),Calculations!$F$11:$F$178,0))","v":1968},{"$f":"INDEX(Calculations!$L$11:$L$178,MATCH('Weekly Chart'!AJ$47+('Weekly Chart'!$A52*24-24),Calculations!$F$11:$F$178,0))","v":3307},{"$f":"INDEX(Calculations!$L$11:$L$178,MATCH('Weekly Chart'!AK$47+('Weekly Chart'!$A52*24-24),Calculations!$F$11:$F$178,0))","v":4300},{"$f":"INDEX(Calculations!$L$11:$L$178,MATCH('Weekly Chart'!AL$47+('Weekly Chart'!$A52*24-24),Calculations!$F$11:$F$178,0))","v":4022},{"$f":"INDEX(Calculations!$L$11:$L$178,MATCH('Weekly Chart'!AM$47+('Weekly Chart'!$A52*24-24),Calculations!$F$11:$F$178,0))","v":3960},{"$f":"INDEX(Calculations!$L$11:$L$178,MATCH('Weekly Chart'!AN$47+('Weekly Chart'!$A52*24-24),Calculations!$F$11:$F$178,0))","v":4159},{"$f":"INDEX(Calculations!$L$11:$L$178,MATCH('Weekly Chart'!AO$47+('Weekly Chart'!$A52*24-24),Calculations!$F$11:$F$178,0))","v":4455},{"$f":"INDEX(Calculations!$L$11:$L$178,MATCH('Weekly Chart'!AP$47+('Weekly Chart'!$A52*24-24),Calculations!$F$11:$F$178,0))","v":5006},{"$f":"INDEX(Calculations!$L$11:$L$178,MATCH('Weekly Chart'!AQ$47+('Weekly Chart'!$A52*24-24),Calculations!$F$11:$F$178,0))","v":5289},{"$f":"INDEX(Calculations!$L$11:$L$178,MATCH('Weekly Chart'!AR$47+('Weekly Chart'!$A52*24-24),Calculations!$F$11:$F$178,0))","v":6340},{"$f":"INDEX(Calculations!$L$11:$L$178,MATCH('Weekly Chart'!AS$47+('Weekly Chart'!$A52*24-24),Calculations!$F$11:$F$178,0))","v":6921},{"$f":"INDEX(Calculations!$L$11:$L$178,MATCH('Weekly Chart'!AT$47+('Weekly Chart'!$A52*24-24),Calculations!$F$11:$F$178,0))","v":5354},{"$f":"INDEX(Calculations!$L$11:$L$178,MATCH('Weekly Chart'!AU$47+('Weekly Chart'!$A52*24-24),Calculations!$F$11:$F$178,0))","v":5180},{"$f":"INDEX(Calculations!$L$11:$L$178,MATCH('Weekly Chart'!AV$47+('Weekly Chart'!$A52*24-24),Calculations!$F$11:$F$178,0))","v":4239},{"$f":"INDEX(Calculations!$L$11:$L$178,MATCH('Weekly Chart'!AW$47+('Weekly Chart'!$A52*24-24),Calculations!$F$11:$F$178,0))","v":3591},{"$f":"INDEX(Calculations!$L$11:$L$178,MATCH('Weekly Chart'!AX$47+('Weekly Chart'!$A52*24-24),Calculations!$F$11:$F$178,0))","v":3067},{"$f":"INDEX(Calculations!$L$11:$L$178,MATCH('Weekly Chart'!AY$47+('Weekly Chart'!$A52*24-24),Calculations!$F$11:$F$178,0))","v":2802},{"$f":"INDEX(Calculations!$L$11:$L$178,MATCH('Weekly Chart'!AZ$47+('Weekly Chart'!$A52*24-24),Calculations!$F$11:$F$178,0))","v":2444},{"$f":"INDEX(Calculations!$L$11:$L$178,MATCH('Weekly Chart'!BA$47+('Weekly Chart'!$A52*24-24),Calculations!$F$11:$F$178,0))","v":1836}]
[{"$f":"$A$13","v":7},"Saturday",{"$f":"INDEX(Calculations!$I$11:$I$178,MATCH('Weekly Chart'!C$47+('Weekly Chart'!$A53*24-24),Calculations!$F$11:$F$178,0))","v":1041},{"$f":"INDEX(Calculations!$I$11:$I$178,MATCH('Weekly Chart'!D$47+('Weekly Chart'!$A53*24-24),Calculations!$F$11:$F$178,0))","v":574},{"$f":"INDEX(Calculations!$I$11:$I$178,MATCH('Weekly Chart'!E$47+('Weekly Chart'!$A53*24-24),Calculations!$F$11:$F$178,0))","v":427},{"$f":"INDEX(Calculations!$I$11:$I$178,MATCH('Weekly Chart'!F$47+('Weekly Chart'!$A53*24-24),Calculations!$F$11:$F$178,0))","v":426},{"$f":"INDEX(Calculations!$I$11:$I$178,MATCH('Weekly Chart'!G$47+('Weekly Chart'!$A53*24-24),Calculations!$F$11:$F$178,0))","v":597},{"$f":"INDEX(Calculations!$I$11:$I$178,MATCH('Weekly Chart'!H$47+('Weekly Chart'!$A53*24-24),Calculations!$F$11:$F$178,0))","v":1223},{"$f":"INDEX(Calculations!$I$11:$I$178,MATCH('Weekly Chart'!I$47+('Weekly Chart'!$A53*24-24),Calculations!$F$11:$F$178,0))","v":2056},{"$f":"INDEX(Calculations!$I$11:$I$178,MATCH('Weekly Chart'!J$47+('Weekly Chart'!$A53*24-24),Calculations!$F$11:$F$178,0))","v":2712},{"$f":"INDEX(Calculations!$I$11:$I$178,MATCH('Weekly Chart'!K$47+('Weekly Chart'!$A53*24-24),Calculations!$F$11:$F$178,0))","v":3781},{"$f":"INDEX(Calculations!$I$11:$I$178,MATCH('Weekly Chart'!L$47+('Weekly Chart'!$A53*24-24),Calculations!$F$11:$F$178,0))","v":4645},{"$f":"INDEX(Calculations!$I$11:$I$178,MATCH('Weekly Chart'!M$47+('Weekly Chart'!$A53*24-24),Calculations!$F$11:$F$178,0))","v":5156},{"$f":"INDEX(Calculations!$I$11:$I$178,MATCH('Weekly Chart'!N$47+('Weekly Chart'!$A53*24-24),Calculations!$F$11:$F$178,0))","v":5199},{"$f":"INDEX(Calculations!$I$11:$I$178,MATCH('Weekly Chart'!O$47+('Weekly Chart'!$A53*24-24),Calculations!$F$11:$F$178,0))","v":5117},{"$f":"INDEX(Calculations!$I$11:$I$178,MATCH('Weekly Chart'!P$47+('Weekly Chart'!$A53*24-24),Calculations!$F$11:$F$178,0))","v":4780},{"$f":"INDEX(Calculations!$I$11:$I$178,MATCH('Weekly Chart'!Q$47+('Weekly Chart'!$A53*24-24),Calculations!$F$11:$F$178,0))","v":4907},{"$f":"INDEX(Calculations!$I$11:$I$178,MATCH('Weekly Chart'!R$47+('Weekly Chart'!$A53*24-24),Calculations!$F$11:$F$178,0))","v":4841},{"$f":"INDEX(Calculations!$I$11:$I$178,MATCH('Weekly Chart'!S$47+('Weekly Chart'!$A53*24-24),Calculations!$F$11:$F$178,0))","v":4656},{"$f":"INDEX(Calculations!$I$11:$I$178,MATCH('Weekly Chart'!T$47+('Weekly Chart'!$A53*24-24),Calculations!$F$11:$F$178,0))","v":4166},{"$f":"INDEX(Calculations!$I$11:$I$178,MATCH('Weekly Chart'!U$47+('Weekly Chart'!$A53*24-24),Calculations!$F$11:$F$178,0))","v":3647},{"$f":"INDEX(Calculations!$I$11:$I$178,MATCH('Weekly Chart'!V$47+('Weekly Chart'!$A53*24-24),Calculations!$F$11:$F$178,0))","v":3026},{"$f":"INDEX(Calculations!$I$11:$I$178,MATCH('Weekly Chart'!W$47+('Weekly Chart'!$A53*24-24),Calculations!$F$11:$F$178,0))","v":2809},{"$f":"INDEX(Calculations!$I$11:$I$178,MATCH('Weekly Chart'!X$47+('Weekly Chart'!$A53*24-24),Calculations!$F$11:$F$178,0))","v":2442},{"$f":"INDEX(Calculations!$I$11:$I$178,MATCH('Weekly Chart'!Y$47+('Weekly Chart'!$A53*24-24),Calculations!$F$11:$F$178,0))","v":1856},{"$f":"INDEX(Calculations!$I$11:$I$178,MATCH('Weekly Chart'!Z$47+('Weekly Chart'!$A53*24-24),Calculations!$F$11:$F$178,0))","v":1335},null,null,"Saturday",{"$f":"INDEX(Calculations!$L$11:$L$178,MATCH('Weekly Chart'!AD$47+('Weekly Chart'!$A53*24-24),Calculations!$F$11:$F$178,0))","v":1030},{"$f":"INDEX(Calculations!$L$11:$L$178,MATCH('Weekly Chart'!AE$47+('Weekly Chart'!$A53*24-24),Calculations!$F$11:$F$178,0))","v":554},{"$f":"INDEX(Calculations!$L$11:$L$178,MATCH('Weekly Chart'!AF$47+('Weekly Chart'!$A53*24-24),Calculations!$F$11:$F$178,0))","v":438},{"$f":"INDEX(Calculations!$L$11:$L$178,MATCH('Weekly Chart'!AG$47+('Weekly Chart'!$A53*24-24),Calculations!$F$11:$F$178,0))","v":446},{"$f":"INDEX(Calculations!$L$11:$L$178,MATCH('Weekly Chart'!AH$47+('Weekly Chart'!$A53*24-24),Calculations!$F$11:$F$178,0))","v":564},{"$f":"INDEX(Calculations!$L$11:$L$178,MATCH('Weekly Chart'!AI$47+('Weekly Chart'!$A53*24-24),Calculations!$F$11:$F$178,0))","v":915},{"$f":"INDEX(Calculations!$L$11:$L$178,MATCH('Weekly Chart'!AJ$47+('Weekly Chart'!$A53*24-24),Calculations!$F$11:$F$178,0))","v":1449},{"$f":"INDEX(Calculations!$L$11:$L$178,MATCH('Weekly Chart'!AK$47+('Weekly Chart'!$A53*24-24),Calculations!$F$11:$F$178,0))","v":2118},{"$f":"INDEX(Calculations!$L$11:$L$178,MATCH('Weekly Chart'!AL$47+('Weekly Chart'!$A53*24-24),Calculations!$F$11:$F$178,0))","v":2878},{"$f":"INDEX(Calculations!$L$11:$L$178,MATCH('Weekly Chart'!AM$47+('Weekly Chart'!$A53*24-24),Calculations!$F$11:$F$178,0))","v":3716},{"$f":"INDEX(Calculations!$L$11:$L$178,MATCH('Weekly Chart'!AN$47+('Weekly Chart'!$A53*24-24),Calculations!$F$11:$F$178,0))","v":4380},{"$f":"INDEX(Calculations!$L$11:$L$178,MATCH('Weekly Chart'!AO$47+('Weekly Chart'!$A53*24-24),Calculations!$F$11:$F$178,0))","v":4677},{"$f":"INDEX(Calculations!$L$11:$L$178,MATCH('Weekly Chart'!AP$47+('Weekly Chart'!$A53*24-24),Calculations!$F$11:$F$178,0))","v":4956},{"$f":"INDEX(Calculations!$L$11:$L$178,MATCH('Weekly Chart'!AQ$47+('Weekly Chart'!$A53*24-24),Calculations!$F$11:$F$178,0))","v":4902},{"$f":"INDEX(Calculations!$L$11:$L$178,MATCH('Weekly Chart'!AR$47+('Weekly Chart'!$A53*24-24),Calculations!$F$11:$F$178,0))","v":5023},{"$f":"INDEX(Calculations!$L$11:$L$178,MATCH('Weekly Chart'!AS$47+('Weekly Chart'!$A53*24-24),Calculations!$F$11:$F$178,0))","v":4964},{"$f":"INDEX(Calculations!$L$11:$L$178,MATCH('Weekly Chart'!AT$47+('Weekly Chart'!$A53*24-24),Calculations!$F$11:$F$178,0))","v":4670},{"$f":"INDEX(Calculations!$L$11:$L$178,MATCH('Weekly Chart'!AU$47+('Weekly Chart'!$A53*24-24),Calculations!$F$11:$F$178,0))","v":4255},{"$f":"INDEX(Calculations!$L$11:$L$178,MATCH('Weekly Chart'!AV$47+('Weekly Chart'!$A53*24-24),Calculations!$F$11:$F$178,0))","v":3635},{"$f":"INDEX(Calculations!$L$11:$L$178,MATCH('Weekly Chart'!AW$47+('Weekly Chart'!$A53*24-24),Calculations!$F$11:$F$178,0))","v":3360},{"$f":"INDEX(Calculations!$L$11:$L$178,MATCH('Weekly Chart'!AX$47+('Weekly Chart'!$A53*24-24),Calculations!$F$11:$F$178,0))","v":3137},{"$f":"INDEX(Calculations!$L$11:$L$178,MATCH('Weekly Chart'!AY$47+('Weekly Chart'!$A53*24-24),Calculations!$F$11:$F$178,0))","v":2810},{"$f":"INDEX(Calculations!$L$11:$L$178,MATCH('Weekly Chart'!AZ$47+('Weekly Chart'!$A53*24-24),Calculations!$F$11:$F$178,0))","v":2286},{"$f":"INDEX(Calculations!$L$11:$L$178,MATCH('Weekly Chart'!BA$47+('Weekly Chart'!$A53*24-24),Calculations!$F$11:$F$178,0))","v":1674}]
[{"$f":"$A$14","v":1},"Sunday",{"$f":"INDEX(Calculations!$I$11:$I$178,MATCH('Weekly Chart'!C$47+('Weekly Chart'!$A54*24-24),Calculations!$F$11:$F$178,0))","v":931},{"$f":"INDEX(Calculations!$I$11:$I$178,MATCH('Weekly Chart'!D$47+('Weekly Chart'!$A54*24-24),Calculations!$F$11:$F$178,0))","v":478},{"$f":"INDEX(Calculations!$I$11:$I$178,MATCH('Weekly Chart'!E$47+('Weekly Chart'!$A54*24-24),Calculations!$F$11:$F$178,0))","v":352},{"$f":"INDEX(Calculations!$I$11:$I$178,MATCH('Weekly Chart'!F$47+('Weekly Chart'!$A54*24-24),Calculations!$F$11:$F$178,0))","v":274},{"$f":"INDEX(Calculations!$I$11:$I$178,MATCH('Weekly Chart'!G$47+('Weekly Chart'!$A54*24-24),Calculations!$F$11:$F$178,0))","v":338},{"$f":"INDEX(Calculations!$I$11:$I$178,MATCH('Weekly Chart'!H$47+('Weekly Chart'!$A54*24-24),Calculations!$F$11:$F$178,0))","v":602},{"$f":"INDEX(Calculations!$I$11:$I$178,MATCH('Weekly Chart'!I$47+('Weekly Chart'!$A54*24-24),Calculations!$F$11:$F$178,0))","v":1126},{"$f":"INDEX(Calculations!$I$11:$I$178,MATCH('Weekly Chart'!J$47+('Weekly Chart'!$A54*24-24),Calculations!$F$11:$F$178,0))","v":1478},{"$f":"INDEX(Calculations!$I$11:$I$178,MATCH('Weekly Chart'!K$47+('Weekly Chart'!$A54*24-24),Calculations!$F$11:$F$178,0))","v":2413},{"$f":"INDEX(Calculations!$I$11:$I$178,MATCH('Weekly Chart'!L$47+('Weekly Chart'!$A54*24-24),Calculations!$F$11:$F$178,0))","v":3405},{"$f":"INDEX(Calculations!$I$11:$I$178,MATCH('Weekly Chart'!M$47+('Weekly Chart'!$A54*24-24),Calculations!$F$11:$F$178,0))","v":4576},{"$f":"INDEX(Calculations!$I$11:$I$178,MATCH('Weekly Chart'!N$47+('Weekly Chart'!$A54*24-24),Calculations!$F$11:$F$178,0))","v":4875},{"$f":"INDEX(Calculations!$I$11:$I$178,MATCH('Weekly Chart'!O$47+('Weekly Chart'!$A54*24-24),Calculations!$F$11:$F$178,0))","v":4916},{"$f":"INDEX(Calculations!$I$11:$I$178,MATCH('Weekly Chart'!P$47+('Weekly Chart'!$A54*24-24),Calculations!$F$11:$F$178,0))","v":4634},{"$f":"INDEX(Calculations!$I$11:$I$178,MATCH('Weekly Chart'!Q$47+('Weekly Chart'!$A54*24-24),Calculations!$F$11:$F$178,0))","v":4526},{"$f":"INDEX(Calculations!$I$11:$I$178,MATCH('Weekly Chart'!R$47+('Weekly Chart'!$A54*24-24),Calculations!$F$11:$F$178,0))","v":4306},{"$f":"INDEX(Calculations!$I$11:$I$178,MATCH('Weekly Chart'!S$47+('Weekly Chart'!$A54*24-24),Calculations!$F$11:$F$178,0))","v":4439},{"$f":"INDEX(Calculations!$I$11:$I$178,MATCH('Weekly Chart'!T$47+('Weekly Chart'!$A54*24-24),Calculations!$F$11:$F$178,0))","v":4208},{"$f":"INDEX(Calculations!$I$11:$I$178,MATCH('Weekly Chart'!U$47+('Weekly Chart'!$A54*24-24),Calculations!$F$11:$F$178,0))","v":3779},{"$f":"INDEX(Calculations!$I$11:$I$178,MATCH('Weekly Chart'!V$47+('Weekly Chart'!$A54*24-24),Calculations!$F$11:$F$178,0))","v":3103},{"$f":"INDEX(Calculations!$I$11:$I$178,MATCH('Weekly Chart'!W$47+('Weekly Chart'!$A54*24-24),Calculations!$F$11:$F$178,0))","v":2633},{"$f":"INDEX(Calculations!$I$11:$I$178,MATCH('Weekly Chart'!X$47+('Weekly Chart'!$A54*24-24),Calculations!$F$11:$F$178,0))","v":2045},{"$f":"INDEX(Calculations!$I$11:$I$178,MATCH('Weekly Chart'!Y$47+('Weekly Chart'!$A54*24-24),Calculations!$F$11:$F$178,0))","v":1351},{"$f":"INDEX(Calculations!$I$11:$I$178,MATCH('Weekly Chart'!Z$47+('Weekly Chart'!$A54*24-24),Calculations!$F$11:$F$178,0))","v":927},null,null,"Sunday",{"$f":"INDEX(Calculations!$L$11:$L$178,MATCH('Weekly Chart'!AD$47+('Weekly Chart'!$A54*24-24),Calculations!$F$11:$F$178,0))","v":1133},{"$f":"INDEX(Calculations!$L$11:$L$178,MATCH('Weekly Chart'!AE$47+('Weekly Chart'!$A54*24-24),Calculations!$F$11:$F$178,0))","v":615},{"$f":"INDEX(Calculations!$L$11:$L$178,MATCH('Weekly Chart'!AF$47+('Weekly Chart'!$A54*24-24),Calculations!$F$11:$F$178,0))","v":439},{"$f":"INDEX(Calculations!$L$11:$L$178,MATCH('Weekly Chart'!AG$47+('Weekly Chart'!$A54*24-24),Calculations!$F$11:$F$178,0))","v":393},{"$f":"INDEX(Calculations!$L$11:$L$178,MATCH('Weekly Chart'!AH$47+('Weekly Chart'!$A54*24-24),Calculations!$F$11:$F$178,0))","v":445},{"$f":"INDEX(Calculations!$L$11:$L$178,MATCH('Weekly Chart'!AI$47+('Weekly Chart'!$A54*24-24),Calculations!$F$11:$F$178,0))","v":600},{"$f":"INDEX(Calculations!$L$11:$L$178,MATCH('Weekly Chart'!AJ$47+('Weekly Chart'!$A54*24-24),Calculations!$F$11:$F$178,0))","v":921},{"$f":"INDEX(Calculations!$L$11:$L$178,MATCH('Weekly Chart'!AK$47+('Weekly Chart'!$A54*24-24),Calculations!$F$11:$F$178,0))","v":1515},{"$f":"INDEX(Calculations!$L$11:$L$178,MATCH('Weekly Chart'!AL$47+('Weekly Chart'!$A54*24-24),Calculations!$F$11:$F$178,0))","v":2185},{"$f":"INDEX(Calculations!$L$11:$L$178,MATCH('Weekly Chart'!AM$47+('Weekly Chart'!$A54*24-24),Calculations!$F$11:$F$178,0))","v":3153},{"$f":"INDEX(Calculations!$L$11:$L$178,MATCH('Weekly Chart'!AN$47+('Weekly Chart'!$A54*24-24),Calculations!$F$11:$F$178,0))","v":4175},{"$f":"INDEX(Calculations!$L$11:$L$178,MATCH('Weekly Chart'!AO$47+('Weekly Chart'!$A54*24-24),Calculations!$F$11:$F$178,0))","v":4780},{"$f":"INDEX(Calculations!$L$11:$L$178,MATCH('Weekly Chart'!AP$47+('Weekly Chart'!$A54*24-24),Calculations!$F$11:$F$178,0))","v":5208},{"$f":"INDEX(Calculations!$L$11:$L$178,MATCH('Weekly Chart'!AQ$47+('Weekly Chart'!$A54*24-24),Calculations!$F$11:$F$178,0))","v":5264},{"$f":"INDEX(Calculations!$L$11:$L$178,MATCH('Weekly Chart'!AR$47+('Weekly Chart'!$A54*24-24),Calculations!$F$11:$F$178,0))","v":5510},{"$f":"INDEX(Calculations!$L$11:$L$178,MATCH('Weekly Chart'!AS$47+('Weekly Chart'!$A54*24-24),Calculations!$F$11:$F$178,0))","v":5553},{"$f":"INDEX(Calculations!$L$11:$L$178,MATCH('Weekly Chart'!AT$47+('Weekly Chart'!$A54*24-24),Calculations!$F$11:$F$178,0))","v":5647},{"$f":"INDEX(Calculations!$L$11:$L$178,MATCH('Weekly Chart'!AU$47+('Weekly Chart'!$A54*24-24),Calculations!$F$11:$F$178,0))","v":5080},{"$f":"INDEX(Calculations!$L$11:$L$178,MATCH('Weekly Chart'!AV$47+('Weekly Chart'!$A54*24-24),Calculations!$F$11:$F$178,0))","v":4245},{"$f":"INDEX(Calculations!$L$11:$L$178,MATCH('Weekly Chart'!AW$47+('Weekly Chart'!$A54*24-24),Calculations!$F$11:$F$178,0))","v":3538},{"$f":"INDEX(Calculations!$L$11:$L$178,MATCH('Weekly Chart'!AX$47+('Weekly Chart'!$A54*24-24),Calculations!$F$11:$F$178,0))","v":2822},{"$f":"INDEX(Calculations!$L$11:$L$178,MATCH('Weekly Chart'!AY$47+('Weekly Chart'!$A54*24-24),Calculations!$F$11:$F$178,0))","v":2086},{"$f":"INDEX(Calculations!$L$11:$L$178,MATCH('Weekly Chart'!AZ$47+('Weekly Chart'!$A54*24-24),Calculations!$F$11:$F$178,0))","v":1376},{"$f":"INDEX(Calculations!$L$11:$L$178,MATCH('Weekly Chart'!BA$47+('Weekly Chart'!$A54*24-24),Calculations!$F$11:$F$178,0))","v":894}]
[null,null,"00:00:00","01:00:00","02:00:00","03:00:00","04:00:00","05:00:00","06:00:00","07:00:00","08:00:00","09:00:00","10:00:00","11:00:00","12:00:00","13:00:00","14:00:00","15:00:00","16:00:00","17:00:00","18:00:00","19:00:00","20:00:00","21:00:00","22:00:00","23:00:00",null,null,null,"00:00:00","01:00:00","02:00:00","03:00:00","04:00:00","05:00:00","06:00:00","07:00:00","08:00:00","09:00:00","10:00:00","11:00:00","12:00:00","13:00:00","14:00:00","15:00:00","16:00:00","17:00:00","18:00:00","19:00:00","20:00:00","21:00:00","22:00:00","23:00:00"]
[]
[null,{"$f":"Calculations!I8&\" Estimated Capacity (veh/hr)\"","v":"NB Estimated Capacity (veh/hr)"},null,null,null,null,null,null,null,null,null,null,null,null,null,null,null,null,null,null,null,null,null,null,null,null,null,null,{"$f":"Calculations!L8&\" Estimated Capacity (veh/hr)\"","v":"SB Estimated Capacity (veh/hr)"}]
[]
[]
[null,"Day          Hr",0,1,2,3,4,5,6,7,8,9,10,11,12,13,14,15,16,17,18,19,20,21,22,23,null,null,"Day          Hr",0,1,2,3,4,5,6,7,8,9,10,11,12,13,14,15,16,17,18,19,20,21,22,23]
[{"$f":"$A$8","v":2},{"$f":"CHOOSE(WEEKDAY($A61),\"Sunday\",\"Monday\",\"Tuesday\",\"Wednesday\",\"Thursday\",\"Friday\",\"Saturday\")","v":"Monday"},{"$f":"INDEX(Calculations!$P$11:$P$178,MATCH('Weekly Chart'!C$47+('Weekly Chart'!$A61*24-24),Calculations!$F$11:$F$178,0))","v":8727},{"$f":"INDEX(Calculations!$P$11:$P$178,MATCH('Weekly Chart'!D$47+('Weekly Chart'!$A61*24-24),Calculations!$F$11:$F$178,0))","v":8727},{"$f":"INDEX(Calculations!$P$11:$P$178,MATCH('Weekly Chart'!E$47+('Weekly Chart'!$A61*24-24),Calculations!$F$11:$F$178,0))","v":8727},{"$f":"INDEX(Calculations!$P$11:$P$178,MATCH('Weekly Chart'!F$47+('Weekly Chart'!$A61*24-24),Calculations!$F$11:$F$178,0))","v":8727},{"$f":"INDEX(Calculations!$P$11:$P$178,MATCH('Weekly Chart'!G$47+('Weekly Chart'!$A61*24-24),Calculations!$F$11:$F$178,0))","v":8727},{"$f":"INDEX(Calculations!$P$11:$P$178,MATCH('Weekly Chart'!H$47+('Weekly Chart'!$A61*24-24),Calculations!$F$11:$F$178,0))","v":8727},{"$f":"INDEX(Calculations!$P$11:$P$178,MATCH('Weekly Chart'!I$47+('Weekly Chart'!$A61*24-24),Calculations!$F$11:$F$178,0))","v":8727},{"$f":"INDEX(Calculations!$P$11:$P$178,MATCH('Weekly Chart'!J$47+('Weekly Chart'!$A61*24-24),Calculations!$F$11:$F$178,0))","v":8727},{"$f":"INDEX(Calculations!$P$11:$P$178,MATCH('Weekly Chart'!K$47+('Weekly Chart'!$A61*24-24),Calculations!$F$11:$F$178,0))","v":8727},{"$f":"INDEX(Calculations!$P$11:$P$178,MATCH('Weekly Chart'!L$47+('Weekly Chart'!$A61*24-24),Calculations!$F$11:$F$178,0))","v":4681},{"$f":"INDEX(Calculations!$P$11:$P$178,MATCH('Weekly Chart'!M$47+('Weekly Chart'!$A61*24-24),Calculations!$F$11:$F$178,0))","v":4681},{"$f":"INDEX(Calculations!$P$11:$P$178,MATCH('Weekly Chart'!N$47+('Weekly Chart'!$A61*24-24),Calculations!$F$11:$F$178,0))","v":4681},{"$f":"INDEX(Calculations!$P$11:$P$178,MATCH('Weekly Chart'!O$47+('Weekly Chart'!$A61*24-24),Calculations!$F$11:$F$178,0))","v":4681},{"$f":"INDEX(Calculations!$P$11:$P$178,MATCH('Weekly Chart'!P$47+('Weekly Chart'!$A61*24-24),Calculations!$F$11:$F$178,0))","v":4681},{"$f":"INDEX(Calculations!$P$11:$P$178,MATCH('Weekly Chart'!Q$47+('Weekly Chart'!$A61*24-24),Calculations!$F$11:$F$178,0))","v":8727},{"$f":"INDEX(Calculations!$P$11:$P$178,MATCH('Weekly Chart'!R$47+('Weekly Chart'!$A61*24-24),Calculations!$F$11:$F$178,0))","v":8727},{"$f":"INDEX(Calculations!$P$11:$P$178,MATCH('Weekly Chart'!S$47+('Weekly Chart'!$A61*24-24),Calculations!$F$11:$F$178,0))","v":8727},{"$f":"INDEX(Calculations!$P$11:$P$178,MATCH('Weekly Chart'!T$47+('Weekly Chart'!$A61*24-24),Calculations!$F$11:$F$178,0))","v":8727},{"$f":"INDEX(Calculations!$P$11:$P$178,MATCH('Weekly Chart'!U$47+('Weekly Chart'!$A61*24-24),Calculations!$F$11:$F$178,0))","v":8727},{"$f":"INDEX(Calculations!$P$11:$P$178,MATCH('Weekly Chart'!V$47+('Weekly Chart'!$A61*24-24),Calculations!$F$11:$F$178,0))","v":8727},{"$f":"INDEX(Calculations!$P$11:$P$178,MATCH('Weekly Chart'!W$47+('Weekly Chart'!$A61*24-24),Calculations!$F$11:$F$178,0))","v":8727},{"$f":"INDEX(Calculations!$P$11:$P$178,MATCH('Weekly Chart'!X$47+('Weekly Chart'!$A61*24-24),Calculations!$F$11:$F$178,0))","v":8727},{"$f":"INDEX(Calculations!$P$11:$P$178,MATCH('Weekly Chart'!Y$47+('Weekly Chart'!$A61*24-24),Calculations!$F$11:$F$178,0))","v":8727},{"$f":"INDEX(Calculations!$P$11:$P$178,MATCH('Weekly Chart'!Z$47+('Weekly Chart'!$A61*24-24),Calculations!$F$11:$F$178,0))","v":8727},null,null,{"$f":"CHOOSE(WEEKDAY($A61),\"Sunday\",\"Monday\",\"Tuesday\",\"Wednesday\",\"Thursday\",\"Friday\",\"Saturday\")","v":"Monday"},{"$f":"INDEX(Calculations!$AF$11:$AF$178,MATCH('Weekly Chart'!AD$47+('Weekly Chart'!$A61*24-24),Calculations!$F$11:$F$178,0))","v":8727},{"$f":"INDEX(Calculations!$AF$11:$AF$178,MATCH('Weekly Chart'!AE$47+('Weekly Chart'!$A61*24-24),Calculations!$F$11:$F$178,0))","v":8727},{"$f":"INDEX(Calculations!$AF$11:$AF$178,MATCH('Weekly Chart'!AF$47+('Weekly Chart'!$A61*24-24),Calculations!$F$11:$F$178,0))","v":8727},{"$f":"INDEX(Calculations!$AF$11:$AF$178,MATCH('Weekly Chart'!AG$47+('Weekly Chart'!$A61*24-24),Calculations!$F$11:$F$178,0))","v":8727},{"$f":"INDEX(Calculations!$AF$11:$AF$178,MATCH('Weekly Chart'!AH$47+('Weekly Chart'!$A61*24-24),Calculations!$F$11:$F$178,0))","v":8727},{"$f":"INDEX(Calculations!$AF$11:$AF$178,MATCH('Weekly Chart'!AI$47+('Weekly Chart'!$A61*24-24),Calculations!$F$11:$F$178,0))","v":8727},{"$f":"INDEX(Calculations!$AF$11:$AF$178,MATCH('Weekly Chart'!AJ$47+('Weekly Chart'!$A61*24-24),Calculations!$F$11:$F$178,0))","v":8727},{"$f":"INDEX(Calculations!$AF$11:$AF$178,MATCH('Weekly Chart'!AK$47+('Weekly Chart'!$A61*24-24),Calculations!$F$11:$F$178,0))","v":8727},{"$f":"INDEX(Calculations!$AF$11:$AF$178,MATCH('Weekly Chart'!AL$47+('Weekly Chart'!$A61*24-24),Calculations!$F$11:$F$178,0))","v":8727},{"$f":"INDEX(Calculations!$AF$11:$AF$178,MATCH('Weekly Chart'!AM$47+('Weekly Chart'!$A61*24-24),Calculations!$F$11:$F$178,0))","v":4681},{"$f":"INDEX(Calculations!$AF$11:$AF$178,MATCH('Weekly Chart'!AN$47+('Weekly Chart'!$A61*24-24),Calculations!$F$11:$F$178,0))","v":4681},{"$f":"INDEX(Calculations!$AF$11:$AF$178,MATCH('Weekly Chart'!AO$47+('Weekly Chart'!$A61*24-24),Calculations!$F$11:$F$178,0))","v":4681},{"$f":"INDEX(Calculations!$AF$11:$AF$178,MATCH('Weekly Chart'!AP$47+('Weekly Chart'!$A61*24-24),Calculations!$F$11:$F$178,0))","v":4681},{"$f":"INDEX(Calculations!$AF$11:$AF$178,MATCH('Weekly Chart'!AQ$47+('Weekly Chart'!$A61*24-24),Calculations!$F$11:$F$178,0))","v":4681},{"$f":"INDEX(Calculations!$AF$11:$AF$178,MATCH('Weekly Chart'!AR$47+('Weekly Chart'!$A61*24-24),Calculations!$F$11:$F$178,0))","v":8727},{"$f":"INDEX(Calculations!$AF$11:$AF$178,MATCH('Weekly Chart'!AS$47+('Weekly Chart'!$A61*24-24),Calculations!$F$11:$F$178,0))","v":8727},{"$f":"INDEX(Calculations!$AF$11:$AF$178,MATCH('Weekly Chart'!AT$47+('Weekly Chart'!$A61*24-24),Calculations!$F$11:$F$178,0))","v":8727},{"$f":"INDEX(Calculations!$AF$11:$AF$178,MATCH('Weekly Chart'!AU$47+('Weekly Chart'!$A61*24-24),Calculations!$F$11:$F$178,0))","v":8727},{"$f":"INDEX(Calculations!$AF$11:$AF$178,MATCH('Weekly Chart'!AV$47+('Weekly Chart'!$A61*24-24),Calculations!$F$11:$F$178,0))","v":8727},{"$f":"INDEX(Calculations!$AF$11:$AF$178,MATCH('Weekly Chart'!AW$47+('Weekly Chart'!$A61*24-24),Calculations!$F$11:$F$178,0))","v":8727},{"$f":"INDEX(Calculations!$AF$11:$AF$178,MATCH('Weekly Chart'!AX$47+('Weekly Chart'!$A61*24-24),Calculations!$F$11:$F$178,0))","v":8727},{"$f":"INDEX(Calculations!$AF$11:$AF$178,MATCH('Weekly Chart'!AY$47+('Weekly Chart'!$A61*24-24),Calculations!$F$11:$F$178,0))","v":8727},{"$f":"INDEX(Calculations!$AF$11:$AF$178,MATCH('Weekly Chart'!AZ$47+('Weekly Chart'!$A61*24-24),Calculations!$F$11:$F$178,0))","v":8727},{"$f":"INDEX(Calculations!$AF$11:$AF$178,MATCH('Weekly Chart'!BA$47+('Weekly Chart'!$A61*24-24),Calculations!$F$11:$F$178,0))","v":8727}]
[{"$f":"$A$9","v":3},"Tuesday",{"$f":"INDEX(Calculations!$P$11:$P$178,MATCH('Weekly Chart'!C$47+('Weekly Chart'!$A62*24-24),Calculations!$F$11:$F$178,0))","v":8727},{"$f":"INDEX(Calculations!$P$11:$P$178,MATCH('Weekly Chart'!D$47+('Weekly Chart'!$A62*24-24),Calculations!$F$11:$F$178,0))","v":8727},{"$f":"INDEX(Calculations!$P$11:$P$178,MATCH('Weekly Chart'!E$47+('Weekly Chart'!$A62*24-24),Calculations!$F$11:$F$178,0))","v":8727},{"$f":"INDEX(Calculations!$P$11:$P$178,MATCH('Weekly Chart'!F$47+('Weekly Chart'!$A62*24-24),Calculations!$F$11:$F$178,0))","v":8727},{"$f":"INDEX(Calculations!$P$11:$P$178,MATCH('Weekly Chart'!G$47+('Weekly Chart'!$A62*24-24),Calculations!$F$11:$F$178,0))","v":8727},{"$f":"INDEX(Calculations!$P$11:$P$178,MATCH('Weekly Chart'!H$47+('Weekly Chart'!$A62*24-24),Calculations!$F$11:$F$178,0))","v":8727},{"$f":"INDEX(Calculations!$P$11:$P$178,MATCH('Weekly Chart'!I$47+('Weekly Chart'!$A62*24-24),Calculations!$F$11:$F$178,0))","v":8727},{"$f":"INDEX(Calculations!$P$11:$P$178,MATCH('Weekly Chart'!J$47+('Weekly Chart'!$A62*24-24),Calculations!$F$11:$F$178,0))","v":8727},{"$f":"INDEX(Calculations!$P$11:$P$178,MATCH('Weekly Chart'!K$47+('Weekly Chart'!$A62*24-24),Calculations!$F$11:$F$178,0))","v":8727},{"$f":"INDEX(Calculations!$P$11:$P$178,MATCH('Weekly Chart'!L$47+('Weekly Chart'!$A62*24-24),Calculations!$F$11:$F$178,0))","v":4681},{"$f":"INDEX(Calculations!$P$11:$P$178,MATCH('Weekly Chart'!M$47+('Weekly Chart'!$A62*24-24),Calculations!$F$11:$F$178,0))","v":4681},{"$f":"INDEX(Calculations!$P$11:$P$178,MATCH('Weekly Chart'!N$47+('Weekly Chart'!$A62*24-24),Calculations!$F$11:$F$178,0))","v":4681},{"$f":"INDEX(Calculations!$P$11:$P$178,MATCH('Weekly Chart'!O$47+('Weekly Chart'!$A62*24-24),Calculations!$F$11:$F$178,0))","v":4681},{"$f":"INDEX(Calculations!$P$11:$P$178,MATCH('Weekly Chart'!P$47+('Weekly Chart'!$A62*24-24),Calculations!$F$11:$F$178,0))","v":4681},{"$f":"INDEX(Calculations!$P$11:$P$178,MATCH('Weekly Chart'!Q$47+('Weekly Chart'!$A62*24-24),Calculations!$F$11:$F$178,0))","v":8727},{"$f":"INDEX(Calculations!$P$11:$P$178,MATCH('Weekly Chart'!R$47+('Weekly Chart'!$A62*24-24),Calculations!$F$11:$F$178,0))","v":8727},{"$f":"INDEX(Calculations!$P$11:$P$178,MATCH('Weekly Chart'!S$47+('Weekly Chart'!$A62*24-24),Calculations!$F$11:$F$178,0))","v":8727},{"$f":"INDEX(Calculations!$P$11:$P$178,MATCH('Weekly Chart'!T$47+('Weekly Chart'!$A62*24-24),Calculations!$F$11:$F$178,0))","v":8727},{"$f":"INDEX(Calculations!$P$11:$P$178,MATCH('Weekly Chart'!U$47+('Weekly Chart'!$A62*24-24),Calculations!$F$11:$F$178,0))","v":8727},{"$f":"INDEX(Calculations!$P$11:$P$178,MATCH('Weekly Chart'!V$47+('Weekly Chart'!$A62*24-24),Calculations!$F$11:$F$178,0))","v":8727},{"$f":"INDEX(Calculations!$P$11:$P$178,MATCH('Weekly Chart'!W$47+('Weekly Chart'!$A62*24-24),Calculations!$F$11:$F$178,0))","v":8727},{"$f":"INDEX(Calculations!$P$11:$P$178,MATCH('Weekly Chart'!X$47+('Weekly Chart'!$A62*24-24),Calculations!$F$11:$F$178,0))","v":8727},{"$f":"INDEX(Calculations!$P$11:$P$178,MATCH('Weekly Chart'!Y$47+('Weekly Chart'!$A62*24-24),Calculations!$F$11:$F$178,0))","v":8727},{"$f":"INDEX(Calculations!$P$11:$P$178,MATCH('Weekly Chart'!Z$47+('Weekly Chart'!$A62*24-24),Calculations!$F$11:$F$178,0))","v":8727},null,null,"Tuesday",{"$f":"INDEX(Calculations!$AF$11:$AF$178,MATCH('Weekly Chart'!AD$47+('Weekly Chart'!$A62*24-24),Calculations!$F$11:$F$178,0))","v":8727},{"$f":"INDEX(Calculations!$AF$11:$AF$178,MATCH('Weekly Chart'!AE$47+('Weekly Chart'!$A62*24-24),Calculations!$F$11:$F$178,0))","v":8727},{"$f":"INDEX(Calculations!$AF$11:$AF$178,MATCH('Weekly Chart'!AF$47+('Weekly Chart'!$A62*24-24),Calculations!$F$11:$F$178,0))","v":8727},{"$f":"INDEX(Calculations!$AF$11:$AF$178,MATCH('Weekly Chart'!AG$47+('Weekly Chart'!$A62*24-24),Calculations!$F$11:$F$178,0))","v":8727},{"$f":"INDEX(Calculations!$AF$11:$AF$178,MATCH('Weekly Chart'!AH$47+('Weekly Chart'!$A62*24-24),Calculations!$F$11:$F$178,0))","v":8727},{"$f":"INDEX(Calculations!$AF$11:$AF$178,MATCH('Weekly Chart'!AI$47+('Weekly Chart'!$A62*24-24),Calculations!$F$11:$F$178,0))","v":8727},{"$f":"INDEX(Calculations!$AF$11:$AF$178,MATCH('Weekly Chart'!AJ$47+('Weekly Chart'!$A62*24-24),Calculations!$F$11:$F$178,0))","v":8727},{"$f":"INDEX(Calculations!$AF$11:$AF$178,MATCH('Weekly Chart'!AK$47+('Weekly Chart'!$A62*24-24),Calculations!$F$11:$F$178,0))","v":8727},{"$f":"INDEX(Calculations!$AF$11:$AF$178,MATCH('Weekly Chart'!AL$47+('Weekly Chart'!$A62*24-24),Calculations!$F$11:$F$178,0))","v":8727},{"$f":"INDEX(Calculations!$AF$11:$AF$178,MATCH('Weekly Chart'!AM$47+('Weekly Chart'!$A62*24-24),Calculations!$F$11:$F$178,0))","v":4681},{"$f":"INDEX(Calculations!$AF$11:$AF$178,MATCH('Weekly Chart'!AN$47+('Weekly Chart'!$A62*24-24),Calculations!$F$11:$F$178,0))","v":4681},{"$f":"INDEX(Calculations!$AF$11:$AF$178,MATCH('Weekly Chart'!AO$47+('Weekly Chart'!$A62*24-24),Calculations!$F$11:$F$178,0))","v":4681},{"$f":"INDEX(Calculations!$AF$11:$AF$178,MATCH('Weekly Chart'!AP$47+('Weekly Chart'!$A62*24-24),Calculations!$F$11:$F$178,0))","v":4681},{"$f":"INDEX(Calculations!$AF$11:$AF$178,MATCH('Weekly Chart'!AQ$47+('Weekly Chart'!$A62*24-24),Calculations!$F$11:$F$178,0))","v":4681},{"$f":"INDEX(Calculations!$AF$11:$AF$178,MATCH('Weekly Chart'!AR$47+('Weekly Chart'!$A62*24-24),Calculations!$F$11:$F$178,0))","v":8727},{"$f":"INDEX(Calculations!$AF$11:$AF$178,MATCH('Weekly Chart'!AS$47+('Weekly Chart'!$A62*24-24),Calculations!$F$11:$F$178,0))","v":8727},{"$f":"INDEX(Calculations!$AF$11:$AF$178,MATCH('Weekly Chart'!AT$47+('Weekly Chart'!$A62*24-24),Calculations!$F$11:$F$178,0))","v":8727},{"$f":"INDEX(Calculations!$AF$11:$AF$178,MATCH('Weekly Chart'!AU$47+('Weekly Chart'!$A62*24-24),Calculations!$F$11:$F$178,0))","v":8727},{"$f":"INDEX(Calculations!$AF$11:$AF$178,MATCH('Weekly Chart'!AV$47+('Weekly Chart'!$A62*24-24),Calculations!$F$11:$F$178,0))","v":8727},{"$f":"INDEX(Calculations!$AF$11:$AF$178,MATCH('Weekly Chart'!AW$47+('Weekly Chart'!$A62*24-24),Calculations!$F$11:$F$178,0))","v":8727},{"$f":"INDEX(Calculations!$AF$11:$AF$178,MATCH('Weekly Chart'!AX$47+('Weekly Chart'!$A62*24-24),Calculations!$F$11:$F$178,0))","v":8727},{"$f":"INDEX(Calculations!$AF$11:$AF$178,MATCH('Weekly Chart'!AY$47+('Weekly Chart'!$A62*24-24),Calculations!$F$11:$F$178,0))","v":8727},{"$f":"INDEX(Calculations!$AF$11:$AF$178,MATCH('Weekly Chart'!AZ$47+('Weekly Chart'!$A62*24-24),Calculations!$F$11:$F$178,0))","v":8727},{"$f":"INDEX(Calculations!$AF$11:$AF$178,MATCH('Weekly Chart'!BA$47+('Weekly Chart'!$A62*24-24),Calculations!$F$11:$F$178,0))","v":8727}]
[{"$f":"$A$10","v":4},"Wednesday",{"$f":"INDEX(Calculations!$P$11:$P$178,MATCH('Weekly Chart'!C$47+('Weekly Chart'!$A63*24-24),Calculations!$F$11:$F$178,0))","v":8727},{"$f":"INDEX(Calculations!$P$11:$P$178,MATCH('Weekly Chart'!D$47+('Weekly Chart'!$A63*24-24),Calculations!$F$11:$F$178,0))","v":8727},{"$f":"INDEX(Calculations!$P$11:$P$178,MATCH('Weekly Chart'!E$47+('Weekly Chart'!$A63*24-24),Calculations!$F$11:$F$178,0))","v":8727},{"$f":"INDEX(Calculations!$P$11:$P$178,MATCH('Weekly Chart'!F$47+('Weekly Chart'!$A63*24-24),Calculations!$F$11:$F$178,0))","v":8727},{"$f":"INDEX(Calculations!$P$11:$P$178,MATCH('Weekly Chart'!G$47+('Weekly Chart'!$A63*24-24),Calculations!$F$11:$F$178,0))","v":8727},{"$f":"INDEX(Calculations!$P$11:$P$178,MATCH('Weekly Chart'!H$47+('Weekly Chart'!$A63*24-24),Calculations!$F$11:$F$178,0))","v":8727},{"$f":"INDEX(Calculations!$P$11:$P$178,MATCH('Weekly Chart'!I$47+('Weekly Chart'!$A63*24-24),Calculations!$F$11:$F$178,0))","v":8727},{"$f":"INDEX(Calculations!$P$11:$P$178,MATCH('Weekly Chart'!J$47+('Weekly Chart'!$A63*24-24),Calculations!$F$11:$F$178,0))","v":8727},{"$f":"INDEX(Calculations!$P$11:$P$178,MATCH('Weekly Chart'!K$47+('Weekly Chart'!$A63*24-24),Calculations!$F$11:$F$178,0))","v":8727},{"$f":"INDEX(Calculations!$P$11:$P$178,MATCH('Weekly Chart'!L$47+('Weekly Chart'!$A63*24-24),Calculations!$F$11:$F$178,0))","v":4681},{"$f":"INDEX(Calculations!$P$11:$P$178,MATCH('Weekly Chart'!M$47+('Weekly Chart'!$A63*24-24),Calculations!$F$11:$F$178,0))","v":4681},{"$f":"INDEX(Calculations!$P$11:$P$178,MATCH('Weekly Chart'!N$47+('Weekly Chart'!$A63*24-24),Calculations!$F$11:$F$178,0))","v":4681},{"$f":"INDEX(Calculations!$P$11:$P$178,MATCH('Weekly Chart'!O$47+('Weekly Chart'!$A63*24-24),Calculations!$F$11:$F$178,0))","v":4681},{"$f":"INDEX(Calculations!$P$11:$P$178,MATCH('Weekly Chart'!P$47+('Weekly Chart'!$A63*24-24),Calculations!$F$11:$F$178,0))","v":4681},{"$f":"INDEX(Calculations!$P$11:$P$178,MATCH('Weekly Chart'!Q$47+('Weekly Chart'!$A63*24-24),Calculations!$F$11:$F$178,0))","v":8727},{"$f":"INDEX(Calculations!$P$11:$P$178,MATCH('Weekly Chart'!R$47+('Weekly Chart'!$A63*24-24),Calculations!$F$11:$F$178,0))","v":8727},{"$f":"INDEX(Calculations!$P$11:$P$178,MATCH('Weekly Chart'!S$47+('Weekly Chart'!$A63*24-24),Calculations!$F$11:$F$178,0))","v":8727},{"$f":"INDEX(Calculations!$P$11:$P$178,MATCH('Weekly Chart'!T$47+('Weekly Chart'!$A63*24-24),Calculations!$F$11:$F$178,0))","v":8727},{"$f":"INDEX(Calculations!$P$11:$P$178,MATCH('Weekly Chart'!U$47+('Weekly Chart'!$A63*24-24),Calculations!$F$11:$F$178,0))","v":8727},{"$f":"INDEX(Calculations!$P$11:$P$178,MATCH('Weekly Chart'!V$47+('Weekly Chart'!$A63*24-24),Calculations!$F$11:$F$178,0))","v":8727},{"$f":"INDEX(Calculations!$P$11:$P$178,MATCH('Weekly Chart'!W$47+('Weekly Chart'!$A63*24-24),Calculations!$F$11:$F$178,0))","v":8727},{"$f":"INDEX(Calculations!$P$11:$P$178,MATCH('Weekly Chart'!X$47+('Weekly Chart'!$A63*24-24),Calculations!$F$11:$F$178,0))","v":8727},{"$f":"INDEX(Calculations!$P$11:$P$178,MATCH('Weekly Chart'!Y$47+('Weekly Chart'!$A63*24-24),Calculations!$F$11:$F$178,0))","v":8727},{"$f":"INDEX(Calculations!$P$11:$P$178,MATCH('Weekly Chart'!Z$47+('Weekly Chart'!$A63*24-24),Calculations!$F$11:$F$178,0))","v":8727},null,null,"Wednesday",{"$f":"INDEX(Calculations!$AF$11:$AF$178,MATCH('Weekly Chart'!AD$47+('Weekly Chart'!$A63*24-24),Calculations!$F$11:$F$178,0))","v":8727},{"$f":"INDEX(Calculations!$AF$11:$AF$178,MATCH('Weekly Chart'!AE$47+('Weekly Chart'!$A63*24-24),Calculations!$F$11:$F$178,0))","v":8727},{"$f":"INDEX(Calculations!$AF$11:$AF$178,MATCH('Weekly Chart'!AF$47+('Weekly Chart'!$A63*24-24),Calculations!$F$11:$F$178,0))","v":8727},{"$f":"INDEX(Calculations!$AF$11:$AF$178,MATCH('Weekly Chart'!AG$47+('Weekly Chart'!$A63*24-24),Calculations!$F$11:$F$178,0))","v":8727},{"$f":"INDEX(Calculations!$AF$11:$AF$178,MATCH('Weekly Chart'!AH$47+('Weekly Chart'!$A63*24-24),Calculations!$F$11:$F$178,0))","v":8727},{"$f":"INDEX(Calculations!$AF$11:$AF$178,MATCH('Weekly Chart'!AI$47+('Weekly Chart'!$A63*24-24),Calculations!$F$11:$F$178,0))","v":8727},{"$f":"INDEX(Calculations!$AF$11:$AF$178,MATCH('Weekly Chart'!AJ$47+('Weekly Chart'!$A63*24-24),Calculations!$F$11:$F$178,0))","v":8727},{"$f":"INDEX(Calculations!$AF$11:$AF$178,MATCH('Weekly Chart'!AK$47+('Weekly Chart'!$A63*24-24),Calculations!$F$11:$F$178,0))","v":8727},{"$f":"INDEX(Calculations!$AF$11:$AF$178,MATCH('Weekly Chart'!AL$47+('Weekly Chart'!$A63*24-24),Calculations!$F$11:$F$178,0))","v":8727},{"$f":"INDEX(Calculations!$AF$11:$AF$178,MATCH('Weekly Chart'!AM$47+('Weekly Chart'!$A63*24-24),Calculations!$F$11:$F$178,0))","v":4681},{"$f":"INDEX(Calculations!$AF$11:$AF$178,MATCH('Weekly Chart'!AN$47+('Weekly Chart'!$A63*24-24),Calculations!$F$11:$F$178,0))","v":4681},{"$f":"INDEX(Calculations!$AF$11:$AF$178,MATCH('Weekly Chart'!AO$47+('Weekly Chart'!$A63*24-24),Calculations!$F$11:$F$178,0))","v":4681},{"$f":"INDEX(Calculations!$AF$11:$AF$178,MATCH('Weekly Chart'!AP$47+('Weekly Chart'!$A63*24-24),Calculations!$F$11:$F$178,0))","v":4681},{"$f":"INDEX(Calculations!$AF$11:$AF$178,MATCH('Weekly Chart'!AQ$47+('Weekly Chart'!$A63*24-24),Calculations!$F$11:$F$178,0))","v":4681},{"$f":"INDEX(Calculations!$AF$11:$AF$178,MATCH('Weekly Chart'!AR$47+('Weekly Chart'!$A63*24-24),Calculations!$F$11:$F$178,0))","v":8727},{"$f":"INDEX(Calculations!$AF$11:$AF$178,MATCH('Weekly Chart'!AS$47+('Weekly Chart'!$A63*24-24),Calculations!$F$11:$F$178,0))","v":8727},{"$f":"INDEX(Calculations!$AF$11:$AF$178,MATCH('Weekly Chart'!AT$47+('Weekly Chart'!$A63*24-24),Calculations!$F$11:$F$178,0))","v":8727},{"$f":"INDEX(Calculations!$AF$11:$AF$178,MATCH('Weekly Chart'!AU$47+('Weekly Chart'!$A63*24-24),Calculations!$F$11:$F$178,0))","v":8727},{"$f":"INDEX(Calculations!$AF$11:$AF$178,MATCH('Weekly Chart'!AV$47+('Weekly Chart'!$A63*24-24),Calculations!$F$11:$F$178,0))","v":8727},{"$f":"INDEX(Calculations!$AF$11:$AF$178,MATCH('Weekly Chart'!AW$47+('Weekly Chart'!$A63*24-24),Calculations!$F$11:$F$178,0))","v":8727},{"$f":"INDEX(Calculations!$AF$11:$AF$178,MATCH('Weekly Chart'!AX$47+('Weekly Chart'!$A63*24-24),Calculations!$F$11:$F$178,0))","v":8727},{"$f":"INDEX(Calculations!$AF$11:$AF$178,MATCH('Weekly Chart'!AY$47+('Weekly Chart'!$A63*24-24),Calculations!$F$11:$F$178,0))","v":8727},{"$f":"INDEX(Calculations!$AF$11:$AF$178,MATCH('Weekly Chart'!AZ$47+('Weekly Chart'!$A63*24-24),Calculations!$F$11:$F$178,0))","v":8727},{"$f":"INDEX(Calculations!$AF$11:$AF$178,MATCH('Weekly Chart'!BA$47+('Weekly Chart'!$A63*24-24),Calculations!$F$11:$F$178,0))","v":8727}]
[{"$f":"$A$11","v":5},"Thursday",{"$f":"INDEX(Calculations!$P$11:$P$178,MATCH('Weekly Chart'!C$47+('Weekly Chart'!$A64*24-24),Calculations!$F$11:$F$178,0))","v":8727},{"$f":"INDEX(Calculations!$P$11:$P$178,MATCH('Weekly Chart'!D$47+('Weekly Chart'!$A64*24-24),Calculations!$F$11:$F$178,0))","v":8727},{"$f":"INDEX(Calculations!$P$11:$P$178,MATCH('Weekly Chart'!E$47+('Weekly Chart'!$A64*24-24),Calculations!$F$11:$F$178,0))","v":8727},{"$f":"INDEX(Calculations!$P$11:$P$178,MATCH('Weekly Chart'!F$47+('Weekly Chart'!$A64*24-24),Calculations!$F$11:$F$178,0))","v":8727},{"$f":"INDEX(Calculations!$P$11:$P$178,MATCH('Weekly Chart'!G$47+('Weekly Chart'!$A64*24-24),Calculations!$F$11:$F$178,0))","v":8727},{"$f":"INDEX(Calculations!$P$11:$P$178,MATCH('Weekly Chart'!H$47+('Weekly Chart'!$A64*24-24),Calculations!$F$11:$F$178,0))","v":8727},{"$f":"INDEX(Calculations!$P$11:$P$178,MATCH('Weekly Chart'!I$47+('Weekly Chart'!$A64*24-24),Calculations!$F$11:$F$178,0))","v":8727},{"$f":"INDEX(Calculations!$P$11:$P$178,MATCH('Weekly Chart'!J$47+('Weekly Chart'!$A64*24-24),Calculations!$F$11:$F$178,0))","v":8727},{"$f":"INDEX(Calculations!$P$11:$P$178,MATCH('Weekly Chart'!K$47+('Weekly Chart'!$A64*24-24),Calculations!$F$11:$F$178,0))","v":8727},{"$f":"INDEX(Calculations!$P$11:$P$178,MATCH('Weekly Chart'!L$47+('Weekly Chart'!$A64*24-24),Calculations!$F$11:$F$178,0))","v":4681},{"$f":"INDEX(Calculations!$P$11:$P$178,MATCH('Weekly Chart'!M$47+('Weekly Chart'!$A64*24-24),Calculations!$F$11:$F$178,0))","v":4681},{"$f":"INDEX(Calculations!$P$11:$P$178,MATCH('Weekly Chart'!N$47+('Weekly Chart'!$A64*24-24),Calculations!$F$11:$F$178,0))","v":4681},{"$f":"INDEX(Calculations!$P$11:$P$178,MATCH('Weekly Chart'!O$47+('Weekly Chart'!$A64*24-24),Calculations!$F$11:$F$178,0))","v":4681},{"$f":"INDEX(Calculations!$P$11:$P$178,MATCH('Weekly Chart'!P$47+('Weekly Chart'!$A64*24-24),Calculations!$F$11:$F$178,0))","v":4681},{"$f":"INDEX(Calculations!$P$11:$P$178,MATCH('Weekly Chart'!Q$47+('Weekly Chart'!$A64*24-24),Calculations!$F$11:$F$178,0))","v":8727},{"$f":"INDEX(Calculations!$P$11:$P$178,MATCH('Weekly Chart'!R$47+('Weekly Chart'!$A64*24-24),Calculations!$F$11:$F$178,0))","v":8727},{"$f":"INDEX(Calculations!$P$11:$P$178,MATCH('Weekly Chart'!S$47+('Weekly Chart'!$A64*24-24),Calculations!$F$11:$F$178,0))","v":8727},{"$f":"INDEX(Calculations!$P$11:$P$178,MATCH('Weekly Chart'!T$47+('Weekly Chart'!$A64*24-24),Calculations!$F$11:$F$178,0))","v":8727},{"$f":"INDEX(Calculations!$P$11:$P$178,MATCH('Weekly Chart'!U$47+('Weekly Chart'!$A64*24-24),Calculations!$F$11:$F$178,0))","v":8727},{"$f":"INDEX(Calculations!$P$11:$P$178,MATCH('Weekly Chart'!V$47+('Weekly Chart'!$A64*24-24),Calculations!$F$11:$F$178,0))","v":8727},{"$f":"INDEX(Calculations!$P$11:$P$178,MATCH('Weekly Chart'!W$47+('Weekly Chart'!$A64*24-24),Calculations!$F$11:$F$178,0))","v":8727},{"$f":"INDEX(Calculations!$P$11:$P$178,MATCH('Weekly Chart'!X$47+('Weekly Chart'!$A64*24-24),Calculations!$F$11:$F$178,0))","v":8727},{"$f":"INDEX(Calculations!$P$11:$P$178,MATCH('Weekly Chart'!Y$47+('Weekly Chart'!$A64*24-24),Calculations!$F$11:$F$178,0))","v":8727},{"$f":"INDEX(Calculations!$P$11:$P$178,MATCH('Weekly Chart'!Z$47+('Weekly Chart'!$A64*24-24),Calculations!$F$11:$F$178,0))","v":8727},null,null,"Thursday",{"$f":"INDEX(Calculations!$AF$11:$AF$178,MATCH('Weekly Chart'!AD$47+('Weekly Chart'!$A64*24-24),Calculations!$F$11:$F$178,0))","v":8727},{"$f":"INDEX(Calculations!$AF$11:$AF$178,MATCH('Weekly Chart'!AE$47+('Weekly Chart'!$A64*24-24),Calculations!$F$11:$F$178,0))","v":8727},{"$f":"INDEX(Calculations!$AF$11:$AF$178,MATCH('Weekly Chart'!AF$47+('Weekly Chart'!$A64*24-24),Calculations!$F$11:$F$178,0))","v":8727},{"$f":"INDEX(Calculations!$AF$11:$AF$178,MATCH('Weekly Chart'!AG$47+('Weekly Chart'!$A64*24-24),Calculations!$F$11:$F$178,0))","v":8727},{"$f":"INDEX(Calculations!$AF$11:$AF$178,MATCH('Weekly Chart'!AH$47+('Weekly Chart'!$A64*24-24),Calculations!$F$11:$F$178,0))","v":8727},{"$f":"INDEX(Calculations!$AF$11:$AF$178,MATCH('Weekly Chart'!AI$47+('Weekly Chart'!$A64*24-24),Calculations!$F$11:$F$178,0))","v":8727},{"$f":"INDEX(Calculations!$AF$11:$AF$178,MATCH('Weekly Chart'!AJ$47+('Weekly Chart'!$A64*24-24),Calculations!$F$11:$F$178,0))","v":8727},{"$f":"INDEX(Calculations!$AF$11:$AF$178,MATCH('Weekly Chart'!AK$47+('Weekly Chart'!$A64*24-24),Calculations!$F$11:$F$178,0))","v":8727},{"$f":"INDEX(Calculations!$AF$11:$AF$178,MATCH('Weekly Chart'!AL$47+('Weekly Chart'!$A64*24-24),Calculations!$F$11:$F$178,0))","v":8727},{"$f":"INDEX(Calculations!$AF$11:$AF$178,MATCH('Weekly Chart'!AM$47+('Weekly Chart'!$A64*24-24),Calculations!$F$11:$F$178,0))","v":4681},{"$f":"INDEX(Calculations!$AF$11:$AF$178,MATCH('Weekly Chart'!AN$47+('Weekly Chart'!$A64*24-24),Calculations!$F$11:$F$178,0))","v":4681},{"$f":"INDEX(Calculations!$AF$11:$AF$178,MATCH('Weekly Chart'!AO$47+('Weekly Chart'!$A64*24-24),Calculations!$F$11:$F$178,0))","v":4681},{"$f":"INDEX(Calculations!$AF$11:$AF$178,MATCH('Weekly Chart'!AP$47+('Weekly Chart'!$A64*24-24),Calculations!$F$11:$F$178,0))","v":4681},{"$f":"INDEX(Calculations!$AF$11:$AF$178,MATCH('Weekly Chart'!AQ$47+('Weekly Chart'!$A64*24-24),Calculations!$F$11:$F$178,0))","v":4681},{"$f":"INDEX(Calculations!$AF$11:$AF$178,MATCH('Weekly Chart'!AR$47+('Weekly Chart'!$A64*24-24),Calculations!$F$11:$F$178,0))","v":8727},{"$f":"INDEX(Calculations!$AF$11:$AF$178,MATCH('Weekly Chart'!AS$47+('Weekly Chart'!$A64*24-24),Calculations!$F$11:$F$178,0))","v":8727},{"$f":"INDEX(Calculations!$AF$11:$AF$178,MATCH('Weekly Chart'!AT$47+('Weekly Chart'!$A64*24-24),Calculations!$F$11:$F$178,0))","v":8727},{"$f":"INDEX(Calculations!$AF$11:$AF$178,MATCH('Weekly Chart'!AU$47+('Weekly Chart'!$A64*24-24),Calculations!$F$11:$F$178,0))","v":8727},{"$f":"INDEX(Calculations!$AF$11:$AF$178,MATCH('Weekly Chart'!AV$47+('Weekly Chart'!$A64*24-24),Calculations!$F$11:$F$178,0))","v":8727},{"$f":"INDEX(Calculations!$AF$11:$AF$178,MATCH('Weekly Chart'!AW$47+('Weekly Chart'!$A64*24-24),Calculations!$F$11:$F$178,0))","v":8727},{"$f":"INDEX(Calculations!$AF$11:$AF$178,MATCH('Weekly Chart'!AX$47+('Weekly Chart'!$A64*24-24),Calculations!$F$11:$F$178,0))","v":8727},{"$f":"INDEX(Calculations!$AF$11:$AF$178,MATCH('Weekly Chart'!AY$47+('Weekly Chart'!$A64*24-24),Calculations!$F$11:$F$178,0))","v":8727},{"$f":"INDEX(Calculations!$AF$11:$AF$178,MATCH('Weekly Chart'!AZ$47+('Weekly Chart'!$A64*24-24),Calculations!$F$11:$F$178,0))","v":8727},{"$f":"INDEX(Calculations!$AF$11:$AF$178,MATCH('Weekly Chart'!BA$47+('Weekly Chart'!$A64*24-24),Calculations!$F$11:$F$178,0))","v":8727}]
[{"$f":"$A$12","v":6},"Friday",{"$f":"INDEX(Calculations!$P$11:$P$178,MATCH('Weekly Chart'!C$47+('Weekly Chart'!$A65*24-24),Calculations!$F$11:$F$178,0))","v":8727},{"$f":"INDEX(Calculations!$P$11:$P$178,MATCH('Weekly Chart'!D$47+('Weekly Chart'!$A65*24-24),Calculations!$F$11:$F$178,0))","v":8727},{"$f":"INDEX(Calculations!$P$11:$P$178,MATCH('Weekly Chart'!E$47+('Weekly Chart'!$A65*24-24),Calculations!$F$11:$F$178,0))","v":8727},{"$f":"INDEX(Calculations!$P$11:$P$178,MATCH('Weekly Chart'!F$47+('Weekly Chart'!$A65*24-24),Calculations!$F$11:$F$178,0))","v":8727},{"$f":"INDEX(Calculations!$P$11:$P$178,MATCH('Weekly Chart'!G$47+('Weekly Chart'!$A65*24-24),Calculations!$F$11:$F$178,0))","v":8727},{"$f":"INDEX(Calculations!$P$11:$P$178,MATCH('Weekly Chart'!H$47+('Weekly Chart'!$A65*24-24),Calculations!$F$11:$F$178,0))","v":8727},{"$f":"INDEX(Calculations!$P$11:$P$178,MATCH('Weekly Chart'!I$47+('Weekly Chart'!$A65*24-24),Calculations!$F$11:$F$178,0))","v":8727},{"$f":"INDEX(Calculations!$P$11:$P$178,MATCH('Weekly Chart'!J$47+('Weekly Chart'!$A65*24-24),Calculations!$F$11:$F$178,0))","v":8727},{"$f":"INDEX(Calculations!$P$11:$P$178,MATCH('Weekly Chart'!K$47+('Weekly Chart'!$A65*24-24),Calculations!$F$11:$F$178,0))","v":8727},{"$f":"INDEX(Calculations!$P$11:$P$178,MATCH('Weekly Chart'!L$47+('Weekly Chart'!$A65*24-24),Calculations!$F$11:$F$178,0))","v":4681},{"$f":"INDEX(Calculations!$P$11:$P$178,MATCH('Weekly Chart'!M$47+('Weekly Chart'!$A65*24-24),Calculations!$F$11:$F$178,0))","v":4681},{"$f":"INDEX(Calculations!$P$11:$P$178,MATCH('Weekly Chart'!N$47+('Weekly Chart'!$A65*24-24),Calculations!$F$11:$F$178,0))","v":4681},{"$f":"INDEX(Calculations!$P$11:$P$178,MATCH('Weekly Chart'!O$47+('Weekly Chart'!$A65*24-24),Calculations!$F$11:$F$178,0))","v":4681},{"$f":"INDEX(Calculations!$P$11:$P$178,MATCH('Weekly Chart'!P$47+('Weekly Chart'!$A65*24-24),Calculations!$F$11:$F$178,0))","v":4681},{"$f":"INDEX(Calculations!$P$11:$P$178,MATCH('Weekly Chart'!Q$47+('Weekly Chart'!$A65*24-24),Calculations!$F$11:$F$178,0))","v":8727},{"$f":"INDEX(Calculations!$P$11:$P$178,MATCH('Weekly Chart'!R$47+('Weekly Chart'!$A65*24-24),Calculations!$F$11:$F$178,0))","v":8727},{"$f":"INDEX(Calculations!$P$11:$P$178,MATCH('Weekly Chart'!S$47+('Weekly Chart'!$A65*24-24),Calculations!$F$11:$F$178,0))","v":8727},{"$f":"INDEX(Calculations!$P$11:$P$178,MATCH('Weekly Chart'!T$47+('Weekly Chart'!$A65*24-24),Calculations!$F$11:$F$178,0))","v":8727},{"$f":"INDEX(Calculations!$P$11:$P$178,MATCH('Weekly Chart'!U$47+('Weekly Chart'!$A65*24-24),Calculations!$F$11:$F$178,0))","v":8727},{"$f":"INDEX(Calculations!$P$11:$P$178,MATCH('Weekly Chart'!V$47+('Weekly Chart'!$A65*24-24),Calculations!$F$11:$F$178,0))","v":8727},{"$f":"INDEX(Calculations!$P$11:$P$178,MATCH('Weekly Chart'!W$47+('Weekly Chart'!$A65*24-24),Calculations!$F$11:$F$178,0))","v":8727},{"$f":"INDEX(Calculations!$P$11:$P$178,MATCH('Weekly Chart'!X$47+('Weekly Chart'!$A65*24-24),Calculations!$F$11:$F$178,0))","v":8727},{"$f":"INDEX(Calculations!$P$11:$P$178,MATCH('Weekly Chart'!Y$47+('Weekly Chart'!$A65*24-24),Calculations!$F$11:$F$178,0))","v":8727},{"$f":"INDEX(Calculations!$P$11:$P$178,MATCH('Weekly Chart'!Z$47+('Weekly Chart'!$A65*24-24),Calculations!$F$11:$F$178,0))","v":8727},null,null,"Friday",{"$f":"INDEX(Calculations!$AF$11:$AF$178,MATCH('Weekly Chart'!AD$47+('Weekly Chart'!$A65*24-24),Calculations!$F$11:$F$178,0))","v":8727},{"$f":"INDEX(Calculations!$AF$11:$AF$178,MATCH('Weekly Chart'!AE$47+('Weekly Chart'!$A65*24-24),Calculations!$F$11:$F$178,0))","v":8727},{"$f":"INDEX(Calculations!$AF$11:$AF$178,MATCH('Weekly Chart'!AF$47+('Weekly Chart'!$A65*24-24),Calculations!$F$11:$F$178,0))","v":8727},{"$f":"INDEX(Calculations!$AF$11:$AF$178,MATCH('Weekly Chart'!AG$47+('Weekly Chart'!$A65*24-24),Calculations!$F$11:$F$178,0))","v":8727},{"$f":"INDEX(Calculations!$AF$11:$AF$178,MATCH('Weekly Chart'!AH$47+('Weekly Chart'!$A65*24-24),Calculations!$F$11:$F$178,0))","v":8727},{"$f":"INDEX(Calculations!$AF$11:$AF$178,MATCH('Weekly Chart'!AI$47+('Weekly Chart'!$A65*24-24),Calculations!$F$11:$F$178,0))","v":8727},{"$f":"INDEX(Calculations!$AF$11:$AF$178,MATCH('Weekly Chart'!AJ$47+('Weekly Chart'!$A65*24-24),Calculations!$F$11:$F$178,0))","v":8727},{"$f":"INDEX(Calculations!$AF$11:$AF$178,MATCH('Weekly Chart'!AK$47+('Weekly Chart'!$A65*24-24),Calculations!$F$11:$F$178,0))","v":8727},{"$f":"INDEX(Calculations!$AF$11:$AF$178,MATCH('Weekly Chart'!AL$47+('Weekly Chart'!$A65*24-24),Calculations!$F$11:$F$178,0))","v":8727},{"$f":"INDEX(Calculations!$AF$11:$AF$178,MATCH('Weekly Chart'!AM$47+('Weekly Chart'!$A65*24-24),Calculations!$F$11:$F$178,0))","v":4681},{"$f":"INDEX(Calculations!$AF$11:$AF$178,MATCH('Weekly Chart'!AN$47+('Weekly Chart'!$A65*24-24),Calculations!$F$11:$F$178,0))","v":4681},{"$f":"INDEX(Calculations!$AF$11:$AF$178,MATCH('Weekly Chart'!AO$47+('Weekly Chart'!$A65*24-24),Calculations!$F$11:$F$178,0))","v":4681},{"$f":"INDEX(Calculations!$AF$11:$AF$178,MATCH('Weekly Chart'!AP$47+('Weekly Chart'!$A65*24-24),Calculations!$F$11:$F$178,0))","v":4681},{"$f":"INDEX(Calculations!$AF$11:$AF$178,MATCH('Weekly Chart'!AQ$47+('Weekly Chart'!$A65*24-24),Calculations!$F$11:$F$178,0))","v":4681},{"$f":"INDEX(Calculations!$AF$11:$AF$178,MATCH('Weekly Chart'!AR$47+('Weekly Chart'!$A65*24-24),Calculations!$F$11:$F$178,0))","v":8727},{"$f":"INDEX(Calculations!$AF$11:$AF$178,MATCH('Weekly Chart'!AS$47+('Weekly Chart'!$A65*24-24),Calculations!$F$11:$F$178,0))","v":8727},{"$f":"INDEX(Calculations!$AF$11:$AF$178,MATCH('Weekly Chart'!AT$47+('Weekly Chart'!$A65*24-24),Calculations!$F$11:$F$178,0))","v":8727},{"$f":"INDEX(Calculations!$AF$11:$AF$178,MATCH('Weekly Chart'!AU$47+('Weekly Chart'!$A65*24-24),Calculations!$F$11:$F$178,0))","v":8727},{"$f":"INDEX(Calculations!$AF$11:$AF$178,MATCH('Weekly Chart'!AV$47+('Weekly Chart'!$A65*24-24),Calculations!$F$11:$F$178,0))","v":8727},{"$f":"INDEX(Calculations!$AF$11:$AF$178,MATCH('Weekly Chart'!AW$47+('Weekly Chart'!$A65*24-24),Calculations!$F$11:$F$178,0))","v":8727},{"$f":"INDEX(Calculations!$AF$11:$AF$178,MATCH('Weekly Chart'!AX$47+('Weekly Chart'!$A65*24-24),Calculations!$F$11:$F$178,0))","v":8727},{"$f":"INDEX(Calculations!$AF$11:$AF$178,MATCH('Weekly Chart'!AY$47+('Weekly Chart'!$A65*24-24),Calculations!$F$11:$F$178,0))","v":8727},{"$f":"INDEX(Calculations!$AF$11:$AF$178,MATCH('Weekly Chart'!AZ$47+('Weekly Chart'!$A65*24-24),Calculations!$F$11:$F$178,0))","v":8727},{"$f":"INDEX(Calculations!$AF$11:$AF$178,MATCH('Weekly Chart'!BA$47+('Weekly Chart'!$A65*24-24),Calculations!$F$11:$F$178,0))","v":8727}]
[{"$f":"$A$13","v":7},"Saturday",{"$f":"INDEX(Calculations!$P$11:$P$178,MATCH('Weekly Chart'!C$47+('Weekly Chart'!$A66*24-24),Calculations!$F$11:$F$178,0))","v":8727},{"$f":"INDEX(Calculations!$P$11:$P$178,MATCH('Weekly Chart'!D$47+('Weekly Chart'!$A66*24-24),Calculations!$F$11:$F$178,0))","v":8727},{"$f":"INDEX(Calculations!$P$11:$P$178,MATCH('Weekly Chart'!E$47+('Weekly Chart'!$A66*24-24),Calculations!$F$11:$F$178,0))","v":8727},{"$f":"INDEX(Calculations!$P$11:$P$178,MATCH('Weekly Chart'!F$47+('Weekly Chart'!$A66*24-24),Calculations!$F$11:$F$178,0))","v":8727},{"$f":"INDEX(Calculations!$P$11:$P$178,MATCH('Weekly Chart'!G$47+('Weekly Chart'!$A66*24-24),Calculations!$F$11:$F$178,0))","v":8727},{"$f":"INDEX(Calculations!$P$11:$P$178,MATCH('Weekly Chart'!H$47+('Weekly Chart'!$A66*24-24),Calculations!$F$11:$F$178,0))","v":8727},{"$f":"INDEX(Calculations!$P$11:$P$178,MATCH('Weekly Chart'!I$47+('Weekly Chart'!$A66*24-24),Calculations!$F$11:$F$178,0))","v":8727},{"$f":"INDEX(Calculations!$P$11:$P$178,MATCH('Weekly Chart'!J$47+('Weekly Chart'!$A66*24-24),Calculations!$F$11:$F$178,0))","v":8727},{"$f":"INDEX(Calculations!$P$11:$P$178,MATCH('Weekly Chart'!K$47+('Weekly Chart'!$A66*24-24),Calculations!$F$11:$F$178,0))","v":8727},{"$f":"INDEX(Calculations!$P$11:$P$178,MATCH('Weekly Chart'!L$47+('Weekly Chart'!$A66*24-24),Calculations!$F$11:$F$178,0))","v":8727},{"$f":"INDEX(Calculations!$P$11:$P$178,MATCH('Weekly Chart'!M$47+('Weekly Chart'!$A66*24-24),Calculations!$F$11:$F$178,0))","v":8727},{"$f":"INDEX(Calculations!$P$11:$P$178,MATCH('Weekly Chart'!N$47+('Weekly Chart'!$A66*24-24),Calculations!$F$11:$F$178,0))","v":8727},{"$f":"INDEX(Calculations!$P$11:$P$178,MATCH('Weekly Chart'!O$47+('Weekly Chart'!$A66*24-24),Calculations!$F$11:$F$178,0))","v":8727},{"$f":"INDEX(Calculations!$P$11:$P$178,MATCH('Weekly Chart'!P$47+('Weekly Chart'!$A66*24-24),Calculations!$F$11:$F$178,0))","v":8727},{"$f":"INDEX(Calculations!$P$11:$P$178,MATCH('Weekly Chart'!Q$47+('Weekly Chart'!$A66*24-24),Calculations!$F$11:$F$178,0))","v":8727},{"$f":"INDEX(Calculations!$P$11:$P$178,MATCH('Weekly Chart'!R$47+('Weekly Chart'!$A66*24-24),Calculations!$F$11:$F$178,0))","v":8727},{"$f":"INDEX(Calculations!$P$11:$P$178,MATCH('Weekly Chart'!S$47+('Weekly Chart'!$A66*24-24),Calculations!$F$11:$F$178,0))","v":8727},{"$f":"INDEX(Calculations!$P$11:$P$178,MATCH('Weekly Chart'!T$47+('Weekly Chart'!$A66*24-24),Calculations!$F$11:$F$178,0))","v":8727},{"$f":"INDEX(Calculations!$P$11:$P$178,MATCH('Weekly Chart'!U$47+('Weekly Chart'!$A66*24-24),Calculations!$F$11:$F$178,0))","v":8727},{"$f":"INDEX(Calculations!$P$11:$P$178,MATCH('Weekly Chart'!V$47+('Weekly Chart'!$A66*24-24),Calculations!$F$11:$F$178,0))","v":8727},{"$f":"INDEX(Calculations!$P$11:$P$178,MATCH('Weekly Chart'!W$47+('Weekly Chart'!$A66*24-24),Calculations!$F$11:$F$178,0))","v":8727},{"$f":"INDEX(Calculations!$P$11:$P$178,MATCH('Weekly Chart'!X$47+('Weekly Chart'!$A66*24-24),Calculations!$F$11:$F$178,0))","v":8727},{"$f":"INDEX(Calculations!$P$11:$P$178,MATCH('Weekly Chart'!Y$47+('Weekly Chart'!$A66*24-24),Calculations!$F$11:$F$178,0))","v":8727},{"$f":"INDEX(Calculations!$P$11:$P$178,MATCH('Weekly Chart'!Z$47+('Weekly Chart'!$A66*24-24),Calculations!$F$11:$F$178,0))","v":8727},null,null,"Saturday",{"$f":"INDEX(Calculations!$AF$11:$AF$178,MATCH('Weekly Chart'!AD$47+('Weekly Chart'!$A66*24-24),Calculations!$F$11:$F$178,0))","v":8727},{"$f":"INDEX(Calculations!$AF$11:$AF$178,MATCH('Weekly Chart'!AE$47+('Weekly Chart'!$A66*24-24),Calculations!$F$11:$F$178,0))","v":8727},{"$f":"INDEX(Calculations!$AF$11:$AF$178,MATCH('Weekly Chart'!AF$47+('Weekly Chart'!$A66*24-24),Calculations!$F$11:$F$178,0))","v":8727},{"$f":"INDEX(Calculations!$AF$11:$AF$178,MATCH('Weekly Chart'!AG$47+('Weekly Chart'!$A66*24-24),Calculations!$F$11:$F$178,0))","v":8727},{"$f":"INDEX(Calculations!$AF$11:$AF$178,MATCH('Weekly Chart'!AH$47+('Weekly Chart'!$A66*24-24),Calculations!$F$11:$F$178,0))","v":8727},{"$f":"INDEX(Calculations!$AF$11:$AF$178,MATCH('Weekly Chart'!AI$47+('Weekly Chart'!$A66*24-24),Calculations!$F$11:$F$178,0))","v":8727},{"$f":"INDEX(Calculations!$AF$11:$AF$178,MATCH('Weekly Chart'!AJ$47+('Weekly Chart'!$A66*24-24),Calculations!$F$11:$F$178,0))","v":8727},{"$f":"INDEX(Calculations!$AF$11:$AF$178,MATCH('Weekly Chart'!AK$47+('Weekly Chart'!$A66*24-24),Calculations!$F$11:$F$178,0))","v":8727},{"$f":"INDEX(Calculations!$AF$11:$AF$178,MATCH('Weekly Chart'!AL$47+('Weekly Chart'!$A66*24-24),Calculations!$F$11:$F$178,0))","v":8727},{"$f":"INDEX(Calculations!$AF$11:$AF$178,MATCH('Weekly Chart'!AM$47+('Weekly Chart'!$A66*24-24),Calculations!$F$11:$F$178,0))","v":8727},{"$f":"INDEX(Calculations!$AF$11:$AF$178,MATCH('Weekly Chart'!AN$47+('Weekly Chart'!$A66*24-24),Calculations!$F$11:$F$178,0))","v":8727},{"$f":"INDEX(Calculations!$AF$11:$AF$178,MATCH('Weekly Chart'!AO$47+('Weekly Chart'!$A66*24-24),Calculations!$F$11:$F$178,0))","v":8727},{"$f":"INDEX(Calculations!$AF$11:$AF$178,MATCH('Weekly Chart'!AP$47+('Weekly Chart'!$A66*24-24),Calculations!$F$11:$F$178,0))","v":8727},{"$f":"INDEX(Calculations!$AF$11:$AF$178,MATCH('Weekly Chart'!AQ$47+('Weekly Chart'!$A66*24-24),Calculations!$F$11:$F$178,0))","v":8727},{"$f":"INDEX(Calculations!$AF$11:$AF$178,MATCH('Weekly Chart'!AR$47+('Weekly Chart'!$A66*24-24),Calculations!$F$11:$F$178,0))","v":8727},{"$f":"INDEX(Calculations!$AF$11:$AF$178,MATCH('Weekly Chart'!AS$47+('Weekly Chart'!$A66*24-24),Calculations!$F$11:$F$178,0))","v":8727},{"$f":"INDEX(Calculations!$AF$11:$AF$178,MATCH('Weekly Chart'!AT$47+('Weekly Chart'!$A66*24-24),Calculations!$F$11:$F$178,0))","v":8727},{"$f":"INDEX(Calculations!$AF$11:$AF$178,MATCH('Weekly Chart'!AU$47+('Weekly Chart'!$A66*24-24),Calculations!$F$11:$F$178,0))","v":8727},{"$f":"INDEX(Calculations!$AF$11:$AF$178,MATCH('Weekly Chart'!AV$47+('Weekly Chart'!$A66*24-24),Calculations!$F$11:$F$178,0))","v":8727},{"$f":"INDEX(Calculations!$AF$11:$AF$178,MATCH('Weekly Chart'!AW$47+('Weekly Chart'!$A66*24-24),Calculations!$F$11:$F$178,0))","v":8727},{"$f":"INDEX(Calculations!$AF$11:$AF$178,MATCH('Weekly Chart'!AX$47+('Weekly Chart'!$A66*24-24),Calculations!$F$11:$F$178,0))","v":8727},{"$f":"INDEX(Calculations!$AF$11:$AF$178,MATCH('Weekly Chart'!AY$47+('Weekly Chart'!$A66*24-24),Calculations!$F$11:$F$178,0))","v":8727},{"$f":"INDEX(Calculations!$AF$11:$AF$178,MATCH('Weekly Chart'!AZ$47+('Weekly Chart'!$A66*24-24),Calculations!$F$11:$F$178,0))","v":8727},{"$f":"INDEX(Calculations!$AF$11:$AF$178,MATCH('Weekly Chart'!BA$47+('Weekly Chart'!$A66*24-24),Calculations!$F$11:$F$178,0))","v":8727}]
[{"$f":"$A$14","v":1},"Sunday",{"$f":"INDEX(Calculations!$P$11:$P$178,MATCH('Weekly Chart'!C$47+('Weekly Chart'!$A67*24-24),Calculations!$F$11:$F$178,0))","v":8727},{"$f":"INDEX(Calculations!$P$11:$P$178,MATCH('Weekly Chart'!D$47+('Weekly Chart'!$A67*24-24),Calculations!$F$11:$F$178,0))","v":8727},{"$f":"INDEX(Calculations!$P$11:$P$178,MATCH('Weekly Chart'!E$47+('Weekly Chart'!$A67*24-24),Calculations!$F$11:$F$178,0))","v":8727},{"$f":"INDEX(Calculations!$P$11:$P$178,MATCH('Weekly Chart'!F$47+('Weekly Chart'!$A67*24-24),Calculations!$F$11:$F$178,0))","v":8727},{"$f":"INDEX(Calculations!$P$11:$P$178,MATCH('Weekly Chart'!G$47+('Weekly Chart'!$A67*24-24),Calculations!$F$11:$F$178,0))","v":8727},{"$f":"INDEX(Calculations!$P$11:$P$178,MATCH('Weekly Chart'!H$47+('Weekly Chart'!$A67*24-24),Calculations!$F$11:$F$178,0))","v":8727},{"$f":"INDEX(Calculations!$P$11:$P$178,MATCH('Weekly Chart'!I$47+('Weekly Chart'!$A67*24-24),Calculations!$F$11:$F$178,0))","v":8727},{"$f":"INDEX(Calculations!$P$11:$P$178,MATCH('Weekly Chart'!J$47+('Weekly Chart'!$A67*24-24),Calculations!$F$11:$F$178,0))","v":8727},{"$f":"INDEX(Calculations!$P$11:$P$178,MATCH('Weekly Chart'!K$47+('Weekly Chart'!$A67*24-24),Calculations!$F$11:$F$178,0))","v":8727},{"$f":"INDEX(Calculations!$P$11:$P$178,MATCH('Weekly Chart'!L$47+('Weekly Chart'!$A67*24-24),Calculations!$F$11:$F$178,0))","v":8727},{"$f":"INDEX(Calculations!$P$11:$P$178,MATCH('Weekly Chart'!M$47+('Weekly Chart'!$A67*24-24),Calculations!$F$11:$F$178,0))","v":8727},{"$f":"INDEX(Calculations!$P$11:$P$178,MATCH('Weekly Chart'!N$47+('Weekly Chart'!$A67*24-24),Calculations!$F$11:$F$178,0))","v":8727},{"$f":"INDEX(Calculations!$P$11:$P$178,MATCH('Weekly Chart'!O$47+('Weekly Chart'!$A67*24-24),Calculations!$F$11:$F$178,0))","v":8727},{"$f":"INDEX(Calculations!$P$11:$P$178,MATCH('Weekly Chart'!P$47+('Weekly Chart'!$A67*24-24),Calculations!$F$11:$F$178,0))","v":8727},{"$f":"INDEX(Calculations!$P$11:$P$178,MATCH('Weekly Chart'!Q$47+('Weekly Chart'!$A67*24-24),Calculations!$F$11:$F$178,0))","v":8727},{"$f":"INDEX(Calculations!$P$11:$P$178,MATCH('Weekly Chart'!R$47+('Weekly Chart'!$A67*24-24),Calculations!$F$11:$F$178,0))","v":8727},{"$f":"INDEX(Calculations!$P$11:$P$178,MATCH('Weekly Chart'!S$47+('Weekly Chart'!$A67*24-24),Calculations!$F$11:$F$178,0))","v":8727},{"$f":"INDEX(Calculations!$P$11:$P$178,MATCH('Weekly Chart'!T$47+('Weekly Chart'!$A67*24-24),Calculations!$F$11:$F$178,0))","v":8727},{"$f":"INDEX(Calculations!$P$11:$P$178,MATCH('Weekly Chart'!U$47+('Weekly Chart'!$A67*24-24),Calculations!$F$11:$F$178,0))","v":8727},{"$f":"INDEX(Calculations!$P$11:$P$178,MATCH('Weekly Chart'!V$47+('Weekly Chart'!$A67*24-24),Calculations!$F$11:$F$178,0))","v":8727},{"$f":"INDEX(Calculations!$P$11:$P$178,MATCH('Weekly Chart'!W$47+('Weekly Chart'!$A67*24-24),Calculations!$F$11:$F$178,0))","v":8727},{"$f":"INDEX(Calculations!$P$11:$P$178,MATCH('Weekly Chart'!X$47+('Weekly Chart'!$A67*24-24),Calculations!$F$11:$F$178,0))","v":8727},{"$f":"INDEX(Calculations!$P$11:$P$178,MATCH('Weekly Chart'!Y$47+('Weekly Chart'!$A67*24-24),Calculations!$F$11:$F$178,0))","v":8727},{"$f":"INDEX(Calculations!$P$11:$P$178,MATCH('Weekly Chart'!Z$47+('Weekly Chart'!$A67*24-24),Calculations!$F$11:$F$178,0))","v":8727},null,null,"Sunday",{"$f":"INDEX(Calculations!$AF$11:$AF$178,MATCH('Weekly Chart'!AD$47+('Weekly Chart'!$A67*24-24),Calculations!$F$11:$F$178,0))","v":8727},{"$f":"INDEX(Calculations!$AF$11:$AF$178,MATCH('Weekly Chart'!AE$47+('Weekly Chart'!$A67*24-24),Calculations!$F$11:$F$178,0))","v":8727},{"$f":"INDEX(Calculations!$AF$11:$AF$178,MATCH('Weekly Chart'!AF$47+('Weekly Chart'!$A67*24-24),Calculations!$F$11:$F$178,0))","v":8727},{"$f":"INDEX(Calculations!$AF$11:$AF$178,MATCH('Weekly Chart'!AG$47+('Weekly Chart'!$A67*24-24),Calculations!$F$11:$F$178,0))","v":8727},{"$f":"INDEX(Calculations!$AF$11:$AF$178,MATCH('Weekly Chart'!AH$47+('Weekly Chart'!$A67*24-24),Calculations!$F$11:$F$178,0))","v":8727},{"$f":"INDEX(Calculations!$AF$11:$AF$178,MATCH('Weekly Chart'!AI$47+('Weekly Chart'!$A67*24-24),Calculations!$F$11:$F$178,0))","v":8727},{"$f":"INDEX(Calculations!$AF$11:$AF$178,MATCH('Weekly Chart'!AJ$47+('Weekly Chart'!$A67*24-24),Calculations!$F$11:$F$178,0))","v":8727},{"$f":"INDEX(Calculations!$AF$11:$AF$178,MATCH('Weekly Chart'!AK$47+('Weekly Chart'!$A67*24-24),Calculations!$F$11:$F$178,0))","v":8727},{"$f":"INDEX(Calculations!$AF$11:$AF$178,MATCH('Weekly Chart'!AL$47+('Weekly Chart'!$A67*24-24),Calculations!$F$11:$F$178,0))","v":8727},{"$f":"INDEX(Calculations!$AF$11:$AF$178,MATCH('Weekly Chart'!AM$47+('Weekly Chart'!$A67*24-24),Calculations!$F$11:$F$178,0))","v":8727},{"$f":"INDEX(Calculations!$AF$11:$AF$178,MATCH('Weekly Chart'!AN$47+('Weekly Chart'!$A67*24-24),Calculations!$F$11:$F$178,0))","v":8727},{"$f":"INDEX(Calculations!$AF$11:$AF$178,MATCH('Weekly Chart'!AO$47+('Weekly Chart'!$A67*24-24),Calculations!$F$11:$F$178,0))","v":8727},{"$f":"INDEX(Calculations!$AF$11:$AF$178,MATCH('Weekly Chart'!AP$47+('Weekly Chart'!$A67*24-24),Calculations!$F$11:$F$178,0))","v":8727},{"$f":"INDEX(Calculations!$AF$11:$AF$178,MATCH('Weekly Chart'!AQ$47+('Weekly Chart'!$A67*24-24),Calculations!$F$11:$F$178,0))","v":8727},{"$f":"INDEX(Calculations!$AF$11:$AF$178,MATCH('Weekly Chart'!AR$47+('Weekly Chart'!$A67*24-24),Calculations!$F$11:$F$178,0))","v":8727},{"$f":"INDEX(Calculations!$AF$11:$AF$178,MATCH('Weekly Chart'!AS$47+('Weekly Chart'!$A67*24-24),Calculations!$F$11:$F$178,0))","v":8727},{"$f":"INDEX(Calculations!$AF$11:$AF$178,MATCH('Weekly Chart'!AT$47+('Weekly Chart'!$A67*24-24),Calculations!$F$11:$F$178,0))","v":8727},{"$f":"INDEX(Calculations!$AF$11:$AF$178,MATCH('Weekly Chart'!AU$47+('Weekly Chart'!$A67*24-24),Calculations!$F$11:$F$178,0))","v":8727},{"$f":"INDEX(Calculations!$AF$11:$AF$178,MATCH('Weekly Chart'!AV$47+('Weekly Chart'!$A67*24-24),Calculations!$F$11:$F$178,0))","v":8727},{"$f":"INDEX(Calculations!$AF$11:$AF$178,MATCH('Weekly Chart'!AW$47+('Weekly Chart'!$A67*24-24),Calculations!$F$11:$F$178,0))","v":8727},{"$f":"INDEX(Calculations!$AF$11:$AF$178,MATCH('Weekly Chart'!AX$47+('Weekly Chart'!$A67*24-24),Calculations!$F$11:$F$178,0))","v":8727},{"$f":"INDEX(Calculations!$AF$11:$AF$178,MATCH('Weekly Chart'!AY$47+('Weekly Chart'!$A67*24-24),Calculations!$F$11:$F$178,0))","v":8727},{"$f":"INDEX(Calculations!$AF$11:$AF$178,MATCH('Weekly Chart'!AZ$47+('Weekly Chart'!$A67*24-24),Calculations!$F$11:$F$178,0))","v":8727},{"$f":"INDEX(Calculations!$AF$11:$AF$178,MATCH('Weekly Chart'!BA$47+('Weekly Chart'!$A67*24-24),Calculations!$F$11:$F$178,0))","v":8727}]
[null,null,"00:00:00","01:00:00","02:00:00","03:00:00","04:00:00","05:00:00","06:00:00","07:00:00","08:00:00","09:00:00","10:00:00","11:00:00","12:00:00","13:00:00","14:00:00","15:00:00","16:00:00","17:00:00","18:00:00","19:00:00","20:00:00","21:00:00","22:00:00","23:00:00",null,null,null,"00:00:00","01:00:00","02:00:00","03:00:00","04:00:00","05:00:00","06:00:00","07:00:00","08:00:00","09:00:00","10:00:00","11:00:00","12:00:00","13:00:00","14:00:00","15:00:00","16:00:00","17:00:00","18:00:00","19:00:00","20:00:00","21:00:00","22:00:00","23:00:00"]
[]
[]
[null,null,"This \"Queue Miles\" output contains queue miles for every hour of every day for both directions.  Essentially, this shows the queue length at the end of each hour.  Hours with queues present are highlighted based on the color scale.  Growth/diversion are only editable cells and updates will be reflected on every tab throughout tool."]
[]
[]
[null,null,"This \"Queue Minutes per Vehicle\" output contains queue minutes for every hour of every day for both directions.  Essentially, this shows the delay per vehicles for each hour.  Hours with delay are highlighted based on the color scale.  Growth/diversion are only editable cells and updates will be reflected on every tab throughout tool."]
[]
[]
[null,null,"This \"Total Costs\" output contains total costs for every hour of every day for both directions.  Essentially, this shows the sum of queue costs and diversion cost for each hour.  Hours with costs are highlighted based on the color scale.  Growth/diversion are only editable cells and updates will be reflected on every tab throughout tool."]
[]
[]
[null,null,"This \"Adjusted Volumes\" output contains adjusted volumes for every hour of every day for both directions.  Hours are highlighted if adjusted volume is greater than estimated capacity. Color scale is for how many times greater the volume is than capacity.  Growth/diversion are only editable cells and updates will be reflected on every tab throughout tool."]

{"sheet":"Lists","index":4,"n_rows":43,"n_cols":13,"rows_kept":43,"cut":false,"hidden":true,"merged":[]}
["Region","North Central","Northeast","Northwest","Southeast","Southwest","Lane Closure Type",null,"For QDR Equation",null,null,"Time"]
["North Central","Adams","Brown","Ashland","Kenosha","Columbia","2 to 2",null,"Lane Closure Total & Open","LCSI"]
["Northeast","Florence","Calumet","Barron","Milwaukee","Crawford","2 to 1",null,"2 to 2",0.5,null,"00:00:00","NT"]
["Northwest","Forest","Door","Bayfield","Ozaukee","Dane","3 to 3",null,"2 to 1",2,null,"01:00:00","NT"]
["Southeast","Green Lake","Fond du Lac","Buffalo","Racine","Dodge","3 to 2",null,"3 to 3",0.33,null,"02:00:00","NT"]
["Southwest","Iron","Kewaunee","Burnett","Walworth","Grant","3 to 1",null,"3 to 2",0.75,null,"03:00:00","NT"]
[null,"Langlade","Manitowoc","Chippewa","Washington","Green","4 to 3",null,"3 to 1",3,null,"04:00:00","NT"]
[null,"Lincoln","Marinette","Clark","Waukesha","Iowa","4 to 2",null,"4 to 3",0.44,null,"05:00:00","NT"]
[null,"Marathon","Oconto","Douglas",null,"Jefferson","4 to 1",null,"4 to 2",1,null,"06:00:00","AM"]
[null,"Marquette","Outagamie","Dunn",null,"Juneau",null,null,"4 to 1",4,null,"07:00:00","AM"]
[null,"Menominee","Sheboygan","Eau Claire",null,"La Crosse",null,null,null,null,null,"08:00:00","AM"]
[null,"Oneida","Winnebago","Jackson",null,"Lafayette",null,null,null,null,null,"09:00:00","MD"]
[null,"Portage",null,"Pepin",null,"Monroe",null,null,null,null,null,"10:00:00","MD"]
[null,"Price",null,"Pierce",null,"Richland",null,null,null,null,null,"11:00:00","MD"]
[null,"Shawano",null,"Polk",null,"Rock",null,null,null,null,null,"12:00:00","MD"]
[null,"Vilas",null,"Rusk",null,"Sauk",null,null,null,null,null,"13:00:00","MD"]
[null,"Waupaca",null,"Sawyer",null,"Vernon",null,null,null,null,null,"14:00:00","MD"]
[null,"Waushara",null,"St. Croix",null,null,null,null,null,null,null,"15:00:00","PM"]
[null,"Wood",null,"Taylor",null,null,null,null,null,null,null,"16:00:00","PM"]
[null,null,null,"Trempealeau",null,null,null,null,null,null,null,"17:00:00","PM"]
[null,null,null,"Washburn",null,null,null,null,null,null,null,"18:00:00","NT"]
["Used In County Drop Down List",null,null,null,null,null,null,null,null,null,null,"19:00:00","NT"]
[{"$f":"INDEX($B$23:$F$23,1,MATCH(Inputs!$C$6,Lists!$B$1:$F$1,0))","v":"Lists!$E$2:$E$8"},"Lists!$B$2:$B$19","Lists!$C$2:$C$12","Lists!$D$2:$D$21","Lists!$E$2:$E$8","Lists!$F$2:$F$17",null,null,null,null,null,"20:00:00","NT"]
[null,null,null,null,null,null,null,null,null,null,null,"21:00:00","NT"]
["Used In Highway Drop Down List",null,null,null,null,null,null,null,null,null,null,"22:00:00","NT"]
[{"$f":"INDEX($B$26:$F$26,1,MATCH(Inputs!$C$6,Lists!$B$28:$F$28,0))","v":"Lists!$E$29:$E$43"},"Lists!$B$29:$B$33","Lists!$C$29:$C$43","Lists!$D$29:$D$41","Lists!$E$29:$E$43","Lists!$F$29:$F$43",null,null,null,null,null,"23:00:00","NT"]
[]
[null,"North Central","Northeast","Northwest","Southeast","Southwest"]
[null,"I-39","I-41","I-94","I-41","I-39"]
[null,"USH 10","I-43","I-535","I-43","I-43"]
[null,"USH 51","USH 10","USH 2","I-94","I-90"]
[null,"WIS 54","USH 41","USH 8","I-794","I-94"]
[null,"WIS 29","USH 45","USH 12","I-894","USH 12"]
[null,null,"USH 141","USH 53","USH 12","USH 14"]
[null,null,"USH 151","WIS 25","USH 18","USH 18"]
[null,null,"WIS 15","WIS 29","USH 45","USH 51"]
[null,null,"WIS 23","WIS 35","WIS 16","USH 53"]
[null,null,"WIS 29","WIS 37","WIS 32","USH 151"]
[null,null,"WIS 54","WIS 64","WIS 36","WIS 11"]
[null,null,"WIS 54/57","WIS 124","WIS 50","WIS 16"]
[null,null,"WIS 57","WIS 312","WIS 100","WIS 26"]
[null,null,"WIS 172",null,"WIS 145","WIS 30"]
[null,null,"WIS 441",null,"WIS 175","WIS 61"]